{"text_format":"1","workbook":"xlsx","n_sheets":15,"sheets":["Apresentação","Interface Básica","Par. econômicos e finaceiros","Parâmetros técnicos","Resultados Detalhados","Histórico de Cálculos","Fluxo de Caixa Descontado","Fluxo de Caixa Desc._premio","Parâmetros de Fluxo de Caixa","CAPEX e OPEX","IC Calculado","IC Corsia","Mercados de Carbono","Listas","Conversões"],"not_rendered":{"charts":10,"images":38,"macros":1,"external_links":0,"defined_names":245,"comments":0,"pivot_tables":0},"unopened":[],"bounds":{"document_bytes":16777216,"sheet_cells":100000,"rows_first":2000,"rows_last":500,"rows_between":2000,"halvings":0,"cell_chars":16384,"cell_head_chars":4096},"cells_cut":0,"cells_raw":0,"read":"whole","date_system":"1900"}

{"sheet":"Apresentação","index":0,"n_rows":50,"n_cols":9,"rows_kept":50,"cut":false,"hidden":false,"merged":[[49,8,56,30]]}
[]
[]
[]
[]
[]
[]
[]
[]
[]
[]
[]
[]
[]
[]
[]
[]
[]
[]
[]
[]
[]
[]
[]
[]
[]
[]
[]
[]
[]
[]
[]
[]
[]
[]
[]
[]
[]
[]
[]
[]
[]
[]
[]
[]
[]
[]
[]
[]
[]
[null,null,null,null,null,null,null,null,"AVISO LEGAL\nESTA FERRAMENTA PARA AVALIAÇÃO DA VIABILIDADE ECONÔMICA DA PRODUÇÃO DE SAF NO BRASIL, DESENVOLVIDA PELA EPE, TEM COMO OBJETIVOS SUBSIDIAR O PLANEJAMENTO ENERGÉTICO NACIONAL E APOIAR AGENTES PRIVADOS E PÚBLICOS COM ESTUDOS PROSPECTIVOS. QUAISQUER RESULTADOS GERADOS POR ESTA FERRAMENTA DEVEM SER ENTENDIDOS COMO VALORES PRELIMINARES.\nLOGO, QUAISQUER DECISÕES DE ENCAMINHAMENTO (COMO FORMULAÇÕES DE POLÍTICAS PÚBLICAS, DEFINIÇÕES DE DIRETRIZES ESTRATÉGICAS, DECISÕES DE INVESTIMENTO OU DE ESTRATÉGICAS DE NEGÓCIO ETC.) SÃO DE RESPONSABILIDADE DE OUTRAS INSTITUIÇÕES PÚBLICAS E PRIVADAS.\nA EPE SE EXIME DE QUALQUER RESPONSABILIDADE POR QUAISQUER AÇÕES E TOMADAS DE DECISÃO QUE POSSAM SER REALIZADAS POR AGENTES ECONÔMICOS OU QUALQUER PESSOA COM BASE NOS RESULTADOS DESTA FERRAMENTA.\nA EPE DEVE SER CITADA COMO FONTE PARA A PUBLICAÇÃO DE QUAISQUER RESULTADOS DERIVADOS DO USO DESTA FERRAMENTA."]

{"sheet":"Interface Básica","index":1,"n_rows":78,"n_cols":33,"rows_kept":78,"cut":false,"hidden":false,"merged":[[28,2,28,3],[29,2,29,3],[6,4,6,5],[22,3,22,8],[12,4,12,5],[13,4,13,5],[14,4,14,5],[15,4,15,5],[6,2,6,3],[4,12,4,13],[4,2,4,3],[5,2,5,3],[4,4,4,5],[3,2,3,3],[3,4,3,5],[5,4,5,5]]}
[]
[null,null,null,null,null,null,null,null,null,null,null,null,null,"Erro no cálculo"]
[]
[null,null,"Capacidade nominal (mihões de litros de líquido* / ano):",null,null,null,null,null,null,null,null,null,null,"Última simulação: 26/06 09:58",null,null,null,null,null,null,null," "]
[null,null,"Tecnologia:",null,null,null,null,null,null,null,null,null,"Progresso: 0%"]
[null,null,"Matéria-prima:"]
[null,null,"Preencha a porcentagem de sebo (máx 30%)",null,0]
[null,null,"* Inclui produção conjunta de SAF, Diesel Verde e bioNafta"]
[null,null,null,"CORSIA default"]
[null,null,null,"Sim"]
[]
[]
[null,null,"Mercado","Volume de SAF vendido ao mercado","Prêmio ao Produtor no mercado*"]
[null,null,"CORSIA",0,0]
[null,null,"ProBioQAV",1,0]
[null,null,"Outros Mercados - SAF",0,0]
[]
[]
[null,null,null,null,null,null,null,null,null,null,null,null,null,null,null,null,null,null,null,null,null,null,null,null,null,null,null,null,"Preço mínimo de viabilidade do SAF (R$ / l)","Valor presente líquido do projeto (milhões R$) *","Taxa interna de retorno do projeto","Razão MSP / QAV"]
[null,null,null,"SAF - CORSIA","SAF - ProBioQAV","SAF - Outros Mercados","Diesel Verde","bioNafta","bioGL",null,null,null,null,null,null,null,null,null,null,null,null,null,null,null,null,null,null,null,{"$f":"'Fluxo de Caixa Descontado'!B4","v":11.002308880647039},{"$f":"'Resultados Detalhados'!U23","v":""},{"$f":"'Resultados Detalhados'!U27","v":""},{"$f":"aux_n1_preco/n2_QAV","v":2.8211048411915485}]
[null,null,"Método de Cálculo ACV","CORSIA default","Valores Médios Brasil","Valor próprio","Valores Médios Brasil","Valores Médios Brasil","Valores Médios Brasil"]
[null,null,"Incluir iLUC?","Sim","Não","Não","Não","Não","Não"]
[null,null,"Valor Próprio de IC (g CO2 eq / MJ)",null,null,null,null,null,null,null,null,null,null,null,null,null,null,null,null,null,null,null,null,null,null,null,null,null,"Mercado","Preço de Venda do Produto \n(R$/l ou R$/kg para bioGL)","Intensidade de Carbono \n(g CO₂eq / MJ) :","Custo de redução de emissões para o consumidor \n(R$ / kg CO₂eq)","Esta no modelo de negocio"]
[null,null,null,null,null,null,null,null,null,null,null,null,null,null,null,null,null,null,null,null,null,null,null,null,null,null,null,null,"CORSIA - SAF",{"$f":"$AC$20*(1+E14)","v":11.002308880647039},{"$f":"'Mercados de Carbono'!$D$4","v":52},{"$f":"IF(D14>0,(AD24-'Par. econômicos e finaceiros'!$G$13)/'Mercados de Carbono'!E4,0)","v":0},{"$f":"IF(n1_mc_corsia_vol>0,\"Sim\",\"Não\")","v":"Não"}]
[null,null,null,null,null,null,null,null,null,null,null,null,null,null,null,null,null,null,null,null,null,null,null,null,null,null,null,null,"ProBioQAV - SAF",{"$f":"$AC$20*(1+E15)","v":11.002308880647039},{"$f":"'Mercados de Carbono'!D5","v":34.213927831159424},{"$f":"IF(D15>0,(AD25-'Par. econômicos e finaceiros'!$G$13)/'Mercados de Carbono'!E5,0)","v":3.7286898331116554},{"$f":"IF(n1_mc_probio_vol>0,\"Sim\",\"Não\")","v":"Sim"}]
[null,null,null,null,null,null,null,null,null,null,null,null,null,null,null,null,null,null,null,null,null,null,null,null,null,null,null,null,"Outros Mercados - SAF",{"$f":"$AC$20*(1+E16)","v":11.002308880647039},{"$f":"'Mercados de Carbono'!D6","v":0},{"$f":"IF(D16>0,(AD26-'Par. econômicos e finaceiros'!$G$13)/'Mercados de Carbono'!E6,0)","v":0},{"$f":"IF(n1_mc_outros_vol>0,\"Sim\",\"Não\")","v":"Não"}]
[null,null,null,null,null,null,null,null,null,null,null,null,null,null,null,null,null,null,null,null,null,null,null,null,null,null,null,null,"Diesel Verde",{"$f":"n2_diesel_verde","v":3.84},{"$f":"'Mercados de Carbono'!D10","v":34.213927831159424},{"$f":"(AD27-'Par. econômicos e finaceiros'!$G$14)/'Mercados de Carbono'!E10","v":0},{"$f":"IF(n1_tec=\"HEFA\",IF(n3_diesel_hefa>0,\"Sim\",\"Não\"),IF(n3_diesel_atj>0,\"Sim\",\"Não\"))","v":"Sim"}]
[null,null,null,null,null,null,null,null,null,null,null,null,null,null,null,null,null,null,null,null,null,null,null,null,null,null,null,null,"bioNafta",{"$f":"n2_bionafta","v":2.9},{"$f":"'Mercados de Carbono'!D11","v":34.213927831159424},{"$f":"(AD28-'Par. econômicos e finaceiros'!$G$15)/'Mercados de Carbono'!E11","v":0},{"$f":"IF(n1_tec=\"HEFA\",IF(n3_nafta_hefa>0,\"Sim\",\"Não\"),IF(n3_nafta_atj>0,\"Sim\",\"Não\"))","v":"Sim"}]
[null,null,"Preço mínimo de viabilidade do SAF \n(R$ / l)",null,"Valor presente líquido do projeto (milhões R$)","Taxa interna de retorno do projeto","Razão preço mínimo de viabilidade SAF / preço de venda QAV fóssil",null,null,null,null,null,null,null,null,null,null,null,null,null,null,null,null,null,null,null,null,null,"bioGL",{"$f":"n2_bioglp","v":2.79},{"$f":"'Mercados de Carbono'!D12","v":34.213927831159424},{"$f":"(AD29-'Par. econômicos e finaceiros'!$G$16)/'Mercados de Carbono'!$E$12","v":0},{"$f":"IF(n1_tec=\"HEFA\",IF(n3_glp_hefa>0,\"Sim\",\"Não\"),IF(n3_glp_atj>0,\"Sim\",\"Não\"))","v":"Não"}]
[]
[]
[]
[]
[null,null,"Mercado","Preço de Venda do Produto \n(R$/l ou R$/kg para bioGL)","Intensidade de Carbono \n(g CO₂eq / MJ) :","Custo de redução de emissões para o consumidor do mercado (R$ / kg CO₂eq)"]
[null,null,"SAF- CORSIA "]
[null,null,"SAF - ProBioQAV "]
[null,null,"SAF- Outros Mercados ",null,null,null,null,null,null,null,null,null,null,null,null,null,null,null,null,null,null,null,null,null,null,null,null,null,null,"CORSIA default"]
[null,null,"Diesel Verde",null,null,null,null,null,null,null,null,null,null,null,null,null,null,null,null,null,null,null,null,null,null,null,null,null,null,"Sim"]
[null,null,"bioNafta",null,null,null,null,null,null,null,null,null,null,null,null,null,null,null,null,null,null,null,null,null,null,null,null,null,null,"CORSIA default"]
[null,null,"bioGL",null,null,null,null,null,null,null,null,null,null,null,null,null,null,null,null,null,null,null,null,null,null,null,null,null,null,"Sim"]
[]
[]
[]
[]
[]
[]
[]
[]
[]
[]
[null,null,null,null,null,null,null,null,null,null,null,null,null,null,null,null,null,null,null,null,null,null,null,null,null,null,null,null,null,"Bloqueadas"]
[null,null,null,null,null,null,null,null,null,null,null,null,null,null,null,null,null,null,null,null,null,null,null,null,null,null,null,null,null,"Pode ser alterado "]
[null,null,null,null,null,null,null,null,null,null,null,null,null,null,null,null,null,null,null,null,null,null,null,null,null,null,null,null,null,"Detalhes"]
[null,null,null,null,null,null,null,null,null,null,null,null,null,null,null,null,null,null,null,null,null,null,null,null,null,null,null,null,null,"Outputs"]
[]
[]
[]
[]
[null,null,null,null,null,null,null,null,null,null,null,null,null,null,null,null,null,null,null,null,null,null,null,null,null,null,null,null,{"$f":"IF($E$5=\"HEFA\",\"HEFA\",\nIF(ISNUMBER(FIND(\"Cana\",$E$6)),\"ATJ Cana de açúcar\",\"ATJ Milho de 2a safra 1G\"))","v":"ATJ Milho de 2a safra 1G"}]
[]
[]
[]
[null,null,null,null,null,null,null,null,null,null,null,null,null,null,null,null,null,null,null,null,null,null,null,null,"Bloqueadas"]
[null,null,null,null,null,null,null,null,null,null,null,null,null,null,null,null,null,null,null,null,null,null,null,null,"Preencher/Alterar"]
[null,null,null,null,null,null,null,null,null,null,null,null,null,null,null,null,null,null,null,null,null,null,null,null,"Resultados"]
[]
[]
[]
[]
[]
[]
[]
[]
[]
[]
[null,null,null,null,null,null,null,null,null,null,null,null,null,null,null,null,null,null,null,null,null,"Células Bloqueadas"]
[null,null,null,null,null,null,null,null,null,null,null,null,null,null,null,null,null,null,null,null,null,"Células para preencher/alterar"]
[null,null,null,null,null,null,null,null,null,null,null,null,null,null,null,null,null,null,null,null,null,"Resultados"]

{"sheet":"Par. econômicos e finaceiros","index":2,"n_rows":44,"n_cols":28,"rows_kept":44,"cut":false,"hidden":false,"merged":[[37,2,37,3],[15,12,15,13],[3,2,3,3],[4,2,4,3],[4,5,4,6],[19,5,19,6]]}
[null,null,null,null,null,null,null,null,null,null,null,null,null,null,null,null,null,null,null,null,null,null,null,null,null,null,null,"OCULTO"]
[]
[]
[]
[null,null,"Preço de compra de insumos",null,null,"Preço de Venda dos Coprodutos"]
[null,null,"Óleo de soja (R$/L)",4.8600000000000003,null,"Diesel Verde (R$/L)",3.84]
[null,null,"Sebo bovino (R$/L)",5.16,null,"bioNafta (R$/L)",2.9]
[null,null,"Hidrogênio (R$/kg)",10.57,null,"bioGL (R$/kg)",2.79]
[null,null,"Eletricidade (R$/kWh)",0.13]
[null,null,"Cavaco de madeira (R$/Kg)",0.47]
[null,null,"Gás natural (R$/kg)",5.03]
[null,null,"Catalisadores para HEFA - média (R$/g)",1.37]
[null,null,"Catalisadores para ATJ - média (R$/g)",0.12,null,"QAV (R$/l)",3.9]
[null,null,"Etanol (R$/L)",2.4700000000000002,null,"Diesel (R$/l)",3.84]
[null,null,null,null,null,"Nafta (R$/l)",2.9]
[null,null,null,null,null,"GLP (R$/kg)",2.79,null,null,null,null,null,"O produto gera créditos de carbono?"]
[null,null,null,null,null,null,null,null,null,null,null,null,"SAF","Sim"]
[null,null,"Tempo de operação da planta (anos)",20,null,null,null,null,"Valores iniciais restaurados",null,null,null,"Diesel Verde","Sim"]
[null,null,"Porcentagem do CAPEX financiado",0.6,null,null,null,null,"Último cenário: 26/06 11:00",null,null,null,"bioNafta","Não"]
[null,null,"Taxa de juros financiamento",0.1236,null,"Caso Base",null,null,"Progresso: 100%",null,null,null,"bio-GL","Não"]
[null,null,"Taxa de desconto equity",0.15,null,null,null,null,null,null,null,null,"Preço Créditos de Carbono Evitado (R$ / t CO2eq)"]
[]
[]
[]
[]
[]
[]
[null,null,"Tempo de construção da planta",3]
[null,null,"Tempo de atraso na construção (meses)",0]
[null,null,"Tempo de start-up da planta (meses)",6]
[null,null,"Receita durante o start-up",0.75]
[null,null,"Custo variável durante start-up",0.75]
[null,null,"Custo fixo durante start-up",1]
[]
[]
[]
[]
[null,null,"Cronograma de gastos durante a construção"]
[null,null,"Dispêndio anual (% CAPEX total)","Ano"]
[null,null,0.08,"Ano 1"]
[null,null,0.6,"Ano 2"]
[null,null,0.32,"Ano 3"]
[null,null,null,"Ano 4"]
[null,null,null,"Ano 5"]

{"sheet":"Parâmetros técnicos","index":3,"n_rows":25,"n_cols":10,"rows_kept":25,"cut":false,"hidden":false,"merged":[[23,7,23,9],[24,7,24,9]]}
[]
[]
[]
[]
[null,null,"Fator de utilização",0.9]
[]
[]
[null,null,"Tecnologia:","HEFA","ATJ",null,null,"Tecnologia:","HEFA","ATJ"]
[null,null,"Óleos e gorduras (l/l comb. Liquido)",1.0621987436336282,0,null,null,"SAF (% liquido)",0.64859049826164461,0.75474679216417562]
[null,null,"Etanol (l / l comb. Liquido)",0,1.80500985078237,null,null,"Diesel Verde (% liquido)",4.9739773858472489E-2,5.8293318384030221E-2]
[null,null,"Hidrogênio (kg/l comb. Liquido)",3.3137247919622845E-2,1.570191787981862E-2,null,null,"Nafta (% liquido)",0.30166972787988294,0.1869598894517942]
[null,null,"Catalisadores HEFA (g/l comb liquido)",0.11828038160068809,0,null,null,"GLP (l/l SAF)",3.7512038645279952E-2,0]
[null,null,"Catalisadores ATJ (g/l comb liquido)",0,1.7643304051586395]
[]
[]
[null,null,"Tecnologia:","HEFA","ATJ"]
[null,null,"Calor (MJ/l comb. Liquido)",2.5106039678559302,2.035589555962082]
[null,null,"Combustível usado","Gás Natural","Gás Natural"]
[null,null,"Eletricidade (kWh/l comb. Liquido)",5.8022036312520495E-2,0.18550201071852637]
[null,null,"Agua de resfriamento (l/l comb liquido)",3.2,6.0219946604205061]
[]
[]
[]
[null,null,null,null,null,null,null,"Parâmetros técnicos restaurados"]
[null,null,null,null,null,null,null,"Último cenário: 26/06 11:00"]

{"sheet":"Resultados Detalhados","index":4,"n_rows":35,"n_cols":49,"rows_kept":35,"cut":false,"hidden":false,"merged":[[34,13,35,13],[22,13,23,13],[24,13,25,13],[26,13,27,13],[28,13,29,13],[30,13,31,13],[34,11,35,12],[3,1,3,22],[21,11,21,12],[22,11,23,12],[24,11,25,12],[26,11,27,12],[28,11,29,12],[30,11,31,12],[32,11,33,12],[22,20,24,20],[22,16,24,19],[26,16,28,19],[26,20,28,20],[30,16,32,19],[30,20,32,20],[32,13,33,13]]}
[]
[]
[]
[null,"Fluxo de Caixa"]
[null,"Ano Projeto",{"$f":"IF(n1_tec=\"HEFA\",'Fluxo de Caixa Desc._premio'!B24,IF(n1_tec=\"ATJ\",'Fluxo de Caixa Desc._premio'!B66,\"\"))","v":""},{"$f":"IF(n1_tec=\"HEFA\",'Fluxo de Caixa Desc._premio'!C24,IF(n1_tec=\"ATJ\",'Fluxo de Caixa Desc._premio'!C66,\"\"))","v":""},{"$f":"IF(n1_tec=\"HEFA\",'Fluxo de Caixa Desc._premio'!D24,IF(n1_tec=\"ATJ\",'Fluxo de Caixa Desc._premio'!D66,\"\"))","v":""},{"$f":"IF(n1_tec=\"HEFA\",'Fluxo de Caixa Desc._premio'!E24,IF(n1_tec=\"ATJ\",'Fluxo de Caixa Desc._premio'!E66,\"\"))","v":""},{"$f":"IF(n1_tec=\"HEFA\",'Fluxo de Caixa Desc._premio'!F24,IF(n1_tec=\"ATJ\",'Fluxo de Caixa Desc._premio'!F66,\"\"))","v":""},{"$f":"IF(n1_tec=\"HEFA\",'Fluxo de Caixa Desc._premio'!G24,IF(n1_tec=\"ATJ\",'Fluxo de Caixa Desc._premio'!G66,\"\"))","v":""},{"$f":"IF(n1_tec=\"HEFA\",'Fluxo de Caixa Desc._premio'!H24,IF(n1_tec=\"ATJ\",'Fluxo de Caixa Desc._premio'!H66,\"\"))","v":""},{"$f":"IF(n1_tec=\"HEFA\",'Fluxo de Caixa Desc._premio'!I24,IF(n1_tec=\"ATJ\",'Fluxo de Caixa Desc._premio'!I66,\"\"))","v":""},{"$f":"IF(n1_tec=\"HEFA\",'Fluxo de Caixa Desc._premio'!J24,IF(n1_tec=\"ATJ\",'Fluxo de Caixa Desc._premio'!J66,\"\"))","v":""},{"$f":"IF(n1_tec=\"HEFA\",'Fluxo de Caixa Desc._premio'!K24,IF(n1_tec=\"ATJ\",'Fluxo de Caixa Desc._premio'!K66,\"\"))","v":""},{"$f":"IF(n1_tec=\"HEFA\",'Fluxo de Caixa Desc._premio'!L24,IF(n1_tec=\"ATJ\",'Fluxo de Caixa Desc._premio'!L66,\"\"))","v":""},{"$f":"IF(n1_tec=\"HEFA\",'Fluxo de Caixa Desc._premio'!M24,IF(n1_tec=\"ATJ\",'Fluxo de Caixa Desc._premio'!M66,\"\"))","v":""},{"$f":"IF(n1_tec=\"HEFA\",'Fluxo de Caixa Desc._premio'!N24,IF(n1_tec=\"ATJ\",'Fluxo de Caixa Desc._premio'!N66,\"\"))","v":""},{"$f":"IF(n1_tec=\"HEFA\",'Fluxo de Caixa Desc._premio'!O24,IF(n1_tec=\"ATJ\",'Fluxo de Caixa Desc._premio'!O66,\"\"))","v":""},{"$f":"IF(n1_tec=\"HEFA\",'Fluxo de Caixa Desc._premio'!P24,IF(n1_tec=\"ATJ\",'Fluxo de Caixa Desc._premio'!P66,\"\"))","v":""},{"$f":"IF(n1_tec=\"HEFA\",'Fluxo de Caixa Desc._premio'!Q24,IF(n1_tec=\"ATJ\",'Fluxo de Caixa Desc._premio'!Q66,\"\"))","v":""},{"$f":"IF(n1_tec=\"HEFA\",'Fluxo de Caixa Desc._premio'!R24,IF(n1_tec=\"ATJ\",'Fluxo de Caixa Desc._premio'!R66,\"\"))","v":""},{"$f":"IF(n1_tec=\"HEFA\",'Fluxo de Caixa Desc._premio'!S24,IF(n1_tec=\"ATJ\",'Fluxo de Caixa Desc._premio'!S66,\"\"))","v":""},{"$f":"IF(n1_tec=\"HEFA\",'Fluxo de Caixa Desc._premio'!T24,IF(n1_tec=\"ATJ\",'Fluxo de Caixa Desc._premio'!T66,\"\"))","v":""},{"$f":"IF(n1_tec=\"HEFA\",'Fluxo de Caixa Desc._premio'!U24,IF(n1_tec=\"ATJ\",'Fluxo de Caixa Desc._premio'!U66,\"\"))","v":""},{"$f":"IF(n1_tec=\"HEFA\",'Fluxo de Caixa Desc._premio'!V24,IF(n1_tec=\"ATJ\",'Fluxo de Caixa Desc._premio'!V66,\"\"))","v":""},{"$f":"IF(n1_tec=\"HEFA\",'Fluxo de Caixa Desc._premio'!W24,IF(n1_tec=\"ATJ\",'Fluxo de Caixa Desc._premio'!W66,\"\"))","v":""},{"$f":"IF(n1_tec=\"HEFA\",'Fluxo de Caixa Desc._premio'!X24,IF(n1_tec=\"ATJ\",'Fluxo de Caixa Desc._premio'!X66,\"\"))","v":""},{"$f":"IF(n1_tec=\"HEFA\",'Fluxo de Caixa Desc._premio'!Y24,IF(n1_tec=\"ATJ\",'Fluxo de Caixa Desc._premio'!Y66,\"\"))","v":""},{"$f":"IF(n1_tec=\"HEFA\",'Fluxo de Caixa Desc._premio'!Z24,IF(n1_tec=\"ATJ\",'Fluxo de Caixa Desc._premio'!Z66,\"\"))","v":""},{"$f":"IF(n1_tec=\"HEFA\",'Fluxo de Caixa Desc._premio'!AA24,IF(n1_tec=\"ATJ\",'Fluxo de Caixa Desc._premio'!AA66,\"\"))","v":""},{"$f":"IF(n1_tec=\"HEFA\",'Fluxo de Caixa Desc._premio'!AB24,IF(n1_tec=\"ATJ\",'Fluxo de Caixa Desc._premio'!AB66,\"\"))","v":""},{"$f":"IF(n1_tec=\"HEFA\",'Fluxo de Caixa Desc._premio'!AC24,IF(n1_tec=\"ATJ\",'Fluxo de Caixa Desc._premio'!AC66,\"\"))","v":""},{"$f":"IF(n1_tec=\"HEFA\",'Fluxo de Caixa Desc._premio'!AD24,IF(n1_tec=\"ATJ\",'Fluxo de Caixa Desc._premio'!AD66,\"\"))","v":""},{"$f":"IF(n1_tec=\"HEFA\",'Fluxo de Caixa Desc._premio'!AE24,IF(n1_tec=\"ATJ\",'Fluxo de Caixa Desc._premio'!AE66,\"\"))","v":""},{"$f":"IF(n1_tec=\"HEFA\",'Fluxo de Caixa Desc._premio'!AF24,IF(n1_tec=\"ATJ\",'Fluxo de Caixa Desc._premio'!AF66,\"\"))","v":""},{"$f":"IF(n1_tec=\"HEFA\",'Fluxo de Caixa Desc._premio'!AG24,IF(n1_tec=\"ATJ\",'Fluxo de Caixa Desc._premio'!AG66,\"\"))","v":""},{"$f":"IF(n1_tec=\"HEFA\",'Fluxo de Caixa Desc._premio'!AH24,IF(n1_tec=\"ATJ\",'Fluxo de Caixa Desc._premio'!AH66,\"\"))","v":""},{"$f":"IF(n1_tec=\"HEFA\",'Fluxo de Caixa Desc._premio'!AI24,IF(n1_tec=\"ATJ\",'Fluxo de Caixa Desc._premio'!AI66,\"\"))","v":""},{"$f":"IF(n1_tec=\"HEFA\",'Fluxo de Caixa Desc._premio'!AJ24,IF(n1_tec=\"ATJ\",'Fluxo de Caixa Desc._premio'!AJ66,\"\"))","v":""},{"$f":"IF(n1_tec=\"HEFA\",'Fluxo de Caixa Desc._premio'!AK24,IF(n1_tec=\"ATJ\",'Fluxo de Caixa Desc._premio'!AK66,\"\"))","v":""},{"$f":"IF(n1_tec=\"HEFA\",'Fluxo de Caixa Desc._premio'!AL24,IF(n1_tec=\"ATJ\",'Fluxo de Caixa Desc._premio'!AL66,\"\"))","v":""},{"$f":"IF(n1_tec=\"HEFA\",'Fluxo de Caixa Desc._premio'!AM24,IF(n1_tec=\"ATJ\",'Fluxo de Caixa Desc._premio'!AM66,\"\"))","v":""},{"$f":"IF(n1_tec=\"HEFA\",'Fluxo de Caixa Desc._premio'!AN24,IF(n1_tec=\"ATJ\",'Fluxo de Caixa Desc._premio'!AN66,\"\"))","v":""},{"$f":"IF(n1_tec=\"HEFA\",'Fluxo de Caixa Desc._premio'!AO24,IF(n1_tec=\"ATJ\",'Fluxo de Caixa Desc._premio'!AO66,\"\"))","v":""},{"$f":"IF(n1_tec=\"HEFA\",'Fluxo de Caixa Desc._premio'!AP24,IF(n1_tec=\"ATJ\",'Fluxo de Caixa Desc._premio'!AP66,\"\"))","v":""},{"$f":"IF(n1_tec=\"HEFA\",'Fluxo de Caixa Desc._premio'!AQ24,IF(n1_tec=\"ATJ\",'Fluxo de Caixa Desc._premio'!AQ66,\"\"))","v":""},{"$f":"IF(n1_tec=\"HEFA\",'Fluxo de Caixa Desc._premio'!AR24,IF(n1_tec=\"ATJ\",'Fluxo de Caixa Desc._premio'!AR66,\"\"))","v":""},{"$f":"IF(n1_tec=\"HEFA\",'Fluxo de Caixa Desc._premio'!AS24,IF(n1_tec=\"ATJ\",'Fluxo de Caixa Desc._premio'!AS66,\"\"))","v":""},{"$f":"IF(n1_tec=\"HEFA\",'Fluxo de Caixa Desc._premio'!AT24,IF(n1_tec=\"ATJ\",'Fluxo de Caixa Desc._premio'!AT66,\"\"))","v":""},{"$f":"IF(n1_tec=\"HEFA\",'Fluxo de Caixa Desc._premio'!AU24,IF(n1_tec=\"ATJ\",'Fluxo de Caixa Desc._premio'!AU66,\"\"))","v":""},{"$f":"IF(n1_tec=\"HEFA\",'Fluxo de Caixa Desc._premio'!AV24,IF(n1_tec=\"ATJ\",'Fluxo de Caixa Desc._premio'!AV66,\"\"))","v":""}]
[null,"Cronograma",{"$f":"IF(n1_tec=\"HEFA\",'Fluxo de Caixa Desc._premio'!B25,IF(n1_tec=\"ATJ\",'Fluxo de Caixa Desc._premio'!B67,\"\"))","v":""},{"$f":"IF(n1_tec=\"HEFA\",'Fluxo de Caixa Desc._premio'!C25,IF(n1_tec=\"ATJ\",'Fluxo de Caixa Desc._premio'!C67,\"\"))","v":""},{"$f":"IF(n1_tec=\"HEFA\",'Fluxo de Caixa Desc._premio'!D25,IF(n1_tec=\"ATJ\",'Fluxo de Caixa Desc._premio'!D67,\"\"))","v":""},{"$f":"IF(n1_tec=\"HEFA\",'Fluxo de Caixa Desc._premio'!E25,IF(n1_tec=\"ATJ\",'Fluxo de Caixa Desc._premio'!E67,\"\"))","v":""},{"$f":"IF(n1_tec=\"HEFA\",'Fluxo de Caixa Desc._premio'!F25,IF(n1_tec=\"ATJ\",'Fluxo de Caixa Desc._premio'!F67,\"\"))","v":""},{"$f":"IF(n1_tec=\"HEFA\",'Fluxo de Caixa Desc._premio'!G25,IF(n1_tec=\"ATJ\",'Fluxo de Caixa Desc._premio'!G67,\"\"))","v":""},{"$f":"IF(n1_tec=\"HEFA\",'Fluxo de Caixa Desc._premio'!H25,IF(n1_tec=\"ATJ\",'Fluxo de Caixa Desc._premio'!H67,\"\"))","v":""},{"$f":"IF(n1_tec=\"HEFA\",'Fluxo de Caixa Desc._premio'!I25,IF(n1_tec=\"ATJ\",'Fluxo de Caixa Desc._premio'!I67,\"\"))","v":""},{"$f":"IF(n1_tec=\"HEFA\",'Fluxo de Caixa Desc._premio'!J25,IF(n1_tec=\"ATJ\",'Fluxo de Caixa Desc._premio'!J67,\"\"))","v":""},{"$f":"IF(n1_tec=\"HEFA\",'Fluxo de Caixa Desc._premio'!K25,IF(n1_tec=\"ATJ\",'Fluxo de Caixa Desc._premio'!K67,\"\"))","v":""},{"$f":"IF(n1_tec=\"HEFA\",'Fluxo de Caixa Desc._premio'!L25,IF(n1_tec=\"ATJ\",'Fluxo de Caixa Desc._premio'!L67,\"\"))","v":""},{"$f":"IF(n1_tec=\"HEFA\",'Fluxo de Caixa Desc._premio'!M25,IF(n1_tec=\"ATJ\",'Fluxo de Caixa Desc._premio'!M67,\"\"))","v":""},{"$f":"IF(n1_tec=\"HEFA\",'Fluxo de Caixa Desc._premio'!N25,IF(n1_tec=\"ATJ\",'Fluxo de Caixa Desc._premio'!N67,\"\"))","v":""},{"$f":"IF(n1_tec=\"HEFA\",'Fluxo de Caixa Desc._premio'!O25,IF(n1_tec=\"ATJ\",'Fluxo de Caixa Desc._premio'!O67,\"\"))","v":""},{"$f":"IF(n1_tec=\"HEFA\",'Fluxo de Caixa Desc._premio'!P25,IF(n1_tec=\"ATJ\",'Fluxo de Caixa Desc._premio'!P67,\"\"))","v":""},{"$f":"IF(n1_tec=\"HEFA\",'Fluxo de Caixa Desc._premio'!Q25,IF(n1_tec=\"ATJ\",'Fluxo de Caixa Desc._premio'!Q67,\"\"))","v":""},{"$f":"IF(n1_tec=\"HEFA\",'Fluxo de Caixa Desc._premio'!R25,IF(n1_tec=\"ATJ\",'Fluxo de Caixa Desc._premio'!R67,\"\"))","v":""},{"$f":"IF(n1_tec=\"HEFA\",'Fluxo de Caixa Desc._premio'!S25,IF(n1_tec=\"ATJ\",'Fluxo de Caixa Desc._premio'!S67,\"\"))","v":""},{"$f":"IF(n1_tec=\"HEFA\",'Fluxo de Caixa Desc._premio'!T25,IF(n1_tec=\"ATJ\",'Fluxo de Caixa Desc._premio'!T67,\"\"))","v":""},{"$f":"IF(n1_tec=\"HEFA\",'Fluxo de Caixa Desc._premio'!U25,IF(n1_tec=\"ATJ\",'Fluxo de Caixa Desc._premio'!U67,\"\"))","v":""},{"$f":"IF(n1_tec=\"HEFA\",'Fluxo de Caixa Desc._premio'!V25,IF(n1_tec=\"ATJ\",'Fluxo de Caixa Desc._premio'!V67,\"\"))","v":""},{"$f":"IF(n1_tec=\"HEFA\",'Fluxo de Caixa Desc._premio'!W25,IF(n1_tec=\"ATJ\",'Fluxo de Caixa Desc._premio'!W67,\"\"))","v":""},{"$f":"IF(n1_tec=\"HEFA\",'Fluxo de Caixa Desc._premio'!X25,IF(n1_tec=\"ATJ\",'Fluxo de Caixa Desc._premio'!X67,\"\"))","v":""},{"$f":"IF(n1_tec=\"HEFA\",'Fluxo de Caixa Desc._premio'!Y25,IF(n1_tec=\"ATJ\",'Fluxo de Caixa Desc._premio'!Y67,\"\"))","v":""},{"$f":"IF(n1_tec=\"HEFA\",'Fluxo de Caixa Desc._premio'!Z25,IF(n1_tec=\"ATJ\",'Fluxo de Caixa Desc._premio'!Z67,\"\"))","v":""},{"$f":"IF(n1_tec=\"HEFA\",'Fluxo de Caixa Desc._premio'!AA25,IF(n1_tec=\"ATJ\",'Fluxo de Caixa Desc._premio'!AA67,\"\"))","v":""},{"$f":"IF(n1_tec=\"HEFA\",'Fluxo de Caixa Desc._premio'!AB25,IF(n1_tec=\"ATJ\",'Fluxo de Caixa Desc._premio'!AB67,\"\"))","v":""},{"$f":"IF(n1_tec=\"HEFA\",'Fluxo de Caixa Desc._premio'!AC25,IF(n1_tec=\"ATJ\",'Fluxo de Caixa Desc._premio'!AC67,\"\"))","v":""},{"$f":"IF(n1_tec=\"HEFA\",'Fluxo de Caixa Desc._premio'!AD25,IF(n1_tec=\"ATJ\",'Fluxo de Caixa Desc._premio'!AD67,\"\"))","v":""},{"$f":"IF(n1_tec=\"HEFA\",'Fluxo de Caixa Desc._premio'!AE25,IF(n1_tec=\"ATJ\",'Fluxo de Caixa Desc._premio'!AE67,\"\"))","v":""},{"$f":"IF(n1_tec=\"HEFA\",'Fluxo de Caixa Desc._premio'!AF25,IF(n1_tec=\"ATJ\",'Fluxo de Caixa Desc._premio'!AF67,\"\"))","v":""},{"$f":"IF(n1_tec=\"HEFA\",'Fluxo de Caixa Desc._premio'!AG25,IF(n1_tec=\"ATJ\",'Fluxo de Caixa Desc._premio'!AG67,\"\"))","v":""},{"$f":"IF(n1_tec=\"HEFA\",'Fluxo de Caixa Desc._premio'!AH25,IF(n1_tec=\"ATJ\",'Fluxo de Caixa Desc._premio'!AH67,\"\"))","v":""},{"$f":"IF(n1_tec=\"HEFA\",'Fluxo de Caixa Desc._premio'!AI25,IF(n1_tec=\"ATJ\",'Fluxo de Caixa Desc._premio'!AI67,\"\"))","v":""},{"$f":"IF(n1_tec=\"HEFA\",'Fluxo de Caixa Desc._premio'!AJ25,IF(n1_tec=\"ATJ\",'Fluxo de Caixa Desc._premio'!AJ67,\"\"))","v":""},{"$f":"IF(n1_tec=\"HEFA\",'Fluxo de Caixa Desc._premio'!AK25,IF(n1_tec=\"ATJ\",'Fluxo de Caixa Desc._premio'!AK67,\"\"))","v":""},{"$f":"IF(n1_tec=\"HEFA\",'Fluxo de Caixa Desc._premio'!AL25,IF(n1_tec=\"ATJ\",'Fluxo de Caixa Desc._premio'!AL67,\"\"))","v":""},{"$f":"IF(n1_tec=\"HEFA\",'Fluxo de Caixa Desc._premio'!AM25,IF(n1_tec=\"ATJ\",'Fluxo de Caixa Desc._premio'!AM67,\"\"))","v":""},{"$f":"IF(n1_tec=\"HEFA\",'Fluxo de Caixa Desc._premio'!AN25,IF(n1_tec=\"ATJ\",'Fluxo de Caixa Desc._premio'!AN67,\"\"))","v":""},{"$f":"IF(n1_tec=\"HEFA\",'Fluxo de Caixa Desc._premio'!AO25,IF(n1_tec=\"ATJ\",'Fluxo de Caixa Desc._premio'!AO67,\"\"))","v":""},{"$f":"IF(n1_tec=\"HEFA\",'Fluxo de Caixa Desc._premio'!AP25,IF(n1_tec=\"ATJ\",'Fluxo de Caixa Desc._premio'!AP67,\"\"))","v":""},{"$f":"IF(n1_tec=\"HEFA\",'Fluxo de Caixa Desc._premio'!AQ25,IF(n1_tec=\"ATJ\",'Fluxo de Caixa Desc._premio'!AQ67,\"\"))","v":""},{"$f":"IF(n1_tec=\"HEFA\",'Fluxo de Caixa Desc._premio'!AR25,IF(n1_tec=\"ATJ\",'Fluxo de Caixa Desc._premio'!AR67,\"\"))","v":""},{"$f":"IF(n1_tec=\"HEFA\",'Fluxo de Caixa Desc._premio'!AS25,IF(n1_tec=\"ATJ\",'Fluxo de Caixa Desc._premio'!AS67,\"\"))","v":""},{"$f":"IF(n1_tec=\"HEFA\",'Fluxo de Caixa Desc._premio'!AT25,IF(n1_tec=\"ATJ\",'Fluxo de Caixa Desc._premio'!AT67,\"\"))","v":""},{"$f":"IF(n1_tec=\"HEFA\",'Fluxo de Caixa Desc._premio'!AU25,IF(n1_tec=\"ATJ\",'Fluxo de Caixa Desc._premio'!AU67,\"\"))","v":""},{"$f":"IF(n1_tec=\"HEFA\",'Fluxo de Caixa Desc._premio'!AV25,IF(n1_tec=\"ATJ\",'Fluxo de Caixa Desc._premio'!AV67,\"\"))","v":""}]
[null,"Receitas (milhões R$ / ano)",{"$f":"IF(n1_tec=\"HEFA\",'Fluxo de Caixa Desc._premio'!B27,IF(n1_tec=\"ATJ\",'Fluxo de Caixa Desc._premio'!B69,\"\"))","v":""},{"$f":"IF(n1_tec=\"HEFA\",'Fluxo de Caixa Desc._premio'!C27,IF(n1_tec=\"ATJ\",'Fluxo de Caixa Desc._premio'!C69,\"\"))","v":""},{"$f":"IF(n1_tec=\"HEFA\",'Fluxo de Caixa Desc._premio'!D27,IF(n1_tec=\"ATJ\",'Fluxo de Caixa Desc._premio'!D69,\"\"))","v":""},{"$f":"IF(n1_tec=\"HEFA\",'Fluxo de Caixa Desc._premio'!E27,IF(n1_tec=\"ATJ\",'Fluxo de Caixa Desc._premio'!E69,\"\"))","v":""},{"$f":"IF(n1_tec=\"HEFA\",'Fluxo de Caixa Desc._premio'!F27,IF(n1_tec=\"ATJ\",'Fluxo de Caixa Desc._premio'!F69,\"\"))","v":""},{"$f":"IF(n1_tec=\"HEFA\",'Fluxo de Caixa Desc._premio'!G27,IF(n1_tec=\"ATJ\",'Fluxo de Caixa Desc._premio'!G69,\"\"))","v":""},{"$f":"IF(n1_tec=\"HEFA\",'Fluxo de Caixa Desc._premio'!H27,IF(n1_tec=\"ATJ\",'Fluxo de Caixa Desc._premio'!H69,\"\"))","v":""},{"$f":"IF(n1_tec=\"HEFA\",'Fluxo de Caixa Desc._premio'!I27,IF(n1_tec=\"ATJ\",'Fluxo de Caixa Desc._premio'!I69,\"\"))","v":""},{"$f":"IF(n1_tec=\"HEFA\",'Fluxo de Caixa Desc._premio'!J27,IF(n1_tec=\"ATJ\",'Fluxo de Caixa Desc._premio'!J69,\"\"))","v":""},{"$f":"IF(n1_tec=\"HEFA\",'Fluxo de Caixa Desc._premio'!K27,IF(n1_tec=\"ATJ\",'Fluxo de Caixa Desc._premio'!K69,\"\"))","v":""},{"$f":"IF(n1_tec=\"HEFA\",'Fluxo de Caixa Desc._premio'!L27,IF(n1_tec=\"ATJ\",'Fluxo de Caixa Desc._premio'!L69,\"\"))","v":""},{"$f":"IF(n1_tec=\"HEFA\",'Fluxo de Caixa Desc._premio'!M27,IF(n1_tec=\"ATJ\",'Fluxo de Caixa Desc._premio'!M69,\"\"))","v":""},{"$f":"IF(n1_tec=\"HEFA\",'Fluxo de Caixa Desc._premio'!N27,IF(n1_tec=\"ATJ\",'Fluxo de Caixa Desc._premio'!N69,\"\"))","v":""},{"$f":"IF(n1_tec=\"HEFA\",'Fluxo de Caixa Desc._premio'!O27,IF(n1_tec=\"ATJ\",'Fluxo de Caixa Desc._premio'!O69,\"\"))","v":""},{"$f":"IF(n1_tec=\"HEFA\",'Fluxo de Caixa Desc._premio'!P27,IF(n1_tec=\"ATJ\",'Fluxo de Caixa Desc._premio'!P69,\"\"))","v":""},{"$f":"IF(n1_tec=\"HEFA\",'Fluxo de Caixa Desc._premio'!Q27,IF(n1_tec=\"ATJ\",'Fluxo de Caixa Desc._premio'!Q69,\"\"))","v":""},{"$f":"IF(n1_tec=\"HEFA\",'Fluxo de Caixa Desc._premio'!R27,IF(n1_tec=\"ATJ\",'Fluxo de Caixa Desc._premio'!R69,\"\"))","v":""},{"$f":"IF(n1_tec=\"HEFA\",'Fluxo de Caixa Desc._premio'!S27,IF(n1_tec=\"ATJ\",'Fluxo de Caixa Desc._premio'!S69,\"\"))","v":""},{"$f":"IF(n1_tec=\"HEFA\",'Fluxo de Caixa Desc._premio'!T27,IF(n1_tec=\"ATJ\",'Fluxo de Caixa Desc._premio'!T69,\"\"))","v":""},{"$f":"IF(n1_tec=\"HEFA\",'Fluxo de Caixa Desc._premio'!U27,IF(n1_tec=\"ATJ\",'Fluxo de Caixa Desc._premio'!U69,\"\"))","v":""},{"$f":"IF(n1_tec=\"HEFA\",'Fluxo de Caixa Desc._premio'!V27,IF(n1_tec=\"ATJ\",'Fluxo de Caixa Desc._premio'!V69,\"\"))","v":""},{"$f":"IF(n1_tec=\"HEFA\",'Fluxo de Caixa Desc._premio'!W27,IF(n1_tec=\"ATJ\",'Fluxo de Caixa Desc._premio'!W69,\"\"))","v":""},{"$f":"IF(n1_tec=\"HEFA\",'Fluxo de Caixa Desc._premio'!X27,IF(n1_tec=\"ATJ\",'Fluxo de Caixa Desc._premio'!X69,\"\"))","v":""},{"$f":"IF(n1_tec=\"HEFA\",'Fluxo de Caixa Desc._premio'!Y27,IF(n1_tec=\"ATJ\",'Fluxo de Caixa Desc._premio'!Y69,\"\"))","v":""},{"$f":"IF(n1_tec=\"HEFA\",'Fluxo de Caixa Desc._premio'!Z27,IF(n1_tec=\"ATJ\",'Fluxo de Caixa Desc._premio'!Z69,\"\"))","v":""},{"$f":"IF(n1_tec=\"HEFA\",'Fluxo de Caixa Desc._premio'!AA27,IF(n1_tec=\"ATJ\",'Fluxo de Caixa Desc._premio'!AA69,\"\"))","v":""},{"$f":"IF(n1_tec=\"HEFA\",'Fluxo de Caixa Desc._premio'!AB27,IF(n1_tec=\"ATJ\",'Fluxo de Caixa Desc._premio'!AB69,\"\"))","v":""},{"$f":"IF(n1_tec=\"HEFA\",'Fluxo de Caixa Desc._premio'!AC27,IF(n1_tec=\"ATJ\",'Fluxo de Caixa Desc._premio'!AC69,\"\"))","v":""},{"$f":"IF(n1_tec=\"HEFA\",'Fluxo de Caixa Desc._premio'!AD27,IF(n1_tec=\"ATJ\",'Fluxo de Caixa Desc._premio'!AD69,\"\"))","v":""},{"$f":"IF(n1_tec=\"HEFA\",'Fluxo de Caixa Desc._premio'!AE27,IF(n1_tec=\"ATJ\",'Fluxo de Caixa Desc._premio'!AE69,\"\"))","v":""},{"$f":"IF(n1_tec=\"HEFA\",'Fluxo de Caixa Desc._premio'!AF27,IF(n1_tec=\"ATJ\",'Fluxo de Caixa Desc._premio'!AF69,\"\"))","v":""},{"$f":"IF(n1_tec=\"HEFA\",'Fluxo de Caixa Desc._premio'!AG27,IF(n1_tec=\"ATJ\",'Fluxo de Caixa Desc._premio'!AG69,\"\"))","v":""},{"$f":"IF(n1_tec=\"HEFA\",'Fluxo de Caixa Desc._premio'!AH27,IF(n1_tec=\"ATJ\",'Fluxo de Caixa Desc._premio'!AH69,\"\"))","v":""},{"$f":"IF(n1_tec=\"HEFA\",'Fluxo de Caixa Desc._premio'!AI27,IF(n1_tec=\"ATJ\",'Fluxo de Caixa Desc._premio'!AI69,\"\"))","v":""},{"$f":"IF(n1_tec=\"HEFA\",'Fluxo de Caixa Desc._premio'!AJ27,IF(n1_tec=\"ATJ\",'Fluxo de Caixa Desc._premio'!AJ69,\"\"))","v":""},{"$f":"IF(n1_tec=\"HEFA\",'Fluxo de Caixa Desc._premio'!AK27,IF(n1_tec=\"ATJ\",'Fluxo de Caixa Desc._premio'!AK69,\"\"))","v":""},{"$f":"IF(n1_tec=\"HEFA\",'Fluxo de Caixa Desc._premio'!AL27,IF(n1_tec=\"ATJ\",'Fluxo de Caixa Desc._premio'!AL69,\"\"))","v":""},{"$f":"IF(n1_tec=\"HEFA\",'Fluxo de Caixa Desc._premio'!AM27,IF(n1_tec=\"ATJ\",'Fluxo de Caixa Desc._premio'!AM69,\"\"))","v":""},{"$f":"IF(n1_tec=\"HEFA\",'Fluxo de Caixa Desc._premio'!AN27,IF(n1_tec=\"ATJ\",'Fluxo de Caixa Desc._premio'!AN69,\"\"))","v":""},{"$f":"IF(n1_tec=\"HEFA\",'Fluxo de Caixa Desc._premio'!AO27,IF(n1_tec=\"ATJ\",'Fluxo de Caixa Desc._premio'!AO69,\"\"))","v":""},{"$f":"IF(n1_tec=\"HEFA\",'Fluxo de Caixa Desc._premio'!AP27,IF(n1_tec=\"ATJ\",'Fluxo de Caixa Desc._premio'!AP69,\"\"))","v":""},{"$f":"IF(n1_tec=\"HEFA\",'Fluxo de Caixa Desc._premio'!AQ27,IF(n1_tec=\"ATJ\",'Fluxo de Caixa Desc._premio'!AQ69,\"\"))","v":""},{"$f":"IF(n1_tec=\"HEFA\",'Fluxo de Caixa Desc._premio'!AR27,IF(n1_tec=\"ATJ\",'Fluxo de Caixa Desc._premio'!AR69,\"\"))","v":""},{"$f":"IF(n1_tec=\"HEFA\",'Fluxo de Caixa Desc._premio'!AS27,IF(n1_tec=\"ATJ\",'Fluxo de Caixa Desc._premio'!AS69,\"\"))","v":""},{"$f":"IF(n1_tec=\"HEFA\",'Fluxo de Caixa Desc._premio'!AT27,IF(n1_tec=\"ATJ\",'Fluxo de Caixa Desc._premio'!AT69,\"\"))","v":""},{"$f":"IF(n1_tec=\"HEFA\",'Fluxo de Caixa Desc._premio'!AU27,IF(n1_tec=\"ATJ\",'Fluxo de Caixa Desc._premio'!AU69,\"\"))","v":""},{"$f":"IF(n1_tec=\"HEFA\",'Fluxo de Caixa Desc._premio'!AV27,IF(n1_tec=\"ATJ\",'Fluxo de Caixa Desc._premio'!AV69,\"\"))","v":""}]
[null,"OPEX variável (milhões R$ / ano)",{"$f":"IF(n1_tec=\"HEFA\",'Fluxo de Caixa Desc._premio'!B28,IF(n1_tec=\"ATJ\",'Fluxo de Caixa Desc._premio'!B70,\"\"))","v":""},{"$f":"IF(n1_tec=\"HEFA\",'Fluxo de Caixa Desc._premio'!C28,IF(n1_tec=\"ATJ\",'Fluxo de Caixa Desc._premio'!C70,\"\"))","v":""},{"$f":"IF(n1_tec=\"HEFA\",'Fluxo de Caixa Desc._premio'!D28,IF(n1_tec=\"ATJ\",'Fluxo de Caixa Desc._premio'!D70,\"\"))","v":""},{"$f":"IF(n1_tec=\"HEFA\",'Fluxo de Caixa Desc._premio'!E28,IF(n1_tec=\"ATJ\",'Fluxo de Caixa Desc._premio'!E70,\"\"))","v":""},{"$f":"IF(n1_tec=\"HEFA\",'Fluxo de Caixa Desc._premio'!F28,IF(n1_tec=\"ATJ\",'Fluxo de Caixa Desc._premio'!F70,\"\"))","v":""},{"$f":"IF(n1_tec=\"HEFA\",'Fluxo de Caixa Desc._premio'!G28,IF(n1_tec=\"ATJ\",'Fluxo de Caixa Desc._premio'!G70,\"\"))","v":""},{"$f":"IF(n1_tec=\"HEFA\",'Fluxo de Caixa Desc._premio'!H28,IF(n1_tec=\"ATJ\",'Fluxo de Caixa Desc._premio'!H70,\"\"))","v":""},{"$f":"IF(n1_tec=\"HEFA\",'Fluxo de Caixa Desc._premio'!I28,IF(n1_tec=\"ATJ\",'Fluxo de Caixa Desc._premio'!I70,\"\"))","v":""},{"$f":"IF(n1_tec=\"HEFA\",'Fluxo de Caixa Desc._premio'!J28,IF(n1_tec=\"ATJ\",'Fluxo de Caixa Desc._premio'!J70,\"\"))","v":""},{"$f":"IF(n1_tec=\"HEFA\",'Fluxo de Caixa Desc._premio'!K28,IF(n1_tec=\"ATJ\",'Fluxo de Caixa Desc._premio'!K70,\"\"))","v":""},{"$f":"IF(n1_tec=\"HEFA\",'Fluxo de Caixa Desc._premio'!L28,IF(n1_tec=\"ATJ\",'Fluxo de Caixa Desc._premio'!L70,\"\"))","v":""},{"$f":"IF(n1_tec=\"HEFA\",'Fluxo de Caixa Desc._premio'!M28,IF(n1_tec=\"ATJ\",'Fluxo de Caixa Desc._premio'!M70,\"\"))","v":""},{"$f":"IF(n1_tec=\"HEFA\",'Fluxo de Caixa Desc._premio'!N28,IF(n1_tec=\"ATJ\",'Fluxo de Caixa Desc._premio'!N70,\"\"))","v":""},{"$f":"IF(n1_tec=\"HEFA\",'Fluxo de Caixa Desc._premio'!O28,IF(n1_tec=\"ATJ\",'Fluxo de Caixa Desc._premio'!O70,\"\"))","v":""},{"$f":"IF(n1_tec=\"HEFA\",'Fluxo de Caixa Desc._premio'!P28,IF(n1_tec=\"ATJ\",'Fluxo de Caixa Desc._premio'!P70,\"\"))","v":""},{"$f":"IF(n1_tec=\"HEFA\",'Fluxo de Caixa Desc._premio'!Q28,IF(n1_tec=\"ATJ\",'Fluxo de Caixa Desc._premio'!Q70,\"\"))","v":""},{"$f":"IF(n1_tec=\"HEFA\",'Fluxo de Caixa Desc._premio'!R28,IF(n1_tec=\"ATJ\",'Fluxo de Caixa Desc._premio'!R70,\"\"))","v":""},{"$f":"IF(n1_tec=\"HEFA\",'Fluxo de Caixa Desc._premio'!S28,IF(n1_tec=\"ATJ\",'Fluxo de Caixa Desc._premio'!S70,\"\"))","v":""},{"$f":"IF(n1_tec=\"HEFA\",'Fluxo de Caixa Desc._premio'!T28,IF(n1_tec=\"ATJ\",'Fluxo de Caixa Desc._premio'!T70,\"\"))","v":""},{"$f":"IF(n1_tec=\"HEFA\",'Fluxo de Caixa Desc._premio'!U28,IF(n1_tec=\"ATJ\",'Fluxo de Caixa Desc._premio'!U70,\"\"))","v":""},{"$f":"IF(n1_tec=\"HEFA\",'Fluxo de Caixa Desc._premio'!V28,IF(n1_tec=\"ATJ\",'Fluxo de Caixa Desc._premio'!V70,\"\"))","v":""},{"$f":"IF(n1_tec=\"HEFA\",'Fluxo de Caixa Desc._premio'!W28,IF(n1_tec=\"ATJ\",'Fluxo de Caixa Desc._premio'!W70,\"\"))","v":""},{"$f":"IF(n1_tec=\"HEFA\",'Fluxo de Caixa Desc._premio'!X28,IF(n1_tec=\"ATJ\",'Fluxo de Caixa Desc._premio'!X70,\"\"))","v":""},{"$f":"IF(n1_tec=\"HEFA\",'Fluxo de Caixa Desc._premio'!Y28,IF(n1_tec=\"ATJ\",'Fluxo de Caixa Desc._premio'!Y70,\"\"))","v":""},{"$f":"IF(n1_tec=\"HEFA\",'Fluxo de Caixa Desc._premio'!Z28,IF(n1_tec=\"ATJ\",'Fluxo de Caixa Desc._premio'!Z70,\"\"))","v":""},{"$f":"IF(n1_tec=\"HEFA\",'Fluxo de Caixa Desc._premio'!AA28,IF(n1_tec=\"ATJ\",'Fluxo de Caixa Desc._premio'!AA70,\"\"))","v":""},{"$f":"IF(n1_tec=\"HEFA\",'Fluxo de Caixa Desc._premio'!AB28,IF(n1_tec=\"ATJ\",'Fluxo de Caixa Desc._premio'!AB70,\"\"))","v":""},{"$f":"IF(n1_tec=\"HEFA\",'Fluxo de Caixa Desc._premio'!AC28,IF(n1_tec=\"ATJ\",'Fluxo de Caixa Desc._premio'!AC70,\"\"))","v":""},{"$f":"IF(n1_tec=\"HEFA\",'Fluxo de Caixa Desc._premio'!AD28,IF(n1_tec=\"ATJ\",'Fluxo de Caixa Desc._premio'!AD70,\"\"))","v":""},{"$f":"IF(n1_tec=\"HEFA\",'Fluxo de Caixa Desc._premio'!AE28,IF(n1_tec=\"ATJ\",'Fluxo de Caixa Desc._premio'!AE70,\"\"))","v":""},{"$f":"IF(n1_tec=\"HEFA\",'Fluxo de Caixa Desc._premio'!AF28,IF(n1_tec=\"ATJ\",'Fluxo de Caixa Desc._premio'!AF70,\"\"))","v":""},{"$f":"IF(n1_tec=\"HEFA\",'Fluxo de Caixa Desc._premio'!AG28,IF(n1_tec=\"ATJ\",'Fluxo de Caixa Desc._premio'!AG70,\"\"))","v":""},{"$f":"IF(n1_tec=\"HEFA\",'Fluxo de Caixa Desc._premio'!AH28,IF(n1_tec=\"ATJ\",'Fluxo de Caixa Desc._premio'!AH70,\"\"))","v":""},{"$f":"IF(n1_tec=\"HEFA\",'Fluxo de Caixa Desc._premio'!AI28,IF(n1_tec=\"ATJ\",'Fluxo de Caixa Desc._premio'!AI70,\"\"))","v":""},{"$f":"IF(n1_tec=\"HEFA\",'Fluxo de Caixa Desc._premio'!AJ28,IF(n1_tec=\"ATJ\",'Fluxo de Caixa Desc._premio'!AJ70,\"\"))","v":""},{"$f":"IF(n1_tec=\"HEFA\",'Fluxo de Caixa Desc._premio'!AK28,IF(n1_tec=\"ATJ\",'Fluxo de Caixa Desc._premio'!AK70,\"\"))","v":""},{"$f":"IF(n1_tec=\"HEFA\",'Fluxo de Caixa Desc._premio'!AL28,IF(n1_tec=\"ATJ\",'Fluxo de Caixa Desc._premio'!AL70,\"\"))","v":""},{"$f":"IF(n1_tec=\"HEFA\",'Fluxo de Caixa Desc._premio'!AM28,IF(n1_tec=\"ATJ\",'Fluxo de Caixa Desc._premio'!AM70,\"\"))","v":""},{"$f":"IF(n1_tec=\"HEFA\",'Fluxo de Caixa Desc._premio'!AN28,IF(n1_tec=\"ATJ\",'Fluxo de Caixa Desc._premio'!AN70,\"\"))","v":""},{"$f":"IF(n1_tec=\"HEFA\",'Fluxo de Caixa Desc._premio'!AO28,IF(n1_tec=\"ATJ\",'Fluxo de Caixa Desc._premio'!AO70,\"\"))","v":""},{"$f":"IF(n1_tec=\"HEFA\",'Fluxo de Caixa Desc._premio'!AP28,IF(n1_tec=\"ATJ\",'Fluxo de Caixa Desc._premio'!AP70,\"\"))","v":""},{"$f":"IF(n1_tec=\"HEFA\",'Fluxo de Caixa Desc._premio'!AQ28,IF(n1_tec=\"ATJ\",'Fluxo de Caixa Desc._premio'!AQ70,\"\"))","v":""},{"$f":"IF(n1_tec=\"HEFA\",'Fluxo de Caixa Desc._premio'!AR28,IF(n1_tec=\"ATJ\",'Fluxo de Caixa Desc._premio'!AR70,\"\"))","v":""},{"$f":"IF(n1_tec=\"HEFA\",'Fluxo de Caixa Desc._premio'!AS28,IF(n1_tec=\"ATJ\",'Fluxo de Caixa Desc._premio'!AS70,\"\"))","v":""},{"$f":"IF(n1_tec=\"HEFA\",'Fluxo de Caixa Desc._premio'!AT28,IF(n1_tec=\"ATJ\",'Fluxo de Caixa Desc._premio'!AT70,\"\"))","v":""},{"$f":"IF(n1_tec=\"HEFA\",'Fluxo de Caixa Desc._premio'!AU28,IF(n1_tec=\"ATJ\",'Fluxo de Caixa Desc._premio'!AU70,\"\"))","v":""},{"$f":"IF(n1_tec=\"HEFA\",'Fluxo de Caixa Desc._premio'!AV28,IF(n1_tec=\"ATJ\",'Fluxo de Caixa Desc._premio'!AV70,\"\"))","v":""}]
[null,"OPEX fixo (milhões R$ / ano)",{"$f":"IF(n1_tec=\"HEFA\",'Fluxo de Caixa Desc._premio'!B29,IF(n1_tec=\"ATJ\",'Fluxo de Caixa Desc._premio'!B71,\"\"))","v":""},{"$f":"IF(n1_tec=\"HEFA\",'Fluxo de Caixa Desc._premio'!C29,IF(n1_tec=\"ATJ\",'Fluxo de Caixa Desc._premio'!C71,\"\"))","v":""},{"$f":"IF(n1_tec=\"HEFA\",'Fluxo de Caixa Desc._premio'!D29,IF(n1_tec=\"ATJ\",'Fluxo de Caixa Desc._premio'!D71,\"\"))","v":""},{"$f":"IF(n1_tec=\"HEFA\",'Fluxo de Caixa Desc._premio'!E29,IF(n1_tec=\"ATJ\",'Fluxo de Caixa Desc._premio'!E71,\"\"))","v":""},{"$f":"IF(n1_tec=\"HEFA\",'Fluxo de Caixa Desc._premio'!F29,IF(n1_tec=\"ATJ\",'Fluxo de Caixa Desc._premio'!F71,\"\"))","v":""},{"$f":"IF(n1_tec=\"HEFA\",'Fluxo de Caixa Desc._premio'!G29,IF(n1_tec=\"ATJ\",'Fluxo de Caixa Desc._premio'!G71,\"\"))","v":""},{"$f":"IF(n1_tec=\"HEFA\",'Fluxo de Caixa Desc._premio'!H29,IF(n1_tec=\"ATJ\",'Fluxo de Caixa Desc._premio'!H71,\"\"))","v":""},{"$f":"IF(n1_tec=\"HEFA\",'Fluxo de Caixa Desc._premio'!I29,IF(n1_tec=\"ATJ\",'Fluxo de Caixa Desc._premio'!I71,\"\"))","v":""},{"$f":"IF(n1_tec=\"HEFA\",'Fluxo de Caixa Desc._premio'!J29,IF(n1_tec=\"ATJ\",'Fluxo de Caixa Desc._premio'!J71,\"\"))","v":""},{"$f":"IF(n1_tec=\"HEFA\",'Fluxo de Caixa Desc._premio'!K29,IF(n1_tec=\"ATJ\",'Fluxo de Caixa Desc._premio'!K71,\"\"))","v":""},{"$f":"IF(n1_tec=\"HEFA\",'Fluxo de Caixa Desc._premio'!L29,IF(n1_tec=\"ATJ\",'Fluxo de Caixa Desc._premio'!L71,\"\"))","v":""},{"$f":"IF(n1_tec=\"HEFA\",'Fluxo de Caixa Desc._premio'!M29,IF(n1_tec=\"ATJ\",'Fluxo de Caixa Desc._premio'!M71,\"\"))","v":""},{"$f":"IF(n1_tec=\"HEFA\",'Fluxo de Caixa Desc._premio'!N29,IF(n1_tec=\"ATJ\",'Fluxo de Caixa Desc._premio'!N71,\"\"))","v":""},{"$f":"IF(n1_tec=\"HEFA\",'Fluxo de Caixa Desc._premio'!O29,IF(n1_tec=\"ATJ\",'Fluxo de Caixa Desc._premio'!O71,\"\"))","v":""},{"$f":"IF(n1_tec=\"HEFA\",'Fluxo de Caixa Desc._premio'!P29,IF(n1_tec=\"ATJ\",'Fluxo de Caixa Desc._premio'!P71,\"\"))","v":""},{"$f":"IF(n1_tec=\"HEFA\",'Fluxo de Caixa Desc._premio'!Q29,IF(n1_tec=\"ATJ\",'Fluxo de Caixa Desc._premio'!Q71,\"\"))","v":""},{"$f":"IF(n1_tec=\"HEFA\",'Fluxo de Caixa Desc._premio'!R29,IF(n1_tec=\"ATJ\",'Fluxo de Caixa Desc._premio'!R71,\"\"))","v":""},{"$f":"IF(n1_tec=\"HEFA\",'Fluxo de Caixa Desc._premio'!S29,IF(n1_tec=\"ATJ\",'Fluxo de Caixa Desc._premio'!S71,\"\"))","v":""},{"$f":"IF(n1_tec=\"HEFA\",'Fluxo de Caixa Desc._premio'!T29,IF(n1_tec=\"ATJ\",'Fluxo de Caixa Desc._premio'!T71,\"\"))","v":""},{"$f":"IF(n1_tec=\"HEFA\",'Fluxo de Caixa Desc._premio'!U29,IF(n1_tec=\"ATJ\",'Fluxo de Caixa Desc._premio'!U71,\"\"))","v":""},{"$f":"IF(n1_tec=\"HEFA\",'Fluxo de Caixa Desc._premio'!V29,IF(n1_tec=\"ATJ\",'Fluxo de Caixa Desc._premio'!V71,\"\"))","v":""},{"$f":"IF(n1_tec=\"HEFA\",'Fluxo de Caixa Desc._premio'!W29,IF(n1_tec=\"ATJ\",'Fluxo de Caixa Desc._premio'!W71,\"\"))","v":""},{"$f":"IF(n1_tec=\"HEFA\",'Fluxo de Caixa Desc._premio'!X29,IF(n1_tec=\"ATJ\",'Fluxo de Caixa Desc._premio'!X71,\"\"))","v":""},{"$f":"IF(n1_tec=\"HEFA\",'Fluxo de Caixa Desc._premio'!Y29,IF(n1_tec=\"ATJ\",'Fluxo de Caixa Desc._premio'!Y71,\"\"))","v":""},{"$f":"IF(n1_tec=\"HEFA\",'Fluxo de Caixa Desc._premio'!Z29,IF(n1_tec=\"ATJ\",'Fluxo de Caixa Desc._premio'!Z71,\"\"))","v":""},{"$f":"IF(n1_tec=\"HEFA\",'Fluxo de Caixa Desc._premio'!AA29,IF(n1_tec=\"ATJ\",'Fluxo de Caixa Desc._premio'!AA71,\"\"))","v":""},{"$f":"IF(n1_tec=\"HEFA\",'Fluxo de Caixa Desc._premio'!AB29,IF(n1_tec=\"ATJ\",'Fluxo de Caixa Desc._premio'!AB71,\"\"))","v":""},{"$f":"IF(n1_tec=\"HEFA\",'Fluxo de Caixa Desc._premio'!AC29,IF(n1_tec=\"ATJ\",'Fluxo de Caixa Desc._premio'!AC71,\"\"))","v":""},{"$f":"IF(n1_tec=\"HEFA\",'Fluxo de Caixa Desc._premio'!AD29,IF(n1_tec=\"ATJ\",'Fluxo de Caixa Desc._premio'!AD71,\"\"))","v":""},{"$f":"IF(n1_tec=\"HEFA\",'Fluxo de Caixa Desc._premio'!AE29,IF(n1_tec=\"ATJ\",'Fluxo de Caixa Desc._premio'!AE71,\"\"))","v":""},{"$f":"IF(n1_tec=\"HEFA\",'Fluxo de Caixa Desc._premio'!AF29,IF(n1_tec=\"ATJ\",'Fluxo de Caixa Desc._premio'!AF71,\"\"))","v":""},{"$f":"IF(n1_tec=\"HEFA\",'Fluxo de Caixa Desc._premio'!AG29,IF(n1_tec=\"ATJ\",'Fluxo de Caixa Desc._premio'!AG71,\"\"))","v":""},{"$f":"IF(n1_tec=\"HEFA\",'Fluxo de Caixa Desc._premio'!AH29,IF(n1_tec=\"ATJ\",'Fluxo de Caixa Desc._premio'!AH71,\"\"))","v":""},{"$f":"IF(n1_tec=\"HEFA\",'Fluxo de Caixa Desc._premio'!AI29,IF(n1_tec=\"ATJ\",'Fluxo de Caixa Desc._premio'!AI71,\"\"))","v":""},{"$f":"IF(n1_tec=\"HEFA\",'Fluxo de Caixa Desc._premio'!AJ29,IF(n1_tec=\"ATJ\",'Fluxo de Caixa Desc._premio'!AJ71,\"\"))","v":""},{"$f":"IF(n1_tec=\"HEFA\",'Fluxo de Caixa Desc._premio'!AK29,IF(n1_tec=\"ATJ\",'Fluxo de Caixa Desc._premio'!AK71,\"\"))","v":""},{"$f":"IF(n1_tec=\"HEFA\",'Fluxo de Caixa Desc._premio'!AL29,IF(n1_tec=\"ATJ\",'Fluxo de Caixa Desc._premio'!AL71,\"\"))","v":""},{"$f":"IF(n1_tec=\"HEFA\",'Fluxo de Caixa Desc._premio'!AM29,IF(n1_tec=\"ATJ\",'Fluxo de Caixa Desc._premio'!AM71,\"\"))","v":""},{"$f":"IF(n1_tec=\"HEFA\",'Fluxo de Caixa Desc._premio'!AN29,IF(n1_tec=\"ATJ\",'Fluxo de Caixa Desc._premio'!AN71,\"\"))","v":""},{"$f":"IF(n1_tec=\"HEFA\",'Fluxo de Caixa Desc._premio'!AO29,IF(n1_tec=\"ATJ\",'Fluxo de Caixa Desc._premio'!AO71,\"\"))","v":""},{"$f":"IF(n1_tec=\"HEFA\",'Fluxo de Caixa Desc._premio'!AP29,IF(n1_tec=\"ATJ\",'Fluxo de Caixa Desc._premio'!AP71,\"\"))","v":""},{"$f":"IF(n1_tec=\"HEFA\",'Fluxo de Caixa Desc._premio'!AQ29,IF(n1_tec=\"ATJ\",'Fluxo de Caixa Desc._premio'!AQ71,\"\"))","v":""},{"$f":"IF(n1_tec=\"HEFA\",'Fluxo de Caixa Desc._premio'!AR29,IF(n1_tec=\"ATJ\",'Fluxo de Caixa Desc._premio'!AR71,\"\"))","v":""},{"$f":"IF(n1_tec=\"HEFA\",'Fluxo de Caixa Desc._premio'!AS29,IF(n1_tec=\"ATJ\",'Fluxo de Caixa Desc._premio'!AS71,\"\"))","v":""},{"$f":"IF(n1_tec=\"HEFA\",'Fluxo de Caixa Desc._premio'!AT29,IF(n1_tec=\"ATJ\",'Fluxo de Caixa Desc._premio'!AT71,\"\"))","v":""},{"$f":"IF(n1_tec=\"HEFA\",'Fluxo de Caixa Desc._premio'!AU29,IF(n1_tec=\"ATJ\",'Fluxo de Caixa Desc._premio'!AU71,\"\"))","v":""},{"$f":"IF(n1_tec=\"HEFA\",'Fluxo de Caixa Desc._premio'!AV29,IF(n1_tec=\"ATJ\",'Fluxo de Caixa Desc._premio'!AV71,\"\"))","v":""}]
[null,"Custo de Capital Equity (milhões R$ / ano)",{"$f":"IF(n1_tec=\"HEFA\",'Fluxo de Caixa Desc._premio'!B30,IF(n1_tec=\"ATJ\",'Fluxo de Caixa Desc._premio'!B72,\"\"))","v":""},{"$f":"IF(n1_tec=\"HEFA\",'Fluxo de Caixa Desc._premio'!C30,IF(n1_tec=\"ATJ\",'Fluxo de Caixa Desc._premio'!C72,\"\"))","v":""},{"$f":"IF(n1_tec=\"HEFA\",'Fluxo de Caixa Desc._premio'!D30,IF(n1_tec=\"ATJ\",'Fluxo de Caixa Desc._premio'!D72,\"\"))","v":""},{"$f":"IF(n1_tec=\"HEFA\",'Fluxo de Caixa Desc._premio'!E30,IF(n1_tec=\"ATJ\",'Fluxo de Caixa Desc._premio'!E72,\"\"))","v":""},{"$f":"IF(n1_tec=\"HEFA\",'Fluxo de Caixa Desc._premio'!F30,IF(n1_tec=\"ATJ\",'Fluxo de Caixa Desc._premio'!F72,\"\"))","v":""},{"$f":"IF(n1_tec=\"HEFA\",'Fluxo de Caixa Desc._premio'!G30,IF(n1_tec=\"ATJ\",'Fluxo de Caixa Desc._premio'!G72,\"\"))","v":""},{"$f":"IF(n1_tec=\"HEFA\",'Fluxo de Caixa Desc._premio'!H30,IF(n1_tec=\"ATJ\",'Fluxo de Caixa Desc._premio'!H72,\"\"))","v":""},{"$f":"IF(n1_tec=\"HEFA\",'Fluxo de Caixa Desc._premio'!I30,IF(n1_tec=\"ATJ\",'Fluxo de Caixa Desc._premio'!I72,\"\"))","v":""},{"$f":"IF(n1_tec=\"HEFA\",'Fluxo de Caixa Desc._premio'!J30,IF(n1_tec=\"ATJ\",'Fluxo de Caixa Desc._premio'!J72,\"\"))","v":""},{"$f":"IF(n1_tec=\"HEFA\",'Fluxo de Caixa Desc._premio'!K30,IF(n1_tec=\"ATJ\",'Fluxo de Caixa Desc._premio'!K72,\"\"))","v":""},{"$f":"IF(n1_tec=\"HEFA\",'Fluxo de Caixa Desc._premio'!L30,IF(n1_tec=\"ATJ\",'Fluxo de Caixa Desc._premio'!L72,\"\"))","v":""},{"$f":"IF(n1_tec=\"HEFA\",'Fluxo de Caixa Desc._premio'!M30,IF(n1_tec=\"ATJ\",'Fluxo de Caixa Desc._premio'!M72,\"\"))","v":""},{"$f":"IF(n1_tec=\"HEFA\",'Fluxo de Caixa Desc._premio'!N30,IF(n1_tec=\"ATJ\",'Fluxo de Caixa Desc._premio'!N72,\"\"))","v":""},{"$f":"IF(n1_tec=\"HEFA\",'Fluxo de Caixa Desc._premio'!O30,IF(n1_tec=\"ATJ\",'Fluxo de Caixa Desc._premio'!O72,\"\"))","v":""},{"$f":"IF(n1_tec=\"HEFA\",'Fluxo de Caixa Desc._premio'!P30,IF(n1_tec=\"ATJ\",'Fluxo de Caixa Desc._premio'!P72,\"\"))","v":""},{"$f":"IF(n1_tec=\"HEFA\",'Fluxo de Caixa Desc._premio'!Q30,IF(n1_tec=\"ATJ\",'Fluxo de Caixa Desc._premio'!Q72,\"\"))","v":""},{"$f":"IF(n1_tec=\"HEFA\",'Fluxo de Caixa Desc._premio'!R30,IF(n1_tec=\"ATJ\",'Fluxo de Caixa Desc._premio'!R72,\"\"))","v":""},{"$f":"IF(n1_tec=\"HEFA\",'Fluxo de Caixa Desc._premio'!S30,IF(n1_tec=\"ATJ\",'Fluxo de Caixa Desc._premio'!S72,\"\"))","v":""},{"$f":"IF(n1_tec=\"HEFA\",'Fluxo de Caixa Desc._premio'!T30,IF(n1_tec=\"ATJ\",'Fluxo de Caixa Desc._premio'!T72,\"\"))","v":""},{"$f":"IF(n1_tec=\"HEFA\",'Fluxo de Caixa Desc._premio'!U30,IF(n1_tec=\"ATJ\",'Fluxo de Caixa Desc._premio'!U72,\"\"))","v":""},{"$f":"IF(n1_tec=\"HEFA\",'Fluxo de Caixa Desc._premio'!V30,IF(n1_tec=\"ATJ\",'Fluxo de Caixa Desc._premio'!V72,\"\"))","v":""},{"$f":"IF(n1_tec=\"HEFA\",'Fluxo de Caixa Desc._premio'!W30,IF(n1_tec=\"ATJ\",'Fluxo de Caixa Desc._premio'!W72,\"\"))","v":""},{"$f":"IF(n1_tec=\"HEFA\",'Fluxo de Caixa Desc._premio'!X30,IF(n1_tec=\"ATJ\",'Fluxo de Caixa Desc._premio'!X72,\"\"))","v":""},{"$f":"IF(n1_tec=\"HEFA\",'Fluxo de Caixa Desc._premio'!Y30,IF(n1_tec=\"ATJ\",'Fluxo de Caixa Desc._premio'!Y72,\"\"))","v":""},{"$f":"IF(n1_tec=\"HEFA\",'Fluxo de Caixa Desc._premio'!Z30,IF(n1_tec=\"ATJ\",'Fluxo de Caixa Desc._premio'!Z72,\"\"))","v":""},{"$f":"IF(n1_tec=\"HEFA\",'Fluxo de Caixa Desc._premio'!AA30,IF(n1_tec=\"ATJ\",'Fluxo de Caixa Desc._premio'!AA72,\"\"))","v":""},{"$f":"IF(n1_tec=\"HEFA\",'Fluxo de Caixa Desc._premio'!AB30,IF(n1_tec=\"ATJ\",'Fluxo de Caixa Desc._premio'!AB72,\"\"))","v":""},{"$f":"IF(n1_tec=\"HEFA\",'Fluxo de Caixa Desc._premio'!AC30,IF(n1_tec=\"ATJ\",'Fluxo de Caixa Desc._premio'!AC72,\"\"))","v":""},{"$f":"IF(n1_tec=\"HEFA\",'Fluxo de Caixa Desc._premio'!AD30,IF(n1_tec=\"ATJ\",'Fluxo de Caixa Desc._premio'!AD72,\"\"))","v":""},{"$f":"IF(n1_tec=\"HEFA\",'Fluxo de Caixa Desc._premio'!AE30,IF(n1_tec=\"ATJ\",'Fluxo de Caixa Desc._premio'!AE72,\"\"))","v":""},{"$f":"IF(n1_tec=\"HEFA\",'Fluxo de Caixa Desc._premio'!AF30,IF(n1_tec=\"ATJ\",'Fluxo de Caixa Desc._premio'!AF72,\"\"))","v":""},{"$f":"IF(n1_tec=\"HEFA\",'Fluxo de Caixa Desc._premio'!AG30,IF(n1_tec=\"ATJ\",'Fluxo de Caixa Desc._premio'!AG72,\"\"))","v":""},{"$f":"IF(n1_tec=\"HEFA\",'Fluxo de Caixa Desc._premio'!AH30,IF(n1_tec=\"ATJ\",'Fluxo de Caixa Desc._premio'!AH72,\"\"))","v":""},{"$f":"IF(n1_tec=\"HEFA\",'Fluxo de Caixa Desc._premio'!AI30,IF(n1_tec=\"ATJ\",'Fluxo de Caixa Desc._premio'!AI72,\"\"))","v":""},{"$f":"IF(n1_tec=\"HEFA\",'Fluxo de Caixa Desc._premio'!AJ30,IF(n1_tec=\"ATJ\",'Fluxo de Caixa Desc._premio'!AJ72,\"\"))","v":""},{"$f":"IF(n1_tec=\"HEFA\",'Fluxo de Caixa Desc._premio'!AK30,IF(n1_tec=\"ATJ\",'Fluxo de Caixa Desc._premio'!AK72,\"\"))","v":""},{"$f":"IF(n1_tec=\"HEFA\",'Fluxo de Caixa Desc._premio'!AL30,IF(n1_tec=\"ATJ\",'Fluxo de Caixa Desc._premio'!AL72,\"\"))","v":""},{"$f":"IF(n1_tec=\"HEFA\",'Fluxo de Caixa Desc._premio'!AM30,IF(n1_tec=\"ATJ\",'Fluxo de Caixa Desc._premio'!AM72,\"\"))","v":""},{"$f":"IF(n1_tec=\"HEFA\",'Fluxo de Caixa Desc._premio'!AN30,IF(n1_tec=\"ATJ\",'Fluxo de Caixa Desc._premio'!AN72,\"\"))","v":""},{"$f":"IF(n1_tec=\"HEFA\",'Fluxo de Caixa Desc._premio'!AO30,IF(n1_tec=\"ATJ\",'Fluxo de Caixa Desc._premio'!AO72,\"\"))","v":""},{"$f":"IF(n1_tec=\"HEFA\",'Fluxo de Caixa Desc._premio'!AP30,IF(n1_tec=\"ATJ\",'Fluxo de Caixa Desc._premio'!AP72,\"\"))","v":""},{"$f":"IF(n1_tec=\"HEFA\",'Fluxo de Caixa Desc._premio'!AQ30,IF(n1_tec=\"ATJ\",'Fluxo de Caixa Desc._premio'!AQ72,\"\"))","v":""},{"$f":"IF(n1_tec=\"HEFA\",'Fluxo de Caixa Desc._premio'!AR30,IF(n1_tec=\"ATJ\",'Fluxo de Caixa Desc._premio'!AR72,\"\"))","v":""},{"$f":"IF(n1_tec=\"HEFA\",'Fluxo de Caixa Desc._premio'!AS30,IF(n1_tec=\"ATJ\",'Fluxo de Caixa Desc._premio'!AS72,\"\"))","v":""},{"$f":"IF(n1_tec=\"HEFA\",'Fluxo de Caixa Desc._premio'!AT30,IF(n1_tec=\"ATJ\",'Fluxo de Caixa Desc._premio'!AT72,\"\"))","v":""},{"$f":"IF(n1_tec=\"HEFA\",'Fluxo de Caixa Desc._premio'!AU30,IF(n1_tec=\"ATJ\",'Fluxo de Caixa Desc._premio'!AU72,\"\"))","v":""},{"$f":"IF(n1_tec=\"HEFA\",'Fluxo de Caixa Desc._premio'!AV30,IF(n1_tec=\"ATJ\",'Fluxo de Caixa Desc._premio'!AV72,\"\"))","v":""}]
[null,"Custo de Capital Financiado (milhões R$ / ano)",{"$f":"IF(n1_tec=\"HEFA\",'Fluxo de Caixa Desc._premio'!B31,IF(n1_tec=\"ATJ\",'Fluxo de Caixa Desc._premio'!B73,\"\"))","v":""},{"$f":"IF(n1_tec=\"HEFA\",'Fluxo de Caixa Desc._premio'!C31,IF(n1_tec=\"ATJ\",'Fluxo de Caixa Desc._premio'!C73,\"\"))","v":""},{"$f":"IF(n1_tec=\"HEFA\",'Fluxo de Caixa Desc._premio'!D31,IF(n1_tec=\"ATJ\",'Fluxo de Caixa Desc._premio'!D73,\"\"))","v":""},{"$f":"IF(n1_tec=\"HEFA\",'Fluxo de Caixa Desc._premio'!E31,IF(n1_tec=\"ATJ\",'Fluxo de Caixa Desc._premio'!E73,\"\"))","v":""},{"$f":"IF(n1_tec=\"HEFA\",'Fluxo de Caixa Desc._premio'!F31,IF(n1_tec=\"ATJ\",'Fluxo de Caixa Desc._premio'!F73,\"\"))","v":""},{"$f":"IF(n1_tec=\"HEFA\",'Fluxo de Caixa Desc._premio'!G31,IF(n1_tec=\"ATJ\",'Fluxo de Caixa Desc._premio'!G73,\"\"))","v":""},{"$f":"IF(n1_tec=\"HEFA\",'Fluxo de Caixa Desc._premio'!H31,IF(n1_tec=\"ATJ\",'Fluxo de Caixa Desc._premio'!H73,\"\"))","v":""},{"$f":"IF(n1_tec=\"HEFA\",'Fluxo de Caixa Desc._premio'!I31,IF(n1_tec=\"ATJ\",'Fluxo de Caixa Desc._premio'!I73,\"\"))","v":""},{"$f":"IF(n1_tec=\"HEFA\",'Fluxo de Caixa Desc._premio'!J31,IF(n1_tec=\"ATJ\",'Fluxo de Caixa Desc._premio'!J73,\"\"))","v":""},{"$f":"IF(n1_tec=\"HEFA\",'Fluxo de Caixa Desc._premio'!K31,IF(n1_tec=\"ATJ\",'Fluxo de Caixa Desc._premio'!K73,\"\"))","v":""},{"$f":"IF(n1_tec=\"HEFA\",'Fluxo de Caixa Desc._premio'!L31,IF(n1_tec=\"ATJ\",'Fluxo de Caixa Desc._premio'!L73,\"\"))","v":""},{"$f":"IF(n1_tec=\"HEFA\",'Fluxo de Caixa Desc._premio'!M31,IF(n1_tec=\"ATJ\",'Fluxo de Caixa Desc._premio'!M73,\"\"))","v":""},{"$f":"IF(n1_tec=\"HEFA\",'Fluxo de Caixa Desc._premio'!N31,IF(n1_tec=\"ATJ\",'Fluxo de Caixa Desc._premio'!N73,\"\"))","v":""},{"$f":"IF(n1_tec=\"HEFA\",'Fluxo de Caixa Desc._premio'!O31,IF(n1_tec=\"ATJ\",'Fluxo de Caixa Desc._premio'!O73,\"\"))","v":""},{"$f":"IF(n1_tec=\"HEFA\",'Fluxo de Caixa Desc._premio'!P31,IF(n1_tec=\"ATJ\",'Fluxo de Caixa Desc._premio'!P73,\"\"))","v":""},{"$f":"IF(n1_tec=\"HEFA\",'Fluxo de Caixa Desc._premio'!Q31,IF(n1_tec=\"ATJ\",'Fluxo de Caixa Desc._premio'!Q73,\"\"))","v":""},{"$f":"IF(n1_tec=\"HEFA\",'Fluxo de Caixa Desc._premio'!R31,IF(n1_tec=\"ATJ\",'Fluxo de Caixa Desc._premio'!R73,\"\"))","v":""},{"$f":"IF(n1_tec=\"HEFA\",'Fluxo de Caixa Desc._premio'!S31,IF(n1_tec=\"ATJ\",'Fluxo de Caixa Desc._premio'!S73,\"\"))","v":""},{"$f":"IF(n1_tec=\"HEFA\",'Fluxo de Caixa Desc._premio'!T31,IF(n1_tec=\"ATJ\",'Fluxo de Caixa Desc._premio'!T73,\"\"))","v":""},{"$f":"IF(n1_tec=\"HEFA\",'Fluxo de Caixa Desc._premio'!U31,IF(n1_tec=\"ATJ\",'Fluxo de Caixa Desc._premio'!U73,\"\"))","v":""},{"$f":"IF(n1_tec=\"HEFA\",'Fluxo de Caixa Desc._premio'!V31,IF(n1_tec=\"ATJ\",'Fluxo de Caixa Desc._premio'!V73,\"\"))","v":""},{"$f":"IF(n1_tec=\"HEFA\",'Fluxo de Caixa Desc._premio'!W31,IF(n1_tec=\"ATJ\",'Fluxo de Caixa Desc._premio'!W73,\"\"))","v":""},{"$f":"IF(n1_tec=\"HEFA\",'Fluxo de Caixa Desc._premio'!X31,IF(n1_tec=\"ATJ\",'Fluxo de Caixa Desc._premio'!X73,\"\"))","v":""},{"$f":"IF(n1_tec=\"HEFA\",'Fluxo de Caixa Desc._premio'!Y31,IF(n1_tec=\"ATJ\",'Fluxo de Caixa Desc._premio'!Y73,\"\"))","v":""},{"$f":"IF(n1_tec=\"HEFA\",'Fluxo de Caixa Desc._premio'!Z31,IF(n1_tec=\"ATJ\",'Fluxo de Caixa Desc._premio'!Z73,\"\"))","v":""},{"$f":"IF(n1_tec=\"HEFA\",'Fluxo de Caixa Desc._premio'!AA31,IF(n1_tec=\"ATJ\",'Fluxo de Caixa Desc._premio'!AA73,\"\"))","v":""},{"$f":"IF(n1_tec=\"HEFA\",'Fluxo de Caixa Desc._premio'!AB31,IF(n1_tec=\"ATJ\",'Fluxo de Caixa Desc._premio'!AB73,\"\"))","v":""},{"$f":"IF(n1_tec=\"HEFA\",'Fluxo de Caixa Desc._premio'!AC31,IF(n1_tec=\"ATJ\",'Fluxo de Caixa Desc._premio'!AC73,\"\"))","v":""},{"$f":"IF(n1_tec=\"HEFA\",'Fluxo de Caixa Desc._premio'!AD31,IF(n1_tec=\"ATJ\",'Fluxo de Caixa Desc._premio'!AD73,\"\"))","v":""},{"$f":"IF(n1_tec=\"HEFA\",'Fluxo de Caixa Desc._premio'!AE31,IF(n1_tec=\"ATJ\",'Fluxo de Caixa Desc._premio'!AE73,\"\"))","v":""},{"$f":"IF(n1_tec=\"HEFA\",'Fluxo de Caixa Desc._premio'!AF31,IF(n1_tec=\"ATJ\",'Fluxo de Caixa Desc._premio'!AF73,\"\"))","v":""},{"$f":"IF(n1_tec=\"HEFA\",'Fluxo de Caixa Desc._premio'!AG31,IF(n1_tec=\"ATJ\",'Fluxo de Caixa Desc._premio'!AG73,\"\"))","v":""},{"$f":"IF(n1_tec=\"HEFA\",'Fluxo de Caixa Desc._premio'!AH31,IF(n1_tec=\"ATJ\",'Fluxo de Caixa Desc._premio'!AH73,\"\"))","v":""},{"$f":"IF(n1_tec=\"HEFA\",'Fluxo de Caixa Desc._premio'!AI31,IF(n1_tec=\"ATJ\",'Fluxo de Caixa Desc._premio'!AI73,\"\"))","v":""},{"$f":"IF(n1_tec=\"HEFA\",'Fluxo de Caixa Desc._premio'!AJ31,IF(n1_tec=\"ATJ\",'Fluxo de Caixa Desc._premio'!AJ73,\"\"))","v":""},{"$f":"IF(n1_tec=\"HEFA\",'Fluxo de Caixa Desc._premio'!AK31,IF(n1_tec=\"ATJ\",'Fluxo de Caixa Desc._premio'!AK73,\"\"))","v":""},{"$f":"IF(n1_tec=\"HEFA\",'Fluxo de Caixa Desc._premio'!AL31,IF(n1_tec=\"ATJ\",'Fluxo de Caixa Desc._premio'!AL73,\"\"))","v":""},{"$f":"IF(n1_tec=\"HEFA\",'Fluxo de Caixa Desc._premio'!AM31,IF(n1_tec=\"ATJ\",'Fluxo de Caixa Desc._premio'!AM73,\"\"))","v":""},{"$f":"IF(n1_tec=\"HEFA\",'Fluxo de Caixa Desc._premio'!AN31,IF(n1_tec=\"ATJ\",'Fluxo de Caixa Desc._premio'!AN73,\"\"))","v":""},{"$f":"IF(n1_tec=\"HEFA\",'Fluxo de Caixa Desc._premio'!AO31,IF(n1_tec=\"ATJ\",'Fluxo de Caixa Desc._premio'!AO73,\"\"))","v":""},{"$f":"IF(n1_tec=\"HEFA\",'Fluxo de Caixa Desc._premio'!AP31,IF(n1_tec=\"ATJ\",'Fluxo de Caixa Desc._premio'!AP73,\"\"))","v":""},{"$f":"IF(n1_tec=\"HEFA\",'Fluxo de Caixa Desc._premio'!AQ31,IF(n1_tec=\"ATJ\",'Fluxo de Caixa Desc._premio'!AQ73,\"\"))","v":""},{"$f":"IF(n1_tec=\"HEFA\",'Fluxo de Caixa Desc._premio'!AR31,IF(n1_tec=\"ATJ\",'Fluxo de Caixa Desc._premio'!AR73,\"\"))","v":""},{"$f":"IF(n1_tec=\"HEFA\",'Fluxo de Caixa Desc._premio'!AS31,IF(n1_tec=\"ATJ\",'Fluxo de Caixa Desc._premio'!AS73,\"\"))","v":""},{"$f":"IF(n1_tec=\"HEFA\",'Fluxo de Caixa Desc._premio'!AT31,IF(n1_tec=\"ATJ\",'Fluxo de Caixa Desc._premio'!AT73,\"\"))","v":""},{"$f":"IF(n1_tec=\"HEFA\",'Fluxo de Caixa Desc._premio'!AU31,IF(n1_tec=\"ATJ\",'Fluxo de Caixa Desc._premio'!AU73,\"\"))","v":""},{"$f":"IF(n1_tec=\"HEFA\",'Fluxo de Caixa Desc._premio'!AV31,IF(n1_tec=\"ATJ\",'Fluxo de Caixa Desc._premio'!AV73,\"\"))","v":""}]
[null,"PIS e COFINS",{"$f":"IF(n1_tec=\"HEFA\",'Fluxo de Caixa Desc._premio'!B33,IF(n1_tec=\"ATJ\",'Fluxo de Caixa Desc._premio'!B75,\"\"))","v":""},{"$f":"IF(n1_tec=\"HEFA\",'Fluxo de Caixa Desc._premio'!C33,IF(n1_tec=\"ATJ\",'Fluxo de Caixa Desc._premio'!C75,\"\"))","v":""},{"$f":"IF(n1_tec=\"HEFA\",'Fluxo de Caixa Desc._premio'!D33,IF(n1_tec=\"ATJ\",'Fluxo de Caixa Desc._premio'!D75,\"\"))","v":""},{"$f":"IF(n1_tec=\"HEFA\",'Fluxo de Caixa Desc._premio'!E33,IF(n1_tec=\"ATJ\",'Fluxo de Caixa Desc._premio'!E75,\"\"))","v":""},{"$f":"IF(n1_tec=\"HEFA\",'Fluxo de Caixa Desc._premio'!F33,IF(n1_tec=\"ATJ\",'Fluxo de Caixa Desc._premio'!F75,\"\"))","v":""},{"$f":"IF(n1_tec=\"HEFA\",'Fluxo de Caixa Desc._premio'!G33,IF(n1_tec=\"ATJ\",'Fluxo de Caixa Desc._premio'!G75,\"\"))","v":""},{"$f":"IF(n1_tec=\"HEFA\",'Fluxo de Caixa Desc._premio'!H33,IF(n1_tec=\"ATJ\",'Fluxo de Caixa Desc._premio'!H75,\"\"))","v":""},{"$f":"IF(n1_tec=\"HEFA\",'Fluxo de Caixa Desc._premio'!I33,IF(n1_tec=\"ATJ\",'Fluxo de Caixa Desc._premio'!I75,\"\"))","v":""},{"$f":"IF(n1_tec=\"HEFA\",'Fluxo de Caixa Desc._premio'!J33,IF(n1_tec=\"ATJ\",'Fluxo de Caixa Desc._premio'!J75,\"\"))","v":""},{"$f":"IF(n1_tec=\"HEFA\",'Fluxo de Caixa Desc._premio'!K33,IF(n1_tec=\"ATJ\",'Fluxo de Caixa Desc._premio'!K75,\"\"))","v":""},{"$f":"IF(n1_tec=\"HEFA\",'Fluxo de Caixa Desc._premio'!L33,IF(n1_tec=\"ATJ\",'Fluxo de Caixa Desc._premio'!L75,\"\"))","v":""},{"$f":"IF(n1_tec=\"HEFA\",'Fluxo de Caixa Desc._premio'!M33,IF(n1_tec=\"ATJ\",'Fluxo de Caixa Desc._premio'!M75,\"\"))","v":""},{"$f":"IF(n1_tec=\"HEFA\",'Fluxo de Caixa Desc._premio'!N33,IF(n1_tec=\"ATJ\",'Fluxo de Caixa Desc._premio'!N75,\"\"))","v":""},{"$f":"IF(n1_tec=\"HEFA\",'Fluxo de Caixa Desc._premio'!O33,IF(n1_tec=\"ATJ\",'Fluxo de Caixa Desc._premio'!O75,\"\"))","v":""},{"$f":"IF(n1_tec=\"HEFA\",'Fluxo de Caixa Desc._premio'!P33,IF(n1_tec=\"ATJ\",'Fluxo de Caixa Desc._premio'!P75,\"\"))","v":""},{"$f":"IF(n1_tec=\"HEFA\",'Fluxo de Caixa Desc._premio'!Q33,IF(n1_tec=\"ATJ\",'Fluxo de Caixa Desc._premio'!Q75,\"\"))","v":""},{"$f":"IF(n1_tec=\"HEFA\",'Fluxo de Caixa Desc._premio'!R33,IF(n1_tec=\"ATJ\",'Fluxo de Caixa Desc._premio'!R75,\"\"))","v":""},{"$f":"IF(n1_tec=\"HEFA\",'Fluxo de Caixa Desc._premio'!S33,IF(n1_tec=\"ATJ\",'Fluxo de Caixa Desc._premio'!S75,\"\"))","v":""},{"$f":"IF(n1_tec=\"HEFA\",'Fluxo de Caixa Desc._premio'!T33,IF(n1_tec=\"ATJ\",'Fluxo de Caixa Desc._premio'!T75,\"\"))","v":""},{"$f":"IF(n1_tec=\"HEFA\",'Fluxo de Caixa Desc._premio'!U33,IF(n1_tec=\"ATJ\",'Fluxo de Caixa Desc._premio'!U75,\"\"))","v":""},{"$f":"IF(n1_tec=\"HEFA\",'Fluxo de Caixa Desc._premio'!V33,IF(n1_tec=\"ATJ\",'Fluxo de Caixa Desc._premio'!V75,\"\"))","v":""},{"$f":"IF(n1_tec=\"HEFA\",'Fluxo de Caixa Desc._premio'!W33,IF(n1_tec=\"ATJ\",'Fluxo de Caixa Desc._premio'!W75,\"\"))","v":""},{"$f":"IF(n1_tec=\"HEFA\",'Fluxo de Caixa Desc._premio'!X33,IF(n1_tec=\"ATJ\",'Fluxo de Caixa Desc._premio'!X75,\"\"))","v":""},{"$f":"IF(n1_tec=\"HEFA\",'Fluxo de Caixa Desc._premio'!Y33,IF(n1_tec=\"ATJ\",'Fluxo de Caixa Desc._premio'!Y75,\"\"))","v":""},{"$f":"IF(n1_tec=\"HEFA\",'Fluxo de Caixa Desc._premio'!Z33,IF(n1_tec=\"ATJ\",'Fluxo de Caixa Desc._premio'!Z75,\"\"))","v":""},{"$f":"IF(n1_tec=\"HEFA\",'Fluxo de Caixa Desc._premio'!AA33,IF(n1_tec=\"ATJ\",'Fluxo de Caixa Desc._premio'!AA75,\"\"))","v":""},{"$f":"IF(n1_tec=\"HEFA\",'Fluxo de Caixa Desc._premio'!AB33,IF(n1_tec=\"ATJ\",'Fluxo de Caixa Desc._premio'!AB75,\"\"))","v":""},{"$f":"IF(n1_tec=\"HEFA\",'Fluxo de Caixa Desc._premio'!AC33,IF(n1_tec=\"ATJ\",'Fluxo de Caixa Desc._premio'!AC75,\"\"))","v":""},{"$f":"IF(n1_tec=\"HEFA\",'Fluxo de Caixa Desc._premio'!AD33,IF(n1_tec=\"ATJ\",'Fluxo de Caixa Desc._premio'!AD75,\"\"))","v":""},{"$f":"IF(n1_tec=\"HEFA\",'Fluxo de Caixa Desc._premio'!AE33,IF(n1_tec=\"ATJ\",'Fluxo de Caixa Desc._premio'!AE75,\"\"))","v":""},{"$f":"IF(n1_tec=\"HEFA\",'Fluxo de Caixa Desc._premio'!AF33,IF(n1_tec=\"ATJ\",'Fluxo de Caixa Desc._premio'!AF75,\"\"))","v":""},{"$f":"IF(n1_tec=\"HEFA\",'Fluxo de Caixa Desc._premio'!AG33,IF(n1_tec=\"ATJ\",'Fluxo de Caixa Desc._premio'!AG75,\"\"))","v":""},{"$f":"IF(n1_tec=\"HEFA\",'Fluxo de Caixa Desc._premio'!AH33,IF(n1_tec=\"ATJ\",'Fluxo de Caixa Desc._premio'!AH75,\"\"))","v":""},{"$f":"IF(n1_tec=\"HEFA\",'Fluxo de Caixa Desc._premio'!AI33,IF(n1_tec=\"ATJ\",'Fluxo de Caixa Desc._premio'!AI75,\"\"))","v":""},{"$f":"IF(n1_tec=\"HEFA\",'Fluxo de Caixa Desc._premio'!AJ33,IF(n1_tec=\"ATJ\",'Fluxo de Caixa Desc._premio'!AJ75,\"\"))","v":""},{"$f":"IF(n1_tec=\"HEFA\",'Fluxo de Caixa Desc._premio'!AK33,IF(n1_tec=\"ATJ\",'Fluxo de Caixa Desc._premio'!AK75,\"\"))","v":""},{"$f":"IF(n1_tec=\"HEFA\",'Fluxo de Caixa Desc._premio'!AL33,IF(n1_tec=\"ATJ\",'Fluxo de Caixa Desc._premio'!AL75,\"\"))","v":""},{"$f":"IF(n1_tec=\"HEFA\",'Fluxo de Caixa Desc._premio'!AM33,IF(n1_tec=\"ATJ\",'Fluxo de Caixa Desc._premio'!AM75,\"\"))","v":""},{"$f":"IF(n1_tec=\"HEFA\",'Fluxo de Caixa Desc._premio'!AN33,IF(n1_tec=\"ATJ\",'Fluxo de Caixa Desc._premio'!AN75,\"\"))","v":""},{"$f":"IF(n1_tec=\"HEFA\",'Fluxo de Caixa Desc._premio'!AO33,IF(n1_tec=\"ATJ\",'Fluxo de Caixa Desc._premio'!AO75,\"\"))","v":""},{"$f":"IF(n1_tec=\"HEFA\",'Fluxo de Caixa Desc._premio'!AP33,IF(n1_tec=\"ATJ\",'Fluxo de Caixa Desc._premio'!AP75,\"\"))","v":""},{"$f":"IF(n1_tec=\"HEFA\",'Fluxo de Caixa Desc._premio'!AQ33,IF(n1_tec=\"ATJ\",'Fluxo de Caixa Desc._premio'!AQ75,\"\"))","v":""},{"$f":"IF(n1_tec=\"HEFA\",'Fluxo de Caixa Desc._premio'!AR33,IF(n1_tec=\"ATJ\",'Fluxo de Caixa Desc._premio'!AR75,\"\"))","v":""},{"$f":"IF(n1_tec=\"HEFA\",'Fluxo de Caixa Desc._premio'!AS33,IF(n1_tec=\"ATJ\",'Fluxo de Caixa Desc._premio'!AS75,\"\"))","v":""},{"$f":"IF(n1_tec=\"HEFA\",'Fluxo de Caixa Desc._premio'!AT33,IF(n1_tec=\"ATJ\",'Fluxo de Caixa Desc._premio'!AT75,\"\"))","v":""},{"$f":"IF(n1_tec=\"HEFA\",'Fluxo de Caixa Desc._premio'!AU33,IF(n1_tec=\"ATJ\",'Fluxo de Caixa Desc._premio'!AU75,\"\"))","v":""},{"$f":"IF(n1_tec=\"HEFA\",'Fluxo de Caixa Desc._premio'!AV33,IF(n1_tec=\"ATJ\",'Fluxo de Caixa Desc._premio'!AV75,\"\"))","v":""}]
[null,"IRPJ e CSLL",{"$f":"IF(n1_tec=\"HEFA\",'Fluxo de Caixa Desc._premio'!B35,IF(n1_tec=\"ATJ\",'Fluxo de Caixa Desc._premio'!B77,\"\"))","v":""},{"$f":"IF(n1_tec=\"HEFA\",'Fluxo de Caixa Desc._premio'!C35,IF(n1_tec=\"ATJ\",'Fluxo de Caixa Desc._premio'!C77,\"\"))","v":""},{"$f":"IF(n1_tec=\"HEFA\",'Fluxo de Caixa Desc._premio'!D35,IF(n1_tec=\"ATJ\",'Fluxo de Caixa Desc._premio'!D77,\"\"))","v":""},{"$f":"IF(n1_tec=\"HEFA\",'Fluxo de Caixa Desc._premio'!E35,IF(n1_tec=\"ATJ\",'Fluxo de Caixa Desc._premio'!E77,\"\"))","v":""},{"$f":"IF(n1_tec=\"HEFA\",'Fluxo de Caixa Desc._premio'!F35,IF(n1_tec=\"ATJ\",'Fluxo de Caixa Desc._premio'!F77,\"\"))","v":""},{"$f":"IF(n1_tec=\"HEFA\",'Fluxo de Caixa Desc._premio'!G35,IF(n1_tec=\"ATJ\",'Fluxo de Caixa Desc._premio'!G77,\"\"))","v":""},{"$f":"IF(n1_tec=\"HEFA\",'Fluxo de Caixa Desc._premio'!H35,IF(n1_tec=\"ATJ\",'Fluxo de Caixa Desc._premio'!H77,\"\"))","v":""},{"$f":"IF(n1_tec=\"HEFA\",'Fluxo de Caixa Desc._premio'!I35,IF(n1_tec=\"ATJ\",'Fluxo de Caixa Desc._premio'!I77,\"\"))","v":""},{"$f":"IF(n1_tec=\"HEFA\",'Fluxo de Caixa Desc._premio'!J35,IF(n1_tec=\"ATJ\",'Fluxo de Caixa Desc._premio'!J77,\"\"))","v":""},{"$f":"IF(n1_tec=\"HEFA\",'Fluxo de Caixa Desc._premio'!K35,IF(n1_tec=\"ATJ\",'Fluxo de Caixa Desc._premio'!K77,\"\"))","v":""},{"$f":"IF(n1_tec=\"HEFA\",'Fluxo de Caixa Desc._premio'!L35,IF(n1_tec=\"ATJ\",'Fluxo de Caixa Desc._premio'!L77,\"\"))","v":""},{"$f":"IF(n1_tec=\"HEFA\",'Fluxo de Caixa Desc._premio'!M35,IF(n1_tec=\"ATJ\",'Fluxo de Caixa Desc._premio'!M77,\"\"))","v":""},{"$f":"IF(n1_tec=\"HEFA\",'Fluxo de Caixa Desc._premio'!N35,IF(n1_tec=\"ATJ\",'Fluxo de Caixa Desc._premio'!N77,\"\"))","v":""},{"$f":"IF(n1_tec=\"HEFA\",'Fluxo de Caixa Desc._premio'!O35,IF(n1_tec=\"ATJ\",'Fluxo de Caixa Desc._premio'!O77,\"\"))","v":""},{"$f":"IF(n1_tec=\"HEFA\",'Fluxo de Caixa Desc._premio'!P35,IF(n1_tec=\"ATJ\",'Fluxo de Caixa Desc._premio'!P77,\"\"))","v":""},{"$f":"IF(n1_tec=\"HEFA\",'Fluxo de Caixa Desc._premio'!Q35,IF(n1_tec=\"ATJ\",'Fluxo de Caixa Desc._premio'!Q77,\"\"))","v":""},{"$f":"IF(n1_tec=\"HEFA\",'Fluxo de Caixa Desc._premio'!R35,IF(n1_tec=\"ATJ\",'Fluxo de Caixa Desc._premio'!R77,\"\"))","v":""},{"$f":"IF(n1_tec=\"HEFA\",'Fluxo de Caixa Desc._premio'!S35,IF(n1_tec=\"ATJ\",'Fluxo de Caixa Desc._premio'!S77,\"\"))","v":""},{"$f":"IF(n1_tec=\"HEFA\",'Fluxo de Caixa Desc._premio'!T35,IF(n1_tec=\"ATJ\",'Fluxo de Caixa Desc._premio'!T77,\"\"))","v":""},{"$f":"IF(n1_tec=\"HEFA\",'Fluxo de Caixa Desc._premio'!U35,IF(n1_tec=\"ATJ\",'Fluxo de Caixa Desc._premio'!U77,\"\"))","v":""},{"$f":"IF(n1_tec=\"HEFA\",'Fluxo de Caixa Desc._premio'!V35,IF(n1_tec=\"ATJ\",'Fluxo de Caixa Desc._premio'!V77,\"\"))","v":""},{"$f":"IF(n1_tec=\"HEFA\",'Fluxo de Caixa Desc._premio'!W35,IF(n1_tec=\"ATJ\",'Fluxo de Caixa Desc._premio'!W77,\"\"))","v":""},{"$f":"IF(n1_tec=\"HEFA\",'Fluxo de Caixa Desc._premio'!X35,IF(n1_tec=\"ATJ\",'Fluxo de Caixa Desc._premio'!X77,\"\"))","v":""},{"$f":"IF(n1_tec=\"HEFA\",'Fluxo de Caixa Desc._premio'!Y35,IF(n1_tec=\"ATJ\",'Fluxo de Caixa Desc._premio'!Y77,\"\"))","v":""},{"$f":"IF(n1_tec=\"HEFA\",'Fluxo de Caixa Desc._premio'!Z35,IF(n1_tec=\"ATJ\",'Fluxo de Caixa Desc._premio'!Z77,\"\"))","v":""},{"$f":"IF(n1_tec=\"HEFA\",'Fluxo de Caixa Desc._premio'!AA35,IF(n1_tec=\"ATJ\",'Fluxo de Caixa Desc._premio'!AA77,\"\"))","v":""},{"$f":"IF(n1_tec=\"HEFA\",'Fluxo de Caixa Desc._premio'!AB35,IF(n1_tec=\"ATJ\",'Fluxo de Caixa Desc._premio'!AB77,\"\"))","v":""},{"$f":"IF(n1_tec=\"HEFA\",'Fluxo de Caixa Desc._premio'!AC35,IF(n1_tec=\"ATJ\",'Fluxo de Caixa Desc._premio'!AC77,\"\"))","v":""},{"$f":"IF(n1_tec=\"HEFA\",'Fluxo de Caixa Desc._premio'!AD35,IF(n1_tec=\"ATJ\",'Fluxo de Caixa Desc._premio'!AD77,\"\"))","v":""},{"$f":"IF(n1_tec=\"HEFA\",'Fluxo de Caixa Desc._premio'!AE35,IF(n1_tec=\"ATJ\",'Fluxo de Caixa Desc._premio'!AE77,\"\"))","v":""},{"$f":"IF(n1_tec=\"HEFA\",'Fluxo de Caixa Desc._premio'!AF35,IF(n1_tec=\"ATJ\",'Fluxo de Caixa Desc._premio'!AF77,\"\"))","v":""},{"$f":"IF(n1_tec=\"HEFA\",'Fluxo de Caixa Desc._premio'!AG35,IF(n1_tec=\"ATJ\",'Fluxo de Caixa Desc._premio'!AG77,\"\"))","v":""},{"$f":"IF(n1_tec=\"HEFA\",'Fluxo de Caixa Desc._premio'!AH35,IF(n1_tec=\"ATJ\",'Fluxo de Caixa Desc._premio'!AH77,\"\"))","v":""},{"$f":"IF(n1_tec=\"HEFA\",'Fluxo de Caixa Desc._premio'!AI35,IF(n1_tec=\"ATJ\",'Fluxo de Caixa Desc._premio'!AI77,\"\"))","v":""},{"$f":"IF(n1_tec=\"HEFA\",'Fluxo de Caixa Desc._premio'!AJ35,IF(n1_tec=\"ATJ\",'Fluxo de Caixa Desc._premio'!AJ77,\"\"))","v":""},{"$f":"IF(n1_tec=\"HEFA\",'Fluxo de Caixa Desc._premio'!AK35,IF(n1_tec=\"ATJ\",'Fluxo de Caixa Desc._premio'!AK77,\"\"))","v":""},{"$f":"IF(n1_tec=\"HEFA\",'Fluxo de Caixa Desc._premio'!AL35,IF(n1_tec=\"ATJ\",'Fluxo de Caixa Desc._premio'!AL77,\"\"))","v":""},{"$f":"IF(n1_tec=\"HEFA\",'Fluxo de Caixa Desc._premio'!AM35,IF(n1_tec=\"ATJ\",'Fluxo de Caixa Desc._premio'!AM77,\"\"))","v":""},{"$f":"IF(n1_tec=\"HEFA\",'Fluxo de Caixa Desc._premio'!AN35,IF(n1_tec=\"ATJ\",'Fluxo de Caixa Desc._premio'!AN77,\"\"))","v":""},{"$f":"IF(n1_tec=\"HEFA\",'Fluxo de Caixa Desc._premio'!AO35,IF(n1_tec=\"ATJ\",'Fluxo de Caixa Desc._premio'!AO77,\"\"))","v":""},{"$f":"IF(n1_tec=\"HEFA\",'Fluxo de Caixa Desc._premio'!AP35,IF(n1_tec=\"ATJ\",'Fluxo de Caixa Desc._premio'!AP77,\"\"))","v":""},{"$f":"IF(n1_tec=\"HEFA\",'Fluxo de Caixa Desc._premio'!AQ35,IF(n1_tec=\"ATJ\",'Fluxo de Caixa Desc._premio'!AQ77,\"\"))","v":""},{"$f":"IF(n1_tec=\"HEFA\",'Fluxo de Caixa Desc._premio'!AR35,IF(n1_tec=\"ATJ\",'Fluxo de Caixa Desc._premio'!AR77,\"\"))","v":""},{"$f":"IF(n1_tec=\"HEFA\",'Fluxo de Caixa Desc._premio'!AS35,IF(n1_tec=\"ATJ\",'Fluxo de Caixa Desc._premio'!AS77,\"\"))","v":""},{"$f":"IF(n1_tec=\"HEFA\",'Fluxo de Caixa Desc._premio'!AT35,IF(n1_tec=\"ATJ\",'Fluxo de Caixa Desc._premio'!AT77,\"\"))","v":""},{"$f":"IF(n1_tec=\"HEFA\",'Fluxo de Caixa Desc._premio'!AU35,IF(n1_tec=\"ATJ\",'Fluxo de Caixa Desc._premio'!AU77,\"\"))","v":""},{"$f":"IF(n1_tec=\"HEFA\",'Fluxo de Caixa Desc._premio'!AV35,IF(n1_tec=\"ATJ\",'Fluxo de Caixa Desc._premio'!AV77,\"\"))","v":""}]
[null,"Fluxo de Caixa Livre",{"$f":"IF(n1_tec=\"HEFA\",'Fluxo de Caixa Desc._premio'!B37,IF(n1_tec=\"ATJ\",'Fluxo de Caixa Desc._premio'!B79,\"\"))","v":""},{"$f":"IF(n1_tec=\"HEFA\",'Fluxo de Caixa Desc._premio'!C37,IF(n1_tec=\"ATJ\",'Fluxo de Caixa Desc._premio'!C79,\"\"))","v":""},{"$f":"IF(n1_tec=\"HEFA\",'Fluxo de Caixa Desc._premio'!D37,IF(n1_tec=\"ATJ\",'Fluxo de Caixa Desc._premio'!D79,\"\"))","v":""},{"$f":"IF(n1_tec=\"HEFA\",'Fluxo de Caixa Desc._premio'!E37,IF(n1_tec=\"ATJ\",'Fluxo de Caixa Desc._premio'!E79,\"\"))","v":""},{"$f":"IF(n1_tec=\"HEFA\",'Fluxo de Caixa Desc._premio'!F37,IF(n1_tec=\"ATJ\",'Fluxo de Caixa Desc._premio'!F79,\"\"))","v":""},{"$f":"IF(n1_tec=\"HEFA\",'Fluxo de Caixa Desc._premio'!G37,IF(n1_tec=\"ATJ\",'Fluxo de Caixa Desc._premio'!G79,\"\"))","v":""},{"$f":"IF(n1_tec=\"HEFA\",'Fluxo de Caixa Desc._premio'!H37,IF(n1_tec=\"ATJ\",'Fluxo de Caixa Desc._premio'!H79,\"\"))","v":""},{"$f":"IF(n1_tec=\"HEFA\",'Fluxo de Caixa Desc._premio'!I37,IF(n1_tec=\"ATJ\",'Fluxo de Caixa Desc._premio'!I79,\"\"))","v":""},{"$f":"IF(n1_tec=\"HEFA\",'Fluxo de Caixa Desc._premio'!J37,IF(n1_tec=\"ATJ\",'Fluxo de Caixa Desc._premio'!J79,\"\"))","v":""},{"$f":"IF(n1_tec=\"HEFA\",'Fluxo de Caixa Desc._premio'!K37,IF(n1_tec=\"ATJ\",'Fluxo de Caixa Desc._premio'!K79,\"\"))","v":""},{"$f":"IF(n1_tec=\"HEFA\",'Fluxo de Caixa Desc._premio'!L37,IF(n1_tec=\"ATJ\",'Fluxo de Caixa Desc._premio'!L79,\"\"))","v":""},{"$f":"IF(n1_tec=\"HEFA\",'Fluxo de Caixa Desc._premio'!M37,IF(n1_tec=\"ATJ\",'Fluxo de Caixa Desc._premio'!M79,\"\"))","v":""},{"$f":"IF(n1_tec=\"HEFA\",'Fluxo de Caixa Desc._premio'!N37,IF(n1_tec=\"ATJ\",'Fluxo de Caixa Desc._premio'!N79,\"\"))","v":""},{"$f":"IF(n1_tec=\"HEFA\",'Fluxo de Caixa Desc._premio'!O37,IF(n1_tec=\"ATJ\",'Fluxo de Caixa Desc._premio'!O79,\"\"))","v":""},{"$f":"IF(n1_tec=\"HEFA\",'Fluxo de Caixa Desc._premio'!P37,IF(n1_tec=\"ATJ\",'Fluxo de Caixa Desc._premio'!P79,\"\"))","v":""},{"$f":"IF(n1_tec=\"HEFA\",'Fluxo de Caixa Desc._premio'!Q37,IF(n1_tec=\"ATJ\",'Fluxo de Caixa Desc._premio'!Q79,\"\"))","v":""},{"$f":"IF(n1_tec=\"HEFA\",'Fluxo de Caixa Desc._premio'!R37,IF(n1_tec=\"ATJ\",'Fluxo de Caixa Desc._premio'!R79,\"\"))","v":""},{"$f":"IF(n1_tec=\"HEFA\",'Fluxo de Caixa Desc._premio'!S37,IF(n1_tec=\"ATJ\",'Fluxo de Caixa Desc._premio'!S79,\"\"))","v":""},{"$f":"IF(n1_tec=\"HEFA\",'Fluxo de Caixa Desc._premio'!T37,IF(n1_tec=\"ATJ\",'Fluxo de Caixa Desc._premio'!T79,\"\"))","v":""},{"$f":"IF(n1_tec=\"HEFA\",'Fluxo de Caixa Desc._premio'!U37,IF(n1_tec=\"ATJ\",'Fluxo de Caixa Desc._premio'!U79,\"\"))","v":""},{"$f":"IF(n1_tec=\"HEFA\",'Fluxo de Caixa Desc._premio'!V37,IF(n1_tec=\"ATJ\",'Fluxo de Caixa Desc._premio'!V79,\"\"))","v":""},{"$f":"IF(n1_tec=\"HEFA\",'Fluxo de Caixa Desc._premio'!W37,IF(n1_tec=\"ATJ\",'Fluxo de Caixa Desc._premio'!W79,\"\"))","v":""},{"$f":"IF(n1_tec=\"HEFA\",'Fluxo de Caixa Desc._premio'!X37,IF(n1_tec=\"ATJ\",'Fluxo de Caixa Desc._premio'!X79,\"\"))","v":""},{"$f":"IF(n1_tec=\"HEFA\",'Fluxo de Caixa Desc._premio'!Y37,IF(n1_tec=\"ATJ\",'Fluxo de Caixa Desc._premio'!Y79,\"\"))","v":""},{"$f":"IF(n1_tec=\"HEFA\",'Fluxo de Caixa Desc._premio'!Z37,IF(n1_tec=\"ATJ\",'Fluxo de Caixa Desc._premio'!Z79,\"\"))","v":""},{"$f":"IF(n1_tec=\"HEFA\",'Fluxo de Caixa Desc._premio'!AA37,IF(n1_tec=\"ATJ\",'Fluxo de Caixa Desc._premio'!AA79,\"\"))","v":""},{"$f":"IF(n1_tec=\"HEFA\",'Fluxo de Caixa Desc._premio'!AB37,IF(n1_tec=\"ATJ\",'Fluxo de Caixa Desc._premio'!AB79,\"\"))","v":""},{"$f":"IF(n1_tec=\"HEFA\",'Fluxo de Caixa Desc._premio'!AC37,IF(n1_tec=\"ATJ\",'Fluxo de Caixa Desc._premio'!AC79,\"\"))","v":""},{"$f":"IF(n1_tec=\"HEFA\",'Fluxo de Caixa Desc._premio'!AD37,IF(n1_tec=\"ATJ\",'Fluxo de Caixa Desc._premio'!AD79,\"\"))","v":""},{"$f":"IF(n1_tec=\"HEFA\",'Fluxo de Caixa Desc._premio'!AE37,IF(n1_tec=\"ATJ\",'Fluxo de Caixa Desc._premio'!AE79,\"\"))","v":""},{"$f":"IF(n1_tec=\"HEFA\",'Fluxo de Caixa Desc._premio'!AF37,IF(n1_tec=\"ATJ\",'Fluxo de Caixa Desc._premio'!AF79,\"\"))","v":""},{"$f":"IF(n1_tec=\"HEFA\",'Fluxo de Caixa Desc._premio'!AG37,IF(n1_tec=\"ATJ\",'Fluxo de Caixa Desc._premio'!AG79,\"\"))","v":""},{"$f":"IF(n1_tec=\"HEFA\",'Fluxo de Caixa Desc._premio'!AH37,IF(n1_tec=\"ATJ\",'Fluxo de Caixa Desc._premio'!AH79,\"\"))","v":""},{"$f":"IF(n1_tec=\"HEFA\",'Fluxo de Caixa Desc._premio'!AI37,IF(n1_tec=\"ATJ\",'Fluxo de Caixa Desc._premio'!AI79,\"\"))","v":""},{"$f":"IF(n1_tec=\"HEFA\",'Fluxo de Caixa Desc._premio'!AJ37,IF(n1_tec=\"ATJ\",'Fluxo de Caixa Desc._premio'!AJ79,\"\"))","v":""},{"$f":"IF(n1_tec=\"HEFA\",'Fluxo de Caixa Desc._premio'!AK37,IF(n1_tec=\"ATJ\",'Fluxo de Caixa Desc._premio'!AK79,\"\"))","v":""},{"$f":"IF(n1_tec=\"HEFA\",'Fluxo de Caixa Desc._premio'!AL37,IF(n1_tec=\"ATJ\",'Fluxo de Caixa Desc._premio'!AL79,\"\"))","v":""},{"$f":"IF(n1_tec=\"HEFA\",'Fluxo de Caixa Desc._premio'!AM37,IF(n1_tec=\"ATJ\",'Fluxo de Caixa Desc._premio'!AM79,\"\"))","v":""},{"$f":"IF(n1_tec=\"HEFA\",'Fluxo de Caixa Desc._premio'!AN37,IF(n1_tec=\"ATJ\",'Fluxo de Caixa Desc._premio'!AN79,\"\"))","v":""},{"$f":"IF(n1_tec=\"HEFA\",'Fluxo de Caixa Desc._premio'!AO37,IF(n1_tec=\"ATJ\",'Fluxo de Caixa Desc._premio'!AO79,\"\"))","v":""},{"$f":"IF(n1_tec=\"HEFA\",'Fluxo de Caixa Desc._premio'!AP37,IF(n1_tec=\"ATJ\",'Fluxo de Caixa Desc._premio'!AP79,\"\"))","v":""},{"$f":"IF(n1_tec=\"HEFA\",'Fluxo de Caixa Desc._premio'!AQ37,IF(n1_tec=\"ATJ\",'Fluxo de Caixa Desc._premio'!AQ79,\"\"))","v":""},{"$f":"IF(n1_tec=\"HEFA\",'Fluxo de Caixa Desc._premio'!AR37,IF(n1_tec=\"ATJ\",'Fluxo de Caixa Desc._premio'!AR79,\"\"))","v":""},{"$f":"IF(n1_tec=\"HEFA\",'Fluxo de Caixa Desc._premio'!AS37,IF(n1_tec=\"ATJ\",'Fluxo de Caixa Desc._premio'!AS79,\"\"))","v":""},{"$f":"IF(n1_tec=\"HEFA\",'Fluxo de Caixa Desc._premio'!AT37,IF(n1_tec=\"ATJ\",'Fluxo de Caixa Desc._premio'!AT79,\"\"))","v":""},{"$f":"IF(n1_tec=\"HEFA\",'Fluxo de Caixa Desc._premio'!AU37,IF(n1_tec=\"ATJ\",'Fluxo de Caixa Desc._premio'!AU79,\"\"))","v":""},{"$f":"IF(n1_tec=\"HEFA\",'Fluxo de Caixa Desc._premio'!AV37,IF(n1_tec=\"ATJ\",'Fluxo de Caixa Desc._premio'!AV79,\"\"))","v":""}]
[null,"Fluxo de Caixa Livre Acumulado",{"$f":"IF(n1_tec=\"HEFA\",'Fluxo de Caixa Desc._premio'!B38,IF(n1_tec=\"ATJ\",'Fluxo de Caixa Desc._premio'!B80,\"\"))","v":""},{"$f":"IF(n1_tec=\"HEFA\",'Fluxo de Caixa Desc._premio'!C38,IF(n1_tec=\"ATJ\",'Fluxo de Caixa Desc._premio'!C80,\"\"))","v":""},{"$f":"IF(n1_tec=\"HEFA\",'Fluxo de Caixa Desc._premio'!D38,IF(n1_tec=\"ATJ\",'Fluxo de Caixa Desc._premio'!D80,\"\"))","v":""},{"$f":"IF(n1_tec=\"HEFA\",'Fluxo de Caixa Desc._premio'!E38,IF(n1_tec=\"ATJ\",'Fluxo de Caixa Desc._premio'!E80,\"\"))","v":""},{"$f":"IF(n1_tec=\"HEFA\",'Fluxo de Caixa Desc._premio'!F38,IF(n1_tec=\"ATJ\",'Fluxo de Caixa Desc._premio'!F80,\"\"))","v":""},{"$f":"IF(n1_tec=\"HEFA\",'Fluxo de Caixa Desc._premio'!G38,IF(n1_tec=\"ATJ\",'Fluxo de Caixa Desc._premio'!G80,\"\"))","v":""},{"$f":"IF(n1_tec=\"HEFA\",'Fluxo de Caixa Desc._premio'!H38,IF(n1_tec=\"ATJ\",'Fluxo de Caixa Desc._premio'!H80,\"\"))","v":""},{"$f":"IF(n1_tec=\"HEFA\",'Fluxo de Caixa Desc._premio'!I38,IF(n1_tec=\"ATJ\",'Fluxo de Caixa Desc._premio'!I80,\"\"))","v":""},{"$f":"IF(n1_tec=\"HEFA\",'Fluxo de Caixa Desc._premio'!J38,IF(n1_tec=\"ATJ\",'Fluxo de Caixa Desc._premio'!J80,\"\"))","v":""},{"$f":"IF(n1_tec=\"HEFA\",'Fluxo de Caixa Desc._premio'!K38,IF(n1_tec=\"ATJ\",'Fluxo de Caixa Desc._premio'!K80,\"\"))","v":""},{"$f":"IF(n1_tec=\"HEFA\",'Fluxo de Caixa Desc._premio'!L38,IF(n1_tec=\"ATJ\",'Fluxo de Caixa Desc._premio'!L80,\"\"))","v":""},{"$f":"IF(n1_tec=\"HEFA\",'Fluxo de Caixa Desc._premio'!M38,IF(n1_tec=\"ATJ\",'Fluxo de Caixa Desc._premio'!M80,\"\"))","v":""},{"$f":"IF(n1_tec=\"HEFA\",'Fluxo de Caixa Desc._premio'!N38,IF(n1_tec=\"ATJ\",'Fluxo de Caixa Desc._premio'!N80,\"\"))","v":""},{"$f":"IF(n1_tec=\"HEFA\",'Fluxo de Caixa Desc._premio'!O38,IF(n1_tec=\"ATJ\",'Fluxo de Caixa Desc._premio'!O80,\"\"))","v":""},{"$f":"IF(n1_tec=\"HEFA\",'Fluxo de Caixa Desc._premio'!P38,IF(n1_tec=\"ATJ\",'Fluxo de Caixa Desc._premio'!P80,\"\"))","v":""},{"$f":"IF(n1_tec=\"HEFA\",'Fluxo de Caixa Desc._premio'!Q38,IF(n1_tec=\"ATJ\",'Fluxo de Caixa Desc._premio'!Q80,\"\"))","v":""},{"$f":"IF(n1_tec=\"HEFA\",'Fluxo de Caixa Desc._premio'!R38,IF(n1_tec=\"ATJ\",'Fluxo de Caixa Desc._premio'!R80,\"\"))","v":""},{"$f":"IF(n1_tec=\"HEFA\",'Fluxo de Caixa Desc._premio'!S38,IF(n1_tec=\"ATJ\",'Fluxo de Caixa Desc._premio'!S80,\"\"))","v":""},{"$f":"IF(n1_tec=\"HEFA\",'Fluxo de Caixa Desc._premio'!T38,IF(n1_tec=\"ATJ\",'Fluxo de Caixa Desc._premio'!T80,\"\"))","v":""},{"$f":"IF(n1_tec=\"HEFA\",'Fluxo de Caixa Desc._premio'!U38,IF(n1_tec=\"ATJ\",'Fluxo de Caixa Desc._premio'!U80,\"\"))","v":""},{"$f":"IF(n1_tec=\"HEFA\",'Fluxo de Caixa Desc._premio'!V38,IF(n1_tec=\"ATJ\",'Fluxo de Caixa Desc._premio'!V80,\"\"))","v":""},{"$f":"IF(n1_tec=\"HEFA\",'Fluxo de Caixa Desc._premio'!W38,IF(n1_tec=\"ATJ\",'Fluxo de Caixa Desc._premio'!W80,\"\"))","v":""},{"$f":"IF(n1_tec=\"HEFA\",'Fluxo de Caixa Desc._premio'!X38,IF(n1_tec=\"ATJ\",'Fluxo de Caixa Desc._premio'!X80,\"\"))","v":""},{"$f":"IF(n1_tec=\"HEFA\",'Fluxo de Caixa Desc._premio'!Y38,IF(n1_tec=\"ATJ\",'Fluxo de Caixa Desc._premio'!Y80,\"\"))","v":""},{"$f":"IF(n1_tec=\"HEFA\",'Fluxo de Caixa Desc._premio'!Z38,IF(n1_tec=\"ATJ\",'Fluxo de Caixa Desc._premio'!Z80,\"\"))","v":""},{"$f":"IF(n1_tec=\"HEFA\",'Fluxo de Caixa Desc._premio'!AA38,IF(n1_tec=\"ATJ\",'Fluxo de Caixa Desc._premio'!AA80,\"\"))","v":""},{"$f":"IF(n1_tec=\"HEFA\",'Fluxo de Caixa Desc._premio'!AB38,IF(n1_tec=\"ATJ\",'Fluxo de Caixa Desc._premio'!AB80,\"\"))","v":""},{"$f":"IF(n1_tec=\"HEFA\",'Fluxo de Caixa Desc._premio'!AC38,IF(n1_tec=\"ATJ\",'Fluxo de Caixa Desc._premio'!AC80,\"\"))","v":""},{"$f":"IF(n1_tec=\"HEFA\",'Fluxo de Caixa Desc._premio'!AD38,IF(n1_tec=\"ATJ\",'Fluxo de Caixa Desc._premio'!AD80,\"\"))","v":""},{"$f":"IF(n1_tec=\"HEFA\",'Fluxo de Caixa Desc._premio'!AE38,IF(n1_tec=\"ATJ\",'Fluxo de Caixa Desc._premio'!AE80,\"\"))","v":""},{"$f":"IF(n1_tec=\"HEFA\",'Fluxo de Caixa Desc._premio'!AF38,IF(n1_tec=\"ATJ\",'Fluxo de Caixa Desc._premio'!AF80,\"\"))","v":""},{"$f":"IF(n1_tec=\"HEFA\",'Fluxo de Caixa Desc._premio'!AG38,IF(n1_tec=\"ATJ\",'Fluxo de Caixa Desc._premio'!AG80,\"\"))","v":""},{"$f":"IF(n1_tec=\"HEFA\",'Fluxo de Caixa Desc._premio'!AH38,IF(n1_tec=\"ATJ\",'Fluxo de Caixa Desc._premio'!AH80,\"\"))","v":""},{"$f":"IF(n1_tec=\"HEFA\",'Fluxo de Caixa Desc._premio'!AI38,IF(n1_tec=\"ATJ\",'Fluxo de Caixa Desc._premio'!AI80,\"\"))","v":""},{"$f":"IF(n1_tec=\"HEFA\",'Fluxo de Caixa Desc._premio'!AJ38,IF(n1_tec=\"ATJ\",'Fluxo de Caixa Desc._premio'!AJ80,\"\"))","v":""},{"$f":"IF(n1_tec=\"HEFA\",'Fluxo de Caixa Desc._premio'!AK38,IF(n1_tec=\"ATJ\",'Fluxo de Caixa Desc._premio'!AK80,\"\"))","v":""},{"$f":"IF(n1_tec=\"HEFA\",'Fluxo de Caixa Desc._premio'!AL38,IF(n1_tec=\"ATJ\",'Fluxo de Caixa Desc._premio'!AL80,\"\"))","v":""},{"$f":"IF(n1_tec=\"HEFA\",'Fluxo de Caixa Desc._premio'!AM38,IF(n1_tec=\"ATJ\",'Fluxo de Caixa Desc._premio'!AM80,\"\"))","v":""},{"$f":"IF(n1_tec=\"HEFA\",'Fluxo de Caixa Desc._premio'!AN38,IF(n1_tec=\"ATJ\",'Fluxo de Caixa Desc._premio'!AN80,\"\"))","v":""},{"$f":"IF(n1_tec=\"HEFA\",'Fluxo de Caixa Desc._premio'!AO38,IF(n1_tec=\"ATJ\",'Fluxo de Caixa Desc._premio'!AO80,\"\"))","v":""},{"$f":"IF(n1_tec=\"HEFA\",'Fluxo de Caixa Desc._premio'!AP38,IF(n1_tec=\"ATJ\",'Fluxo de Caixa Desc._premio'!AP80,\"\"))","v":""},{"$f":"IF(n1_tec=\"HEFA\",'Fluxo de Caixa Desc._premio'!AQ38,IF(n1_tec=\"ATJ\",'Fluxo de Caixa Desc._premio'!AQ80,\"\"))","v":""},{"$f":"IF(n1_tec=\"HEFA\",'Fluxo de Caixa Desc._premio'!AR38,IF(n1_tec=\"ATJ\",'Fluxo de Caixa Desc._premio'!AR80,\"\"))","v":""},{"$f":"IF(n1_tec=\"HEFA\",'Fluxo de Caixa Desc._premio'!AS38,IF(n1_tec=\"ATJ\",'Fluxo de Caixa Desc._premio'!AS80,\"\"))","v":""},{"$f":"IF(n1_tec=\"HEFA\",'Fluxo de Caixa Desc._premio'!AT38,IF(n1_tec=\"ATJ\",'Fluxo de Caixa Desc._premio'!AT80,\"\"))","v":""},{"$f":"IF(n1_tec=\"HEFA\",'Fluxo de Caixa Desc._premio'!AU38,IF(n1_tec=\"ATJ\",'Fluxo de Caixa Desc._premio'!AU80,\"\"))","v":""},{"$f":"IF(n1_tec=\"HEFA\",'Fluxo de Caixa Desc._premio'!AV38,IF(n1_tec=\"ATJ\",'Fluxo de Caixa Desc._premio'!AV80,\"\"))","v":""}]
[null,"Fluxo de Caixa Descontado",{"$f":"IF(n1_tec=\"HEFA\",'Fluxo de Caixa Desc._premio'!B39,IF(n1_tec=\"ATJ\",'Fluxo de Caixa Desc._premio'!B81,\"\"))","v":""},{"$f":"IF(n1_tec=\"HEFA\",'Fluxo de Caixa Desc._premio'!C39,IF(n1_tec=\"ATJ\",'Fluxo de Caixa Desc._premio'!C81,\"\"))","v":""},{"$f":"IF(n1_tec=\"HEFA\",'Fluxo de Caixa Desc._premio'!D39,IF(n1_tec=\"ATJ\",'Fluxo de Caixa Desc._premio'!D81,\"\"))","v":""},{"$f":"IF(n1_tec=\"HEFA\",'Fluxo de Caixa Desc._premio'!E39,IF(n1_tec=\"ATJ\",'Fluxo de Caixa Desc._premio'!E81,\"\"))","v":""},{"$f":"IF(n1_tec=\"HEFA\",'Fluxo de Caixa Desc._premio'!F39,IF(n1_tec=\"ATJ\",'Fluxo de Caixa Desc._premio'!F81,\"\"))","v":""},{"$f":"IF(n1_tec=\"HEFA\",'Fluxo de Caixa Desc._premio'!G39,IF(n1_tec=\"ATJ\",'Fluxo de Caixa Desc._premio'!G81,\"\"))","v":""},{"$f":"IF(n1_tec=\"HEFA\",'Fluxo de Caixa Desc._premio'!H39,IF(n1_tec=\"ATJ\",'Fluxo de Caixa Desc._premio'!H81,\"\"))","v":""},{"$f":"IF(n1_tec=\"HEFA\",'Fluxo de Caixa Desc._premio'!I39,IF(n1_tec=\"ATJ\",'Fluxo de Caixa Desc._premio'!I81,\"\"))","v":""},{"$f":"IF(n1_tec=\"HEFA\",'Fluxo de Caixa Desc._premio'!J39,IF(n1_tec=\"ATJ\",'Fluxo de Caixa Desc._premio'!J81,\"\"))","v":""},{"$f":"IF(n1_tec=\"HEFA\",'Fluxo de Caixa Desc._premio'!K39,IF(n1_tec=\"ATJ\",'Fluxo de Caixa Desc._premio'!K81,\"\"))","v":""},{"$f":"IF(n1_tec=\"HEFA\",'Fluxo de Caixa Desc._premio'!L39,IF(n1_tec=\"ATJ\",'Fluxo de Caixa Desc._premio'!L81,\"\"))","v":""},{"$f":"IF(n1_tec=\"HEFA\",'Fluxo de Caixa Desc._premio'!M39,IF(n1_tec=\"ATJ\",'Fluxo de Caixa Desc._premio'!M81,\"\"))","v":""},{"$f":"IF(n1_tec=\"HEFA\",'Fluxo de Caixa Desc._premio'!N39,IF(n1_tec=\"ATJ\",'Fluxo de Caixa Desc._premio'!N81,\"\"))","v":""},{"$f":"IF(n1_tec=\"HEFA\",'Fluxo de Caixa Desc._premio'!O39,IF(n1_tec=\"ATJ\",'Fluxo de Caixa Desc._premio'!O81,\"\"))","v":""},{"$f":"IF(n1_tec=\"HEFA\",'Fluxo de Caixa Desc._premio'!P39,IF(n1_tec=\"ATJ\",'Fluxo de Caixa Desc._premio'!P81,\"\"))","v":""},{"$f":"IF(n1_tec=\"HEFA\",'Fluxo de Caixa Desc._premio'!Q39,IF(n1_tec=\"ATJ\",'Fluxo de Caixa Desc._premio'!Q81,\"\"))","v":""},{"$f":"IF(n1_tec=\"HEFA\",'Fluxo de Caixa Desc._premio'!R39,IF(n1_tec=\"ATJ\",'Fluxo de Caixa Desc._premio'!R81,\"\"))","v":""},{"$f":"IF(n1_tec=\"HEFA\",'Fluxo de Caixa Desc._premio'!S39,IF(n1_tec=\"ATJ\",'Fluxo de Caixa Desc._premio'!S81,\"\"))","v":""},{"$f":"IF(n1_tec=\"HEFA\",'Fluxo de Caixa Desc._premio'!T39,IF(n1_tec=\"ATJ\",'Fluxo de Caixa Desc._premio'!T81,\"\"))","v":""},{"$f":"IF(n1_tec=\"HEFA\",'Fluxo de Caixa Desc._premio'!U39,IF(n1_tec=\"ATJ\",'Fluxo de Caixa Desc._premio'!U81,\"\"))","v":""},{"$f":"IF(n1_tec=\"HEFA\",'Fluxo de Caixa Desc._premio'!V39,IF(n1_tec=\"ATJ\",'Fluxo de Caixa Desc._premio'!V81,\"\"))","v":""},{"$f":"IF(n1_tec=\"HEFA\",'Fluxo de Caixa Desc._premio'!W39,IF(n1_tec=\"ATJ\",'Fluxo de Caixa Desc._premio'!W81,\"\"))","v":""},{"$f":"IF(n1_tec=\"HEFA\",'Fluxo de Caixa Desc._premio'!X39,IF(n1_tec=\"ATJ\",'Fluxo de Caixa Desc._premio'!X81,\"\"))","v":""},{"$f":"IF(n1_tec=\"HEFA\",'Fluxo de Caixa Desc._premio'!Y39,IF(n1_tec=\"ATJ\",'Fluxo de Caixa Desc._premio'!Y81,\"\"))","v":""},{"$f":"IF(n1_tec=\"HEFA\",'Fluxo de Caixa Desc._premio'!Z39,IF(n1_tec=\"ATJ\",'Fluxo de Caixa Desc._premio'!Z81,\"\"))","v":""},{"$f":"IF(n1_tec=\"HEFA\",'Fluxo de Caixa Desc._premio'!AA39,IF(n1_tec=\"ATJ\",'Fluxo de Caixa Desc._premio'!AA81,\"\"))","v":""},{"$f":"IF(n1_tec=\"HEFA\",'Fluxo de Caixa Desc._premio'!AB39,IF(n1_tec=\"ATJ\",'Fluxo de Caixa Desc._premio'!AB81,\"\"))","v":""},{"$f":"IF(n1_tec=\"HEFA\",'Fluxo de Caixa Desc._premio'!AC39,IF(n1_tec=\"ATJ\",'Fluxo de Caixa Desc._premio'!AC81,\"\"))","v":""},{"$f":"IF(n1_tec=\"HEFA\",'Fluxo de Caixa Desc._premio'!AD39,IF(n1_tec=\"ATJ\",'Fluxo de Caixa Desc._premio'!AD81,\"\"))","v":""},{"$f":"IF(n1_tec=\"HEFA\",'Fluxo de Caixa Desc._premio'!AE39,IF(n1_tec=\"ATJ\",'Fluxo de Caixa Desc._premio'!AE81,\"\"))","v":""},{"$f":"IF(n1_tec=\"HEFA\",'Fluxo de Caixa Desc._premio'!AF39,IF(n1_tec=\"ATJ\",'Fluxo de Caixa Desc._premio'!AF81,\"\"))","v":""},{"$f":"IF(n1_tec=\"HEFA\",'Fluxo de Caixa Desc._premio'!AG39,IF(n1_tec=\"ATJ\",'Fluxo de Caixa Desc._premio'!AG81,\"\"))","v":""},{"$f":"IF(n1_tec=\"HEFA\",'Fluxo de Caixa Desc._premio'!AH39,IF(n1_tec=\"ATJ\",'Fluxo de Caixa Desc._premio'!AH81,\"\"))","v":""},{"$f":"IF(n1_tec=\"HEFA\",'Fluxo de Caixa Desc._premio'!AI39,IF(n1_tec=\"ATJ\",'Fluxo de Caixa Desc._premio'!AI81,\"\"))","v":""},{"$f":"IF(n1_tec=\"HEFA\",'Fluxo de Caixa Desc._premio'!AJ39,IF(n1_tec=\"ATJ\",'Fluxo de Caixa Desc._premio'!AJ81,\"\"))","v":""},{"$f":"IF(n1_tec=\"HEFA\",'Fluxo de Caixa Desc._premio'!AK39,IF(n1_tec=\"ATJ\",'Fluxo de Caixa Desc._premio'!AK81,\"\"))","v":""},{"$f":"IF(n1_tec=\"HEFA\",'Fluxo de Caixa Desc._premio'!AL39,IF(n1_tec=\"ATJ\",'Fluxo de Caixa Desc._premio'!AL81,\"\"))","v":""},{"$f":"IF(n1_tec=\"HEFA\",'Fluxo de Caixa Desc._premio'!AM39,IF(n1_tec=\"ATJ\",'Fluxo de Caixa Desc._premio'!AM81,\"\"))","v":""},{"$f":"IF(n1_tec=\"HEFA\",'Fluxo de Caixa Desc._premio'!AN39,IF(n1_tec=\"ATJ\",'Fluxo de Caixa Desc._premio'!AN81,\"\"))","v":""},{"$f":"IF(n1_tec=\"HEFA\",'Fluxo de Caixa Desc._premio'!AO39,IF(n1_tec=\"ATJ\",'Fluxo de Caixa Desc._premio'!AO81,\"\"))","v":""},{"$f":"IF(n1_tec=\"HEFA\",'Fluxo de Caixa Desc._premio'!AP39,IF(n1_tec=\"ATJ\",'Fluxo de Caixa Desc._premio'!AP81,\"\"))","v":""},{"$f":"IF(n1_tec=\"HEFA\",'Fluxo de Caixa Desc._premio'!AQ39,IF(n1_tec=\"ATJ\",'Fluxo de Caixa Desc._premio'!AQ81,\"\"))","v":""},{"$f":"IF(n1_tec=\"HEFA\",'Fluxo de Caixa Desc._premio'!AR39,IF(n1_tec=\"ATJ\",'Fluxo de Caixa Desc._premio'!AR81,\"\"))","v":""},{"$f":"IF(n1_tec=\"HEFA\",'Fluxo de Caixa Desc._premio'!AS39,IF(n1_tec=\"ATJ\",'Fluxo de Caixa Desc._premio'!AS81,\"\"))","v":""},{"$f":"IF(n1_tec=\"HEFA\",'Fluxo de Caixa Desc._premio'!AT39,IF(n1_tec=\"ATJ\",'Fluxo de Caixa Desc._premio'!AT81,\"\"))","v":""},{"$f":"IF(n1_tec=\"HEFA\",'Fluxo de Caixa Desc._premio'!AU39,IF(n1_tec=\"ATJ\",'Fluxo de Caixa Desc._premio'!AU81,\"\"))","v":""},{"$f":"IF(n1_tec=\"HEFA\",'Fluxo de Caixa Desc._premio'!AV39,IF(n1_tec=\"ATJ\",'Fluxo de Caixa Desc._premio'!AV81,\"\"))","v":""}]
[null,"Fluxo de Caixa Descontado Acumulado",{"$f":"IF(n1_tec=\"HEFA\",'Fluxo de Caixa Desc._premio'!B40,IF(n1_tec=\"ATJ\",'Fluxo de Caixa Desc._premio'!B82,\"\"))","v":""},{"$f":"IF(n1_tec=\"HEFA\",'Fluxo de Caixa Desc._premio'!C40,IF(n1_tec=\"ATJ\",'Fluxo de Caixa Desc._premio'!C82,\"\"))","v":""},{"$f":"IF(n1_tec=\"HEFA\",'Fluxo de Caixa Desc._premio'!D40,IF(n1_tec=\"ATJ\",'Fluxo de Caixa Desc._premio'!D82,\"\"))","v":""},{"$f":"IF(n1_tec=\"HEFA\",'Fluxo de Caixa Desc._premio'!E40,IF(n1_tec=\"ATJ\",'Fluxo de Caixa Desc._premio'!E82,\"\"))","v":""},{"$f":"IF(n1_tec=\"HEFA\",'Fluxo de Caixa Desc._premio'!F40,IF(n1_tec=\"ATJ\",'Fluxo de Caixa Desc._premio'!F82,\"\"))","v":""},{"$f":"IF(n1_tec=\"HEFA\",'Fluxo de Caixa Desc._premio'!G40,IF(n1_tec=\"ATJ\",'Fluxo de Caixa Desc._premio'!G82,\"\"))","v":""},{"$f":"IF(n1_tec=\"HEFA\",'Fluxo de Caixa Desc._premio'!H40,IF(n1_tec=\"ATJ\",'Fluxo de Caixa Desc._premio'!H82,\"\"))","v":""},{"$f":"IF(n1_tec=\"HEFA\",'Fluxo de Caixa Desc._premio'!I40,IF(n1_tec=\"ATJ\",'Fluxo de Caixa Desc._premio'!I82,\"\"))","v":""},{"$f":"IF(n1_tec=\"HEFA\",'Fluxo de Caixa Desc._premio'!J40,IF(n1_tec=\"ATJ\",'Fluxo de Caixa Desc._premio'!J82,\"\"))","v":""},{"$f":"IF(n1_tec=\"HEFA\",'Fluxo de Caixa Desc._premio'!K40,IF(n1_tec=\"ATJ\",'Fluxo de Caixa Desc._premio'!K82,\"\"))","v":""},{"$f":"IF(n1_tec=\"HEFA\",'Fluxo de Caixa Desc._premio'!L40,IF(n1_tec=\"ATJ\",'Fluxo de Caixa Desc._premio'!L82,\"\"))","v":""},{"$f":"IF(n1_tec=\"HEFA\",'Fluxo de Caixa Desc._premio'!M40,IF(n1_tec=\"ATJ\",'Fluxo de Caixa Desc._premio'!M82,\"\"))","v":""},{"$f":"IF(n1_tec=\"HEFA\",'Fluxo de Caixa Desc._premio'!N40,IF(n1_tec=\"ATJ\",'Fluxo de Caixa Desc._premio'!N82,\"\"))","v":""},{"$f":"IF(n1_tec=\"HEFA\",'Fluxo de Caixa Desc._premio'!O40,IF(n1_tec=\"ATJ\",'Fluxo de Caixa Desc._premio'!O82,\"\"))","v":""},{"$f":"IF(n1_tec=\"HEFA\",'Fluxo de Caixa Desc._premio'!P40,IF(n1_tec=\"ATJ\",'Fluxo de Caixa Desc._premio'!P82,\"\"))","v":""},{"$f":"IF(n1_tec=\"HEFA\",'Fluxo de Caixa Desc._premio'!Q40,IF(n1_tec=\"ATJ\",'Fluxo de Caixa Desc._premio'!Q82,\"\"))","v":""},{"$f":"IF(n1_tec=\"HEFA\",'Fluxo de Caixa Desc._premio'!R40,IF(n1_tec=\"ATJ\",'Fluxo de Caixa Desc._premio'!R82,\"\"))","v":""},{"$f":"IF(n1_tec=\"HEFA\",'Fluxo de Caixa Desc._premio'!S40,IF(n1_tec=\"ATJ\",'Fluxo de Caixa Desc._premio'!S82,\"\"))","v":""},{"$f":"IF(n1_tec=\"HEFA\",'Fluxo de Caixa Desc._premio'!T40,IF(n1_tec=\"ATJ\",'Fluxo de Caixa Desc._premio'!T82,\"\"))","v":""},{"$f":"IF(n1_tec=\"HEFA\",'Fluxo de Caixa Desc._premio'!U40,IF(n1_tec=\"ATJ\",'Fluxo de Caixa Desc._premio'!U82,\"\"))","v":""},{"$f":"IF(n1_tec=\"HEFA\",'Fluxo de Caixa Desc._premio'!V40,IF(n1_tec=\"ATJ\",'Fluxo de Caixa Desc._premio'!V82,\"\"))","v":""},{"$f":"IF(n1_tec=\"HEFA\",'Fluxo de Caixa Desc._premio'!W40,IF(n1_tec=\"ATJ\",'Fluxo de Caixa Desc._premio'!W82,\"\"))","v":""},{"$f":"IF(n1_tec=\"HEFA\",'Fluxo de Caixa Desc._premio'!X40,IF(n1_tec=\"ATJ\",'Fluxo de Caixa Desc._premio'!X82,\"\"))","v":""},{"$f":"IF(n1_tec=\"HEFA\",'Fluxo de Caixa Desc._premio'!Y40,IF(n1_tec=\"ATJ\",'Fluxo de Caixa Desc._premio'!Y82,\"\"))","v":""},{"$f":"IF(n1_tec=\"HEFA\",'Fluxo de Caixa Desc._premio'!Z40,IF(n1_tec=\"ATJ\",'Fluxo de Caixa Desc._premio'!Z82,\"\"))","v":""},{"$f":"IF(n1_tec=\"HEFA\",'Fluxo de Caixa Desc._premio'!AA40,IF(n1_tec=\"ATJ\",'Fluxo de Caixa Desc._premio'!AA82,\"\"))","v":""},{"$f":"IF(n1_tec=\"HEFA\",'Fluxo de Caixa Desc._premio'!AB40,IF(n1_tec=\"ATJ\",'Fluxo de Caixa Desc._premio'!AB82,\"\"))","v":""},{"$f":"IF(n1_tec=\"HEFA\",'Fluxo de Caixa Desc._premio'!AC40,IF(n1_tec=\"ATJ\",'Fluxo de Caixa Desc._premio'!AC82,\"\"))","v":""},{"$f":"IF(n1_tec=\"HEFA\",'Fluxo de Caixa Desc._premio'!AD40,IF(n1_tec=\"ATJ\",'Fluxo de Caixa Desc._premio'!AD82,\"\"))","v":""},{"$f":"IF(n1_tec=\"HEFA\",'Fluxo de Caixa Desc._premio'!AE40,IF(n1_tec=\"ATJ\",'Fluxo de Caixa Desc._premio'!AE82,\"\"))","v":""},{"$f":"IF(n1_tec=\"HEFA\",'Fluxo de Caixa Desc._premio'!AF40,IF(n1_tec=\"ATJ\",'Fluxo de Caixa Desc._premio'!AF82,\"\"))","v":""},{"$f":"IF(n1_tec=\"HEFA\",'Fluxo de Caixa Desc._premio'!AG40,IF(n1_tec=\"ATJ\",'Fluxo de Caixa Desc._premio'!AG82,\"\"))","v":""},{"$f":"IF(n1_tec=\"HEFA\",'Fluxo de Caixa Desc._premio'!AH40,IF(n1_tec=\"ATJ\",'Fluxo de Caixa Desc._premio'!AH82,\"\"))","v":""},{"$f":"IF(n1_tec=\"HEFA\",'Fluxo de Caixa Desc._premio'!AI40,IF(n1_tec=\"ATJ\",'Fluxo de Caixa Desc._premio'!AI82,\"\"))","v":""},{"$f":"IF(n1_tec=\"HEFA\",'Fluxo de Caixa Desc._premio'!AJ40,IF(n1_tec=\"ATJ\",'Fluxo de Caixa Desc._premio'!AJ82,\"\"))","v":""},{"$f":"IF(n1_tec=\"HEFA\",'Fluxo de Caixa Desc._premio'!AK40,IF(n1_tec=\"ATJ\",'Fluxo de Caixa Desc._premio'!AK82,\"\"))","v":""},{"$f":"IF(n1_tec=\"HEFA\",'Fluxo de Caixa Desc._premio'!AL40,IF(n1_tec=\"ATJ\",'Fluxo de Caixa Desc._premio'!AL82,\"\"))","v":""},{"$f":"IF(n1_tec=\"HEFA\",'Fluxo de Caixa Desc._premio'!AM40,IF(n1_tec=\"ATJ\",'Fluxo de Caixa Desc._premio'!AM82,\"\"))","v":""},{"$f":"IF(n1_tec=\"HEFA\",'Fluxo de Caixa Desc._premio'!AN40,IF(n1_tec=\"ATJ\",'Fluxo de Caixa Desc._premio'!AN82,\"\"))","v":""},{"$f":"IF(n1_tec=\"HEFA\",'Fluxo de Caixa Desc._premio'!AO40,IF(n1_tec=\"ATJ\",'Fluxo de Caixa Desc._premio'!AO82,\"\"))","v":""},{"$f":"IF(n1_tec=\"HEFA\",'Fluxo de Caixa Desc._premio'!AP40,IF(n1_tec=\"ATJ\",'Fluxo de Caixa Desc._premio'!AP82,\"\"))","v":""},{"$f":"IF(n1_tec=\"HEFA\",'Fluxo de Caixa Desc._premio'!AQ40,IF(n1_tec=\"ATJ\",'Fluxo de Caixa Desc._premio'!AQ82,\"\"))","v":""},{"$f":"IF(n1_tec=\"HEFA\",'Fluxo de Caixa Desc._premio'!AR40,IF(n1_tec=\"ATJ\",'Fluxo de Caixa Desc._premio'!AR82,\"\"))","v":""},{"$f":"IF(n1_tec=\"HEFA\",'Fluxo de Caixa Desc._premio'!AS40,IF(n1_tec=\"ATJ\",'Fluxo de Caixa Desc._premio'!AS82,\"\"))","v":""},{"$f":"IF(n1_tec=\"HEFA\",'Fluxo de Caixa Desc._premio'!AT40,IF(n1_tec=\"ATJ\",'Fluxo de Caixa Desc._premio'!AT82,\"\"))","v":""},{"$f":"IF(n1_tec=\"HEFA\",'Fluxo de Caixa Desc._premio'!AU40,IF(n1_tec=\"ATJ\",'Fluxo de Caixa Desc._premio'!AU82,\"\"))","v":""},{"$f":"IF(n1_tec=\"HEFA\",'Fluxo de Caixa Desc._premio'!AV40,IF(n1_tec=\"ATJ\",'Fluxo de Caixa Desc._premio'!AV82,\"\"))","v":""}]
[]
[]
[]
[]
[null,null,null,null,null,null,null,null,null,null,null,"Item (% LCOF*)",null,{"$f":"IF(n1_tec<>\"\",n1_tec,\"\")","v":""}]
[null,null,null,null,null,null,null,null,null,null,null,"CAPEX ",null,{"$f":"IF(n1_tec=\"HEFA\",'Fluxo de Caixa Descontado'!B47,IF(n1_tec=\"ATJ\",'Fluxo de Caixa Descontado'!B89,\"\"))","v":""},null,null,"Valor presente líquido do projeto (milhões R$) ",null,null,null,{"$f":"IF(n1_tec=\"HEFA\",'Fluxo de Caixa Desc._premio'!B6,IF(n1_tec=\"ATJ\",'Fluxo de Caixa Desc._premio'!B12,\"\"))","v":""}]
[]
[null,null,null,null,null,null,null,null,null,null,null,{"$f":"IF([0]!n1_tec=\"HEFA\",IF('CAPEX e OPEX'!C8=1,\"Óleo de Soja\",\"Óleo de Soja + Sebo Bovino\"),\"Etanol\")","v":"Etanol"},null,{"$f":"IF(n1_tec=\"HEFA\",'Fluxo de Caixa Descontado'!B48*'Fluxo de Caixa Descontado'!B52,IF(n1_tec=\"ATJ\",'Fluxo de Caixa Descontado'!B90*'Fluxo de Caixa Descontado'!B94,\"\"))","v":""}]
[]
[null,null,null,null,null,null,null,null,null,null,null,"Hidrogênio",null,{"$f":"IF(n1_tec=\"HEFA\",'Fluxo de Caixa Descontado'!B48*'Fluxo de Caixa Descontado'!B53,IF(n1_tec=\"ATJ\",'Fluxo de Caixa Descontado'!B90*'Fluxo de Caixa Descontado'!B95,\"\"))","v":""},null,null,"Taxa interna de retorno do projeto",null,null,null,{"$f":"IF(n1_tec=\"HEFA\",'Fluxo de Caixa Desc._premio'!B7,IF(n1_tec=\"ATJ\",'Fluxo de Caixa Desc._premio'!B13,\"\"))","v":""}]
[]
[null,null,null,null,null,null,null,null,null,null,null,"Catalisadores",null,{"$f":"IF(n1_tec=\"HEFA\",'Fluxo de Caixa Descontado'!B48*'Fluxo de Caixa Descontado'!B54,IF(n1_tec=\"ATJ\",'Fluxo de Caixa Descontado'!B90*'Fluxo de Caixa Descontado'!B96,\"\"))","v":""}]
[]
[null,null,null,null,null,null,null,null,null,null,null,"Utilidades ",null,{"$f":"IF(n1_tec=\"HEFA\",'Fluxo de Caixa Descontado'!B48*'Fluxo de Caixa Descontado'!B55,IF(n1_tec=\"ATJ\",'Fluxo de Caixa Descontado'!B90*'Fluxo de Caixa Descontado'!B97,\"\"))","v":""},null,null,"Razão TIR / TCMC",null,null,null,{"$f":"IF(U27<>\"\",U27/'Parâmetros de Fluxo de Caixa'!B32,\"\")","v":""}]
[]
[null,null,null,null,null,null,null,null,null,null,null,"OPEX fixo ",null,{"$f":"IF(n1_tec=\"HEFA\",'Fluxo de Caixa Descontado'!B49,IF(n1_tec=\"ATJ\",'Fluxo de Caixa Descontado'!B91,\"\"))","v":""}]
[]
[null,null,null,null,null,null,null,null,null,null,null,"Tributos",null,{"$f":"IF(n1_tec=\"HEFA\",'Fluxo de Caixa Descontado'!B50,IF(n1_tec=\"ATJ\",'Fluxo de Caixa Descontado'!B92,\"\"))","v":""}]

{"sheet":"Histórico de Cálculos","index":5,"n_rows":6,"n_cols":35,"rows_kept":6,"cut":false,"hidden":false,"merged":[[4,25,4,34],[0,4,0,7],[4,1,4,2],[4,17,4,24],[4,13,4,16],[4,3,4,12]]}
[]
[]
[]
[]
[null,"Informações:",null,"Entradas:",null,null,null,null,null,null,null,null,null,"Resultados Principais:",null,null,null,"Todos os resultados :"]
[null,"Data","Hora","Capacidade nominal da planta","Tecnologia","Matéria-prima","% Sebo","CORSIA volume","CORSIA prêmio","ProBioQAV volume","ProBioQAV prêmio","Outros volume","Outros prêmios","MSP","VPL","TIR","TIR/TCMC","CORSIA preço","CORSIA IC","CORSIA custo redução","ProBioQAV preço","ProBioQAV IC","ProBioQAV custo redução","Outros preço","Outros IC","Outros custo redução","Diesel Verde preço","Diesel Verde IC","Diesel Verde custo redução","bioNafta preço","bioNafta IC","bioNafta custo redução","bioGLP preço","bioGLP IC","bioGLP custo redução"]

{"sheet":"Fluxo de Caixa Descontado","index":6,"n_rows":102,"n_cols":48,"rows_kept":102,"cut":false,"hidden":true,"merged":[[51,3,51,4],[93,3,93,4]]}
["Capacidade nominal da Planta (Ml comb. / ano)",800,"Correlações para CAPEX entre 50 e 1000, inclui todas as frações líquidas (SAF, Diesel, Nafta/Gasolina)"]
["Fator de utilização",0.9]
["Capacidade Operacional da Planta (Ml comb. / ano)",{"$f":"B1*B2","v":720}]
["Preço mínimo de viabilidade SAF",11.002308880647039,"por litro"]
[]
["VPL HEFA",{"$f":"SUM(B39:AV39)","v":2.9913849175500218E-12}]
["TCMC HEFA",{"$f":"IRR(B37:X37,'Parâmetros de Fluxo de Caixa'!$B$32)","v":0.10894559999999998}]
["R$ / kg CO2 abatido - CORSIA default",{"$f":"B4/Listas!P9","v":14.65065191230762}]
["R$ / kg CO2 abatido - ProBioQAV",{"$f":"B4/Listas!P11","v":6.4349142233820089}]
["R$ / kg CO2 abatido - CORSIA certificação core LCA",{"$f":"B4/Listas!P12","v":10.493458480247297}]
[]
["VPL ATJ",{"$f":"SUM(B81:AV81)","v":3458.6467311033716}]
["TCMC HEFA",{"$f":"IRR(B79:X79,'Parâmetros de Fluxo de Caixa'!$B$24)","v":0.20417043831539461}]
["R$ / kg CO2 abatido - 1G cana CORSIA default",{"$f":"B4/Listas!Q9","v":8.5528130082660674}]
["R$ / kg CO2 abatido - 1G milho 2a safra CORSIA default",{"$f":"B4/Listas!R9","v":12.361487551009553}]
["R$ / kg CO2 abatido - 1G cana ProBioQAV",{"$f":"B4/Listas!Q11","v":5.7761775717483692}]
["R$ / kg CO2 abatido - 1G milho 2a safra ProBioQAV",{"$f":"B4/Listas!R11","v":5.6620124371579861}]
["R$ / kg CO2 abatido - 1G cana CORSIA Certificação core LCA",{"$f":"B4/Listas!Q12","v":7.227277205536657}]
["R$ / kg CO2 abatido - 1G milho 2a safra CORSIA Certificação core LCA",{"$f":"B4/Listas!R12","v":6.7922093906973364}]
[]
["HEFA - Fluxo de Caixa"]
["Referencia ano",0,{"$f":"B22+1","v":1},{"$f":"C22+1","v":2},3,4,5,6,7,8,9,10,11,12,13,14,15,16,17,18,19,20,21,22,23,24,25,26,27,28,29,30,31,32,33,34,35,36,37,38,39,40,41,42,43,{"$f":"AS22+1","v":44},45,46]
["Ano VPL",{"$f":"IF(B22+1<='Parâmetros de Fluxo de Caixa'!$B$3,'Fluxo de Caixa Descontado'!B22,'Fluxo de Caixa Descontado'!B22+'Parâmetros de Fluxo de Caixa'!$B$4/12)","v":0},{"$f":"IF(C22+1<='Parâmetros de Fluxo de Caixa'!$B$3,'Fluxo de Caixa Descontado'!C22,'Fluxo de Caixa Descontado'!C22+'Parâmetros de Fluxo de Caixa'!$B$4/12)","v":1},{"$f":"IF(D22+1<='Parâmetros de Fluxo de Caixa'!$B$3,'Fluxo de Caixa Descontado'!D22,'Fluxo de Caixa Descontado'!D22+'Parâmetros de Fluxo de Caixa'!$B$4/12)","v":2},{"$f":"IF(E22+1<='Parâmetros de Fluxo de Caixa'!$B$3,'Fluxo de Caixa Descontado'!E22,'Fluxo de Caixa Descontado'!E22+'Parâmetros de Fluxo de Caixa'!$B$4/12)","v":3},{"$f":"IF(F22+1<='Parâmetros de Fluxo de Caixa'!$B$3,'Fluxo de Caixa Descontado'!F22,'Fluxo de Caixa Descontado'!F22+'Parâmetros de Fluxo de Caixa'!$B$4/12)","v":4},{"$f":"IF(G22+1<='Parâmetros de Fluxo de Caixa'!$B$3,'Fluxo de Caixa Descontado'!G22,'Fluxo de Caixa Descontado'!G22+'Parâmetros de Fluxo de Caixa'!$B$4/12)","v":5},{"$f":"IF(H22+1<='Parâmetros de Fluxo de Caixa'!$B$3,'Fluxo de Caixa Descontado'!H22,'Fluxo de Caixa Descontado'!H22+'Parâmetros de Fluxo de Caixa'!$B$4/12)","v":6},{"$f":"IF(I22+1<='Parâmetros de Fluxo de Caixa'!$B$3,'Fluxo de Caixa Descontado'!I22,'Fluxo de Caixa Descontado'!I22+'Parâmetros de Fluxo de Caixa'!$B$4/12)","v":7},{"$f":"IF(J22+1<='Parâmetros de Fluxo de Caixa'!$B$3,'Fluxo de Caixa Descontado'!J22,'Fluxo de Caixa Descontado'!J22+'Parâmetros de Fluxo de Caixa'!$B$4/12)","v":8},{"$f":"IF(K22+1<='Parâmetros de Fluxo de Caixa'!$B$3,'Fluxo de Caixa Descontado'!K22,'Fluxo de Caixa Descontado'!K22+'Parâmetros de Fluxo de Caixa'!$B$4/12)","v":9},{"$f":"IF(L22+1<='Parâmetros de Fluxo de Caixa'!$B$3,'Fluxo de Caixa Descontado'!L22,'Fluxo de Caixa Descontado'!L22+'Parâmetros de Fluxo de Caixa'!$B$4/12)","v":10},{"$f":"IF(M22+1<='Parâmetros de Fluxo de Caixa'!$B$3,'Fluxo de Caixa Descontado'!M22,'Fluxo de Caixa Descontado'!M22+'Parâmetros de Fluxo de Caixa'!$B$4/12)","v":11},{"$f":"IF(N22+1<='Parâmetros de Fluxo de Caixa'!$B$3,'Fluxo de Caixa Descontado'!N22,'Fluxo de Caixa Descontado'!N22+'Parâmetros de Fluxo de Caixa'!$B$4/12)","v":12},{"$f":"IF(O22+1<='Parâmetros de Fluxo de Caixa'!$B$3,'Fluxo de Caixa Descontado'!O22,'Fluxo de Caixa Descontado'!O22+'Parâmetros de Fluxo de Caixa'!$B$4/12)","v":13},{"$f":"IF(P22+1<='Parâmetros de Fluxo de Caixa'!$B$3,'Fluxo de Caixa Descontado'!P22,'Fluxo de Caixa Descontado'!P22+'Parâmetros de Fluxo de Caixa'!$B$4/12)","v":14},{"$f":"IF(Q22+1<='Parâmetros de Fluxo de Caixa'!$B$3,'Fluxo de Caixa Descontado'!Q22,'Fluxo de Caixa Descontado'!Q22+'Parâmetros de Fluxo de Caixa'!$B$4/12)","v":15},{"$f":"IF(R22+1<='Parâmetros de Fluxo de Caixa'!$B$3,'Fluxo de Caixa Descontado'!R22,'Fluxo de Caixa Descontado'!R22+'Parâmetros de Fluxo de Caixa'!$B$4/12)","v":16},{"$f":"IF(S22+1<='Parâmetros de Fluxo de Caixa'!$B$3,'Fluxo de Caixa Descontado'!S22,'Fluxo de Caixa Descontado'!S22+'Parâmetros de Fluxo de Caixa'!$B$4/12)","v":17},{"$f":"IF(T22+1<='Parâmetros de Fluxo de Caixa'!$B$3,'Fluxo de Caixa Descontado'!T22,'Fluxo de Caixa Descontado'!T22+'Parâmetros de Fluxo de Caixa'!$B$4/12)","v":18},{"$f":"IF(U22+1<='Parâmetros de Fluxo de Caixa'!$B$3,'Fluxo de Caixa Descontado'!U22,'Fluxo de Caixa Descontado'!U22+'Parâmetros de Fluxo de Caixa'!$B$4/12)","v":19},{"$f":"IF(V22+1<='Parâmetros de Fluxo de Caixa'!$B$3,'Fluxo de Caixa Descontado'!V22,'Fluxo de Caixa Descontado'!V22+'Parâmetros de Fluxo de Caixa'!$B$4/12)","v":20},{"$f":"IF(W22+1<='Parâmetros de Fluxo de Caixa'!$B$3,'Fluxo de Caixa Descontado'!W22,'Fluxo de Caixa Descontado'!W22+'Parâmetros de Fluxo de Caixa'!$B$4/12)","v":21},{"$f":"IF(X22+1<='Parâmetros de Fluxo de Caixa'!$B$3,'Fluxo de Caixa Descontado'!X22,'Fluxo de Caixa Descontado'!X22+'Parâmetros de Fluxo de Caixa'!$B$4/12)","v":22},{"$f":"IF(Y22+1<='Parâmetros de Fluxo de Caixa'!$B$3,'Fluxo de Caixa Descontado'!Y22,'Fluxo de Caixa Descontado'!Y22+'Parâmetros de Fluxo de Caixa'!$B$4/12)","v":23},{"$f":"IF(Z22+1<='Parâmetros de Fluxo de Caixa'!$B$3,'Fluxo de Caixa Descontado'!Z22,'Fluxo de Caixa Descontado'!Z22+'Parâmetros de Fluxo de Caixa'!$B$4/12)","v":24},{"$f":"IF(AA22+1<='Parâmetros de Fluxo de Caixa'!$B$3,'Fluxo de Caixa Descontado'!AA22,'Fluxo de Caixa Descontado'!AA22+'Parâmetros de Fluxo de Caixa'!$B$4/12)","v":25},{"$f":"IF(AB22+1<='Parâmetros de Fluxo de Caixa'!$B$3,'Fluxo de Caixa Descontado'!AB22,'Fluxo de Caixa Descontado'!AB22+'Parâmetros de Fluxo de Caixa'!$B$4/12)","v":26},{"$f":"IF(AC22+1<='Parâmetros de Fluxo de Caixa'!$B$3,'Fluxo de Caixa Descontado'!AC22,'Fluxo de Caixa Descontado'!AC22+'Parâmetros de Fluxo de Caixa'!$B$4/12)","v":27},{"$f":"IF(AD22+1<='Parâmetros de Fluxo de Caixa'!$B$3,'Fluxo de Caixa Descontado'!AD22,'Fluxo de Caixa Descontado'!AD22+'Parâmetros de Fluxo de Caixa'!$B$4/12)","v":28},{"$f":"IF(AE22+1<='Parâmetros de Fluxo de Caixa'!$B$3,'Fluxo de Caixa Descontado'!AE22,'Fluxo de Caixa Descontado'!AE22+'Parâmetros de Fluxo de Caixa'!$B$4/12)","v":29},{"$f":"IF(AF22+1<='Parâmetros de Fluxo de Caixa'!$B$3,'Fluxo de Caixa Descontado'!AF22,'Fluxo de Caixa Descontado'!AF22+'Parâmetros de Fluxo de Caixa'!$B$4/12)","v":30},{"$f":"IF(AG22+1<='Parâmetros de Fluxo de Caixa'!$B$3,'Fluxo de Caixa Descontado'!AG22,'Fluxo de Caixa Descontado'!AG22+'Parâmetros de Fluxo de Caixa'!$B$4/12)","v":31},{"$f":"IF(AH22+1<='Parâmetros de Fluxo de Caixa'!$B$3,'Fluxo de Caixa Descontado'!AH22,'Fluxo de Caixa Descontado'!AH22+'Parâmetros de Fluxo de Caixa'!$B$4/12)","v":32},{"$f":"IF(AI22+1<='Parâmetros de Fluxo de Caixa'!$B$3,'Fluxo de Caixa Descontado'!AI22,'Fluxo de Caixa Descontado'!AI22+'Parâmetros de Fluxo de Caixa'!$B$4/12)","v":33},{"$f":"IF(AJ22+1<='Parâmetros de Fluxo de Caixa'!$B$3,'Fluxo de Caixa Descontado'!AJ22,'Fluxo de Caixa Descontado'!AJ22+'Parâmetros de Fluxo de Caixa'!$B$4/12)","v":34},{"$f":"IF(AK22+1<='Parâmetros de Fluxo de Caixa'!$B$3,'Fluxo de Caixa Descontado'!AK22,'Fluxo de Caixa Descontado'!AK22+'Parâmetros de Fluxo de Caixa'!$B$4/12)","v":35},{"$f":"IF(AL22+1<='Parâmetros de Fluxo de Caixa'!$B$3,'Fluxo de Caixa Descontado'!AL22,'Fluxo de Caixa Descontado'!AL22+'Parâmetros de Fluxo de Caixa'!$B$4/12)","v":36},{"$f":"IF(AM22+1<='Parâmetros de Fluxo de Caixa'!$B$3,'Fluxo de Caixa Descontado'!AM22,'Fluxo de Caixa Descontado'!AM22+'Parâmetros de Fluxo de Caixa'!$B$4/12)","v":37},{"$f":"IF(AN22+1<='Parâmetros de Fluxo de Caixa'!$B$3,'Fluxo de Caixa Descontado'!AN22,'Fluxo de Caixa Descontado'!AN22+'Parâmetros de Fluxo de Caixa'!$B$4/12)","v":38},{"$f":"IF(AO22+1<='Parâmetros de Fluxo de Caixa'!$B$3,'Fluxo de Caixa Descontado'!AO22,'Fluxo de Caixa Descontado'!AO22+'Parâmetros de Fluxo de Caixa'!$B$4/12)","v":39},{"$f":"IF(AP22+1<='Parâmetros de Fluxo de Caixa'!$B$3,'Fluxo de Caixa Descontado'!AP22,'Fluxo de Caixa Descontado'!AP22+'Parâmetros de Fluxo de Caixa'!$B$4/12)","v":40},{"$f":"IF(AQ22+1<='Parâmetros de Fluxo de Caixa'!$B$3,'Fluxo de Caixa Descontado'!AQ22,'Fluxo de Caixa Descontado'!AQ22+'Parâmetros de Fluxo de Caixa'!$B$4/12)","v":41},{"$f":"IF(AR22+1<='Parâmetros de Fluxo de Caixa'!$B$3,'Fluxo de Caixa Descontado'!AR22,'Fluxo de Caixa Descontado'!AR22+'Parâmetros de Fluxo de Caixa'!$B$4/12)","v":42},{"$f":"IF(AS22+1<='Parâmetros de Fluxo de Caixa'!$B$3,'Fluxo de Caixa Descontado'!AS22,'Fluxo de Caixa Descontado'!AS22+'Parâmetros de Fluxo de Caixa'!$B$4/12)","v":43},{"$f":"IF(AT22+1<='Parâmetros de Fluxo de Caixa'!$B$3,'Fluxo de Caixa Descontado'!AT22,'Fluxo de Caixa Descontado'!AT22+'Parâmetros de Fluxo de Caixa'!$B$4/12)","v":44},{"$f":"IF(AU22+1<='Parâmetros de Fluxo de Caixa'!$B$3,'Fluxo de Caixa Descontado'!AU22,'Fluxo de Caixa Descontado'!AU22+'Parâmetros de Fluxo de Caixa'!$B$4/12)","v":45},{"$f":"IF(AV22+1<='Parâmetros de Fluxo de Caixa'!$B$3,'Fluxo de Caixa Descontado'!AV22,'Fluxo de Caixa Descontado'!AV22+'Parâmetros de Fluxo de Caixa'!$B$4/12)","v":46}]
["Ano Projeto",{"$f":"IF(B23+1<='Parâmetros de Fluxo de Caixa'!$B$12,B23+1,\"\")","v":1},{"$f":"IF(C23+1<='Parâmetros de Fluxo de Caixa'!$B$12,C23+1,\"\")","v":2},{"$f":"IF(D23+1<='Parâmetros de Fluxo de Caixa'!$B$12,D23+1,\"\")","v":3},{"$f":"IF(E23+1<='Parâmetros de Fluxo de Caixa'!$B$12,E23+1,\"\")","v":4},{"$f":"IF(F23+1<='Parâmetros de Fluxo de Caixa'!$B$12,F23+1,\"\")","v":5},{"$f":"IF(G23+1<='Parâmetros de Fluxo de Caixa'!$B$12,G23+1,\"\")","v":6},{"$f":"IF(H23+1<='Parâmetros de Fluxo de Caixa'!$B$12,H23+1,\"\")","v":7},{"$f":"IF(I23+1<='Parâmetros de Fluxo de Caixa'!$B$12,I23+1,\"\")","v":8},{"$f":"IF(J23+1<='Parâmetros de Fluxo de Caixa'!$B$12,J23+1,\"\")","v":9},{"$f":"IF(K23+1<='Parâmetros de Fluxo de Caixa'!$B$12,K23+1,\"\")","v":10},{"$f":"IF(L23+1<='Parâmetros de Fluxo de Caixa'!$B$12,L23+1,\"\")","v":11},{"$f":"IF(M23+1<='Parâmetros de Fluxo de Caixa'!$B$12,M23+1,\"\")","v":12},{"$f":"IF(N23+1<='Parâmetros de Fluxo de Caixa'!$B$12,N23+1,\"\")","v":13},{"$f":"IF(O23+1<='Parâmetros de Fluxo de Caixa'!$B$12,O23+1,\"\")","v":14},{"$f":"IF(P23+1<='Parâmetros de Fluxo de Caixa'!$B$12,P23+1,\"\")","v":15},{"$f":"IF(Q23+1<='Parâmetros de Fluxo de Caixa'!$B$12,Q23+1,\"\")","v":16},{"$f":"IF(R23+1<='Parâmetros de Fluxo de Caixa'!$B$12,R23+1,\"\")","v":17},{"$f":"IF(S23+1<='Parâmetros de Fluxo de Caixa'!$B$12,S23+1,\"\")","v":18},{"$f":"IF(T23+1<='Parâmetros de Fluxo de Caixa'!$B$12,T23+1,\"\")","v":19},{"$f":"IF(U23+1<='Parâmetros de Fluxo de Caixa'!$B$12,U23+1,\"\")","v":20},{"$f":"IF(V23+1<='Parâmetros de Fluxo de Caixa'!$B$12,V23+1,\"\")","v":21},{"$f":"IF(W23+1<='Parâmetros de Fluxo de Caixa'!$B$12,W23+1,\"\")","v":22},{"$f":"IF(X23+1<='Parâmetros de Fluxo de Caixa'!$B$12,X23+1,\"\")","v":23},{"$f":"IF(Y23+1<='Parâmetros de Fluxo de Caixa'!$B$12,Y23+1,\"\")","v":""},{"$f":"IF(Z23+1<='Parâmetros de Fluxo de Caixa'!$B$12,Z23+1,\"\")","v":""},{"$f":"IF(AA23+1<='Parâmetros de Fluxo de Caixa'!$B$12,AA23+1,\"\")","v":""},{"$f":"IF(AB23+1<='Parâmetros de Fluxo de Caixa'!$B$12,AB23+1,\"\")","v":""},{"$f":"IF(AC23+1<='Parâmetros de Fluxo de Caixa'!$B$12,AC23+1,\"\")","v":""},{"$f":"IF(AD23+1<='Parâmetros de Fluxo de Caixa'!$B$12,AD23+1,\"\")","v":""},{"$f":"IF(AE23+1<='Parâmetros de Fluxo de Caixa'!$B$12,AE23+1,\"\")","v":""},{"$f":"IF(AF23+1<='Parâmetros de Fluxo de Caixa'!$B$12,AF23+1,\"\")","v":""},{"$f":"IF(AG23+1<='Parâmetros de Fluxo de Caixa'!$B$12,AG23+1,\"\")","v":""},{"$f":"IF(AH23+1<='Parâmetros de Fluxo de Caixa'!$B$12,AH23+1,\"\")","v":""},{"$f":"IF(AI23+1<='Parâmetros de Fluxo de Caixa'!$B$12,AI23+1,\"\")","v":""},{"$f":"IF(AJ23+1<='Parâmetros de Fluxo de Caixa'!$B$12,AJ23+1,\"\")","v":""},{"$f":"IF(AK23+1<='Parâmetros de Fluxo de Caixa'!$B$12,AK23+1,\"\")","v":""},{"$f":"IF(AL23+1<='Parâmetros de Fluxo de Caixa'!$B$12,AL23+1,\"\")","v":""},{"$f":"IF(AM23+1<='Parâmetros de Fluxo de Caixa'!$B$12,AM23+1,\"\")","v":""},{"$f":"IF(AN23+1<='Parâmetros de Fluxo de Caixa'!$B$12,AN23+1,\"\")","v":""},{"$f":"IF(AO23+1<='Parâmetros de Fluxo de Caixa'!$B$12,AO23+1,\"\")","v":""},{"$f":"IF(AP23+1<='Parâmetros de Fluxo de Caixa'!$B$12,AP23+1,\"\")","v":""},{"$f":"IF(AQ23+1<='Parâmetros de Fluxo de Caixa'!$B$12,AQ23+1,\"\")","v":""},{"$f":"IF(AR23+1<='Parâmetros de Fluxo de Caixa'!$B$12,AR23+1,\"\")","v":""},{"$f":"IF(AS23+1<='Parâmetros de Fluxo de Caixa'!$B$12,AS23+1,\"\")","v":""},{"$f":"IF(AT23+1<='Parâmetros de Fluxo de Caixa'!$B$12,AT23+1,\"\")","v":""},{"$f":"IF(AU23+1<='Parâmetros de Fluxo de Caixa'!$B$12,AU23+1,\"\")","v":""},{"$f":"IF(AV23+1<='Parâmetros de Fluxo de Caixa'!$B$12,AV23+1,\"\")","v":""}]
["Cronograma",{"$f":"IF(B24<='Parâmetros de Fluxo de Caixa'!$B$3,\"Construção\",IF(B24='Parâmetros de Fluxo de Caixa'!$B$3+1+'Parâmetros de Fluxo de Caixa'!$B$4/12,\"Start-up\",IF(B24<='Parâmetros de Fluxo de Caixa'!$B$12,\"Operação\",\"\")))","v":"Construção"},{"$f":"IF(C24<='Parâmetros de Fluxo de Caixa'!$B$3,\"Construção\",IF(C24='Parâmetros de Fluxo de Caixa'!$B$3+1+'Parâmetros de Fluxo de Caixa'!$B$4/12,\"Start-up\",IF(C24<='Parâmetros de Fluxo de Caixa'!$B$12,\"Operação\",\"\")))","v":"Construção"},{"$f":"IF(D24<='Parâmetros de Fluxo de Caixa'!$B$3,\"Construção\",IF(D24='Parâmetros de Fluxo de Caixa'!$B$3+1+'Parâmetros de Fluxo de Caixa'!$B$4/12,\"Start-up\",IF(D24<='Parâmetros de Fluxo de Caixa'!$B$12,\"Operação\",\"\")))","v":"Construção"},{"$f":"IF(E24<='Parâmetros de Fluxo de Caixa'!$B$3,\"Construção\",IF(E24='Parâmetros de Fluxo de Caixa'!$B$3+1+'Parâmetros de Fluxo de Caixa'!$B$4/12,\"Start-up\",IF(E24<='Parâmetros de Fluxo de Caixa'!$B$12,\"Operação\",\"\")))","v":"Start-up"},{"$f":"IF(F24<='Parâmetros de Fluxo de Caixa'!$B$3,\"Construção\",IF(F24='Parâmetros de Fluxo de Caixa'!$B$3+1+'Parâmetros de Fluxo de Caixa'!$B$4/12,\"Start-up\",IF(F24<='Parâmetros de Fluxo de Caixa'!$B$12,\"Operação\",\"\")))","v":"Operação"},{"$f":"IF(G24<='Parâmetros de Fluxo de Caixa'!$B$3,\"Construção\",IF(G24='Parâmetros de Fluxo de Caixa'!$B$3+1+'Parâmetros de Fluxo de Caixa'!$B$4/12,\"Start-up\",IF(G24<='Parâmetros de Fluxo de Caixa'!$B$12,\"Operação\",\"\")))","v":"Operação"},{"$f":"IF(H24<='Parâmetros de Fluxo de Caixa'!$B$3,\"Construção\",IF(H24='Parâmetros de Fluxo de Caixa'!$B$3+1+'Parâmetros de Fluxo de Caixa'!$B$4/12,\"Start-up\",IF(H24<='Parâmetros de Fluxo de Caixa'!$B$12,\"Operação\",\"\")))","v":"Operação"},{"$f":"IF(I24<='Parâmetros de Fluxo de Caixa'!$B$3,\"Construção\",IF(I24='Parâmetros de Fluxo de Caixa'!$B$3+1+'Parâmetros de Fluxo de Caixa'!$B$4/12,\"Start-up\",IF(I24<='Parâmetros de Fluxo de Caixa'!$B$12,\"Operação\",\"\")))","v":"Operação"},{"$f":"IF(J24<='Parâmetros de Fluxo de Caixa'!$B$3,\"Construção\",IF(J24='Parâmetros de Fluxo de Caixa'!$B$3+1+'Parâmetros de Fluxo de Caixa'!$B$4/12,\"Start-up\",IF(J24<='Parâmetros de Fluxo de Caixa'!$B$12,\"Operação\",\"\")))","v":"Operação"},{"$f":"IF(K24<='Parâmetros de Fluxo de Caixa'!$B$3,\"Construção\",IF(K24='Parâmetros de Fluxo de Caixa'!$B$3+1+'Parâmetros de Fluxo de Caixa'!$B$4/12,\"Start-up\",IF(K24<='Parâmetros de Fluxo de Caixa'!$B$12,\"Operação\",\"\")))","v":"Operação"},{"$f":"IF(L24<='Parâmetros de Fluxo de Caixa'!$B$3,\"Construção\",IF(L24='Parâmetros de Fluxo de Caixa'!$B$3+1+'Parâmetros de Fluxo de Caixa'!$B$4/12,\"Start-up\",IF(L24<='Parâmetros de Fluxo de Caixa'!$B$12,\"Operação\",\"\")))","v":"Operação"},{"$f":"IF(M24<='Parâmetros de Fluxo de Caixa'!$B$3,\"Construção\",IF(M24='Parâmetros de Fluxo de Caixa'!$B$3+1+'Parâmetros de Fluxo de Caixa'!$B$4/12,\"Start-up\",IF(M24<='Parâmetros de Fluxo de Caixa'!$B$12,\"Operação\",\"\")))","v":"Operação"},{"$f":"IF(N24<='Parâmetros de Fluxo de Caixa'!$B$3,\"Construção\",IF(N24='Parâmetros de Fluxo de Caixa'!$B$3+1+'Parâmetros de Fluxo de Caixa'!$B$4/12,\"Start-up\",IF(N24<='Parâmetros de Fluxo de Caixa'!$B$12,\"Operação\",\"\")))","v":"Operação"},{"$f":"IF(O24<='Parâmetros de Fluxo de Caixa'!$B$3,\"Construção\",IF(O24='Parâmetros de Fluxo de Caixa'!$B$3+1+'Parâmetros de Fluxo de Caixa'!$B$4/12,\"Start-up\",IF(O24<='Parâmetros de Fluxo de Caixa'!$B$12,\"Operação\",\"\")))","v":"Operação"},{"$f":"IF(P24<='Parâmetros de Fluxo de Caixa'!$B$3,\"Construção\",IF(P24='Parâmetros de Fluxo de Caixa'!$B$3+1+'Parâmetros de Fluxo de Caixa'!$B$4/12,\"Start-up\",IF(P24<='Parâmetros de Fluxo de Caixa'!$B$12,\"Operação\",\"\")))","v":"Operação"},{"$f":"IF(Q24<='Parâmetros de Fluxo de Caixa'!$B$3,\"Construção\",IF(Q24='Parâmetros de Fluxo de Caixa'!$B$3+1+'Parâmetros de Fluxo de Caixa'!$B$4/12,\"Start-up\",IF(Q24<='Parâmetros de Fluxo de Caixa'!$B$12,\"Operação\",\"\")))","v":"Operação"},{"$f":"IF(R24<='Parâmetros de Fluxo de Caixa'!$B$3,\"Construção\",IF(R24='Parâmetros de Fluxo de Caixa'!$B$3+1+'Parâmetros de Fluxo de Caixa'!$B$4/12,\"Start-up\",IF(R24<='Parâmetros de Fluxo de Caixa'!$B$12,\"Operação\",\"\")))","v":"Operação"},{"$f":"IF(S24<='Parâmetros de Fluxo de Caixa'!$B$3,\"Construção\",IF(S24='Parâmetros de Fluxo de Caixa'!$B$3+1+'Parâmetros de Fluxo de Caixa'!$B$4/12,\"Start-up\",IF(S24<='Parâmetros de Fluxo de Caixa'!$B$12,\"Operação\",\"\")))","v":"Operação"},{"$f":"IF(T24<='Parâmetros de Fluxo de Caixa'!$B$3,\"Construção\",IF(T24='Parâmetros de Fluxo de Caixa'!$B$3+1+'Parâmetros de Fluxo de Caixa'!$B$4/12,\"Start-up\",IF(T24<='Parâmetros de Fluxo de Caixa'!$B$12,\"Operação\",\"\")))","v":"Operação"},{"$f":"IF(U24<='Parâmetros de Fluxo de Caixa'!$B$3,\"Construção\",IF(U24='Parâmetros de Fluxo de Caixa'!$B$3+1+'Parâmetros de Fluxo de Caixa'!$B$4/12,\"Start-up\",IF(U24<='Parâmetros de Fluxo de Caixa'!$B$12,\"Operação\",\"\")))","v":"Operação"},{"$f":"IF(V24<='Parâmetros de Fluxo de Caixa'!$B$3,\"Construção\",IF(V24='Parâmetros de Fluxo de Caixa'!$B$3+1+'Parâmetros de Fluxo de Caixa'!$B$4/12,\"Start-up\",IF(V24<='Parâmetros de Fluxo de Caixa'!$B$12,\"Operação\",\"\")))","v":"Operação"},{"$f":"IF(W24<='Parâmetros de Fluxo de Caixa'!$B$3,\"Construção\",IF(W24='Parâmetros de Fluxo de Caixa'!$B$3+1+'Parâmetros de Fluxo de Caixa'!$B$4/12,\"Start-up\",IF(W24<='Parâmetros de Fluxo de Caixa'!$B$12,\"Operação\",\"\")))","v":"Operação"},{"$f":"IF(X24<='Parâmetros de Fluxo de Caixa'!$B$3,\"Construção\",IF(X24='Parâmetros de Fluxo de Caixa'!$B$3+1+'Parâmetros de Fluxo de Caixa'!$B$4/12,\"Start-up\",IF(X24<='Parâmetros de Fluxo de Caixa'!$B$12,\"Operação\",\"\")))","v":"Operação"},{"$f":"IF(Y24<='Parâmetros de Fluxo de Caixa'!$B$3,\"Construção\",IF(Y24='Parâmetros de Fluxo de Caixa'!$B$3+1+'Parâmetros de Fluxo de Caixa'!$B$4/12,\"Start-up\",IF(Y24<='Parâmetros de Fluxo de Caixa'!$B$12,\"Operação\",\"\")))","v":""},{"$f":"IF(Z24<='Parâmetros de Fluxo de Caixa'!$B$3,\"Construção\",IF(Z24='Parâmetros de Fluxo de Caixa'!$B$3+1+'Parâmetros de Fluxo de Caixa'!$B$4/12,\"Start-up\",IF(Z24<='Parâmetros de Fluxo de Caixa'!$B$12,\"Operação\",\"\")))","v":""},{"$f":"IF(AA24<='Parâmetros de Fluxo de Caixa'!$B$3,\"Construção\",IF(AA24='Parâmetros de Fluxo de Caixa'!$B$3+1+'Parâmetros de Fluxo de Caixa'!$B$4/12,\"Start-up\",IF(AA24<='Parâmetros de Fluxo de Caixa'!$B$12,\"Operação\",\"\")))","v":""},{"$f":"IF(AB24<='Parâmetros de Fluxo de Caixa'!$B$3,\"Construção\",IF(AB24='Parâmetros de Fluxo de Caixa'!$B$3+1+'Parâmetros de Fluxo de Caixa'!$B$4/12,\"Start-up\",IF(AB24<='Parâmetros de Fluxo de Caixa'!$B$12,\"Operação\",\"\")))","v":""},{"$f":"IF(AC24<='Parâmetros de Fluxo de Caixa'!$B$3,\"Construção\",IF(AC24='Parâmetros de Fluxo de Caixa'!$B$3+1+'Parâmetros de Fluxo de Caixa'!$B$4/12,\"Start-up\",IF(AC24<='Parâmetros de Fluxo de Caixa'!$B$12,\"Operação\",\"\")))","v":""},{"$f":"IF(AD24<='Parâmetros de Fluxo de Caixa'!$B$3,\"Construção\",IF(AD24='Parâmetros de Fluxo de Caixa'!$B$3+1+'Parâmetros de Fluxo de Caixa'!$B$4/12,\"Start-up\",IF(AD24<='Parâmetros de Fluxo de Caixa'!$B$12,\"Operação\",\"\")))","v":""},{"$f":"IF(AE24<='Parâmetros de Fluxo de Caixa'!$B$3,\"Construção\",IF(AE24='Parâmetros de Fluxo de Caixa'!$B$3+1+'Parâmetros de Fluxo de Caixa'!$B$4/12,\"Start-up\",IF(AE24<='Parâmetros de Fluxo de Caixa'!$B$12,\"Operação\",\"\")))","v":""},{"$f":"IF(AF24<='Parâmetros de Fluxo de Caixa'!$B$3,\"Construção\",IF(AF24='Parâmetros de Fluxo de Caixa'!$B$3+1+'Parâmetros de Fluxo de Caixa'!$B$4/12,\"Start-up\",IF(AF24<='Parâmetros de Fluxo de Caixa'!$B$12,\"Operação\",\"\")))","v":""},{"$f":"IF(AG24<='Parâmetros de Fluxo de Caixa'!$B$3,\"Construção\",IF(AG24='Parâmetros de Fluxo de Caixa'!$B$3+1+'Parâmetros de Fluxo de Caixa'!$B$4/12,\"Start-up\",IF(AG24<='Parâmetros de Fluxo de Caixa'!$B$12,\"Operação\",\"\")))","v":""},{"$f":"IF(AH24<='Parâmetros de Fluxo de Caixa'!$B$3,\"Construção\",IF(AH24='Parâmetros de Fluxo de Caixa'!$B$3+1+'Parâmetros de Fluxo de Caixa'!$B$4/12,\"Start-up\",IF(AH24<='Parâmetros de Fluxo de Caixa'!$B$12,\"Operação\",\"\")))","v":""},{"$f":"IF(AI24<='Parâmetros de Fluxo de Caixa'!$B$3,\"Construção\",IF(AI24='Parâmetros de Fluxo de Caixa'!$B$3+1+'Parâmetros de Fluxo de Caixa'!$B$4/12,\"Start-up\",IF(AI24<='Parâmetros de Fluxo de Caixa'!$B$12,\"Operação\",\"\")))","v":""},{"$f":"IF(AJ24<='Parâmetros de Fluxo de Caixa'!$B$3,\"Construção\",IF(AJ24='Parâmetros de Fluxo de Caixa'!$B$3+1+'Parâmetros de Fluxo de Caixa'!$B$4/12,\"Start-up\",IF(AJ24<='Parâmetros de Fluxo de Caixa'!$B$12,\"Operação\",\"\")))","v":""},{"$f":"IF(AK24<='Parâmetros de Fluxo de Caixa'!$B$3,\"Construção\",IF(AK24='Parâmetros de Fluxo de Caixa'!$B$3+1+'Parâmetros de Fluxo de Caixa'!$B$4/12,\"Start-up\",IF(AK24<='Parâmetros de Fluxo de Caixa'!$B$12,\"Operação\",\"\")))","v":""},{"$f":"IF(AL24<='Parâmetros de Fluxo de Caixa'!$B$3,\"Construção\",IF(AL24='Parâmetros de Fluxo de Caixa'!$B$3+1+'Parâmetros de Fluxo de Caixa'!$B$4/12,\"Start-up\",IF(AL24<='Parâmetros de Fluxo de Caixa'!$B$12,\"Operação\",\"\")))","v":""},{"$f":"IF(AM24<='Parâmetros de Fluxo de Caixa'!$B$3,\"Construção\",IF(AM24='Parâmetros de Fluxo de Caixa'!$B$3+1+'Parâmetros de Fluxo de Caixa'!$B$4/12,\"Start-up\",IF(AM24<='Parâmetros de Fluxo de Caixa'!$B$12,\"Operação\",\"\")))","v":""},{"$f":"IF(AN24<='Parâmetros de Fluxo de Caixa'!$B$3,\"Construção\",IF(AN24='Parâmetros de Fluxo de Caixa'!$B$3+1+'Parâmetros de Fluxo de Caixa'!$B$4/12,\"Start-up\",IF(AN24<='Parâmetros de Fluxo de Caixa'!$B$12,\"Operação\",\"\")))","v":""},{"$f":"IF(AO24<='Parâmetros de Fluxo de Caixa'!$B$3,\"Construção\",IF(AO24='Parâmetros de Fluxo de Caixa'!$B$3+1+'Parâmetros de Fluxo de Caixa'!$B$4/12,\"Start-up\",IF(AO24<='Parâmetros de Fluxo de Caixa'!$B$12,\"Operação\",\"\")))","v":""},{"$f":"IF(AP24<='Parâmetros de Fluxo de Caixa'!$B$3,\"Construção\",IF(AP24='Parâmetros de Fluxo de Caixa'!$B$3+1+'Parâmetros de Fluxo de Caixa'!$B$4/12,\"Start-up\",IF(AP24<='Parâmetros de Fluxo de Caixa'!$B$12,\"Operação\",\"\")))","v":""},{"$f":"IF(AQ24<='Parâmetros de Fluxo de Caixa'!$B$3,\"Construção\",IF(AQ24='Parâmetros de Fluxo de Caixa'!$B$3+1+'Parâmetros de Fluxo de Caixa'!$B$4/12,\"Start-up\",IF(AQ24<='Parâmetros de Fluxo de Caixa'!$B$12,\"Operação\",\"\")))","v":""},{"$f":"IF(AR24<='Parâmetros de Fluxo de Caixa'!$B$3,\"Construção\",IF(AR24='Parâmetros de Fluxo de Caixa'!$B$3+1+'Parâmetros de Fluxo de Caixa'!$B$4/12,\"Start-up\",IF(AR24<='Parâmetros de Fluxo de Caixa'!$B$12,\"Operação\",\"\")))","v":""},{"$f":"IF(AS24<='Parâmetros de Fluxo de Caixa'!$B$3,\"Construção\",IF(AS24='Parâmetros de Fluxo de Caixa'!$B$3+1+'Parâmetros de Fluxo de Caixa'!$B$4/12,\"Start-up\",IF(AS24<='Parâmetros de Fluxo de Caixa'!$B$12,\"Operação\",\"\")))","v":""},{"$f":"IF(AT24<='Parâmetros de Fluxo de Caixa'!$B$3,\"Construção\",IF(AT24='Parâmetros de Fluxo de Caixa'!$B$3+1+'Parâmetros de Fluxo de Caixa'!$B$4/12,\"Start-up\",IF(AT24<='Parâmetros de Fluxo de Caixa'!$B$12,\"Operação\",\"\")))","v":""},{"$f":"IF(AU24<='Parâmetros de Fluxo de Caixa'!$B$3,\"Construção\",IF(AU24='Parâmetros de Fluxo de Caixa'!$B$3+1+'Parâmetros de Fluxo de Caixa'!$B$4/12,\"Start-up\",IF(AU24<='Parâmetros de Fluxo de Caixa'!$B$12,\"Operação\",\"\")))","v":""},{"$f":"IF(AV24<='Parâmetros de Fluxo de Caixa'!$B$3,\"Construção\",IF(AV24='Parâmetros de Fluxo de Caixa'!$B$3+1+'Parâmetros de Fluxo de Caixa'!$B$4/12,\"Start-up\",IF(AV24<='Parâmetros de Fluxo de Caixa'!$B$12,\"Operação\",\"\")))","v":""}]
[]
["Receitas (milhões R$ / ano)",{"$f":"IF(B25=\"Construção\",0,IF(B25=\"Start-up\",('CAPEX e OPEX'!$C$53*'Fluxo de Caixa Descontado'!$B$3)*(1-'Parâmetros de Fluxo de Caixa'!$B$14)+'Parâmetros de Fluxo de Caixa'!$B$14*'Parâmetros de Fluxo de Caixa'!$B$15*'Fluxo de Caixa Descontado'!C27,IF(B25=\"Operação\",'CAPEX e OPEX'!$C$53*'Fluxo de Caixa Descontado'!$B$3,\"\")))","v":0},{"$f":"IF(C25=\"Construção\",0,IF(C25=\"Start-up\",('CAPEX e OPEX'!$C$53*'Fluxo de Caixa Descontado'!$B$3)*(1-'Parâmetros de Fluxo de Caixa'!$B$14)+'Parâmetros de Fluxo de Caixa'!$B$14*'Parâmetros de Fluxo de Caixa'!$B$15*'Fluxo de Caixa Descontado'!D27,IF(C25=\"Operação\",'CAPEX e OPEX'!$C$53*'Fluxo de Caixa Descontado'!$B$3,\"\")))","v":0},{"$f":"IF(D25=\"Construção\",0,IF(D25=\"Start-up\",('CAPEX e OPEX'!$C$53*'Fluxo de Caixa Descontado'!$B$3)*(1-'Parâmetros de Fluxo de Caixa'!$B$14)+'Parâmetros de Fluxo de Caixa'!$B$14*'Parâmetros de Fluxo de Caixa'!$B$15*'Fluxo de Caixa Descontado'!E27,IF(D25=\"Operação\",'CAPEX e OPEX'!$C$53*'Fluxo de Caixa Descontado'!$B$3,\"\")))","v":0},{"$f":"IF(E25=\"Construção\",0,IF(E25=\"Start-up\",('CAPEX e OPEX'!$C$53*'Fluxo de Caixa Descontado'!$B$3)*(1-'Parâmetros de Fluxo de Caixa'!$B$14)+'Parâmetros de Fluxo de Caixa'!$B$14*'Parâmetros de Fluxo de Caixa'!$B$15*'Fluxo de Caixa Descontado'!F27,IF(E25=\"Operação\",'CAPEX e OPEX'!$C$53*'Fluxo de Caixa Descontado'!$B$3,\"\")))","v":5233.0915534060214},{"$f":"IF(F25=\"Construção\",0,IF(F25=\"Start-up\",('CAPEX e OPEX'!$C$53*'Fluxo de Caixa Descontado'!$B$3)*(1-'Parâmetros de Fluxo de Caixa'!$B$14)+'Parâmetros de Fluxo de Caixa'!$B$14*'Parâmetros de Fluxo de Caixa'!$B$15*'Fluxo de Caixa Descontado'!G27,IF(F25=\"Operação\",'CAPEX e OPEX'!$C$53*'Fluxo de Caixa Descontado'!$B$3,\"\")))","v":5980.6760610354531},{"$f":"IF(G25=\"Construção\",0,IF(G25=\"Start-up\",('CAPEX e OPEX'!$C$53*'Fluxo de Caixa Descontado'!$B$3)*(1-'Parâmetros de Fluxo de Caixa'!$B$14)+'Parâmetros de Fluxo de Caixa'!$B$14*'Parâmetros de Fluxo de Caixa'!$B$15*'Fluxo de Caixa Descontado'!H27,IF(G25=\"Operação\",'CAPEX e OPEX'!$C$53*'Fluxo de Caixa Descontado'!$B$3,\"\")))","v":5980.6760610354531},{"$f":"IF(H25=\"Construção\",0,IF(H25=\"Start-up\",('CAPEX e OPEX'!$C$53*'Fluxo de Caixa Descontado'!$B$3)*(1-'Parâmetros de Fluxo de Caixa'!$B$14)+'Parâmetros de Fluxo de Caixa'!$B$14*'Parâmetros de Fluxo de Caixa'!$B$15*'Fluxo de Caixa Descontado'!I27,IF(H25=\"Operação\",'CAPEX e OPEX'!$C$53*'Fluxo de Caixa Descontado'!$B$3,\"\")))","v":5980.6760610354531},{"$f":"IF(I25=\"Construção\",0,IF(I25=\"Start-up\",('CAPEX e OPEX'!$C$53*'Fluxo de Caixa Descontado'!$B$3)*(1-'Parâmetros de Fluxo de Caixa'!$B$14)+'Parâmetros de Fluxo de Caixa'!$B$14*'Parâmetros de Fluxo de Caixa'!$B$15*'Fluxo de Caixa Descontado'!J27,IF(I25=\"Operação\",'CAPEX e OPEX'!$C$53*'Fluxo de Caixa Descontado'!$B$3,\"\")))","v":5980.6760610354531},{"$f":"IF(J25=\"Construção\",0,IF(J25=\"Start-up\",('CAPEX e OPEX'!$C$53*'Fluxo de Caixa Descontado'!$B$3)*(1-'Parâmetros de Fluxo de Caixa'!$B$14)+'Parâmetros de Fluxo de Caixa'!$B$14*'Parâmetros de Fluxo de Caixa'!$B$15*'Fluxo de Caixa Descontado'!K27,IF(J25=\"Operação\",'CAPEX e OPEX'!$C$53*'Fluxo de Caixa Descontado'!$B$3,\"\")))","v":5980.6760610354531},{"$f":"IF(K25=\"Construção\",0,IF(K25=\"Start-up\",('CAPEX e OPEX'!$C$53*'Fluxo de Caixa Descontado'!$B$3)*(1-'Parâmetros de Fluxo de Caixa'!$B$14)+'Parâmetros de Fluxo de Caixa'!$B$14*'Parâmetros de Fluxo de Caixa'!$B$15*'Fluxo de Caixa Descontado'!L27,IF(K25=\"Operação\",'CAPEX e OPEX'!$C$53*'Fluxo de Caixa Descontado'!$B$3,\"\")))","v":5980.6760610354531},{"$f":"IF(L25=\"Construção\",0,IF(L25=\"Start-up\",('CAPEX e OPEX'!$C$53*'Fluxo de Caixa Descontado'!$B$3)*(1-'Parâmetros de Fluxo de Caixa'!$B$14)+'Parâmetros de Fluxo de Caixa'!$B$14*'Parâmetros de Fluxo de Caixa'!$B$15*'Fluxo de Caixa Descontado'!M27,IF(L25=\"Operação\",'CAPEX e OPEX'!$C$53*'Fluxo de Caixa Descontado'!$B$3,\"\")))","v":5980.6760610354531},{"$f":"IF(M25=\"Construção\",0,IF(M25=\"Start-up\",('CAPEX e OPEX'!$C$53*'Fluxo de Caixa Descontado'!$B$3)*(1-'Parâmetros de Fluxo de Caixa'!$B$14)+'Parâmetros de Fluxo de Caixa'!$B$14*'Parâmetros de Fluxo de Caixa'!$B$15*'Fluxo de Caixa Descontado'!N27,IF(M25=\"Operação\",'CAPEX e OPEX'!$C$53*'Fluxo de Caixa Descontado'!$B$3,\"\")))","v":5980.6760610354531},{"$f":"IF(N25=\"Construção\",0,IF(N25=\"Start-up\",('CAPEX e OPEX'!$C$53*'Fluxo de Caixa Descontado'!$B$3)*(1-'Parâmetros de Fluxo de Caixa'!$B$14)+'Parâmetros de Fluxo de Caixa'!$B$14*'Parâmetros de Fluxo de Caixa'!$B$15*'Fluxo de Caixa Descontado'!O27,IF(N25=\"Operação\",'CAPEX e OPEX'!$C$53*'Fluxo de Caixa Descontado'!$B$3,\"\")))","v":5980.6760610354531},{"$f":"IF(O25=\"Construção\",0,IF(O25=\"Start-up\",('CAPEX e OPEX'!$C$53*'Fluxo de Caixa Descontado'!$B$3)*(1-'Parâmetros de Fluxo de Caixa'!$B$14)+'Parâmetros de Fluxo de Caixa'!$B$14*'Parâmetros de Fluxo de Caixa'!$B$15*'Fluxo de Caixa Descontado'!P27,IF(O25=\"Operação\",'CAPEX e OPEX'!$C$53*'Fluxo de Caixa Descontado'!$B$3,\"\")))","v":5980.6760610354531},{"$f":"IF(P25=\"Construção\",0,IF(P25=\"Start-up\",('CAPEX e OPEX'!$C$53*'Fluxo de Caixa Descontado'!$B$3)*(1-'Parâmetros de Fluxo de Caixa'!$B$14)+'Parâmetros de Fluxo de Caixa'!$B$14*'Parâmetros de Fluxo de Caixa'!$B$15*'Fluxo de Caixa Descontado'!Q27,IF(P25=\"Operação\",'CAPEX e OPEX'!$C$53*'Fluxo de Caixa Descontado'!$B$3,\"\")))","v":5980.6760610354531},{"$f":"IF(Q25=\"Construção\",0,IF(Q25=\"Start-up\",('CAPEX e OPEX'!$C$53*'Fluxo de Caixa Descontado'!$B$3)*(1-'Parâmetros de Fluxo de Caixa'!$B$14)+'Parâmetros de Fluxo de Caixa'!$B$14*'Parâmetros de Fluxo de Caixa'!$B$15*'Fluxo de Caixa Descontado'!R27,IF(Q25=\"Operação\",'CAPEX e OPEX'!$C$53*'Fluxo de Caixa Descontado'!$B$3,\"\")))","v":5980.6760610354531},{"$f":"IF(R25=\"Construção\",0,IF(R25=\"Start-up\",('CAPEX e OPEX'!$C$53*'Fluxo de Caixa Descontado'!$B$3)*(1-'Parâmetros de Fluxo de Caixa'!$B$14)+'Parâmetros de Fluxo de Caixa'!$B$14*'Parâmetros de Fluxo de Caixa'!$B$15*'Fluxo de Caixa Descontado'!S27,IF(R25=\"Operação\",'CAPEX e OPEX'!$C$53*'Fluxo de Caixa Descontado'!$B$3,\"\")))","v":5980.6760610354531},{"$f":"IF(S25=\"Construção\",0,IF(S25=\"Start-up\",('CAPEX e OPEX'!$C$53*'Fluxo de Caixa Descontado'!$B$3)*(1-'Parâmetros de Fluxo de Caixa'!$B$14)+'Parâmetros de Fluxo de Caixa'!$B$14*'Parâmetros de Fluxo de Caixa'!$B$15*'Fluxo de Caixa Descontado'!T27,IF(S25=\"Operação\",'CAPEX e OPEX'!$C$53*'Fluxo de Caixa Descontado'!$B$3,\"\")))","v":5980.6760610354531},{"$f":"IF(T25=\"Construção\",0,IF(T25=\"Start-up\",('CAPEX e OPEX'!$C$53*'Fluxo de Caixa Descontado'!$B$3)*(1-'Parâmetros de Fluxo de Caixa'!$B$14)+'Parâmetros de Fluxo de Caixa'!$B$14*'Parâmetros de Fluxo de Caixa'!$B$15*'Fluxo de Caixa Descontado'!U27,IF(T25=\"Operação\",'CAPEX e OPEX'!$C$53*'Fluxo de Caixa Descontado'!$B$3,\"\")))","v":5980.6760610354531},{"$f":"IF(U25=\"Construção\",0,IF(U25=\"Start-up\",('CAPEX e OPEX'!$C$53*'Fluxo de Caixa Descontado'!$B$3)*(1-'Parâmetros de Fluxo de Caixa'!$B$14)+'Parâmetros de Fluxo de Caixa'!$B$14*'Parâmetros de Fluxo de Caixa'!$B$15*'Fluxo de Caixa Descontado'!V27,IF(U25=\"Operação\",'CAPEX e OPEX'!$C$53*'Fluxo de Caixa Descontado'!$B$3,\"\")))","v":5980.6760610354531},{"$f":"IF(V25=\"Construção\",0,IF(V25=\"Start-up\",('CAPEX e OPEX'!$C$53*'Fluxo de Caixa Descontado'!$B$3)*(1-'Parâmetros de Fluxo de Caixa'!$B$14)+'Parâmetros de Fluxo de Caixa'!$B$14*'Parâmetros de Fluxo de Caixa'!$B$15*'Fluxo de Caixa Descontado'!W27,IF(V25=\"Operação\",'CAPEX e OPEX'!$C$53*'Fluxo de Caixa Descontado'!$B$3,\"\")))","v":5980.6760610354531},{"$f":"IF(W25=\"Construção\",0,IF(W25=\"Start-up\",('CAPEX e OPEX'!$C$53*'Fluxo de Caixa Descontado'!$B$3)*(1-'Parâmetros de Fluxo de Caixa'!$B$14)+'Parâmetros de Fluxo de Caixa'!$B$14*'Parâmetros de Fluxo de Caixa'!$B$15*'Fluxo de Caixa Descontado'!X27,IF(W25=\"Operação\",'CAPEX e OPEX'!$C$53*'Fluxo de Caixa Descontado'!$B$3,\"\")))","v":5980.6760610354531},{"$f":"IF(X25=\"Construção\",0,IF(X25=\"Start-up\",('CAPEX e OPEX'!$C$53*'Fluxo de Caixa Descontado'!$B$3)*(1-'Parâmetros de Fluxo de Caixa'!$B$14)+'Parâmetros de Fluxo de Caixa'!$B$14*'Parâmetros de Fluxo de Caixa'!$B$15*'Fluxo de Caixa Descontado'!Y27,IF(X25=\"Operação\",'CAPEX e OPEX'!$C$53*'Fluxo de Caixa Descontado'!$B$3,\"\")))","v":5980.6760610354531},{"$f":"IF(Y25=\"Construção\",0,IF(Y25=\"Start-up\",('CAPEX e OPEX'!$C$53*'Fluxo de Caixa Descontado'!$B$3)*(1-'Parâmetros de Fluxo de Caixa'!$B$14)+'Parâmetros de Fluxo de Caixa'!$B$14*'Parâmetros de Fluxo de Caixa'!$B$15*'Fluxo de Caixa Descontado'!Z27,IF(Y25=\"Operação\",'CAPEX e OPEX'!$C$53*'Fluxo de Caixa Descontado'!$B$3,\"\")))","v":""},{"$f":"IF(Z25=\"Construção\",0,IF(Z25=\"Start-up\",('CAPEX e OPEX'!$C$53*'Fluxo de Caixa Descontado'!$B$3)*(1-'Parâmetros de Fluxo de Caixa'!$B$14)+'Parâmetros de Fluxo de Caixa'!$B$14*'Parâmetros de Fluxo de Caixa'!$B$15*'Fluxo de Caixa Descontado'!AA27,IF(Z25=\"Operação\",'CAPEX e OPEX'!$C$53*'Fluxo de Caixa Descontado'!$B$3,\"\")))","v":""},{"$f":"IF(AA25=\"Construção\",0,IF(AA25=\"Start-up\",('CAPEX e OPEX'!$C$53*'Fluxo de Caixa Descontado'!$B$3)*(1-'Parâmetros de Fluxo de Caixa'!$B$14)+'Parâmetros de Fluxo de Caixa'!$B$14*'Parâmetros de Fluxo de Caixa'!$B$15*'Fluxo de Caixa Descontado'!AB27,IF(AA25=\"Operação\",'CAPEX e OPEX'!$C$53*'Fluxo de Caixa Descontado'!$B$3,\"\")))","v":""},{"$f":"IF(AB25=\"Construção\",0,IF(AB25=\"Start-up\",('CAPEX e OPEX'!$C$53*'Fluxo de Caixa Descontado'!$B$3)*(1-'Parâmetros de Fluxo de Caixa'!$B$14)+'Parâmetros de Fluxo de Caixa'!$B$14*'Parâmetros de Fluxo de Caixa'!$B$15*'Fluxo de Caixa Descontado'!AC27,IF(AB25=\"Operação\",'CAPEX e OPEX'!$C$53*'Fluxo de Caixa Descontado'!$B$3,\"\")))","v":""},{"$f":"IF(AC25=\"Construção\",0,IF(AC25=\"Start-up\",('CAPEX e OPEX'!$C$53*'Fluxo de Caixa Descontado'!$B$3)*(1-'Parâmetros de Fluxo de Caixa'!$B$14)+'Parâmetros de Fluxo de Caixa'!$B$14*'Parâmetros de Fluxo de Caixa'!$B$15*'Fluxo de Caixa Descontado'!AD27,IF(AC25=\"Operação\",'CAPEX e OPEX'!$C$53*'Fluxo de Caixa Descontado'!$B$3,\"\")))","v":""},{"$f":"IF(AD25=\"Construção\",0,IF(AD25=\"Start-up\",('CAPEX e OPEX'!$C$53*'Fluxo de Caixa Descontado'!$B$3)*(1-'Parâmetros de Fluxo de Caixa'!$B$14)+'Parâmetros de Fluxo de Caixa'!$B$14*'Parâmetros de Fluxo de Caixa'!$B$15*'Fluxo de Caixa Descontado'!AE27,IF(AD25=\"Operação\",'CAPEX e OPEX'!$C$53*'Fluxo de Caixa Descontado'!$B$3,\"\")))","v":""},{"$f":"IF(AE25=\"Construção\",0,IF(AE25=\"Start-up\",('CAPEX e OPEX'!$C$53*'Fluxo de Caixa Descontado'!$B$3)*(1-'Parâmetros de Fluxo de Caixa'!$B$14)+'Parâmetros de Fluxo de Caixa'!$B$14*'Parâmetros de Fluxo de Caixa'!$B$15*'Fluxo de Caixa Descontado'!AF27,IF(AE25=\"Operação\",'CAPEX e OPEX'!$C$53*'Fluxo de Caixa Descontado'!$B$3,\"\")))","v":""},{"$f":"IF(AF25=\"Construção\",0,IF(AF25=\"Start-up\",('CAPEX e OPEX'!$C$53*'Fluxo de Caixa Descontado'!$B$3)*(1-'Parâmetros de Fluxo de Caixa'!$B$14)+'Parâmetros de Fluxo de Caixa'!$B$14*'Parâmetros de Fluxo de Caixa'!$B$15*'Fluxo de Caixa Descontado'!AG27,IF(AF25=\"Operação\",'CAPEX e OPEX'!$C$53*'Fluxo de Caixa Descontado'!$B$3,\"\")))","v":""},{"$f":"IF(AG25=\"Construção\",0,IF(AG25=\"Start-up\",('CAPEX e OPEX'!$C$53*'Fluxo de Caixa Descontado'!$B$3)*(1-'Parâmetros de Fluxo de Caixa'!$B$14)+'Parâmetros de Fluxo de Caixa'!$B$14*'Parâmetros de Fluxo de Caixa'!$B$15*'Fluxo de Caixa Descontado'!AH27,IF(AG25=\"Operação\",'CAPEX e OPEX'!$C$53*'Fluxo de Caixa Descontado'!$B$3,\"\")))","v":""},{"$f":"IF(AH25=\"Construção\",0,IF(AH25=\"Start-up\",('CAPEX e OPEX'!$C$53*'Fluxo de Caixa Descontado'!$B$3)*(1-'Parâmetros de Fluxo de Caixa'!$B$14)+'Parâmetros de Fluxo de Caixa'!$B$14*'Parâmetros de Fluxo de Caixa'!$B$15*'Fluxo de Caixa Descontado'!AI27,IF(AH25=\"Operação\",'CAPEX e OPEX'!$C$53*'Fluxo de Caixa Descontado'!$B$3,\"\")))","v":""},{"$f":"IF(AI25=\"Construção\",0,IF(AI25=\"Start-up\",('CAPEX e OPEX'!$C$53*'Fluxo de Caixa Descontado'!$B$3)*(1-'Parâmetros de Fluxo de Caixa'!$B$14)+'Parâmetros de Fluxo de Caixa'!$B$14*'Parâmetros de Fluxo de Caixa'!$B$15*'Fluxo de Caixa Descontado'!AJ27,IF(AI25=\"Operação\",'CAPEX e OPEX'!$C$53*'Fluxo de Caixa Descontado'!$B$3,\"\")))","v":""},{"$f":"IF(AJ25=\"Construção\",0,IF(AJ25=\"Start-up\",('CAPEX e OPEX'!$C$53*'Fluxo de Caixa Descontado'!$B$3)*(1-'Parâmetros de Fluxo de Caixa'!$B$14)+'Parâmetros de Fluxo de Caixa'!$B$14*'Parâmetros de Fluxo de Caixa'!$B$15*'Fluxo de Caixa Descontado'!AK27,IF(AJ25=\"Operação\",'CAPEX e OPEX'!$C$53*'Fluxo de Caixa Descontado'!$B$3,\"\")))","v":""},{"$f":"IF(AK25=\"Construção\",0,IF(AK25=\"Start-up\",('CAPEX e OPEX'!$C$53*'Fluxo de Caixa Descontado'!$B$3)*(1-'Parâmetros de Fluxo de Caixa'!$B$14)+'Parâmetros de Fluxo de Caixa'!$B$14*'Parâmetros de Fluxo de Caixa'!$B$15*'Fluxo de Caixa Descontado'!AL27,IF(AK25=\"Operação\",'CAPEX e OPEX'!$C$53*'Fluxo de Caixa Descontado'!$B$3,\"\")))","v":""},{"$f":"IF(AL25=\"Construção\",0,IF(AL25=\"Start-up\",('CAPEX e OPEX'!$C$53*'Fluxo de Caixa Descontado'!$B$3)*(1-'Parâmetros de Fluxo de Caixa'!$B$14)+'Parâmetros de Fluxo de Caixa'!$B$14*'Parâmetros de Fluxo de Caixa'!$B$15*'Fluxo de Caixa Descontado'!AM27,IF(AL25=\"Operação\",'CAPEX e OPEX'!$C$53*'Fluxo de Caixa Descontado'!$B$3,\"\")))","v":""},{"$f":"IF(AM25=\"Construção\",0,IF(AM25=\"Start-up\",('CAPEX e OPEX'!$C$53*'Fluxo de Caixa Descontado'!$B$3)*(1-'Parâmetros de Fluxo de Caixa'!$B$14)+'Parâmetros de Fluxo de Caixa'!$B$14*'Parâmetros de Fluxo de Caixa'!$B$15*'Fluxo de Caixa Descontado'!AN27,IF(AM25=\"Operação\",'CAPEX e OPEX'!$C$53*'Fluxo de Caixa Descontado'!$B$3,\"\")))","v":""},{"$f":"IF(AN25=\"Construção\",0,IF(AN25=\"Start-up\",('CAPEX e OPEX'!$C$53*'Fluxo de Caixa Descontado'!$B$3)*(1-'Parâmetros de Fluxo de Caixa'!$B$14)+'Parâmetros de Fluxo de Caixa'!$B$14*'Parâmetros de Fluxo de Caixa'!$B$15*'Fluxo de Caixa Descontado'!AO27,IF(AN25=\"Operação\",'CAPEX e OPEX'!$C$53*'Fluxo de Caixa Descontado'!$B$3,\"\")))","v":""},{"$f":"IF(AO25=\"Construção\",0,IF(AO25=\"Start-up\",('CAPEX e OPEX'!$C$53*'Fluxo de Caixa Descontado'!$B$3)*(1-'Parâmetros de Fluxo de Caixa'!$B$14)+'Parâmetros de Fluxo de Caixa'!$B$14*'Parâmetros de Fluxo de Caixa'!$B$15*'Fluxo de Caixa Descontado'!AP27,IF(AO25=\"Operação\",'CAPEX e OPEX'!$C$53*'Fluxo de Caixa Descontado'!$B$3,\"\")))","v":""},{"$f":"IF(AP25=\"Construção\",0,IF(AP25=\"Start-up\",('CAPEX e OPEX'!$C$53*'Fluxo de Caixa Descontado'!$B$3)*(1-'Parâmetros de Fluxo de Caixa'!$B$14)+'Parâmetros de Fluxo de Caixa'!$B$14*'Parâmetros de Fluxo de Caixa'!$B$15*'Fluxo de Caixa Descontado'!AQ27,IF(AP25=\"Operação\",'CAPEX e OPEX'!$C$53*'Fluxo de Caixa Descontado'!$B$3,\"\")))","v":""},{"$f":"IF(AQ25=\"Construção\",0,IF(AQ25=\"Start-up\",('CAPEX e OPEX'!$C$53*'Fluxo de Caixa Descontado'!$B$3)*(1-'Parâmetros de Fluxo de Caixa'!$B$14)+'Parâmetros de Fluxo de Caixa'!$B$14*'Parâmetros de Fluxo de Caixa'!$B$15*'Fluxo de Caixa Descontado'!AR27,IF(AQ25=\"Operação\",'CAPEX e OPEX'!$C$53*'Fluxo de Caixa Descontado'!$B$3,\"\")))","v":""},{"$f":"IF(AR25=\"Construção\",0,IF(AR25=\"Start-up\",('CAPEX e OPEX'!$C$53*'Fluxo de Caixa Descontado'!$B$3)*(1-'Parâmetros de Fluxo de Caixa'!$B$14)+'Parâmetros de Fluxo de Caixa'!$B$14*'Parâmetros de Fluxo de Caixa'!$B$15*'Fluxo de Caixa Descontado'!AV27,IF(AR25=\"Operação\",'CAPEX e OPEX'!$C$53*'Fluxo de Caixa Descontado'!$B$3,\"\")))","v":""},{"$f":"IF(AS25=\"Construção\",0,IF(AS25=\"Start-up\",('CAPEX e OPEX'!$C$53*'Fluxo de Caixa Descontado'!$B$3)*(1-'Parâmetros de Fluxo de Caixa'!$B$14)+'Parâmetros de Fluxo de Caixa'!$B$14*'Parâmetros de Fluxo de Caixa'!$B$15*'Fluxo de Caixa Descontado'!AW27,IF(AS25=\"Operação\",'CAPEX e OPEX'!$C$53*'Fluxo de Caixa Descontado'!$B$3,\"\")))","v":""},{"$f":"IF(AT25=\"Construção\",0,IF(AT25=\"Start-up\",('CAPEX e OPEX'!$C$53*'Fluxo de Caixa Descontado'!$B$3)*(1-'Parâmetros de Fluxo de Caixa'!$B$14)+'Parâmetros de Fluxo de Caixa'!$B$14*'Parâmetros de Fluxo de Caixa'!$B$15*'Fluxo de Caixa Descontado'!AX27,IF(AT25=\"Operação\",'CAPEX e OPEX'!$C$53*'Fluxo de Caixa Descontado'!$B$3,\"\")))","v":""},{"$f":"IF(AU25=\"Construção\",0,IF(AU25=\"Start-up\",('CAPEX e OPEX'!$C$53*'Fluxo de Caixa Descontado'!$B$3)*(1-'Parâmetros de Fluxo de Caixa'!$B$14)+'Parâmetros de Fluxo de Caixa'!$B$14*'Parâmetros de Fluxo de Caixa'!$B$15*'Fluxo de Caixa Descontado'!AY27,IF(AU25=\"Operação\",'CAPEX e OPEX'!$C$53*'Fluxo de Caixa Descontado'!$B$3,\"\")))","v":""},{"$f":"IF(AV25=\"Construção\",0,IF(AV25=\"Start-up\",('CAPEX e OPEX'!$C$53*'Fluxo de Caixa Descontado'!$B$3)*(1-'Parâmetros de Fluxo de Caixa'!$B$14)+'Parâmetros de Fluxo de Caixa'!$B$14*'Parâmetros de Fluxo de Caixa'!$B$15*'Fluxo de Caixa Descontado'!AZ27,IF(AV25=\"Operação\",'CAPEX e OPEX'!$C$53*'Fluxo de Caixa Descontado'!$B$3,\"\")))","v":""}]
["OPEX variável (milhões R$ / ano)",{"$f":"IF(B25=\"Construção\",0,IF(B25=\"Start-up\",-('CAPEX e OPEX'!$C$52*'Fluxo de Caixa Descontado'!$B$3*(1-'Parâmetros de Fluxo de Caixa'!$B$14)+'Parâmetros de Fluxo de Caixa'!$B$14*'Parâmetros de Fluxo de Caixa'!$B$16*-'Fluxo de Caixa Descontado'!C28),IF(B25=\"Operação\",-('CAPEX e OPEX'!$C$52*'Fluxo de Caixa Descontado'!$B$3),\"\")))","v":0},{"$f":"IF(C25=\"Construção\",0,IF(C25=\"Start-up\",-('CAPEX e OPEX'!$C$52*'Fluxo de Caixa Descontado'!$B$3*(1-'Parâmetros de Fluxo de Caixa'!$B$14)+'Parâmetros de Fluxo de Caixa'!$B$14*'Parâmetros de Fluxo de Caixa'!$B$16*-'Fluxo de Caixa Descontado'!D28),IF(C25=\"Operação\",-('CAPEX e OPEX'!$C$52*'Fluxo de Caixa Descontado'!$B$3),\"\")))","v":0},{"$f":"IF(D25=\"Construção\",0,IF(D25=\"Start-up\",-('CAPEX e OPEX'!$C$52*'Fluxo de Caixa Descontado'!$B$3*(1-'Parâmetros de Fluxo de Caixa'!$B$14)+'Parâmetros de Fluxo de Caixa'!$B$14*'Parâmetros de Fluxo de Caixa'!$B$16*-'Fluxo de Caixa Descontado'!E28),IF(D25=\"Operação\",-('CAPEX e OPEX'!$C$52*'Fluxo de Caixa Descontado'!$B$3),\"\")))","v":0},{"$f":"IF(E25=\"Construção\",0,IF(E25=\"Start-up\",-('CAPEX e OPEX'!$C$52*'Fluxo de Caixa Descontado'!$B$3*(1-'Parâmetros de Fluxo de Caixa'!$B$14)+'Parâmetros de Fluxo de Caixa'!$B$14*'Parâmetros de Fluxo de Caixa'!$B$16*-'Fluxo de Caixa Descontado'!F28),IF(E25=\"Operação\",-('CAPEX e OPEX'!$C$52*'Fluxo de Caixa Descontado'!$B$3),\"\")))","v":-3790.6237697616061},{"$f":"IF(F25=\"Construção\",0,IF(F25=\"Start-up\",-('CAPEX e OPEX'!$C$52*'Fluxo de Caixa Descontado'!$B$3*(1-'Parâmetros de Fluxo de Caixa'!$B$14)+'Parâmetros de Fluxo de Caixa'!$B$14*'Parâmetros de Fluxo de Caixa'!$B$16*-'Fluxo de Caixa Descontado'!G28),IF(F25=\"Operação\",-('CAPEX e OPEX'!$C$52*'Fluxo de Caixa Descontado'!$B$3),\"\")))","v":-4332.1414511561215},{"$f":"IF(G25=\"Construção\",0,IF(G25=\"Start-up\",-('CAPEX e OPEX'!$C$52*'Fluxo de Caixa Descontado'!$B$3*(1-'Parâmetros de Fluxo de Caixa'!$B$14)+'Parâmetros de Fluxo de Caixa'!$B$14*'Parâmetros de Fluxo de Caixa'!$B$16*-'Fluxo de Caixa Descontado'!H28),IF(G25=\"Operação\",-('CAPEX e OPEX'!$C$52*'Fluxo de Caixa Descontado'!$B$3),\"\")))","v":-4332.1414511561215},{"$f":"IF(H25=\"Construção\",0,IF(H25=\"Start-up\",-('CAPEX e OPEX'!$C$52*'Fluxo de Caixa Descontado'!$B$3*(1-'Parâmetros de Fluxo de Caixa'!$B$14)+'Parâmetros de Fluxo de Caixa'!$B$14*'Parâmetros de Fluxo de Caixa'!$B$16*-'Fluxo de Caixa Descontado'!I28),IF(H25=\"Operação\",-('CAPEX e OPEX'!$C$52*'Fluxo de Caixa Descontado'!$B$3),\"\")))","v":-4332.1414511561215},{"$f":"IF(I25=\"Construção\",0,IF(I25=\"Start-up\",-('CAPEX e OPEX'!$C$52*'Fluxo de Caixa Descontado'!$B$3*(1-'Parâmetros de Fluxo de Caixa'!$B$14)+'Parâmetros de Fluxo de Caixa'!$B$14*'Parâmetros de Fluxo de Caixa'!$B$16*-'Fluxo de Caixa Descontado'!J28),IF(I25=\"Operação\",-('CAPEX e OPEX'!$C$52*'Fluxo de Caixa Descontado'!$B$3),\"\")))","v":-4332.1414511561215},{"$f":"IF(J25=\"Construção\",0,IF(J25=\"Start-up\",-('CAPEX e OPEX'!$C$52*'Fluxo de Caixa Descontado'!$B$3*(1-'Parâmetros de Fluxo de Caixa'!$B$14)+'Parâmetros de Fluxo de Caixa'!$B$14*'Parâmetros de Fluxo de Caixa'!$B$16*-'Fluxo de Caixa Descontado'!K28),IF(J25=\"Operação\",-('CAPEX e OPEX'!$C$52*'Fluxo de Caixa Descontado'!$B$3),\"\")))","v":-4332.1414511561215},{"$f":"IF(K25=\"Construção\",0,IF(K25=\"Start-up\",-('CAPEX e OPEX'!$C$52*'Fluxo de Caixa Descontado'!$B$3*(1-'Parâmetros de Fluxo de Caixa'!$B$14)+'Parâmetros de Fluxo de Caixa'!$B$14*'Parâmetros de Fluxo de Caixa'!$B$16*-'Fluxo de Caixa Descontado'!L28),IF(K25=\"Operação\",-('CAPEX e OPEX'!$C$52*'Fluxo de Caixa Descontado'!$B$3),\"\")))","v":-4332.1414511561215},{"$f":"IF(L25=\"Construção\",0,IF(L25=\"Start-up\",-('CAPEX e OPEX'!$C$52*'Fluxo de Caixa Descontado'!$B$3*(1-'Parâmetros de Fluxo de Caixa'!$B$14)+'Parâmetros de Fluxo de Caixa'!$B$14*'Parâmetros de Fluxo de Caixa'!$B$16*-'Fluxo de Caixa Descontado'!M28),IF(L25=\"Operação\",-('CAPEX e OPEX'!$C$52*'Fluxo de Caixa Descontado'!$B$3),\"\")))","v":-4332.1414511561215},{"$f":"IF(M25=\"Construção\",0,IF(M25=\"Start-up\",-('CAPEX e OPEX'!$C$52*'Fluxo de Caixa Descontado'!$B$3*(1-'Parâmetros de Fluxo de Caixa'!$B$14)+'Parâmetros de Fluxo de Caixa'!$B$14*'Parâmetros de Fluxo de Caixa'!$B$16*-'Fluxo de Caixa Descontado'!N28),IF(M25=\"Operação\",-('CAPEX e OPEX'!$C$52*'Fluxo de Caixa Descontado'!$B$3),\"\")))","v":-4332.1414511561215},{"$f":"IF(N25=\"Construção\",0,IF(N25=\"Start-up\",-('CAPEX e OPEX'!$C$52*'Fluxo de Caixa Descontado'!$B$3*(1-'Parâmetros de Fluxo de Caixa'!$B$14)+'Parâmetros de Fluxo de Caixa'!$B$14*'Parâmetros de Fluxo de Caixa'!$B$16*-'Fluxo de Caixa Descontado'!O28),IF(N25=\"Operação\",-('CAPEX e OPEX'!$C$52*'Fluxo de Caixa Descontado'!$B$3),\"\")))","v":-4332.1414511561215},{"$f":"IF(O25=\"Construção\",0,IF(O25=\"Start-up\",-('CAPEX e OPEX'!$C$52*'Fluxo de Caixa Descontado'!$B$3*(1-'Parâmetros de Fluxo de Caixa'!$B$14)+'Parâmetros de Fluxo de Caixa'!$B$14*'Parâmetros de Fluxo de Caixa'!$B$16*-'Fluxo de Caixa Descontado'!P28),IF(O25=\"Operação\",-('CAPEX e OPEX'!$C$52*'Fluxo de Caixa Descontado'!$B$3),\"\")))","v":-4332.1414511561215},{"$f":"IF(P25=\"Construção\",0,IF(P25=\"Start-up\",-('CAPEX e OPEX'!$C$52*'Fluxo de Caixa Descontado'!$B$3*(1-'Parâmetros de Fluxo de Caixa'!$B$14)+'Parâmetros de Fluxo de Caixa'!$B$14*'Parâmetros de Fluxo de Caixa'!$B$16*-'Fluxo de Caixa Descontado'!Q28),IF(P25=\"Operação\",-('CAPEX e OPEX'!$C$52*'Fluxo de Caixa Descontado'!$B$3),\"\")))","v":-4332.1414511561215},{"$f":"IF(Q25=\"Construção\",0,IF(Q25=\"Start-up\",-('CAPEX e OPEX'!$C$52*'Fluxo de Caixa Descontado'!$B$3*(1-'Parâmetros de Fluxo de Caixa'!$B$14)+'Parâmetros de Fluxo de Caixa'!$B$14*'Parâmetros de Fluxo de Caixa'!$B$16*-'Fluxo de Caixa Descontado'!R28),IF(Q25=\"Operação\",-('CAPEX e OPEX'!$C$52*'Fluxo de Caixa Descontado'!$B$3),\"\")))","v":-4332.1414511561215},{"$f":"IF(R25=\"Construção\",0,IF(R25=\"Start-up\",-('CAPEX e OPEX'!$C$52*'Fluxo de Caixa Descontado'!$B$3*(1-'Parâmetros de Fluxo de Caixa'!$B$14)+'Parâmetros de Fluxo de Caixa'!$B$14*'Parâmetros de Fluxo de Caixa'!$B$16*-'Fluxo de Caixa Descontado'!S28),IF(R25=\"Operação\",-('CAPEX e OPEX'!$C$52*'Fluxo de Caixa Descontado'!$B$3),\"\")))","v":-4332.1414511561215},{"$f":"IF(S25=\"Construção\",0,IF(S25=\"Start-up\",-('CAPEX e OPEX'!$C$52*'Fluxo de Caixa Descontado'!$B$3*(1-'Parâmetros de Fluxo de Caixa'!$B$14)+'Parâmetros de Fluxo de Caixa'!$B$14*'Parâmetros de Fluxo de Caixa'!$B$16*-'Fluxo de Caixa Descontado'!T28),IF(S25=\"Operação\",-('CAPEX e OPEX'!$C$52*'Fluxo de Caixa Descontado'!$B$3),\"\")))","v":-4332.1414511561215},{"$f":"IF(T25=\"Construção\",0,IF(T25=\"Start-up\",-('CAPEX e OPEX'!$C$52*'Fluxo de Caixa Descontado'!$B$3*(1-'Parâmetros de Fluxo de Caixa'!$B$14)+'Parâmetros de Fluxo de Caixa'!$B$14*'Parâmetros de Fluxo de Caixa'!$B$16*-'Fluxo de Caixa Descontado'!U28),IF(T25=\"Operação\",-('CAPEX e OPEX'!$C$52*'Fluxo de Caixa Descontado'!$B$3),\"\")))","v":-4332.1414511561215},{"$f":"IF(U25=\"Construção\",0,IF(U25=\"Start-up\",-('CAPEX e OPEX'!$C$52*'Fluxo de Caixa Descontado'!$B$3*(1-'Parâmetros de Fluxo de Caixa'!$B$14)+'Parâmetros de Fluxo de Caixa'!$B$14*'Parâmetros de Fluxo de Caixa'!$B$16*-'Fluxo de Caixa Descontado'!V28),IF(U25=\"Operação\",-('CAPEX e OPEX'!$C$52*'Fluxo de Caixa Descontado'!$B$3),\"\")))","v":-4332.1414511561215},{"$f":"IF(V25=\"Construção\",0,IF(V25=\"Start-up\",-('CAPEX e OPEX'!$C$52*'Fluxo de Caixa Descontado'!$B$3*(1-'Parâmetros de Fluxo de Caixa'!$B$14)+'Parâmetros de Fluxo de Caixa'!$B$14*'Parâmetros de Fluxo de Caixa'!$B$16*-'Fluxo de Caixa Descontado'!W28),IF(V25=\"Operação\",-('CAPEX e OPEX'!$C$52*'Fluxo de Caixa Descontado'!$B$3),\"\")))","v":-4332.1414511561215},{"$f":"IF(W25=\"Construção\",0,IF(W25=\"Start-up\",-('CAPEX e OPEX'!$C$52*'Fluxo de Caixa Descontado'!$B$3*(1-'Parâmetros de Fluxo de Caixa'!$B$14)+'Parâmetros de Fluxo de Caixa'!$B$14*'Parâmetros de Fluxo de Caixa'!$B$16*-'Fluxo de Caixa Descontado'!X28),IF(W25=\"Operação\",-('CAPEX e OPEX'!$C$52*'Fluxo de Caixa Descontado'!$B$3),\"\")))","v":-4332.1414511561215},{"$f":"IF(X25=\"Construção\",0,IF(X25=\"Start-up\",-('CAPEX e OPEX'!$C$52*'Fluxo de Caixa Descontado'!$B$3*(1-'Parâmetros de Fluxo de Caixa'!$B$14)+'Parâmetros de Fluxo de Caixa'!$B$14*'Parâmetros de Fluxo de Caixa'!$B$16*-'Fluxo de Caixa Descontado'!Y28),IF(X25=\"Operação\",-('CAPEX e OPEX'!$C$52*'Fluxo de Caixa Descontado'!$B$3),\"\")))","v":-4332.1414511561215},{"$f":"IF(Y25=\"Construção\",0,IF(Y25=\"Start-up\",-('CAPEX e OPEX'!$C$52*'Fluxo de Caixa Descontado'!$B$3*(1-'Parâmetros de Fluxo de Caixa'!$B$14)+'Parâmetros de Fluxo de Caixa'!$B$14*'Parâmetros de Fluxo de Caixa'!$B$16*-'Fluxo de Caixa Descontado'!Z28),IF(Y25=\"Operação\",-('CAPEX e OPEX'!$C$52*'Fluxo de Caixa Descontado'!$B$3),\"\")))","v":""},{"$f":"IF(Z25=\"Construção\",0,IF(Z25=\"Start-up\",-('CAPEX e OPEX'!$C$52*'Fluxo de Caixa Descontado'!$B$3*(1-'Parâmetros de Fluxo de Caixa'!$B$14)+'Parâmetros de Fluxo de Caixa'!$B$14*'Parâmetros de Fluxo de Caixa'!$B$16*-'Fluxo de Caixa Descontado'!AA28),IF(Z25=\"Operação\",-('CAPEX e OPEX'!$C$52*'Fluxo de Caixa Descontado'!$B$3),\"\")))","v":""},{"$f":"IF(AA25=\"Construção\",0,IF(AA25=\"Start-up\",-('CAPEX e OPEX'!$C$52*'Fluxo de Caixa Descontado'!$B$3*(1-'Parâmetros de Fluxo de Caixa'!$B$14)+'Parâmetros de Fluxo de Caixa'!$B$14*'Parâmetros de Fluxo de Caixa'!$B$16*-'Fluxo de Caixa Descontado'!AB28),IF(AA25=\"Operação\",-('CAPEX e OPEX'!$C$52*'Fluxo de Caixa Descontado'!$B$3),\"\")))","v":""},{"$f":"IF(AB25=\"Construção\",0,IF(AB25=\"Start-up\",-('CAPEX e OPEX'!$C$52*'Fluxo de Caixa Descontado'!$B$3*(1-'Parâmetros de Fluxo de Caixa'!$B$14)+'Parâmetros de Fluxo de Caixa'!$B$14*'Parâmetros de Fluxo de Caixa'!$B$16*-'Fluxo de Caixa Descontado'!AC28),IF(AB25=\"Operação\",-('CAPEX e OPEX'!$C$52*'Fluxo de Caixa Descontado'!$B$3),\"\")))","v":""},{"$f":"IF(AC25=\"Construção\",0,IF(AC25=\"Start-up\",-('CAPEX e OPEX'!$C$52*'Fluxo de Caixa Descontado'!$B$3*(1-'Parâmetros de Fluxo de Caixa'!$B$14)+'Parâmetros de Fluxo de Caixa'!$B$14*'Parâmetros de Fluxo de Caixa'!$B$16*-'Fluxo de Caixa Descontado'!AD28),IF(AC25=\"Operação\",-('CAPEX e OPEX'!$C$52*'Fluxo de Caixa Descontado'!$B$3),\"\")))","v":""},{"$f":"IF(AD25=\"Construção\",0,IF(AD25=\"Start-up\",-('CAPEX e OPEX'!$C$52*'Fluxo de Caixa Descontado'!$B$3*(1-'Parâmetros de Fluxo de Caixa'!$B$14)+'Parâmetros de Fluxo de Caixa'!$B$14*'Parâmetros de Fluxo de Caixa'!$B$16*-'Fluxo de Caixa Descontado'!AE28),IF(AD25=\"Operação\",-('CAPEX e OPEX'!$C$52*'Fluxo de Caixa Descontado'!$B$3),\"\")))","v":""},{"$f":"IF(AE25=\"Construção\",0,IF(AE25=\"Start-up\",-('CAPEX e OPEX'!$C$52*'Fluxo de Caixa Descontado'!$B$3*(1-'Parâmetros de Fluxo de Caixa'!$B$14)+'Parâmetros de Fluxo de Caixa'!$B$14*'Parâmetros de Fluxo de Caixa'!$B$16*-'Fluxo de Caixa Descontado'!AF28),IF(AE25=\"Operação\",-('CAPEX e OPEX'!$C$52*'Fluxo de Caixa Descontado'!$B$3),\"\")))","v":""},{"$f":"IF(AF25=\"Construção\",0,IF(AF25=\"Start-up\",-('CAPEX e OPEX'!$C$52*'Fluxo de Caixa Descontado'!$B$3*(1-'Parâmetros de Fluxo de Caixa'!$B$14)+'Parâmetros de Fluxo de Caixa'!$B$14*'Parâmetros de Fluxo de Caixa'!$B$16*-'Fluxo de Caixa Descontado'!AG28),IF(AF25=\"Operação\",-('CAPEX e OPEX'!$C$52*'Fluxo de Caixa Descontado'!$B$3),\"\")))","v":""},{"$f":"IF(AG25=\"Construção\",0,IF(AG25=\"Start-up\",-('CAPEX e OPEX'!$C$52*'Fluxo de Caixa Descontado'!$B$3*(1-'Parâmetros de Fluxo de Caixa'!$B$14)+'Parâmetros de Fluxo de Caixa'!$B$14*'Parâmetros de Fluxo de Caixa'!$B$16*-'Fluxo de Caixa Descontado'!AH28),IF(AG25=\"Operação\",-('CAPEX e OPEX'!$C$52*'Fluxo de Caixa Descontado'!$B$3),\"\")))","v":""},{"$f":"IF(AH25=\"Construção\",0,IF(AH25=\"Start-up\",-('CAPEX e OPEX'!$C$52*'Fluxo de Caixa Descontado'!$B$3*(1-'Parâmetros de Fluxo de Caixa'!$B$14)+'Parâmetros de Fluxo de Caixa'!$B$14*'Parâmetros de Fluxo de Caixa'!$B$16*-'Fluxo de Caixa Descontado'!AI28),IF(AH25=\"Operação\",-('CAPEX e OPEX'!$C$52*'Fluxo de Caixa Descontado'!$B$3),\"\")))","v":""},{"$f":"IF(AI25=\"Construção\",0,IF(AI25=\"Start-up\",-('CAPEX e OPEX'!$C$52*'Fluxo de Caixa Descontado'!$B$3*(1-'Parâmetros de Fluxo de Caixa'!$B$14)+'Parâmetros de Fluxo de Caixa'!$B$14*'Parâmetros de Fluxo de Caixa'!$B$16*-'Fluxo de Caixa Descontado'!AJ28),IF(AI25=\"Operação\",-('CAPEX e OPEX'!$C$52*'Fluxo de Caixa Descontado'!$B$3),\"\")))","v":""},{"$f":"IF(AJ25=\"Construção\",0,IF(AJ25=\"Start-up\",-('CAPEX e OPEX'!$C$52*'Fluxo de Caixa Descontado'!$B$3*(1-'Parâmetros de Fluxo de Caixa'!$B$14)+'Parâmetros de Fluxo de Caixa'!$B$14*'Parâmetros de Fluxo de Caixa'!$B$16*-'Fluxo de Caixa Descontado'!AK28),IF(AJ25=\"Operação\",-('CAPEX e OPEX'!$C$52*'Fluxo de Caixa Descontado'!$B$3),\"\")))","v":""},{"$f":"IF(AK25=\"Construção\",0,IF(AK25=\"Start-up\",-('CAPEX e OPEX'!$C$52*'Fluxo de Caixa Descontado'!$B$3*(1-'Parâmetros de Fluxo de Caixa'!$B$14)+'Parâmetros de Fluxo de Caixa'!$B$14*'Parâmetros de Fluxo de Caixa'!$B$16*-'Fluxo de Caixa Descontado'!AL28),IF(AK25=\"Operação\",-('CAPEX e OPEX'!$C$52*'Fluxo de Caixa Descontado'!$B$3),\"\")))","v":""},{"$f":"IF(AL25=\"Construção\",0,IF(AL25=\"Start-up\",-('CAPEX e OPEX'!$C$52*'Fluxo de Caixa Descontado'!$B$3*(1-'Parâmetros de Fluxo de Caixa'!$B$14)+'Parâmetros de Fluxo de Caixa'!$B$14*'Parâmetros de Fluxo de Caixa'!$B$16*-'Fluxo de Caixa Descontado'!AM28),IF(AL25=\"Operação\",-('CAPEX e OPEX'!$C$52*'Fluxo de Caixa Descontado'!$B$3),\"\")))","v":""},{"$f":"IF(AM25=\"Construção\",0,IF(AM25=\"Start-up\",-('CAPEX e OPEX'!$C$52*'Fluxo de Caixa Descontado'!$B$3*(1-'Parâmetros de Fluxo de Caixa'!$B$14)+'Parâmetros de Fluxo de Caixa'!$B$14*'Parâmetros de Fluxo de Caixa'!$B$16*-'Fluxo de Caixa Descontado'!AN28),IF(AM25=\"Operação\",-('CAPEX e OPEX'!$C$52*'Fluxo de Caixa Descontado'!$B$3),\"\")))","v":""},{"$f":"IF(AN25=\"Construção\",0,IF(AN25=\"Start-up\",-('CAPEX e OPEX'!$C$52*'Fluxo de Caixa Descontado'!$B$3*(1-'Parâmetros de Fluxo de Caixa'!$B$14)+'Parâmetros de Fluxo de Caixa'!$B$14*'Parâmetros de Fluxo de Caixa'!$B$16*-'Fluxo de Caixa Descontado'!AO28),IF(AN25=\"Operação\",-('CAPEX e OPEX'!$C$52*'Fluxo de Caixa Descontado'!$B$3),\"\")))","v":""},{"$f":"IF(AO25=\"Construção\",0,IF(AO25=\"Start-up\",-('CAPEX e OPEX'!$C$52*'Fluxo de Caixa Descontado'!$B$3*(1-'Parâmetros de Fluxo de Caixa'!$B$14)+'Parâmetros de Fluxo de Caixa'!$B$14*'Parâmetros de Fluxo de Caixa'!$B$16*-'Fluxo de Caixa Descontado'!AP28),IF(AO25=\"Operação\",-('CAPEX e OPEX'!$C$52*'Fluxo de Caixa Descontado'!$B$3),\"\")))","v":""},{"$f":"IF(AP25=\"Construção\",0,IF(AP25=\"Start-up\",-('CAPEX e OPEX'!$C$52*'Fluxo de Caixa Descontado'!$B$3*(1-'Parâmetros de Fluxo de Caixa'!$B$14)+'Parâmetros de Fluxo de Caixa'!$B$14*'Parâmetros de Fluxo de Caixa'!$B$16*-'Fluxo de Caixa Descontado'!AQ28),IF(AP25=\"Operação\",-('CAPEX e OPEX'!$C$52*'Fluxo de Caixa Descontado'!$B$3),\"\")))","v":""},{"$f":"IF(AQ25=\"Construção\",0,IF(AQ25=\"Start-up\",-('CAPEX e OPEX'!$C$52*'Fluxo de Caixa Descontado'!$B$3*(1-'Parâmetros de Fluxo de Caixa'!$B$14)+'Parâmetros de Fluxo de Caixa'!$B$14*'Parâmetros de Fluxo de Caixa'!$B$16*-'Fluxo de Caixa Descontado'!AR28),IF(AQ25=\"Operação\",-('CAPEX e OPEX'!$C$52*'Fluxo de Caixa Descontado'!$B$3),\"\")))","v":""},{"$f":"IF(AR25=\"Construção\",0,IF(AR25=\"Start-up\",-('CAPEX e OPEX'!$C$52*'Fluxo de Caixa Descontado'!$B$3*(1-'Parâmetros de Fluxo de Caixa'!$B$14)+'Parâmetros de Fluxo de Caixa'!$B$14*'Parâmetros de Fluxo de Caixa'!$B$16*-'Fluxo de Caixa Descontado'!AV28),IF(AR25=\"Operação\",-('CAPEX e OPEX'!$C$52*'Fluxo de Caixa Descontado'!$B$3),\"\")))","v":""},{"$f":"IF(AS25=\"Construção\",0,IF(AS25=\"Start-up\",-('CAPEX e OPEX'!$C$52*'Fluxo de Caixa Descontado'!$B$3*(1-'Parâmetros de Fluxo de Caixa'!$B$14)+'Parâmetros de Fluxo de Caixa'!$B$14*'Parâmetros de Fluxo de Caixa'!$B$16*-'Fluxo de Caixa Descontado'!AW28),IF(AS25=\"Operação\",-('CAPEX e OPEX'!$C$52*'Fluxo de Caixa Descontado'!$B$3),\"\")))","v":""},{"$f":"IF(AT25=\"Construção\",0,IF(AT25=\"Start-up\",-('CAPEX e OPEX'!$C$52*'Fluxo de Caixa Descontado'!$B$3*(1-'Parâmetros de Fluxo de Caixa'!$B$14)+'Parâmetros de Fluxo de Caixa'!$B$14*'Parâmetros de Fluxo de Caixa'!$B$16*-'Fluxo de Caixa Descontado'!AX28),IF(AT25=\"Operação\",-('CAPEX e OPEX'!$C$52*'Fluxo de Caixa Descontado'!$B$3),\"\")))","v":""},{"$f":"IF(AU25=\"Construção\",0,IF(AU25=\"Start-up\",-('CAPEX e OPEX'!$C$52*'Fluxo de Caixa Descontado'!$B$3*(1-'Parâmetros de Fluxo de Caixa'!$B$14)+'Parâmetros de Fluxo de Caixa'!$B$14*'Parâmetros de Fluxo de Caixa'!$B$16*-'Fluxo de Caixa Descontado'!AY28),IF(AU25=\"Operação\",-('CAPEX e OPEX'!$C$52*'Fluxo de Caixa Descontado'!$B$3),\"\")))","v":""},{"$f":"IF(AV25=\"Construção\",0,IF(AV25=\"Start-up\",-('CAPEX e OPEX'!$C$52*'Fluxo de Caixa Descontado'!$B$3*(1-'Parâmetros de Fluxo de Caixa'!$B$14)+'Parâmetros de Fluxo de Caixa'!$B$14*'Parâmetros de Fluxo de Caixa'!$B$16*-'Fluxo de Caixa Descontado'!AZ28),IF(AV25=\"Operação\",-('CAPEX e OPEX'!$C$52*'Fluxo de Caixa Descontado'!$B$3),\"\")))","v":""}]
["OPEX fixo (milhões R$ / ano)",{"$f":"IF(B25=\"Construção\",0,IF(B25=\"Start-up\",-('CAPEX e OPEX'!$C$58*'Fluxo de Caixa Descontado'!$B$3*(1-'Parâmetros de Fluxo de Caixa'!$B$14)+'Parâmetros de Fluxo de Caixa'!$B$14*'Parâmetros de Fluxo de Caixa'!$B$17*(-'Fluxo de Caixa Descontado'!C29)),IF(B25=\"Operação\",-'CAPEX e OPEX'!$C$58*'Fluxo de Caixa Descontado'!$B$3,\"\")))","v":0},{"$f":"IF(C25=\"Construção\",0,IF(C25=\"Start-up\",-('CAPEX e OPEX'!$C$58*'Fluxo de Caixa Descontado'!$B$3*(1-'Parâmetros de Fluxo de Caixa'!$B$14)+'Parâmetros de Fluxo de Caixa'!$B$14*'Parâmetros de Fluxo de Caixa'!$B$17*(-'Fluxo de Caixa Descontado'!D29)),IF(C25=\"Operação\",-'CAPEX e OPEX'!$C$58*'Fluxo de Caixa Descontado'!$B$3,\"\")))","v":0},{"$f":"IF(D25=\"Construção\",0,IF(D25=\"Start-up\",-('CAPEX e OPEX'!$C$58*'Fluxo de Caixa Descontado'!$B$3*(1-'Parâmetros de Fluxo de Caixa'!$B$14)+'Parâmetros de Fluxo de Caixa'!$B$14*'Parâmetros de Fluxo de Caixa'!$B$17*(-'Fluxo de Caixa Descontado'!E29)),IF(D25=\"Operação\",-'CAPEX e OPEX'!$C$58*'Fluxo de Caixa Descontado'!$B$3,\"\")))","v":0},{"$f":"IF(E25=\"Construção\",0,IF(E25=\"Start-up\",-('CAPEX e OPEX'!$C$58*'Fluxo de Caixa Descontado'!$B$3*(1-'Parâmetros de Fluxo de Caixa'!$B$14)+'Parâmetros de Fluxo de Caixa'!$B$14*'Parâmetros de Fluxo de Caixa'!$B$17*(-'Fluxo de Caixa Descontado'!F29)),IF(E25=\"Operação\",-'CAPEX e OPEX'!$C$58*'Fluxo de Caixa Descontado'!$B$3,\"\")))","v":-302.85592140179114},{"$f":"IF(F25=\"Construção\",0,IF(F25=\"Start-up\",-('CAPEX e OPEX'!$C$58*'Fluxo de Caixa Descontado'!$B$3*(1-'Parâmetros de Fluxo de Caixa'!$B$14)+'Parâmetros de Fluxo de Caixa'!$B$14*'Parâmetros de Fluxo de Caixa'!$B$17*(-'Fluxo de Caixa Descontado'!G29)),IF(F25=\"Operação\",-'CAPEX e OPEX'!$C$58*'Fluxo de Caixa Descontado'!$B$3,\"\")))","v":-302.85592140179114},{"$f":"IF(G25=\"Construção\",0,IF(G25=\"Start-up\",-('CAPEX e OPEX'!$C$58*'Fluxo de Caixa Descontado'!$B$3*(1-'Parâmetros de Fluxo de Caixa'!$B$14)+'Parâmetros de Fluxo de Caixa'!$B$14*'Parâmetros de Fluxo de Caixa'!$B$17*(-'Fluxo de Caixa Descontado'!H29)),IF(G25=\"Operação\",-'CAPEX e OPEX'!$C$58*'Fluxo de Caixa Descontado'!$B$3,\"\")))","v":-302.85592140179114},{"$f":"IF(H25=\"Construção\",0,IF(H25=\"Start-up\",-('CAPEX e OPEX'!$C$58*'Fluxo de Caixa Descontado'!$B$3*(1-'Parâmetros de Fluxo de Caixa'!$B$14)+'Parâmetros de Fluxo de Caixa'!$B$14*'Parâmetros de Fluxo de Caixa'!$B$17*(-'Fluxo de Caixa Descontado'!I29)),IF(H25=\"Operação\",-'CAPEX e OPEX'!$C$58*'Fluxo de Caixa Descontado'!$B$3,\"\")))","v":-302.85592140179114},{"$f":"IF(I25=\"Construção\",0,IF(I25=\"Start-up\",-('CAPEX e OPEX'!$C$58*'Fluxo de Caixa Descontado'!$B$3*(1-'Parâmetros de Fluxo de Caixa'!$B$14)+'Parâmetros de Fluxo de Caixa'!$B$14*'Parâmetros de Fluxo de Caixa'!$B$17*(-'Fluxo de Caixa Descontado'!J29)),IF(I25=\"Operação\",-'CAPEX e OPEX'!$C$58*'Fluxo de Caixa Descontado'!$B$3,\"\")))","v":-302.85592140179114},{"$f":"IF(J25=\"Construção\",0,IF(J25=\"Start-up\",-('CAPEX e OPEX'!$C$58*'Fluxo de Caixa Descontado'!$B$3*(1-'Parâmetros de Fluxo de Caixa'!$B$14)+'Parâmetros de Fluxo de Caixa'!$B$14*'Parâmetros de Fluxo de Caixa'!$B$17*(-'Fluxo de Caixa Descontado'!K29)),IF(J25=\"Operação\",-'CAPEX e OPEX'!$C$58*'Fluxo de Caixa Descontado'!$B$3,\"\")))","v":-302.85592140179114},{"$f":"IF(K25=\"Construção\",0,IF(K25=\"Start-up\",-('CAPEX e OPEX'!$C$58*'Fluxo de Caixa Descontado'!$B$3*(1-'Parâmetros de Fluxo de Caixa'!$B$14)+'Parâmetros de Fluxo de Caixa'!$B$14*'Parâmetros de Fluxo de Caixa'!$B$17*(-'Fluxo de Caixa Descontado'!L29)),IF(K25=\"Operação\",-'CAPEX e OPEX'!$C$58*'Fluxo de Caixa Descontado'!$B$3,\"\")))","v":-302.85592140179114},{"$f":"IF(L25=\"Construção\",0,IF(L25=\"Start-up\",-('CAPEX e OPEX'!$C$58*'Fluxo de Caixa Descontado'!$B$3*(1-'Parâmetros de Fluxo de Caixa'!$B$14)+'Parâmetros de Fluxo de Caixa'!$B$14*'Parâmetros de Fluxo de Caixa'!$B$17*(-'Fluxo de Caixa Descontado'!M29)),IF(L25=\"Operação\",-'CAPEX e OPEX'!$C$58*'Fluxo de Caixa Descontado'!$B$3,\"\")))","v":-302.85592140179114},{"$f":"IF(M25=\"Construção\",0,IF(M25=\"Start-up\",-('CAPEX e OPEX'!$C$58*'Fluxo de Caixa Descontado'!$B$3*(1-'Parâmetros de Fluxo de Caixa'!$B$14)+'Parâmetros de Fluxo de Caixa'!$B$14*'Parâmetros de Fluxo de Caixa'!$B$17*(-'Fluxo de Caixa Descontado'!N29)),IF(M25=\"Operação\",-'CAPEX e OPEX'!$C$58*'Fluxo de Caixa Descontado'!$B$3,\"\")))","v":-302.85592140179114},{"$f":"IF(N25=\"Construção\",0,IF(N25=\"Start-up\",-('CAPEX e OPEX'!$C$58*'Fluxo de Caixa Descontado'!$B$3*(1-'Parâmetros de Fluxo de Caixa'!$B$14)+'Parâmetros de Fluxo de Caixa'!$B$14*'Parâmetros de Fluxo de Caixa'!$B$17*(-'Fluxo de Caixa Descontado'!O29)),IF(N25=\"Operação\",-'CAPEX e OPEX'!$C$58*'Fluxo de Caixa Descontado'!$B$3,\"\")))","v":-302.85592140179114},{"$f":"IF(O25=\"Construção\",0,IF(O25=\"Start-up\",-('CAPEX e OPEX'!$C$58*'Fluxo de Caixa Descontado'!$B$3*(1-'Parâmetros de Fluxo de Caixa'!$B$14)+'Parâmetros de Fluxo de Caixa'!$B$14*'Parâmetros de Fluxo de Caixa'!$B$17*(-'Fluxo de Caixa Descontado'!P29)),IF(O25=\"Operação\",-'CAPEX e OPEX'!$C$58*'Fluxo de Caixa Descontado'!$B$3,\"\")))","v":-302.85592140179114},{"$f":"IF(P25=\"Construção\",0,IF(P25=\"Start-up\",-('CAPEX e OPEX'!$C$58*'Fluxo de Caixa Descontado'!$B$3*(1-'Parâmetros de Fluxo de Caixa'!$B$14)+'Parâmetros de Fluxo de Caixa'!$B$14*'Parâmetros de Fluxo de Caixa'!$B$17*(-'Fluxo de Caixa Descontado'!Q29)),IF(P25=\"Operação\",-'CAPEX e OPEX'!$C$58*'Fluxo de Caixa Descontado'!$B$3,\"\")))","v":-302.85592140179114},{"$f":"IF(Q25=\"Construção\",0,IF(Q25=\"Start-up\",-('CAPEX e OPEX'!$C$58*'Fluxo de Caixa Descontado'!$B$3*(1-'Parâmetros de Fluxo de Caixa'!$B$14)+'Parâmetros de Fluxo de Caixa'!$B$14*'Parâmetros de Fluxo de Caixa'!$B$17*(-'Fluxo de Caixa Descontado'!R29)),IF(Q25=\"Operação\",-'CAPEX e OPEX'!$C$58*'Fluxo de Caixa Descontado'!$B$3,\"\")))","v":-302.85592140179114},{"$f":"IF(R25=\"Construção\",0,IF(R25=\"Start-up\",-('CAPEX e OPEX'!$C$58*'Fluxo de Caixa Descontado'!$B$3*(1-'Parâmetros de Fluxo de Caixa'!$B$14)+'Parâmetros de Fluxo de Caixa'!$B$14*'Parâmetros de Fluxo de Caixa'!$B$17*(-'Fluxo de Caixa Descontado'!S29)),IF(R25=\"Operação\",-'CAPEX e OPEX'!$C$58*'Fluxo de Caixa Descontado'!$B$3,\"\")))","v":-302.85592140179114},{"$f":"IF(S25=\"Construção\",0,IF(S25=\"Start-up\",-('CAPEX e OPEX'!$C$58*'Fluxo de Caixa Descontado'!$B$3*(1-'Parâmetros de Fluxo de Caixa'!$B$14)+'Parâmetros de Fluxo de Caixa'!$B$14*'Parâmetros de Fluxo de Caixa'!$B$17*(-'Fluxo de Caixa Descontado'!T29)),IF(S25=\"Operação\",-'CAPEX e OPEX'!$C$58*'Fluxo de Caixa Descontado'!$B$3,\"\")))","v":-302.85592140179114},{"$f":"IF(T25=\"Construção\",0,IF(T25=\"Start-up\",-('CAPEX e OPEX'!$C$58*'Fluxo de Caixa Descontado'!$B$3*(1-'Parâmetros de Fluxo de Caixa'!$B$14)+'Parâmetros de Fluxo de Caixa'!$B$14*'Parâmetros de Fluxo de Caixa'!$B$17*(-'Fluxo de Caixa Descontado'!U29)),IF(T25=\"Operação\",-'CAPEX e OPEX'!$C$58*'Fluxo de Caixa Descontado'!$B$3,\"\")))","v":-302.85592140179114},{"$f":"IF(U25=\"Construção\",0,IF(U25=\"Start-up\",-('CAPEX e OPEX'!$C$58*'Fluxo de Caixa Descontado'!$B$3*(1-'Parâmetros de Fluxo de Caixa'!$B$14)+'Parâmetros de Fluxo de Caixa'!$B$14*'Parâmetros de Fluxo de Caixa'!$B$17*(-'Fluxo de Caixa Descontado'!V29)),IF(U25=\"Operação\",-'CAPEX e OPEX'!$C$58*'Fluxo de Caixa Descontado'!$B$3,\"\")))","v":-302.85592140179114},{"$f":"IF(V25=\"Construção\",0,IF(V25=\"Start-up\",-('CAPEX e OPEX'!$C$58*'Fluxo de Caixa Descontado'!$B$3*(1-'Parâmetros de Fluxo de Caixa'!$B$14)+'Parâmetros de Fluxo de Caixa'!$B$14*'Parâmetros de Fluxo de Caixa'!$B$17*(-'Fluxo de Caixa Descontado'!W29)),IF(V25=\"Operação\",-'CAPEX e OPEX'!$C$58*'Fluxo de Caixa Descontado'!$B$3,\"\")))","v":-302.85592140179114},{"$f":"IF(W25=\"Construção\",0,IF(W25=\"Start-up\",-('CAPEX e OPEX'!$C$58*'Fluxo de Caixa Descontado'!$B$3*(1-'Parâmetros de Fluxo de Caixa'!$B$14)+'Parâmetros de Fluxo de Caixa'!$B$14*'Parâmetros de Fluxo de Caixa'!$B$17*(-'Fluxo de Caixa Descontado'!X29)),IF(W25=\"Operação\",-'CAPEX e OPEX'!$C$58*'Fluxo de Caixa Descontado'!$B$3,\"\")))","v":-302.85592140179114},{"$f":"IF(X25=\"Construção\",0,IF(X25=\"Start-up\",-('CAPEX e OPEX'!$C$58*'Fluxo de Caixa Descontado'!$B$3*(1-'Parâmetros de Fluxo de Caixa'!$B$14)+'Parâmetros de Fluxo de Caixa'!$B$14*'Parâmetros de Fluxo de Caixa'!$B$17*(-'Fluxo de Caixa Descontado'!Y29)),IF(X25=\"Operação\",-'CAPEX e OPEX'!$C$58*'Fluxo de Caixa Descontado'!$B$3,\"\")))","v":-302.85592140179114},{"$f":"IF(Y25=\"Construção\",0,IF(Y25=\"Start-up\",-('CAPEX e OPEX'!$C$58*'Fluxo de Caixa Descontado'!$B$3*(1-'Parâmetros de Fluxo de Caixa'!$B$14)+'Parâmetros de Fluxo de Caixa'!$B$14*'Parâmetros de Fluxo de Caixa'!$B$17*(-'Fluxo de Caixa Descontado'!Z29)),IF(Y25=\"Operação\",-'CAPEX e OPEX'!$C$58*'Fluxo de Caixa Descontado'!$B$3,\"\")))","v":""},{"$f":"IF(Z25=\"Construção\",0,IF(Z25=\"Start-up\",-('CAPEX e OPEX'!$C$58*'Fluxo de Caixa Descontado'!$B$3*(1-'Parâmetros de Fluxo de Caixa'!$B$14)+'Parâmetros de Fluxo de Caixa'!$B$14*'Parâmetros de Fluxo de Caixa'!$B$17*(-'Fluxo de Caixa Descontado'!AA29)),IF(Z25=\"Operação\",-'CAPEX e OPEX'!$C$58*'Fluxo de Caixa Descontado'!$B$3,\"\")))","v":""},{"$f":"IF(AA25=\"Construção\",0,IF(AA25=\"Start-up\",-('CAPEX e OPEX'!$C$58*'Fluxo de Caixa Descontado'!$B$3*(1-'Parâmetros de Fluxo de Caixa'!$B$14)+'Parâmetros de Fluxo de Caixa'!$B$14*'Parâmetros de Fluxo de Caixa'!$B$17*(-'Fluxo de Caixa Descontado'!AB29)),IF(AA25=\"Operação\",-'CAPEX e OPEX'!$C$58*'Fluxo de Caixa Descontado'!$B$3,\"\")))","v":""},{"$f":"IF(AB25=\"Construção\",0,IF(AB25=\"Start-up\",-('CAPEX e OPEX'!$C$58*'Fluxo de Caixa Descontado'!$B$3*(1-'Parâmetros de Fluxo de Caixa'!$B$14)+'Parâmetros de Fluxo de Caixa'!$B$14*'Parâmetros de Fluxo de Caixa'!$B$17*(-'Fluxo de Caixa Descontado'!AC29)),IF(AB25=\"Operação\",-'CAPEX e OPEX'!$C$58*'Fluxo de Caixa Descontado'!$B$3,\"\")))","v":""},{"$f":"IF(AC25=\"Construção\",0,IF(AC25=\"Start-up\",-('CAPEX e OPEX'!$C$58*'Fluxo de Caixa Descontado'!$B$3*(1-'Parâmetros de Fluxo de Caixa'!$B$14)+'Parâmetros de Fluxo de Caixa'!$B$14*'Parâmetros de Fluxo de Caixa'!$B$17*(-'Fluxo de Caixa Descontado'!AD29)),IF(AC25=\"Operação\",-'CAPEX e OPEX'!$C$58*'Fluxo de Caixa Descontado'!$B$3,\"\")))","v":""},{"$f":"IF(AD25=\"Construção\",0,IF(AD25=\"Start-up\",-('CAPEX e OPEX'!$C$58*'Fluxo de Caixa Descontado'!$B$3*(1-'Parâmetros de Fluxo de Caixa'!$B$14)+'Parâmetros de Fluxo de Caixa'!$B$14*'Parâmetros de Fluxo de Caixa'!$B$17*(-'Fluxo de Caixa Descontado'!AE29)),IF(AD25=\"Operação\",-'CAPEX e OPEX'!$C$58*'Fluxo de Caixa Descontado'!$B$3,\"\")))","v":""},{"$f":"IF(AE25=\"Construção\",0,IF(AE25=\"Start-up\",-('CAPEX e OPEX'!$C$58*'Fluxo de Caixa Descontado'!$B$3*(1-'Parâmetros de Fluxo de Caixa'!$B$14)+'Parâmetros de Fluxo de Caixa'!$B$14*'Parâmetros de Fluxo de Caixa'!$B$17*(-'Fluxo de Caixa Descontado'!AF29)),IF(AE25=\"Operação\",-'CAPEX e OPEX'!$C$58*'Fluxo de Caixa Descontado'!$B$3,\"\")))","v":""},{"$f":"IF(AF25=\"Construção\",0,IF(AF25=\"Start-up\",-('CAPEX e OPEX'!$C$58*'Fluxo de Caixa Descontado'!$B$3*(1-'Parâmetros de Fluxo de Caixa'!$B$14)+'Parâmetros de Fluxo de Caixa'!$B$14*'Parâmetros de Fluxo de Caixa'!$B$17*(-'Fluxo de Caixa Descontado'!AG29)),IF(AF25=\"Operação\",-'CAPEX e OPEX'!$C$58*'Fluxo de Caixa Descontado'!$B$3,\"\")))","v":""},{"$f":"IF(AG25=\"Construção\",0,IF(AG25=\"Start-up\",-('CAPEX e OPEX'!$C$58*'Fluxo de Caixa Descontado'!$B$3*(1-'Parâmetros de Fluxo de Caixa'!$B$14)+'Parâmetros de Fluxo de Caixa'!$B$14*'Parâmetros de Fluxo de Caixa'!$B$17*(-'Fluxo de Caixa Descontado'!AH29)),IF(AG25=\"Operação\",-'CAPEX e OPEX'!$C$58*'Fluxo de Caixa Descontado'!$B$3,\"\")))","v":""},{"$f":"IF(AH25=\"Construção\",0,IF(AH25=\"Start-up\",-('CAPEX e OPEX'!$C$58*'Fluxo de Caixa Descontado'!$B$3*(1-'Parâmetros de Fluxo de Caixa'!$B$14)+'Parâmetros de Fluxo de Caixa'!$B$14*'Parâmetros de Fluxo de Caixa'!$B$17*(-'Fluxo de Caixa Descontado'!AI29)),IF(AH25=\"Operação\",-'CAPEX e OPEX'!$C$58*'Fluxo de Caixa Descontado'!$B$3,\"\")))","v":""},{"$f":"IF(AI25=\"Construção\",0,IF(AI25=\"Start-up\",-('CAPEX e OPEX'!$C$58*'Fluxo de Caixa Descontado'!$B$3*(1-'Parâmetros de Fluxo de Caixa'!$B$14)+'Parâmetros de Fluxo de Caixa'!$B$14*'Parâmetros de Fluxo de Caixa'!$B$17*(-'Fluxo de Caixa Descontado'!AJ29)),IF(AI25=\"Operação\",-'CAPEX e OPEX'!$C$58*'Fluxo de Caixa Descontado'!$B$3,\"\")))","v":""},{"$f":"IF(AJ25=\"Construção\",0,IF(AJ25=\"Start-up\",-('CAPEX e OPEX'!$C$58*'Fluxo de Caixa Descontado'!$B$3*(1-'Parâmetros de Fluxo de Caixa'!$B$14)+'Parâmetros de Fluxo de Caixa'!$B$14*'Parâmetros de Fluxo de Caixa'!$B$17*(-'Fluxo de Caixa Descontado'!AK29)),IF(AJ25=\"Operação\",-'CAPEX e OPEX'!$C$58*'Fluxo de Caixa Descontado'!$B$3,\"\")))","v":""},{"$f":"IF(AK25=\"Construção\",0,IF(AK25=\"Start-up\",-('CAPEX e OPEX'!$C$58*'Fluxo de Caixa Descontado'!$B$3*(1-'Parâmetros de Fluxo de Caixa'!$B$14)+'Parâmetros de Fluxo de Caixa'!$B$14*'Parâmetros de Fluxo de Caixa'!$B$17*(-'Fluxo de Caixa Descontado'!AL29)),IF(AK25=\"Operação\",-'CAPEX e OPEX'!$C$58*'Fluxo de Caixa Descontado'!$B$3,\"\")))","v":""},{"$f":"IF(AL25=\"Construção\",0,IF(AL25=\"Start-up\",-('CAPEX e OPEX'!$C$58*'Fluxo de Caixa Descontado'!$B$3*(1-'Parâmetros de Fluxo de Caixa'!$B$14)+'Parâmetros de Fluxo de Caixa'!$B$14*'Parâmetros de Fluxo de Caixa'!$B$17*(-'Fluxo de Caixa Descontado'!AM29)),IF(AL25=\"Operação\",-'CAPEX e OPEX'!$C$58*'Fluxo de Caixa Descontado'!$B$3,\"\")))","v":""},{"$f":"IF(AM25=\"Construção\",0,IF(AM25=\"Start-up\",-('CAPEX e OPEX'!$C$58*'Fluxo de Caixa Descontado'!$B$3*(1-'Parâmetros de Fluxo de Caixa'!$B$14)+'Parâmetros de Fluxo de Caixa'!$B$14*'Parâmetros de Fluxo de Caixa'!$B$17*(-'Fluxo de Caixa Descontado'!AN29)),IF(AM25=\"Operação\",-'CAPEX e OPEX'!$C$58*'Fluxo de Caixa Descontado'!$B$3,\"\")))","v":""},{"$f":"IF(AN25=\"Construção\",0,IF(AN25=\"Start-up\",-('CAPEX e OPEX'!$C$58*'Fluxo de Caixa Descontado'!$B$3*(1-'Parâmetros de Fluxo de Caixa'!$B$14)+'Parâmetros de Fluxo de Caixa'!$B$14*'Parâmetros de Fluxo de Caixa'!$B$17*(-'Fluxo de Caixa Descontado'!AO29)),IF(AN25=\"Operação\",-'CAPEX e OPEX'!$C$58*'Fluxo de Caixa Descontado'!$B$3,\"\")))","v":""},{"$f":"IF(AO25=\"Construção\",0,IF(AO25=\"Start-up\",-('CAPEX e OPEX'!$C$58*'Fluxo de Caixa Descontado'!$B$3*(1-'Parâmetros de Fluxo de Caixa'!$B$14)+'Parâmetros de Fluxo de Caixa'!$B$14*'Parâmetros de Fluxo de Caixa'!$B$17*(-'Fluxo de Caixa Descontado'!AP29)),IF(AO25=\"Operação\",-'CAPEX e OPEX'!$C$58*'Fluxo de Caixa Descontado'!$B$3,\"\")))","v":""},{"$f":"IF(AP25=\"Construção\",0,IF(AP25=\"Start-up\",-('CAPEX e OPEX'!$C$58*'Fluxo de Caixa Descontado'!$B$3*(1-'Parâmetros de Fluxo de Caixa'!$B$14)+'Parâmetros de Fluxo de Caixa'!$B$14*'Parâmetros de Fluxo de Caixa'!$B$17*(-'Fluxo de Caixa Descontado'!AQ29)),IF(AP25=\"Operação\",-'CAPEX e OPEX'!$C$58*'Fluxo de Caixa Descontado'!$B$3,\"\")))","v":""},{"$f":"IF(AQ25=\"Construção\",0,IF(AQ25=\"Start-up\",-('CAPEX e OPEX'!$C$58*'Fluxo de Caixa Descontado'!$B$3*(1-'Parâmetros de Fluxo de Caixa'!$B$14)+'Parâmetros de Fluxo de Caixa'!$B$14*'Parâmetros de Fluxo de Caixa'!$B$17*(-'Fluxo de Caixa Descontado'!AR29)),IF(AQ25=\"Operação\",-'CAPEX e OPEX'!$C$58*'Fluxo de Caixa Descontado'!$B$3,\"\")))","v":""},{"$f":"IF(AR25=\"Construção\",0,IF(AR25=\"Start-up\",-('CAPEX e OPEX'!$C$58*'Fluxo de Caixa Descontado'!$B$3*(1-'Parâmetros de Fluxo de Caixa'!$B$14)+'Parâmetros de Fluxo de Caixa'!$B$14*'Parâmetros de Fluxo de Caixa'!$B$17*(-'Fluxo de Caixa Descontado'!AV29)),IF(AR25=\"Operação\",-'CAPEX e OPEX'!$C$58*'Fluxo de Caixa Descontado'!$B$3,\"\")))","v":""},{"$f":"IF(AS25=\"Construção\",0,IF(AS25=\"Start-up\",-('CAPEX e OPEX'!$C$58*'Fluxo de Caixa Descontado'!$B$3*(1-'Parâmetros de Fluxo de Caixa'!$B$14)+'Parâmetros de Fluxo de Caixa'!$B$14*'Parâmetros de Fluxo de Caixa'!$B$17*(-'Fluxo de Caixa Descontado'!AW29)),IF(AS25=\"Operação\",-'CAPEX e OPEX'!$C$58*'Fluxo de Caixa Descontado'!$B$3,\"\")))","v":""},{"$f":"IF(AT25=\"Construção\",0,IF(AT25=\"Start-up\",-('CAPEX e OPEX'!$C$58*'Fluxo de Caixa Descontado'!$B$3*(1-'Parâmetros de Fluxo de Caixa'!$B$14)+'Parâmetros de Fluxo de Caixa'!$B$14*'Parâmetros de Fluxo de Caixa'!$B$17*(-'Fluxo de Caixa Descontado'!AX29)),IF(AT25=\"Operação\",-'CAPEX e OPEX'!$C$58*'Fluxo de Caixa Descontado'!$B$3,\"\")))","v":""},{"$f":"IF(AU25=\"Construção\",0,IF(AU25=\"Start-up\",-('CAPEX e OPEX'!$C$58*'Fluxo de Caixa Descontado'!$B$3*(1-'Parâmetros de Fluxo de Caixa'!$B$14)+'Parâmetros de Fluxo de Caixa'!$B$14*'Parâmetros de Fluxo de Caixa'!$B$17*(-'Fluxo de Caixa Descontado'!AY29)),IF(AU25=\"Operação\",-'CAPEX e OPEX'!$C$58*'Fluxo de Caixa Descontado'!$B$3,\"\")))","v":""},{"$f":"IF(AV25=\"Construção\",0,IF(AV25=\"Start-up\",-('CAPEX e OPEX'!$C$58*'Fluxo de Caixa Descontado'!$B$3*(1-'Parâmetros de Fluxo de Caixa'!$B$14)+'Parâmetros de Fluxo de Caixa'!$B$14*'Parâmetros de Fluxo de Caixa'!$B$17*(-'Fluxo de Caixa Descontado'!AZ29)),IF(AV25=\"Operação\",-'CAPEX e OPEX'!$C$58*'Fluxo de Caixa Descontado'!$B$3,\"\")))","v":""}]
["Custo de Capital Equity (milhões R$ / ano)",{"$f":"IF(B25=\"Construção\",-('Parâmetros de Fluxo de Caixa'!$B$6*'Parâmetros de Fluxo de Caixa'!$B$23*'CAPEX e OPEX'!C3/10^6),0)","v":-149.09829976703563},{"$f":"IF(C25=\"Construção\",-('Parâmetros de Fluxo de Caixa'!$B$7*'Parâmetros de Fluxo de Caixa'!$B$23*'CAPEX e OPEX'!C3/10^6),0)","v":-1118.2372482527674},{"$f":"IF(D25=\"Construção\",-('Parâmetros de Fluxo de Caixa'!$B$8*'Parâmetros de Fluxo de Caixa'!$B$23*'CAPEX e OPEX'!C3/10^6),0)","v":-596.39319906814251},{"$f":"IF(E25=\"Construção\",-('Parâmetros de Fluxo de Caixa'!$B$9*'Parâmetros de Fluxo de Caixa'!$B$23*'CAPEX e OPEX'!C3/10^6),0)","v":0},{"$f":"IF(F25=\"Construção\",-('Parâmetros de Fluxo de Caixa'!$B$10*'Parâmetros de Fluxo de Caixa'!$B$23*'CAPEX e OPEX'!C3/10^6),0)","v":0},{"$f":"IF(G25=\"Start-up\",0,IF(G25=\"Operação\",0,\"\"))","v":0},0,0,0,0,0,0,0,0,0,0,0,0,0,0,0,0,0,"","","","","","","","","","","","","","","","","","","","",{"$f":"IF(AS25=\"Start-up\",0,IF(AS25=\"Operação\",0,\"\"))","v":""},{"$f":"IF(AT25=\"Start-up\",0,IF(AT25=\"Operação\",0,\"\"))","v":""},{"$f":"IF(AU25=\"Start-up\",0,IF(AU25=\"Operação\",0,\"\"))","v":""},""]
["Custo de Capital Financiado (milhões R$ / ano)",{"$f":"IF(B25=\"Construção\",-('Parâmetros de Fluxo de Caixa'!$B$6*'Parâmetros de Fluxo de Caixa'!$B$18*'CAPEX e OPEX'!C3/10^6),0)","v":-223.64744965055345},{"$f":"IF(C25=\"Construção\",-('Parâmetros de Fluxo de Caixa'!$B$7*'Parâmetros de Fluxo de Caixa'!$B$18*'CAPEX e OPEX'!C3/10^6),0)","v":-1677.3558723791509},{"$f":"IF(D25=\"Construção\",-('Parâmetros de Fluxo de Caixa'!$B$8*'Parâmetros de Fluxo de Caixa'!$B$18*'CAPEX e OPEX'!C3/10^6),0)","v":-894.58979860221382},{"$f":"IF(E25=\"Construção\",-('Parâmetros de Fluxo de Caixa'!$B$9*'Parâmetros de Fluxo de Caixa'!$B$18*'CAPEX e OPEX'!C3/10^6),0)","v":0},{"$f":"IF(F25=\"Construção\",-('Parâmetros de Fluxo de Caixa'!$B$10*'Parâmetros de Fluxo de Caixa'!$B$18*'CAPEX e OPEX'!C3/10^6),0)","v":0},{"$f":"IF(G25=\"Start-up\",0,IF(G25=\"Operação\",0,\"\"))","v":0},0,0,0,0,0,0,0,0,0,0,0,0,0,0,0,0,0,"","","","","","","","","","","","","","","","","","","","",{"$f":"IF(AS25=\"Start-up\",0,IF(AS25=\"Operação\",0,\"\"))","v":""},{"$f":"IF(AT25=\"Start-up\",0,IF(AT25=\"Operação\",0,\"\"))","v":""},{"$f":"IF(AU25=\"Start-up\",0,IF(AU25=\"Operação\",0,\"\"))","v":""},""]
["Depreciação",{"$f":"IF(B25=\"Construção\",0,IF(B24>'Parâmetros de Fluxo de Caixa'!$B$12,\"\",IF(B24<='Parâmetros de Fluxo de Caixa'!$B$26+'Parâmetros de Fluxo de Caixa'!$B$3+'Parâmetros de Fluxo de Caixa'!$B$4/12,-(SUM($B$30:$D$31)-SUM($B$30:$D$31)*'Parâmetros de Fluxo de Caixa'!$B$27)/'Parâmetros de Fluxo de Caixa'!$B$26,0)))","v":0},{"$f":"IF(C25=\"Construção\",0,IF(C24>'Parâmetros de Fluxo de Caixa'!$B$12,\"\",IF(C24<='Parâmetros de Fluxo de Caixa'!$B$26+'Parâmetros de Fluxo de Caixa'!$B$3+'Parâmetros de Fluxo de Caixa'!$B$4/12,-(SUM($B$30:$D$31)-SUM($B$30:$D$31)*'Parâmetros de Fluxo de Caixa'!$B$27)/'Parâmetros de Fluxo de Caixa'!$B$26,0)))","v":0},{"$f":"IF(D25=\"Construção\",0,IF(D24>'Parâmetros de Fluxo de Caixa'!$B$12,\"\",IF(D24<='Parâmetros de Fluxo de Caixa'!$B$26+'Parâmetros de Fluxo de Caixa'!$B$3+'Parâmetros de Fluxo de Caixa'!$B$4/12,-(SUM($B$30:$D$31)-SUM($B$30:$D$31)*'Parâmetros de Fluxo de Caixa'!$B$27)/'Parâmetros de Fluxo de Caixa'!$B$26,0)))","v":0},{"$f":"IF(E25=\"Construção\",0,IF(E24>'Parâmetros de Fluxo de Caixa'!$B$12,\"\",IF(E24<='Parâmetros de Fluxo de Caixa'!$B$26+'Parâmetros de Fluxo de Caixa'!$B$3+'Parâmetros de Fluxo de Caixa'!$B$4/12,-(SUM($B$30:$D$31)-SUM($B$30:$D$31)*'Parâmetros de Fluxo de Caixa'!$B$27)/'Parâmetros de Fluxo de Caixa'!$B$26,0)))","v":465.93218677198638},{"$f":"IF(F25=\"Construção\",0,IF(F24>'Parâmetros de Fluxo de Caixa'!$B$12,\"\",IF(F24<='Parâmetros de Fluxo de Caixa'!$B$26+'Parâmetros de Fluxo de Caixa'!$B$3+'Parâmetros de Fluxo de Caixa'!$B$4/12,-(SUM($B$30:$D$31)-SUM($B$30:$D$31)*'Parâmetros de Fluxo de Caixa'!$B$27)/'Parâmetros de Fluxo de Caixa'!$B$26,0)))","v":465.93218677198638},{"$f":"IF(G25=\"Construção\",0,IF(G24>'Parâmetros de Fluxo de Caixa'!$B$12,\"\",IF(G24<='Parâmetros de Fluxo de Caixa'!$B$26+'Parâmetros de Fluxo de Caixa'!$B$3+'Parâmetros de Fluxo de Caixa'!$B$4/12,-(SUM($B$30:$D$31)-SUM($B$30:$D$31)*'Parâmetros de Fluxo de Caixa'!$B$27)/'Parâmetros de Fluxo de Caixa'!$B$26,0)))","v":465.93218677198638},{"$f":"IF(H25=\"Construção\",0,IF(H24>'Parâmetros de Fluxo de Caixa'!$B$12,\"\",IF(H24<='Parâmetros de Fluxo de Caixa'!$B$26+'Parâmetros de Fluxo de Caixa'!$B$3+'Parâmetros de Fluxo de Caixa'!$B$4/12,-(SUM($B$30:$D$31)-SUM($B$30:$D$31)*'Parâmetros de Fluxo de Caixa'!$B$27)/'Parâmetros de Fluxo de Caixa'!$B$26,0)))","v":465.93218677198638},{"$f":"IF(I25=\"Construção\",0,IF(I24>'Parâmetros de Fluxo de Caixa'!$B$12,\"\",IF(I24<='Parâmetros de Fluxo de Caixa'!$B$26+'Parâmetros de Fluxo de Caixa'!$B$3+'Parâmetros de Fluxo de Caixa'!$B$4/12,-(SUM($B$30:$D$31)-SUM($B$30:$D$31)*'Parâmetros de Fluxo de Caixa'!$B$27)/'Parâmetros de Fluxo de Caixa'!$B$26,0)))","v":465.93218677198638},{"$f":"IF(J25=\"Construção\",0,IF(J24>'Parâmetros de Fluxo de Caixa'!$B$12,\"\",IF(J24<='Parâmetros de Fluxo de Caixa'!$B$26+'Parâmetros de Fluxo de Caixa'!$B$3+'Parâmetros de Fluxo de Caixa'!$B$4/12,-(SUM($B$30:$D$31)-SUM($B$30:$D$31)*'Parâmetros de Fluxo de Caixa'!$B$27)/'Parâmetros de Fluxo de Caixa'!$B$26,0)))","v":465.93218677198638},{"$f":"IF(K25=\"Construção\",0,IF(K24>'Parâmetros de Fluxo de Caixa'!$B$12,\"\",IF(K24<='Parâmetros de Fluxo de Caixa'!$B$26+'Parâmetros de Fluxo de Caixa'!$B$3+'Parâmetros de Fluxo de Caixa'!$B$4/12,-(SUM($B$30:$D$31)-SUM($B$30:$D$31)*'Parâmetros de Fluxo de Caixa'!$B$27)/'Parâmetros de Fluxo de Caixa'!$B$26,0)))","v":465.93218677198638},{"$f":"IF(L25=\"Construção\",0,IF(L24>'Parâmetros de Fluxo de Caixa'!$B$12,\"\",IF(L24<='Parâmetros de Fluxo de Caixa'!$B$26+'Parâmetros de Fluxo de Caixa'!$B$3+'Parâmetros de Fluxo de Caixa'!$B$4/12,-(SUM($B$30:$D$31)-SUM($B$30:$D$31)*'Parâmetros de Fluxo de Caixa'!$B$27)/'Parâmetros de Fluxo de Caixa'!$B$26,0)))","v":465.93218677198638},{"$f":"IF(M25=\"Construção\",0,IF(M24>'Parâmetros de Fluxo de Caixa'!$B$12,\"\",IF(M24<='Parâmetros de Fluxo de Caixa'!$B$26+'Parâmetros de Fluxo de Caixa'!$B$3+'Parâmetros de Fluxo de Caixa'!$B$4/12,-(SUM($B$30:$D$31)-SUM($B$30:$D$31)*'Parâmetros de Fluxo de Caixa'!$B$27)/'Parâmetros de Fluxo de Caixa'!$B$26,0)))","v":465.93218677198638},{"$f":"IF(N25=\"Construção\",0,IF(N24>'Parâmetros de Fluxo de Caixa'!$B$12,\"\",IF(N24<='Parâmetros de Fluxo de Caixa'!$B$26+'Parâmetros de Fluxo de Caixa'!$B$3+'Parâmetros de Fluxo de Caixa'!$B$4/12,-(SUM($B$30:$D$31)-SUM($B$30:$D$31)*'Parâmetros de Fluxo de Caixa'!$B$27)/'Parâmetros de Fluxo de Caixa'!$B$26,0)))","v":465.93218677198638},{"$f":"IF(O25=\"Construção\",0,IF(O24>'Parâmetros de Fluxo de Caixa'!$B$12,\"\",IF(O24<='Parâmetros de Fluxo de Caixa'!$B$26+'Parâmetros de Fluxo de Caixa'!$B$3+'Parâmetros de Fluxo de Caixa'!$B$4/12,-(SUM($B$30:$D$31)-SUM($B$30:$D$31)*'Parâmetros de Fluxo de Caixa'!$B$27)/'Parâmetros de Fluxo de Caixa'!$B$26,0)))","v":0},{"$f":"IF(P25=\"Construção\",0,IF(P24>'Parâmetros de Fluxo de Caixa'!$B$12,\"\",IF(P24<='Parâmetros de Fluxo de Caixa'!$B$26+'Parâmetros de Fluxo de Caixa'!$B$3+'Parâmetros de Fluxo de Caixa'!$B$4/12,-(SUM($B$30:$D$31)-SUM($B$30:$D$31)*'Parâmetros de Fluxo de Caixa'!$B$27)/'Parâmetros de Fluxo de Caixa'!$B$26,0)))","v":0},{"$f":"IF(Q25=\"Construção\",0,IF(Q24>'Parâmetros de Fluxo de Caixa'!$B$12,\"\",IF(Q24<='Parâmetros de Fluxo de Caixa'!$B$26+'Parâmetros de Fluxo de Caixa'!$B$3+'Parâmetros de Fluxo de Caixa'!$B$4/12,-(SUM($B$30:$D$31)-SUM($B$30:$D$31)*'Parâmetros de Fluxo de Caixa'!$B$27)/'Parâmetros de Fluxo de Caixa'!$B$26,0)))","v":0},{"$f":"IF(R25=\"Construção\",0,IF(R24>'Parâmetros de Fluxo de Caixa'!$B$12,\"\",IF(R24<='Parâmetros de Fluxo de Caixa'!$B$26+'Parâmetros de Fluxo de Caixa'!$B$3+'Parâmetros de Fluxo de Caixa'!$B$4/12,-(SUM($B$30:$D$31)-SUM($B$30:$D$31)*'Parâmetros de Fluxo de Caixa'!$B$27)/'Parâmetros de Fluxo de Caixa'!$B$26,0)))","v":0},{"$f":"IF(S25=\"Construção\",0,IF(S24>'Parâmetros de Fluxo de Caixa'!$B$12,\"\",IF(S24<='Parâmetros de Fluxo de Caixa'!$B$26+'Parâmetros de Fluxo de Caixa'!$B$3+'Parâmetros de Fluxo de Caixa'!$B$4/12,-(SUM($B$30:$D$31)-SUM($B$30:$D$31)*'Parâmetros de Fluxo de Caixa'!$B$27)/'Parâmetros de Fluxo de Caixa'!$B$26,0)))","v":0},{"$f":"IF(T25=\"Construção\",0,IF(T24>'Parâmetros de Fluxo de Caixa'!$B$12,\"\",IF(T24<='Parâmetros de Fluxo de Caixa'!$B$26+'Parâmetros de Fluxo de Caixa'!$B$3+'Parâmetros de Fluxo de Caixa'!$B$4/12,-(SUM($B$30:$D$31)-SUM($B$30:$D$31)*'Parâmetros de Fluxo de Caixa'!$B$27)/'Parâmetros de Fluxo de Caixa'!$B$26,0)))","v":0},{"$f":"IF(U25=\"Construção\",0,IF(U24>'Parâmetros de Fluxo de Caixa'!$B$12,\"\",IF(U24<='Parâmetros de Fluxo de Caixa'!$B$26+'Parâmetros de Fluxo de Caixa'!$B$3+'Parâmetros de Fluxo de Caixa'!$B$4/12,-(SUM($B$30:$D$31)-SUM($B$30:$D$31)*'Parâmetros de Fluxo de Caixa'!$B$27)/'Parâmetros de Fluxo de Caixa'!$B$26,0)))","v":0},{"$f":"IF(V25=\"Construção\",0,IF(V24>'Parâmetros de Fluxo de Caixa'!$B$12,\"\",IF(V24<='Parâmetros de Fluxo de Caixa'!$B$26+'Parâmetros de Fluxo de Caixa'!$B$3+'Parâmetros de Fluxo de Caixa'!$B$4/12,-(SUM($B$30:$D$31)-SUM($B$30:$D$31)*'Parâmetros de Fluxo de Caixa'!$B$27)/'Parâmetros de Fluxo de Caixa'!$B$26,0)))","v":0},{"$f":"IF(W25=\"Construção\",0,IF(W24>'Parâmetros de Fluxo de Caixa'!$B$12,\"\",IF(W24<='Parâmetros de Fluxo de Caixa'!$B$26+'Parâmetros de Fluxo de Caixa'!$B$3+'Parâmetros de Fluxo de Caixa'!$B$4/12,-(SUM($B$30:$D$31)-SUM($B$30:$D$31)*'Parâmetros de Fluxo de Caixa'!$B$27)/'Parâmetros de Fluxo de Caixa'!$B$26,0)))","v":0},{"$f":"IF(X25=\"Construção\",0,IF(X24>'Parâmetros de Fluxo de Caixa'!$B$12,\"\",IF(X24<='Parâmetros de Fluxo de Caixa'!$B$26+'Parâmetros de Fluxo de Caixa'!$B$3+'Parâmetros de Fluxo de Caixa'!$B$4/12,-(SUM($B$30:$D$31)-SUM($B$30:$D$31)*'Parâmetros de Fluxo de Caixa'!$B$27)/'Parâmetros de Fluxo de Caixa'!$B$26,0)))","v":0},{"$f":"IF(Y25=\"Construção\",0,IF(Y24>'Parâmetros de Fluxo de Caixa'!$B$12,\"\",IF(Y24<='Parâmetros de Fluxo de Caixa'!$B$26+'Parâmetros de Fluxo de Caixa'!$B$3+'Parâmetros de Fluxo de Caixa'!$B$4/12,-(SUM($B$30:$D$31)-SUM($B$30:$D$31)*'Parâmetros de Fluxo de Caixa'!$B$27)/'Parâmetros de Fluxo de Caixa'!$B$26,0)))","v":""},{"$f":"IF(Z25=\"Construção\",0,IF(Z24>'Parâmetros de Fluxo de Caixa'!$B$12,\"\",IF(Z24<='Parâmetros de Fluxo de Caixa'!$B$26+'Parâmetros de Fluxo de Caixa'!$B$3+'Parâmetros de Fluxo de Caixa'!$B$4/12,-(SUM($B$30:$D$31)-SUM($B$30:$D$31)*'Parâmetros de Fluxo de Caixa'!$B$27)/'Parâmetros de Fluxo de Caixa'!$B$26,0)))","v":""},{"$f":"IF(AA25=\"Construção\",0,IF(AA24>'Parâmetros de Fluxo de Caixa'!$B$12,\"\",IF(AA24<='Parâmetros de Fluxo de Caixa'!$B$26+'Parâmetros de Fluxo de Caixa'!$B$3+'Parâmetros de Fluxo de Caixa'!$B$4/12,-(SUM($B$30:$D$31)-SUM($B$30:$D$31)*'Parâmetros de Fluxo de Caixa'!$B$27)/'Parâmetros de Fluxo de Caixa'!$B$26,0)))","v":""},{"$f":"IF(AB25=\"Construção\",0,IF(AB24>'Parâmetros de Fluxo de Caixa'!$B$12,\"\",IF(AB24<='Parâmetros de Fluxo de Caixa'!$B$26+'Parâmetros de Fluxo de Caixa'!$B$3+'Parâmetros de Fluxo de Caixa'!$B$4/12,-(SUM($B$30:$D$31)-SUM($B$30:$D$31)*'Parâmetros de Fluxo de Caixa'!$B$27)/'Parâmetros de Fluxo de Caixa'!$B$26,0)))","v":""},{"$f":"IF(AC25=\"Construção\",0,IF(AC24>'Parâmetros de Fluxo de Caixa'!$B$12,\"\",IF(AC24<='Parâmetros de Fluxo de Caixa'!$B$26+'Parâmetros de Fluxo de Caixa'!$B$3+'Parâmetros de Fluxo de Caixa'!$B$4/12,-(SUM($B$30:$D$31)-SUM($B$30:$D$31)*'Parâmetros de Fluxo de Caixa'!$B$27)/'Parâmetros de Fluxo de Caixa'!$B$26,0)))","v":""},{"$f":"IF(AD25=\"Construção\",0,IF(AD24>'Parâmetros de Fluxo de Caixa'!$B$12,\"\",IF(AD24<='Parâmetros de Fluxo de Caixa'!$B$26+'Parâmetros de Fluxo de Caixa'!$B$3+'Parâmetros de Fluxo de Caixa'!$B$4/12,-(SUM($B$30:$D$31)-SUM($B$30:$D$31)*'Parâmetros de Fluxo de Caixa'!$B$27)/'Parâmetros de Fluxo de Caixa'!$B$26,0)))","v":""},{"$f":"IF(AE25=\"Construção\",0,IF(AE24>'Parâmetros de Fluxo de Caixa'!$B$12,\"\",IF(AE24<='Parâmetros de Fluxo de Caixa'!$B$26+'Parâmetros de Fluxo de Caixa'!$B$3+'Parâmetros de Fluxo de Caixa'!$B$4/12,-(SUM($B$30:$D$31)-SUM($B$30:$D$31)*'Parâmetros de Fluxo de Caixa'!$B$27)/'Parâmetros de Fluxo de Caixa'!$B$26,0)))","v":""},{"$f":"IF(AF25=\"Construção\",0,IF(AF24>'Parâmetros de Fluxo de Caixa'!$B$12,\"\",IF(AF24<='Parâmetros de Fluxo de Caixa'!$B$26+'Parâmetros de Fluxo de Caixa'!$B$3+'Parâmetros de Fluxo de Caixa'!$B$4/12,-(SUM($B$30:$D$31)-SUM($B$30:$D$31)*'Parâmetros de Fluxo de Caixa'!$B$27)/'Parâmetros de Fluxo de Caixa'!$B$26,0)))","v":""},{"$f":"IF(AG25=\"Construção\",0,IF(AG24>'Parâmetros de Fluxo de Caixa'!$B$12,\"\",IF(AG24<='Parâmetros de Fluxo de Caixa'!$B$26+'Parâmetros de Fluxo de Caixa'!$B$3+'Parâmetros de Fluxo de Caixa'!$B$4/12,-(SUM($B$30:$D$31)-SUM($B$30:$D$31)*'Parâmetros de Fluxo de Caixa'!$B$27)/'Parâmetros de Fluxo de Caixa'!$B$26,0)))","v":""},{"$f":"IF(AH25=\"Construção\",0,IF(AH24>'Parâmetros de Fluxo de Caixa'!$B$12,\"\",IF(AH24<='Parâmetros de Fluxo de Caixa'!$B$26+'Parâmetros de Fluxo de Caixa'!$B$3+'Parâmetros de Fluxo de Caixa'!$B$4/12,-(SUM($B$30:$D$31)-SUM($B$30:$D$31)*'Parâmetros de Fluxo de Caixa'!$B$27)/'Parâmetros de Fluxo de Caixa'!$B$26,0)))","v":""},{"$f":"IF(AI25=\"Construção\",0,IF(AI24>'Parâmetros de Fluxo de Caixa'!$B$12,\"\",IF(AI24<='Parâmetros de Fluxo de Caixa'!$B$26+'Parâmetros de Fluxo de Caixa'!$B$3+'Parâmetros de Fluxo de Caixa'!$B$4/12,-(SUM($B$30:$D$31)-SUM($B$30:$D$31)*'Parâmetros de Fluxo de Caixa'!$B$27)/'Parâmetros de Fluxo de Caixa'!$B$26,0)))","v":""},{"$f":"IF(AJ25=\"Construção\",0,IF(AJ24>'Parâmetros de Fluxo de Caixa'!$B$12,\"\",IF(AJ24<='Parâmetros de Fluxo de Caixa'!$B$26+'Parâmetros de Fluxo de Caixa'!$B$3+'Parâmetros de Fluxo de Caixa'!$B$4/12,-(SUM($B$30:$D$31)-SUM($B$30:$D$31)*'Parâmetros de Fluxo de Caixa'!$B$27)/'Parâmetros de Fluxo de Caixa'!$B$26,0)))","v":""},{"$f":"IF(AK25=\"Construção\",0,IF(AK24>'Parâmetros de Fluxo de Caixa'!$B$12,\"\",IF(AK24<='Parâmetros de Fluxo de Caixa'!$B$26+'Parâmetros de Fluxo de Caixa'!$B$3+'Parâmetros de Fluxo de Caixa'!$B$4/12,-(SUM($B$30:$D$31)-SUM($B$30:$D$31)*'Parâmetros de Fluxo de Caixa'!$B$27)/'Parâmetros de Fluxo de Caixa'!$B$26,0)))","v":""},{"$f":"IF(AL25=\"Construção\",0,IF(AL24>'Parâmetros de Fluxo de Caixa'!$B$12,\"\",IF(AL24<='Parâmetros de Fluxo de Caixa'!$B$26+'Parâmetros de Fluxo de Caixa'!$B$3+'Parâmetros de Fluxo de Caixa'!$B$4/12,-(SUM($B$30:$D$31)-SUM($B$30:$D$31)*'Parâmetros de Fluxo de Caixa'!$B$27)/'Parâmetros de Fluxo de Caixa'!$B$26,0)))","v":""},{"$f":"IF(AM25=\"Construção\",0,IF(AM24>'Parâmetros de Fluxo de Caixa'!$B$12,\"\",IF(AM24<='Parâmetros de Fluxo de Caixa'!$B$26+'Parâmetros de Fluxo de Caixa'!$B$3+'Parâmetros de Fluxo de Caixa'!$B$4/12,-(SUM($B$30:$D$31)-SUM($B$30:$D$31)*'Parâmetros de Fluxo de Caixa'!$B$27)/'Parâmetros de Fluxo de Caixa'!$B$26,0)))","v":""},{"$f":"IF(AN25=\"Construção\",0,IF(AN24>'Parâmetros de Fluxo de Caixa'!$B$12,\"\",IF(AN24<='Parâmetros de Fluxo de Caixa'!$B$26+'Parâmetros de Fluxo de Caixa'!$B$3+'Parâmetros de Fluxo de Caixa'!$B$4/12,-(SUM($B$30:$D$31)-SUM($B$30:$D$31)*'Parâmetros de Fluxo de Caixa'!$B$27)/'Parâmetros de Fluxo de Caixa'!$B$26,0)))","v":""},{"$f":"IF(AO25=\"Construção\",0,IF(AO24>'Parâmetros de Fluxo de Caixa'!$B$12,\"\",IF(AO24<='Parâmetros de Fluxo de Caixa'!$B$26+'Parâmetros de Fluxo de Caixa'!$B$3+'Parâmetros de Fluxo de Caixa'!$B$4/12,-(SUM($B$30:$D$31)-SUM($B$30:$D$31)*'Parâmetros de Fluxo de Caixa'!$B$27)/'Parâmetros de Fluxo de Caixa'!$B$26,0)))","v":""},{"$f":"IF(AP25=\"Construção\",0,IF(AP24>'Parâmetros de Fluxo de Caixa'!$B$12,\"\",IF(AP24<='Parâmetros de Fluxo de Caixa'!$B$26+'Parâmetros de Fluxo de Caixa'!$B$3+'Parâmetros de Fluxo de Caixa'!$B$4/12,-(SUM($B$30:$D$31)-SUM($B$30:$D$31)*'Parâmetros de Fluxo de Caixa'!$B$27)/'Parâmetros de Fluxo de Caixa'!$B$26,0)))","v":""},{"$f":"IF(AQ25=\"Construção\",0,IF(AQ24>'Parâmetros de Fluxo de Caixa'!$B$12,\"\",IF(AQ24<='Parâmetros de Fluxo de Caixa'!$B$26+'Parâmetros de Fluxo de Caixa'!$B$3+'Parâmetros de Fluxo de Caixa'!$B$4/12,-(SUM($B$30:$D$31)-SUM($B$30:$D$31)*'Parâmetros de Fluxo de Caixa'!$B$27)/'Parâmetros de Fluxo de Caixa'!$B$26,0)))","v":""},{"$f":"IF(AR25=\"Construção\",0,IF(AR24>'Parâmetros de Fluxo de Caixa'!$B$12,\"\",IF(AR24<='Parâmetros de Fluxo de Caixa'!$B$26+'Parâmetros de Fluxo de Caixa'!$B$3+'Parâmetros de Fluxo de Caixa'!$B$4/12,-(SUM($B$30:$D$31)-SUM($B$30:$D$31)*'Parâmetros de Fluxo de Caixa'!$B$27)/'Parâmetros de Fluxo de Caixa'!$B$26,0)))","v":""},{"$f":"IF(AS25=\"Construção\",0,IF(AS24>'Parâmetros de Fluxo de Caixa'!$B$12,\"\",IF(AS24<='Parâmetros de Fluxo de Caixa'!$B$26+'Parâmetros de Fluxo de Caixa'!$B$3+'Parâmetros de Fluxo de Caixa'!$B$4/12,-(SUM($B$30:$D$31)-SUM($B$30:$D$31)*'Parâmetros de Fluxo de Caixa'!$B$27)/'Parâmetros de Fluxo de Caixa'!$B$26,0)))","v":""},{"$f":"IF(AT25=\"Construção\",0,IF(AT24>'Parâmetros de Fluxo de Caixa'!$B$12,\"\",IF(AT24<='Parâmetros de Fluxo de Caixa'!$B$26+'Parâmetros de Fluxo de Caixa'!$B$3+'Parâmetros de Fluxo de Caixa'!$B$4/12,-(SUM($B$30:$D$31)-SUM($B$30:$D$31)*'Parâmetros de Fluxo de Caixa'!$B$27)/'Parâmetros de Fluxo de Caixa'!$B$26,0)))","v":""},{"$f":"IF(AU25=\"Construção\",0,IF(AU24>'Parâmetros de Fluxo de Caixa'!$B$12,\"\",IF(AU24<='Parâmetros de Fluxo de Caixa'!$B$26+'Parâmetros de Fluxo de Caixa'!$B$3+'Parâmetros de Fluxo de Caixa'!$B$4/12,-(SUM($B$30:$D$31)-SUM($B$30:$D$31)*'Parâmetros de Fluxo de Caixa'!$B$27)/'Parâmetros de Fluxo de Caixa'!$B$26,0)))","v":""},{"$f":"IF(AV25=\"Construção\",0,IF(AV24>'Parâmetros de Fluxo de Caixa'!$B$12,\"\",IF(AV24<='Parâmetros de Fluxo de Caixa'!$B$26+'Parâmetros de Fluxo de Caixa'!$B$3+'Parâmetros de Fluxo de Caixa'!$B$4/12,-(SUM($B$30:$D$31)-SUM($B$30:$D$31)*'Parâmetros de Fluxo de Caixa'!$B$27)/'Parâmetros de Fluxo de Caixa'!$B$26,0)))","v":""}]
["PIS e COFINS",{"$f":"IF(B25=\"Construção\",0,IF(OR(B25=\"Start-up\",B25=\"Operação\"),IF(B27>0,-B27*'Parâmetros de Fluxo de Caixa'!$B$29,0),\"\"))","v":0},{"$f":"IF(C25=\"Construção\",0,IF(OR(C25=\"Start-up\",C25=\"Operação\"),IF(C27>0,-C27*'Parâmetros de Fluxo de Caixa'!$B$29,0),\"\"))","v":0},{"$f":"IF(D25=\"Construção\",0,IF(OR(D25=\"Start-up\",D25=\"Operação\"),IF(D27>0,-D27*'Parâmetros de Fluxo de Caixa'!$B$29,0),\"\"))","v":0},{"$f":"IF(E25=\"Construção\",0,IF(OR(E25=\"Start-up\",E25=\"Operação\"),IF(E27>0,-E27*'Parâmetros de Fluxo de Caixa'!$B$29,0),\"\"))","v":-484.060968690057},{"$f":"IF(F25=\"Construção\",0,IF(OR(F25=\"Start-up\",F25=\"Operação\"),IF(F27>0,-F27*'Parâmetros de Fluxo de Caixa'!$B$29,0),\"\"))","v":-553.21253564577944},{"$f":"IF(G25=\"Construção\",0,IF(OR(G25=\"Start-up\",G25=\"Operação\"),IF(G27>0,-G27*'Parâmetros de Fluxo de Caixa'!$B$29,0),\"\"))","v":-553.21253564577944},{"$f":"IF(H25=\"Construção\",0,IF(OR(H25=\"Start-up\",H25=\"Operação\"),IF(H27>0,-H27*'Parâmetros de Fluxo de Caixa'!$B$29,0),\"\"))","v":-553.21253564577944},{"$f":"IF(I25=\"Construção\",0,IF(OR(I25=\"Start-up\",I25=\"Operação\"),IF(I27>0,-I27*'Parâmetros de Fluxo de Caixa'!$B$29,0),\"\"))","v":-553.21253564577944},{"$f":"IF(J25=\"Construção\",0,IF(OR(J25=\"Start-up\",J25=\"Operação\"),IF(J27>0,-J27*'Parâmetros de Fluxo de Caixa'!$B$29,0),\"\"))","v":-553.21253564577944},{"$f":"IF(K25=\"Construção\",0,IF(OR(K25=\"Start-up\",K25=\"Operação\"),IF(K27>0,-K27*'Parâmetros de Fluxo de Caixa'!$B$29,0),\"\"))","v":-553.21253564577944},{"$f":"IF(L25=\"Construção\",0,IF(OR(L25=\"Start-up\",L25=\"Operação\"),IF(L27>0,-L27*'Parâmetros de Fluxo de Caixa'!$B$29,0),\"\"))","v":-553.21253564577944},{"$f":"IF(M25=\"Construção\",0,IF(OR(M25=\"Start-up\",M25=\"Operação\"),IF(M27>0,-M27*'Parâmetros de Fluxo de Caixa'!$B$29,0),\"\"))","v":-553.21253564577944},{"$f":"IF(N25=\"Construção\",0,IF(OR(N25=\"Start-up\",N25=\"Operação\"),IF(N27>0,-N27*'Parâmetros de Fluxo de Caixa'!$B$29,0),\"\"))","v":-553.21253564577944},{"$f":"IF(O25=\"Construção\",0,IF(OR(O25=\"Start-up\",O25=\"Operação\"),IF(O27>0,-O27*'Parâmetros de Fluxo de Caixa'!$B$29,0),\"\"))","v":-553.21253564577944},{"$f":"IF(P25=\"Construção\",0,IF(OR(P25=\"Start-up\",P25=\"Operação\"),IF(P27>0,-P27*'Parâmetros de Fluxo de Caixa'!$B$29,0),\"\"))","v":-553.21253564577944},{"$f":"IF(Q25=\"Construção\",0,IF(OR(Q25=\"Start-up\",Q25=\"Operação\"),IF(Q27>0,-Q27*'Parâmetros de Fluxo de Caixa'!$B$29,0),\"\"))","v":-553.21253564577944},{"$f":"IF(R25=\"Construção\",0,IF(OR(R25=\"Start-up\",R25=\"Operação\"),IF(R27>0,-R27*'Parâmetros de Fluxo de Caixa'!$B$29,0),\"\"))","v":-553.21253564577944},{"$f":"IF(S25=\"Construção\",0,IF(OR(S25=\"Start-up\",S25=\"Operação\"),IF(S27>0,-S27*'Parâmetros de Fluxo de Caixa'!$B$29,0),\"\"))","v":-553.21253564577944},{"$f":"IF(T25=\"Construção\",0,IF(OR(T25=\"Start-up\",T25=\"Operação\"),IF(T27>0,-T27*'Parâmetros de Fluxo de Caixa'!$B$29,0),\"\"))","v":-553.21253564577944},{"$f":"IF(U25=\"Construção\",0,IF(OR(U25=\"Start-up\",U25=\"Operação\"),IF(U27>0,-U27*'Parâmetros de Fluxo de Caixa'!$B$29,0),\"\"))","v":-553.21253564577944},{"$f":"IF(V25=\"Construção\",0,IF(OR(V25=\"Start-up\",V25=\"Operação\"),IF(V27>0,-V27*'Parâmetros de Fluxo de Caixa'!$B$29,0),\"\"))","v":-553.21253564577944},{"$f":"IF(W25=\"Construção\",0,IF(OR(W25=\"Start-up\",W25=\"Operação\"),IF(W27>0,-W27*'Parâmetros de Fluxo de Caixa'!$B$29,0),\"\"))","v":-553.21253564577944},{"$f":"IF(X25=\"Construção\",0,IF(OR(X25=\"Start-up\",X25=\"Operação\"),IF(X27>0,-X27*'Parâmetros de Fluxo de Caixa'!$B$29,0),\"\"))","v":-553.21253564577944},{"$f":"IF(Y25=\"Construção\",0,IF(OR(Y25=\"Start-up\",Y25=\"Operação\"),IF(Y27>0,-Y27*'Parâmetros de Fluxo de Caixa'!$B$29,0),\"\"))","v":""},{"$f":"IF(Z25=\"Construção\",0,IF(OR(Z25=\"Start-up\",Z25=\"Operação\"),IF(Z27>0,-Z27*'Parâmetros de Fluxo de Caixa'!$B$29,0),\"\"))","v":""},{"$f":"IF(AA25=\"Construção\",0,IF(OR(AA25=\"Start-up\",AA25=\"Operação\"),IF(AA27>0,-AA27*'Parâmetros de Fluxo de Caixa'!$B$29,0),\"\"))","v":""},{"$f":"IF(AB25=\"Construção\",0,IF(OR(AB25=\"Start-up\",AB25=\"Operação\"),IF(AB27>0,-AB27*'Parâmetros de Fluxo de Caixa'!$B$29,0),\"\"))","v":""},{"$f":"IF(AC25=\"Construção\",0,IF(OR(AC25=\"Start-up\",AC25=\"Operação\"),IF(AC27>0,-AC27*'Parâmetros de Fluxo de Caixa'!$B$29,0),\"\"))","v":""},{"$f":"IF(AD25=\"Construção\",0,IF(OR(AD25=\"Start-up\",AD25=\"Operação\"),IF(AD27>0,-AD27*'Parâmetros de Fluxo de Caixa'!$B$29,0),\"\"))","v":""},{"$f":"IF(AE25=\"Construção\",0,IF(OR(AE25=\"Start-up\",AE25=\"Operação\"),IF(AE27>0,-AE27*'Parâmetros de Fluxo de Caixa'!$B$29,0),\"\"))","v":""},{"$f":"IF(AF25=\"Construção\",0,IF(OR(AF25=\"Start-up\",AF25=\"Operação\"),IF(AF27>0,-AF27*'Parâmetros de Fluxo de Caixa'!$B$29,0),\"\"))","v":""},{"$f":"IF(AG25=\"Construção\",0,IF(OR(AG25=\"Start-up\",AG25=\"Operação\"),IF(AG27>0,-AG27*'Parâmetros de Fluxo de Caixa'!$B$29,0),\"\"))","v":""},{"$f":"IF(AH25=\"Construção\",0,IF(OR(AH25=\"Start-up\",AH25=\"Operação\"),IF(AH27>0,-AH27*'Parâmetros de Fluxo de Caixa'!$B$29,0),\"\"))","v":""},{"$f":"IF(AI25=\"Construção\",0,IF(OR(AI25=\"Start-up\",AI25=\"Operação\"),IF(AI27>0,-AI27*'Parâmetros de Fluxo de Caixa'!$B$29,0),\"\"))","v":""},{"$f":"IF(AJ25=\"Construção\",0,IF(OR(AJ25=\"Start-up\",AJ25=\"Operação\"),IF(AJ27>0,-AJ27*'Parâmetros de Fluxo de Caixa'!$B$29,0),\"\"))","v":""},{"$f":"IF(AK25=\"Construção\",0,IF(OR(AK25=\"Start-up\",AK25=\"Operação\"),IF(AK27>0,-AK27*'Parâmetros de Fluxo de Caixa'!$B$29,0),\"\"))","v":""},{"$f":"IF(AL25=\"Construção\",0,IF(OR(AL25=\"Start-up\",AL25=\"Operação\"),IF(AL27>0,-AL27*'Parâmetros de Fluxo de Caixa'!$B$29,0),\"\"))","v":""},{"$f":"IF(AM25=\"Construção\",0,IF(OR(AM25=\"Start-up\",AM25=\"Operação\"),IF(AM27>0,-AM27*'Parâmetros de Fluxo de Caixa'!$B$29,0),\"\"))","v":""},{"$f":"IF(AN25=\"Construção\",0,IF(OR(AN25=\"Start-up\",AN25=\"Operação\"),IF(AN27>0,-AN27*'Parâmetros de Fluxo de Caixa'!$B$29,0),\"\"))","v":""},{"$f":"IF(AO25=\"Construção\",0,IF(OR(AO25=\"Start-up\",AO25=\"Operação\"),IF(AO27>0,-AO27*'Parâmetros de Fluxo de Caixa'!$B$29,0),\"\"))","v":""},{"$f":"IF(AP25=\"Construção\",0,IF(OR(AP25=\"Start-up\",AP25=\"Operação\"),IF(AP27>0,-AP27*'Parâmetros de Fluxo de Caixa'!$B$29,0),\"\"))","v":""},{"$f":"IF(AQ25=\"Construção\",0,IF(OR(AQ25=\"Start-up\",AQ25=\"Operação\"),IF(AQ27>0,-AQ27*'Parâmetros de Fluxo de Caixa'!$B$29,0),\"\"))","v":""},{"$f":"IF(AR25=\"Construção\",0,IF(OR(AR25=\"Start-up\",AR25=\"Operação\"),IF(AR27>0,-AR27*'Parâmetros de Fluxo de Caixa'!$B$29,0),\"\"))","v":""},{"$f":"IF(AS25=\"Construção\",0,IF(OR(AS25=\"Start-up\",AS25=\"Operação\"),IF(AS27>0,-AS27*'Parâmetros de Fluxo de Caixa'!$B$29,0),\"\"))","v":""},{"$f":"IF(AT25=\"Construção\",0,IF(OR(AT25=\"Start-up\",AT25=\"Operação\"),IF(AT27>0,-AT27*'Parâmetros de Fluxo de Caixa'!$B$29,0),\"\"))","v":""},{"$f":"IF(AU25=\"Construção\",0,IF(OR(AU25=\"Start-up\",AU25=\"Operação\"),IF(AU27>0,-AU27*'Parâmetros de Fluxo de Caixa'!$B$29,0),\"\"))","v":""},{"$f":"IF(AV25=\"Construção\",0,IF(OR(AV25=\"Start-up\",AV25=\"Operação\"),IF(AV27>0,-AV27*'Parâmetros de Fluxo de Caixa'!$B$29,0),\"\"))","v":""}]
["EBITDA",{"$f":"IF(B25=\"Construção\",0,IF(OR(B25=\"Start-up\",B25=\"Operação\"),B27+B28+B29,\"\"))","v":0},{"$f":"IF(C25=\"Construção\",0,IF(OR(C25=\"Start-up\",C25=\"Operação\"),C27+C28+C29,\"\"))","v":0},0,1139.6118622426241,1345.6786884775404,1345.6786884775404,1345.6786884775404,1345.6786884775404,1345.6786884775404,1345.6786884775404,1345.6786884775404,1345.6786884775404,1345.6786884775404,1345.6786884775404,1345.6786884775404,1345.6786884775404,1345.6786884775404,1345.6786884775404,1345.6786884775404,1345.6786884775404,1345.6786884775404,1345.6786884775404,1345.6786884775404,"","","","","","","","","","","","","","","","","","","","",{"$f":"IF(AS25=\"Construção\",0,IF(OR(AS25=\"Start-up\",AS25=\"Operação\"),AS27+AS28+AS29,\"\"))","v":""},{"$f":"IF(AT25=\"Construção\",0,IF(OR(AT25=\"Start-up\",AT25=\"Operação\"),AT27+AT28+AT29,\"\"))","v":""},{"$f":"IF(AU25=\"Construção\",0,IF(OR(AU25=\"Start-up\",AU25=\"Operação\"),AU27+AU28+AU29,\"\"))","v":""},""]
["IR e CSLL",{"$f":"IF(B25=\"Construção\",0,IF(OR(B25=\"Start-up\",B25=\"Operação\"),IF((B34-B32+B33)>0,-(B34-B32+B33)*'Parâmetros de Fluxo de Caixa'!$B$28,0),\"\"))","v":0},{"$f":"IF(C25=\"Construção\",0,IF(OR(C25=\"Start-up\",C25=\"Operação\"),IF((C34-C32+C33)>0,-(C34-C32+C33)*'Parâmetros de Fluxo de Caixa'!$B$28,0),\"\"))","v":0},{"$f":"IF(D25=\"Construção\",0,IF(OR(D25=\"Start-up\",D25=\"Operação\"),IF((D34-D32+D33)>0,-(D34-D32+D33)*'Parâmetros de Fluxo de Caixa'!$B$28,0),\"\"))","v":0},{"$f":"IF(E25=\"Construção\",0,IF(OR(E25=\"Start-up\",E25=\"Operação\"),IF((E34-E32+E33)>0,-(E34-E32+E33)*'Parâmetros de Fluxo de Caixa'!$B$28,0),\"\"))","v":-64.470360305397435},{"$f":"IF(F25=\"Construção\",0,IF(OR(F25=\"Start-up\",F25=\"Operação\"),IF((F34-F32+F33)>0,-(F34-F32+F33)*'Parâmetros de Fluxo de Caixa'!$B$28,0),\"\"))","v":-111.02154846032336},{"$f":"IF(G25=\"Construção\",0,IF(OR(G25=\"Start-up\",G25=\"Operação\"),IF((G34-G32+G33)>0,-(G34-G32+G33)*'Parâmetros de Fluxo de Caixa'!$B$28,0),\"\"))","v":-111.02154846032336},{"$f":"IF(H25=\"Construção\",0,IF(OR(H25=\"Start-up\",H25=\"Operação\"),IF((H34-H32+H33)>0,-(H34-H32+H33)*'Parâmetros de Fluxo de Caixa'!$B$28,0),\"\"))","v":-111.02154846032336},{"$f":"IF(I25=\"Construção\",0,IF(OR(I25=\"Start-up\",I25=\"Operação\"),IF((I34-I32+I33)>0,-(I34-I32+I33)*'Parâmetros de Fluxo de Caixa'!$B$28,0),\"\"))","v":-111.02154846032336},{"$f":"IF(J25=\"Construção\",0,IF(OR(J25=\"Start-up\",J25=\"Operação\"),IF((J34-J32+J33)>0,-(J34-J32+J33)*'Parâmetros de Fluxo de Caixa'!$B$28,0),\"\"))","v":-111.02154846032336},{"$f":"IF(K25=\"Construção\",0,IF(OR(K25=\"Start-up\",K25=\"Operação\"),IF((K34-K32+K33)>0,-(K34-K32+K33)*'Parâmetros de Fluxo de Caixa'!$B$28,0),\"\"))","v":-111.02154846032336},{"$f":"IF(L25=\"Construção\",0,IF(OR(L25=\"Start-up\",L25=\"Operação\"),IF((L34-L32+L33)>0,-(L34-L32+L33)*'Parâmetros de Fluxo de Caixa'!$B$28,0),\"\"))","v":-111.02154846032336},{"$f":"IF(M25=\"Construção\",0,IF(OR(M25=\"Start-up\",M25=\"Operação\"),IF((M34-M32+M33)>0,-(M34-M32+M33)*'Parâmetros de Fluxo de Caixa'!$B$28,0),\"\"))","v":-111.02154846032336},{"$f":"IF(N25=\"Construção\",0,IF(OR(N25=\"Start-up\",N25=\"Operação\"),IF((N34-N32+N33)>0,-(N34-N32+N33)*'Parâmetros de Fluxo de Caixa'!$B$28,0),\"\"))","v":-111.02154846032336},{"$f":"IF(O25=\"Construção\",0,IF(OR(O25=\"Start-up\",O25=\"Operação\"),IF((O34-O32+O33)>0,-(O34-O32+O33)*'Parâmetros de Fluxo de Caixa'!$B$28,0),\"\"))","v":-269.43849196279876},{"$f":"IF(P25=\"Construção\",0,IF(OR(P25=\"Start-up\",P25=\"Operação\"),IF((P34-P32+P33)>0,-(P34-P32+P33)*'Parâmetros de Fluxo de Caixa'!$B$28,0),\"\"))","v":-269.43849196279876},{"$f":"IF(Q25=\"Construção\",0,IF(OR(Q25=\"Start-up\",Q25=\"Operação\"),IF((Q34-Q32+Q33)>0,-(Q34-Q32+Q33)*'Parâmetros de Fluxo de Caixa'!$B$28,0),\"\"))","v":-269.43849196279876},{"$f":"IF(R25=\"Construção\",0,IF(OR(R25=\"Start-up\",R25=\"Operação\"),IF((R34-R32+R33)>0,-(R34-R32+R33)*'Parâmetros de Fluxo de Caixa'!$B$28,0),\"\"))","v":-269.43849196279876},{"$f":"IF(S25=\"Construção\",0,IF(OR(S25=\"Start-up\",S25=\"Operação\"),IF((S34-S32+S33)>0,-(S34-S32+S33)*'Parâmetros de Fluxo de Caixa'!$B$28,0),\"\"))","v":-269.43849196279876},{"$f":"IF(T25=\"Construção\",0,IF(OR(T25=\"Start-up\",T25=\"Operação\"),IF((T34-T32+T33)>0,-(T34-T32+T33)*'Parâmetros de Fluxo de Caixa'!$B$28,0),\"\"))","v":-269.43849196279876},{"$f":"IF(U25=\"Construção\",0,IF(OR(U25=\"Start-up\",U25=\"Operação\"),IF((U34-U32+U33)>0,-(U34-U32+U33)*'Parâmetros de Fluxo de Caixa'!$B$28,0),\"\"))","v":-269.43849196279876},{"$f":"IF(V25=\"Construção\",0,IF(OR(V25=\"Start-up\",V25=\"Operação\"),IF((V34-V32+V33)>0,-(V34-V32+V33)*'Parâmetros de Fluxo de Caixa'!$B$28,0),\"\"))","v":-269.43849196279876},{"$f":"IF(W25=\"Construção\",0,IF(OR(W25=\"Start-up\",W25=\"Operação\"),IF((W34-W32+W33)>0,-(W34-W32+W33)*'Parâmetros de Fluxo de Caixa'!$B$28,0),\"\"))","v":-269.43849196279876},{"$f":"IF(X25=\"Construção\",0,IF(OR(X25=\"Start-up\",X25=\"Operação\"),IF((X34-X32+X33)>0,-(X34-X32+X33)*'Parâmetros de Fluxo de Caixa'!$B$28,0),\"\"))","v":-269.43849196279876},{"$f":"IF(Y25=\"Construção\",0,IF(OR(Y25=\"Start-up\",Y25=\"Operação\"),IF((Y34-Y32+Y33)>0,-(Y34-Y32+Y33)*'Parâmetros de Fluxo de Caixa'!$B$28,0),\"\"))","v":""},{"$f":"IF(Z25=\"Construção\",0,IF(OR(Z25=\"Start-up\",Z25=\"Operação\"),IF((Z34-Z32+Z33)>0,-(Z34-Z32+Z33)*'Parâmetros de Fluxo de Caixa'!$B$28,0),\"\"))","v":""},{"$f":"IF(AA25=\"Construção\",0,IF(OR(AA25=\"Start-up\",AA25=\"Operação\"),IF((AA34-AA32+AA33)>0,-(AA34-AA32+AA33)*'Parâmetros de Fluxo de Caixa'!$B$28,0),\"\"))","v":""},{"$f":"IF(AB25=\"Construção\",0,IF(OR(AB25=\"Start-up\",AB25=\"Operação\"),IF((AB34-AB32+AB33)>0,-(AB34-AB32+AB33)*'Parâmetros de Fluxo de Caixa'!$B$28,0),\"\"))","v":""},{"$f":"IF(AC25=\"Construção\",0,IF(OR(AC25=\"Start-up\",AC25=\"Operação\"),IF((AC34-AC32+AC33)>0,-(AC34-AC32+AC33)*'Parâmetros de Fluxo de Caixa'!$B$28,0),\"\"))","v":""},{"$f":"IF(AD25=\"Construção\",0,IF(OR(AD25=\"Start-up\",AD25=\"Operação\"),IF((AD34-AD32+AD33)>0,-(AD34-AD32+AD33)*'Parâmetros de Fluxo de Caixa'!$B$28,0),\"\"))","v":""},{"$f":"IF(AE25=\"Construção\",0,IF(OR(AE25=\"Start-up\",AE25=\"Operação\"),IF((AE34-AE32+AE33)>0,-(AE34-AE32+AE33)*'Parâmetros de Fluxo de Caixa'!$B$28,0),\"\"))","v":""},{"$f":"IF(AF25=\"Construção\",0,IF(OR(AF25=\"Start-up\",AF25=\"Operação\"),IF((AF34-AF32+AF33)>0,-(AF34-AF32+AF33)*'Parâmetros de Fluxo de Caixa'!$B$28,0),\"\"))","v":""},{"$f":"IF(AG25=\"Construção\",0,IF(OR(AG25=\"Start-up\",AG25=\"Operação\"),IF((AG34-AG32+AG33)>0,-(AG34-AG32+AG33)*'Parâmetros de Fluxo de Caixa'!$B$28,0),\"\"))","v":""},{"$f":"IF(AH25=\"Construção\",0,IF(OR(AH25=\"Start-up\",AH25=\"Operação\"),IF((AH34-AH32+AH33)>0,-(AH34-AH32+AH33)*'Parâmetros de Fluxo de Caixa'!$B$28,0),\"\"))","v":""},{"$f":"IF(AI25=\"Construção\",0,IF(OR(AI25=\"Start-up\",AI25=\"Operação\"),IF((AI34-AI32+AI33)>0,-(AI34-AI32+AI33)*'Parâmetros de Fluxo de Caixa'!$B$28,0),\"\"))","v":""},{"$f":"IF(AJ25=\"Construção\",0,IF(OR(AJ25=\"Start-up\",AJ25=\"Operação\"),IF((AJ34-AJ32+AJ33)>0,-(AJ34-AJ32+AJ33)*'Parâmetros de Fluxo de Caixa'!$B$28,0),\"\"))","v":""},{"$f":"IF(AK25=\"Construção\",0,IF(OR(AK25=\"Start-up\",AK25=\"Operação\"),IF((AK34-AK32+AK33)>0,-(AK34-AK32+AK33)*'Parâmetros de Fluxo de Caixa'!$B$28,0),\"\"))","v":""},{"$f":"IF(AL25=\"Construção\",0,IF(OR(AL25=\"Start-up\",AL25=\"Operação\"),IF((AL34-AL32+AL33)>0,-(AL34-AL32+AL33)*'Parâmetros de Fluxo de Caixa'!$B$28,0),\"\"))","v":""},{"$f":"IF(AM25=\"Construção\",0,IF(OR(AM25=\"Start-up\",AM25=\"Operação\"),IF((AM34-AM32+AM33)>0,-(AM34-AM32+AM33)*'Parâmetros de Fluxo de Caixa'!$B$28,0),\"\"))","v":""},{"$f":"IF(AN25=\"Construção\",0,IF(OR(AN25=\"Start-up\",AN25=\"Operação\"),IF((AN34-AN32+AN33)>0,-(AN34-AN32+AN33)*'Parâmetros de Fluxo de Caixa'!$B$28,0),\"\"))","v":""},{"$f":"IF(AO25=\"Construção\",0,IF(OR(AO25=\"Start-up\",AO25=\"Operação\"),IF((AO34-AO32+AO33)>0,-(AO34-AO32+AO33)*'Parâmetros de Fluxo de Caixa'!$B$28,0),\"\"))","v":""},{"$f":"IF(AP25=\"Construção\",0,IF(OR(AP25=\"Start-up\",AP25=\"Operação\"),IF((AP34-AP32+AP33)>0,-(AP34-AP32+AP33)*'Parâmetros de Fluxo de Caixa'!$B$28,0),\"\"))","v":""},{"$f":"IF(AQ25=\"Construção\",0,IF(OR(AQ25=\"Start-up\",AQ25=\"Operação\"),IF((AQ34-AQ32+AQ33)>0,-(AQ34-AQ32+AQ33)*'Parâmetros de Fluxo de Caixa'!$B$28,0),\"\"))","v":""},{"$f":"IF(AR25=\"Construção\",0,IF(OR(AR25=\"Start-up\",AR25=\"Operação\"),IF((AR34-AR32+AR33)>0,-(AR34-AR32+AR33)*'Parâmetros de Fluxo de Caixa'!$B$28,0),\"\"))","v":""},{"$f":"IF(AS25=\"Construção\",0,IF(OR(AS25=\"Start-up\",AS25=\"Operação\"),IF((AS34-AS32+AS33)>0,-(AS34-AS32+AS33)*'Parâmetros de Fluxo de Caixa'!$B$28,0),\"\"))","v":""},{"$f":"IF(AT25=\"Construção\",0,IF(OR(AT25=\"Start-up\",AT25=\"Operação\"),IF((AT34-AT32+AT33)>0,-(AT34-AT32+AT33)*'Parâmetros de Fluxo de Caixa'!$B$28,0),\"\"))","v":""},{"$f":"IF(AU25=\"Construção\",0,IF(OR(AU25=\"Start-up\",AU25=\"Operação\"),IF((AU34-AU32+AU33)>0,-(AU34-AU32+AU33)*'Parâmetros de Fluxo de Caixa'!$B$28,0),\"\"))","v":""},{"$f":"IF(AV25=\"Construção\",0,IF(OR(AV25=\"Start-up\",AV25=\"Operação\"),IF((AV34-AV32+AV33)>0,-(AV34-AV32+AV33)*'Parâmetros de Fluxo de Caixa'!$B$28,0),\"\"))","v":""}]
["Venda de infraestrutura residual",{"$f":"IF('Fluxo de Caixa Descontado'!B25<>\"\",IF(AND(B25=\"Operação\",C25=\"\"),'Parâmetros de Fluxo de Caixa'!$B$27*'CAPEX e OPEX'!$C$3/10^6,0),\"\")","v":0},{"$f":"IF('Fluxo de Caixa Descontado'!C25<>\"\",IF(AND(C25=\"Operação\",D25=\"\"),'Parâmetros de Fluxo de Caixa'!$B$27*'CAPEX e OPEX'!$C$3/10^6,0),\"\")","v":0},{"$f":"IF('Fluxo de Caixa Descontado'!D25<>\"\",IF(AND(D25=\"Operação\",E25=\"\"),'Parâmetros de Fluxo de Caixa'!$B$27*'CAPEX e OPEX'!$C$3/10^6,0),\"\")","v":0},{"$f":"IF('Fluxo de Caixa Descontado'!E25<>\"\",IF(AND(E25=\"Operação\",F25=\"\"),'Parâmetros de Fluxo de Caixa'!$B$27*'CAPEX e OPEX'!$C$3/10^6,0),\"\")","v":0},{"$f":"IF('Fluxo de Caixa Descontado'!F25<>\"\",IF(AND(F25=\"Operação\",G25=\"\"),'Parâmetros de Fluxo de Caixa'!$B$27*'CAPEX e OPEX'!$C$3/10^6,0),\"\")","v":0},{"$f":"IF('Fluxo de Caixa Descontado'!G25<>\"\",IF(AND(G25=\"Operação\",H25=\"\"),'Parâmetros de Fluxo de Caixa'!$B$27*'CAPEX e OPEX'!$C$3/10^6,0),\"\")","v":0},{"$f":"IF('Fluxo de Caixa Descontado'!H25<>\"\",IF(AND(H25=\"Operação\",I25=\"\"),'Parâmetros de Fluxo de Caixa'!$B$27*'CAPEX e OPEX'!$C$3/10^6,0),\"\")","v":0},{"$f":"IF('Fluxo de Caixa Descontado'!I25<>\"\",IF(AND(I25=\"Operação\",J25=\"\"),'Parâmetros de Fluxo de Caixa'!$B$27*'CAPEX e OPEX'!$C$3/10^6,0),\"\")","v":0},{"$f":"IF('Fluxo de Caixa Descontado'!J25<>\"\",IF(AND(J25=\"Operação\",K25=\"\"),'Parâmetros de Fluxo de Caixa'!$B$27*'CAPEX e OPEX'!$C$3/10^6,0),\"\")","v":0},{"$f":"IF('Fluxo de Caixa Descontado'!K25<>\"\",IF(AND(K25=\"Operação\",L25=\"\"),'Parâmetros de Fluxo de Caixa'!$B$27*'CAPEX e OPEX'!$C$3/10^6,0),\"\")","v":0},{"$f":"IF('Fluxo de Caixa Descontado'!L25<>\"\",IF(AND(L25=\"Operação\",M25=\"\"),'Parâmetros de Fluxo de Caixa'!$B$27*'CAPEX e OPEX'!$C$3/10^6,0),\"\")","v":0},{"$f":"IF('Fluxo de Caixa Descontado'!M25<>\"\",IF(AND(M25=\"Operação\",N25=\"\"),'Parâmetros de Fluxo de Caixa'!$B$27*'CAPEX e OPEX'!$C$3/10^6,0),\"\")","v":0},{"$f":"IF('Fluxo de Caixa Descontado'!N25<>\"\",IF(AND(N25=\"Operação\",O25=\"\"),'Parâmetros de Fluxo de Caixa'!$B$27*'CAPEX e OPEX'!$C$3/10^6,0),\"\")","v":0},{"$f":"IF('Fluxo de Caixa Descontado'!O25<>\"\",IF(AND(O25=\"Operação\",P25=\"\"),'Parâmetros de Fluxo de Caixa'!$B$27*'CAPEX e OPEX'!$C$3/10^6,0),\"\")","v":0},{"$f":"IF('Fluxo de Caixa Descontado'!P25<>\"\",IF(AND(P25=\"Operação\",Q25=\"\"),'Parâmetros de Fluxo de Caixa'!$B$27*'CAPEX e OPEX'!$C$3/10^6,0),\"\")","v":0},{"$f":"IF('Fluxo de Caixa Descontado'!Q25<>\"\",IF(AND(Q25=\"Operação\",R25=\"\"),'Parâmetros de Fluxo de Caixa'!$B$27*'CAPEX e OPEX'!$C$3/10^6,0),\"\")","v":0},{"$f":"IF('Fluxo de Caixa Descontado'!R25<>\"\",IF(AND(R25=\"Operação\",S25=\"\"),'Parâmetros de Fluxo de Caixa'!$B$27*'CAPEX e OPEX'!$C$3/10^6,0),\"\")","v":0},{"$f":"IF('Fluxo de Caixa Descontado'!S25<>\"\",IF(AND(S25=\"Operação\",T25=\"\"),'Parâmetros de Fluxo de Caixa'!$B$27*'CAPEX e OPEX'!$C$3/10^6,0),\"\")","v":0},{"$f":"IF('Fluxo de Caixa Descontado'!T25<>\"\",IF(AND(T25=\"Operação\",U25=\"\"),'Parâmetros de Fluxo de Caixa'!$B$27*'CAPEX e OPEX'!$C$3/10^6,0),\"\")","v":0},{"$f":"IF('Fluxo de Caixa Descontado'!U25<>\"\",IF(AND(U25=\"Operação\",V25=\"\"),'Parâmetros de Fluxo de Caixa'!$B$27*'CAPEX e OPEX'!$C$3/10^6,0),\"\")","v":0},{"$f":"IF('Fluxo de Caixa Descontado'!V25<>\"\",IF(AND(V25=\"Operação\",W25=\"\"),'Parâmetros de Fluxo de Caixa'!$B$27*'CAPEX e OPEX'!$C$3/10^6,0),\"\")","v":0},{"$f":"IF('Fluxo de Caixa Descontado'!W25<>\"\",IF(AND(W25=\"Operação\",X25=\"\"),'Parâmetros de Fluxo de Caixa'!$B$27*'CAPEX e OPEX'!$C$3/10^6,0),\"\")","v":0},{"$f":"IF('Fluxo de Caixa Descontado'!X25<>\"\",IF(AND(X25=\"Operação\",Y25=\"\"),'Parâmetros de Fluxo de Caixa'!$B$27*'CAPEX e OPEX'!$C$3/10^6,0),\"\")","v":0},{"$f":"IF('Fluxo de Caixa Descontado'!Y25<>\"\",IF(AND(Y25=\"Operação\",Z25=\"\"),'Parâmetros de Fluxo de Caixa'!$B$27*'CAPEX e OPEX'!$C$3/10^6,0),\"\")","v":""},{"$f":"IF('Fluxo de Caixa Descontado'!Z25<>\"\",IF(AND(Z25=\"Operação\",AA25=\"\"),'Parâmetros de Fluxo de Caixa'!$B$27*'CAPEX e OPEX'!$C$3/10^6,0),\"\")","v":""},{"$f":"IF('Fluxo de Caixa Descontado'!AA25<>\"\",IF(AND(AA25=\"Operação\",AB25=\"\"),'Parâmetros de Fluxo de Caixa'!$B$27*'CAPEX e OPEX'!$C$3/10^6,0),\"\")","v":""},{"$f":"IF('Fluxo de Caixa Descontado'!AB25<>\"\",IF(AND(AB25=\"Operação\",AC25=\"\"),'Parâmetros de Fluxo de Caixa'!$B$27*'CAPEX e OPEX'!$C$3/10^6,0),\"\")","v":""},{"$f":"IF('Fluxo de Caixa Descontado'!AC25<>\"\",IF(AND(AC25=\"Operação\",AD25=\"\"),'Parâmetros de Fluxo de Caixa'!$B$27*'CAPEX e OPEX'!$C$3/10^6,0),\"\")","v":""},{"$f":"IF('Fluxo de Caixa Descontado'!AD25<>\"\",IF(AND(AD25=\"Operação\",AE25=\"\"),'Parâmetros de Fluxo de Caixa'!$B$27*'CAPEX e OPEX'!$C$3/10^6,0),\"\")","v":""},{"$f":"IF('Fluxo de Caixa Descontado'!AE25<>\"\",IF(AND(AE25=\"Operação\",AF25=\"\"),'Parâmetros de Fluxo de Caixa'!$B$27*'CAPEX e OPEX'!$C$3/10^6,0),\"\")","v":""},{"$f":"IF('Fluxo de Caixa Descontado'!AF25<>\"\",IF(AND(AF25=\"Operação\",AG25=\"\"),'Parâmetros de Fluxo de Caixa'!$B$27*'CAPEX e OPEX'!$C$3/10^6,0),\"\")","v":""},{"$f":"IF('Fluxo de Caixa Descontado'!AG25<>\"\",IF(AND(AG25=\"Operação\",AH25=\"\"),'Parâmetros de Fluxo de Caixa'!$B$27*'CAPEX e OPEX'!$C$3/10^6,0),\"\")","v":""},{"$f":"IF('Fluxo de Caixa Descontado'!AH25<>\"\",IF(AND(AH25=\"Operação\",AI25=\"\"),'Parâmetros de Fluxo de Caixa'!$B$27*'CAPEX e OPEX'!$C$3/10^6,0),\"\")","v":""},{"$f":"IF('Fluxo de Caixa Descontado'!AI25<>\"\",IF(AND(AI25=\"Operação\",AJ25=\"\"),'Parâmetros de Fluxo de Caixa'!$B$27*'CAPEX e OPEX'!$C$3/10^6,0),\"\")","v":""},{"$f":"IF('Fluxo de Caixa Descontado'!AJ25<>\"\",IF(AND(AJ25=\"Operação\",AK25=\"\"),'Parâmetros de Fluxo de Caixa'!$B$27*'CAPEX e OPEX'!$C$3/10^6,0),\"\")","v":""},{"$f":"IF('Fluxo de Caixa Descontado'!AK25<>\"\",IF(AND(AK25=\"Operação\",AL25=\"\"),'Parâmetros de Fluxo de Caixa'!$B$27*'CAPEX e OPEX'!$C$3/10^6,0),\"\")","v":""},{"$f":"IF('Fluxo de Caixa Descontado'!AL25<>\"\",IF(AND(AL25=\"Operação\",AM25=\"\"),'Parâmetros de Fluxo de Caixa'!$B$27*'CAPEX e OPEX'!$C$3/10^6,0),\"\")","v":""},{"$f":"IF('Fluxo de Caixa Descontado'!AM25<>\"\",IF(AND(AM25=\"Operação\",AN25=\"\"),'Parâmetros de Fluxo de Caixa'!$B$27*'CAPEX e OPEX'!$C$3/10^6,0),\"\")","v":""},{"$f":"IF('Fluxo de Caixa Descontado'!AN25<>\"\",IF(AND(AN25=\"Operação\",AO25=\"\"),'Parâmetros de Fluxo de Caixa'!$B$27*'CAPEX e OPEX'!$C$3/10^6,0),\"\")","v":""},{"$f":"IF('Fluxo de Caixa Descontado'!AO25<>\"\",IF(AND(AO25=\"Operação\",AP25=\"\"),'Parâmetros de Fluxo de Caixa'!$B$27*'CAPEX e OPEX'!$C$3/10^6,0),\"\")","v":""},{"$f":"IF('Fluxo de Caixa Descontado'!AP25<>\"\",IF(AND(AP25=\"Operação\",AQ25=\"\"),'Parâmetros de Fluxo de Caixa'!$B$27*'CAPEX e OPEX'!$C$3/10^6,0),\"\")","v":""},{"$f":"IF('Fluxo de Caixa Descontado'!AQ25<>\"\",IF(AND(AQ25=\"Operação\",AR25=\"\"),'Parâmetros de Fluxo de Caixa'!$B$27*'CAPEX e OPEX'!$C$3/10^6,0),\"\")","v":""},{"$f":"IF('Fluxo de Caixa Descontado'!AR25<>\"\",IF(AND(AR25=\"Operação\",AS25=\"\"),'Parâmetros de Fluxo de Caixa'!$B$27*'CAPEX e OPEX'!$C$3/10^6,0),\"\")","v":""},{"$f":"IF('Fluxo de Caixa Descontado'!AS25<>\"\",IF(AND(AS25=\"Operação\",AT25=\"\"),'Parâmetros de Fluxo de Caixa'!$B$27*'CAPEX e OPEX'!$C$3/10^6,0),\"\")","v":""},{"$f":"IF('Fluxo de Caixa Descontado'!AT25<>\"\",IF(AND(AT25=\"Operação\",AU25=\"\"),'Parâmetros de Fluxo de Caixa'!$B$27*'CAPEX e OPEX'!$C$3/10^6,0),\"\")","v":""},{"$f":"IF('Fluxo de Caixa Descontado'!AU25<>\"\",IF(AND(AU25=\"Operação\",AV25=\"\"),'Parâmetros de Fluxo de Caixa'!$B$27*'CAPEX e OPEX'!$C$3/10^6,0),\"\")","v":""},{"$f":"IF('Fluxo de Caixa Descontado'!AV25<>\"\",IF(AND(AV25=\"Operação\",AW25=\"\"),'Parâmetros de Fluxo de Caixa'!$B$27*'CAPEX e OPEX'!$C$3/10^6,0),\"\")","v":""}]
["Fluxo de Caixa Livre",{"$f":"IF(OR(B25=\"Construção\",B25=\"Start-up\",B25=\"Operação\"),B27+B28+B29+B30+B31+B35+B36+B33,\"\")","v":-372.74574941758908},-2795.5931206319183,-1490.9829976703563,591.08053324716957,681.44460437143755,681.44460437143755,681.44460437143755,681.44460437143755,681.44460437143755,681.44460437143755,681.44460437143755,681.44460437143755,681.44460437143755,523.02766086896224,523.02766086896224,523.02766086896224,523.02766086896224,523.02766086896224,523.02766086896224,523.02766086896224,523.02766086896224,523.02766086896224,523.02766086896224,"","","","","","","","","","","","","","","","","","","","","","","",""]
["Fluxo de Caixa Livre Acumulado",{"$f":"IF(OR(B25=\"Construção\",B25=\"Start-up\",B25=\"Operação\"),SUM($B$37:B37),\"\")","v":-372.74574941758908},{"$f":"IF(OR(C25=\"Construção\",C25=\"Start-up\",C25=\"Operação\"),SUM($B$37:C37),\"\")","v":-3168.3388700495075},{"$f":"IF(OR(D25=\"Construção\",D25=\"Start-up\",D25=\"Operação\"),SUM($B$37:D37),\"\")","v":-4659.3218677198638},{"$f":"IF(OR(E25=\"Construção\",E25=\"Start-up\",E25=\"Operação\"),SUM($B$37:E37),\"\")","v":-4068.2413344726942},{"$f":"IF(OR(F25=\"Construção\",F25=\"Start-up\",F25=\"Operação\"),SUM($B$37:F37),\"\")","v":-3386.7967301012568},{"$f":"IF(OR(G25=\"Construção\",G25=\"Start-up\",G25=\"Operação\"),SUM($B$37:G37),\"\")","v":-2705.3521257298194},{"$f":"IF(OR(H25=\"Construção\",H25=\"Start-up\",H25=\"Operação\"),SUM($B$37:H37),\"\")","v":-2023.9075213583819},{"$f":"IF(OR(I25=\"Construção\",I25=\"Start-up\",I25=\"Operação\"),SUM($B$37:I37),\"\")","v":-1342.4629169869445},{"$f":"IF(OR(J25=\"Construção\",J25=\"Start-up\",J25=\"Operação\"),SUM($B$37:J37),\"\")","v":-661.01831261550694},{"$f":"IF(OR(K25=\"Construção\",K25=\"Start-up\",K25=\"Operação\"),SUM($B$37:K37),\"\")","v":20.426291755930606},{"$f":"IF(OR(L25=\"Construção\",L25=\"Start-up\",L25=\"Operação\"),SUM($B$37:L37),\"\")","v":701.87089612736816},{"$f":"IF(OR(M25=\"Construção\",M25=\"Start-up\",M25=\"Operação\"),SUM($B$37:M37),\"\")","v":1383.3155004988057},{"$f":"IF(OR(N25=\"Construção\",N25=\"Start-up\",N25=\"Operação\"),SUM($B$37:N37),\"\")","v":2064.7601048702431},{"$f":"IF(OR(O25=\"Construção\",O25=\"Start-up\",O25=\"Operação\"),SUM($B$37:O37),\"\")","v":2587.7877657392055},{"$f":"IF(OR(P25=\"Construção\",P25=\"Start-up\",P25=\"Operação\"),SUM($B$37:P37),\"\")","v":3110.8154266081679},{"$f":"IF(OR(Q25=\"Construção\",Q25=\"Start-up\",Q25=\"Operação\"),SUM($B$37:Q37),\"\")","v":3633.8430874771302},{"$f":"IF(OR(R25=\"Construção\",R25=\"Start-up\",R25=\"Operação\"),SUM($B$37:R37),\"\")","v":4156.8707483460921},{"$f":"IF(OR(S25=\"Construção\",S25=\"Start-up\",S25=\"Operação\"),SUM($B$37:S37),\"\")","v":4679.898409215054},{"$f":"IF(OR(T25=\"Construção\",T25=\"Start-up\",T25=\"Operação\"),SUM($B$37:T37),\"\")","v":5202.9260700840159},{"$f":"IF(OR(U25=\"Construção\",U25=\"Start-up\",U25=\"Operação\"),SUM($B$37:U37),\"\")","v":5725.9537309529778},{"$f":"IF(OR(V25=\"Construção\",V25=\"Start-up\",V25=\"Operação\"),SUM($B$37:V37),\"\")","v":6248.9813918219397},{"$f":"IF(OR(W25=\"Construção\",W25=\"Start-up\",W25=\"Operação\"),SUM($B$37:W37),\"\")","v":6772.0090526909016},{"$f":"IF(OR(X25=\"Construção\",X25=\"Start-up\",X25=\"Operação\"),SUM($B$37:X37),\"\")","v":7295.0367135598635},{"$f":"IF(OR(Y25=\"Construção\",Y25=\"Start-up\",Y25=\"Operação\"),SUM($B$37:Y37),\"\")","v":""},{"$f":"IF(OR(Z25=\"Construção\",Z25=\"Start-up\",Z25=\"Operação\"),SUM($B$37:Z37),\"\")","v":""},{"$f":"IF(OR(AA25=\"Construção\",AA25=\"Start-up\",AA25=\"Operação\"),SUM($B$37:AA37),\"\")","v":""},{"$f":"IF(OR(AB25=\"Construção\",AB25=\"Start-up\",AB25=\"Operação\"),SUM($B$37:AB37),\"\")","v":""},{"$f":"IF(OR(AC25=\"Construção\",AC25=\"Start-up\",AC25=\"Operação\"),SUM($B$37:AC37),\"\")","v":""},{"$f":"IF(OR(AD25=\"Construção\",AD25=\"Start-up\",AD25=\"Operação\"),SUM($B$37:AD37),\"\")","v":""},{"$f":"IF(OR(AE25=\"Construção\",AE25=\"Start-up\",AE25=\"Operação\"),SUM($B$37:AE37),\"\")","v":""},{"$f":"IF(OR(AF25=\"Construção\",AF25=\"Start-up\",AF25=\"Operação\"),SUM($B$37:AF37),\"\")","v":""},{"$f":"IF(OR(AG25=\"Construção\",AG25=\"Start-up\",AG25=\"Operação\"),SUM($B$37:AG37),\"\")","v":""},{"$f":"IF(OR(AH25=\"Construção\",AH25=\"Start-up\",AH25=\"Operação\"),SUM($B$37:AH37),\"\")","v":""},{"$f":"IF(OR(AI25=\"Construção\",AI25=\"Start-up\",AI25=\"Operação\"),SUM($B$37:AI37),\"\")","v":""},{"$f":"IF(OR(AJ25=\"Construção\",AJ25=\"Start-up\",AJ25=\"Operação\"),SUM($B$37:AJ37),\"\")","v":""},{"$f":"IF(OR(AK25=\"Construção\",AK25=\"Start-up\",AK25=\"Operação\"),SUM($B$37:AK37),\"\")","v":""},{"$f":"IF(OR(AL25=\"Construção\",AL25=\"Start-up\",AL25=\"Operação\"),SUM($B$37:AL37),\"\")","v":""},{"$f":"IF(OR(AM25=\"Construção\",AM25=\"Start-up\",AM25=\"Operação\"),SUM($B$37:AM37),\"\")","v":""},{"$f":"IF(OR(AN25=\"Construção\",AN25=\"Start-up\",AN25=\"Operação\"),SUM($B$37:AN37),\"\")","v":""},{"$f":"IF(OR(AO25=\"Construção\",AO25=\"Start-up\",AO25=\"Operação\"),SUM($B$37:AO37),\"\")","v":""},{"$f":"IF(OR(AP25=\"Construção\",AP25=\"Start-up\",AP25=\"Operação\"),SUM($B$37:AP37),\"\")","v":""},{"$f":"IF(OR(AQ25=\"Construção\",AQ25=\"Start-up\",AQ25=\"Operação\"),SUM($B$37:AQ37),\"\")","v":""},{"$f":"IF(OR(AR25=\"Construção\",AR25=\"Start-up\",AR25=\"Operação\"),SUM($B$37:AR37),\"\")","v":""},{"$f":"IF(OR(AS25=\"Construção\",AS25=\"Start-up\",AS25=\"Operação\"),SUM($B$37:AS37),\"\")","v":""},{"$f":"IF(OR(AT25=\"Construção\",AT25=\"Start-up\",AT25=\"Operação\"),SUM($B$37:AT37),\"\")","v":""},{"$f":"IF(OR(AU25=\"Construção\",AU25=\"Start-up\",AU25=\"Operação\"),SUM($B$37:AU37),\"\")","v":""},{"$f":"IF(OR(AV25=\"Construção\",AV25=\"Start-up\",AV25=\"Operação\"),SUM($B$37:AV37),\"\")","v":""}]
["Fluxo de Caixa Descontado",{"$f":"IF(OR(B25=\"Construção\",B25=\"Start-up\",B25=\"Operação\"),B37/(1+'Parâmetros de Fluxo de Caixa'!$B$32)^B24,\"\")","v":-336.12627113321798},{"$f":"IF(OR(C25=\"Construção\",C25=\"Start-up\",C25=\"Operação\"),C37/(1+'Parâmetros de Fluxo de Caixa'!$B$32)^C24,\"\")","v":-2273.282867526716},{"$f":"IF(OR(D25=\"Construção\",D25=\"Start-up\",D25=\"Operação\"),D37/(1+'Parâmetros de Fluxo de Caixa'!$B$32)^D24,\"\")","v":-1093.3065872190502},{"$f":"IF(OR(E25=\"Construção\",E25=\"Start-up\",E25=\"Operação\"),E37/(1+'Parâmetros de Fluxo de Caixa'!$B$32)^E24,\"\")","v":390.84601478475275},{"$f":"IF(OR(F25=\"Construção\",F25=\"Start-up\",F25=\"Operação\"),F37/(1+'Parâmetros de Fluxo de Caixa'!$B$32)^F24,\"\")","v":406.33042901315287},{"$f":"IF(OR(G25=\"Construção\",G25=\"Start-up\",G25=\"Operação\"),G37/(1+'Parâmetros de Fluxo de Caixa'!$B$32)^G24,\"\")","v":366.41150748346251},{"$f":"IF(OR(H25=\"Construção\",H25=\"Start-up\",H25=\"Operação\"),H37/(1+'Parâmetros de Fluxo de Caixa'!$B$32)^H24,\"\")","v":330.41432103023135},{"$f":"IF(OR(I25=\"Construção\",I25=\"Start-up\",I25=\"Operação\"),I37/(1+'Parâmetros de Fluxo de Caixa'!$B$32)^I24,\"\")","v":297.95358855315476},{"$f":"IF(OR(J25=\"Construção\",J25=\"Start-up\",J25=\"Operação\"),J37/(1+'Parâmetros de Fluxo de Caixa'!$B$32)^J24,\"\")","v":268.68187993455655},{"$f":"IF(OR(K25=\"Construção\",K25=\"Start-up\",K25=\"Operação\"),K37/(1+'Parâmetros de Fluxo de Caixa'!$B$32)^K24,\"\")","v":242.28589746382195},{"$f":"IF(OR(L25=\"Construção\",L25=\"Start-up\",L25=\"Operação\"),L37/(1+'Parâmetros de Fluxo de Caixa'!$B$32)^L24,\"\")","v":218.48312258403115},{"$f":"IF(OR(M25=\"Construção\",M25=\"Start-up\",M25=\"Operação\"),M37/(1+'Parâmetros de Fluxo de Caixa'!$B$32)^M24,\"\")","v":197.018792070622},{"$f":"IF(OR(N25=\"Construção\",N25=\"Start-up\",N25=\"Operação\"),N37/(1+'Parâmetros de Fluxo de Caixa'!$B$32)^N24,\"\")","v":177.66317127785348},{"$f":"IF(OR(O25=\"Construção\",O25=\"Start-up\",O25=\"Operação\"),O37/(1+'Parâmetros de Fluxo de Caixa'!$B$32)^O24,\"\")","v":122.96493040024275},{"$f":"IF(OR(P25=\"Construção\",P25=\"Start-up\",P25=\"Operação\"),P37/(1+'Parâmetros de Fluxo de Caixa'!$B$32)^P24,\"\")","v":110.88454690675786},{"$f":"IF(OR(Q25=\"Construção\",Q25=\"Start-up\",Q25=\"Operação\"),Q37/(1+'Parâmetros de Fluxo de Caixa'!$B$32)^Q24,\"\")","v":99.990970618178068},{"$f":"IF(OR(R25=\"Construção\",R25=\"Start-up\",R25=\"Operação\"),R37/(1+'Parâmetros de Fluxo de Caixa'!$B$32)^R24,\"\")","v":90.167606614948539},{"$f":"IF(OR(S25=\"Construção\",S25=\"Start-up\",S25=\"Operação\"),S37/(1+'Parâmetros de Fluxo de Caixa'!$B$32)^S24,\"\")","v":81.309314555149086},{"$f":"IF(OR(T25=\"Construção\",T25=\"Start-up\",T25=\"Operação\"),T37/(1+'Parâmetros de Fluxo de Caixa'!$B$32)^T24,\"\")","v":73.321283348028146},{"$f":"IF(OR(U25=\"Construção\",U25=\"Start-up\",U25=\"Operação\"),U37/(1+'Parâmetros de Fluxo de Caixa'!$B$32)^U24,\"\")","v":66.118016382434035},{"$f":"IF(OR(V25=\"Construção\",V25=\"Start-up\",V25=\"Operação\"),V37/(1+'Parâmetros de Fluxo de Caixa'!$B$32)^V24,\"\")","v":59.622416448952983},{"$f":"IF(OR(W25=\"Construção\",W25=\"Start-up\",W25=\"Operação\"),W37/(1+'Parâmetros de Fluxo de Caixa'!$B$32)^W24,\"\")","v":53.76496056159381},{"$f":"IF(OR(X25=\"Construção\",X25=\"Start-up\",X25=\"Operação\"),X37/(1+'Parâmetros de Fluxo de Caixa'!$B$32)^X24,\"\")","v":48.482955847062122},{"$f":"IF(OR(Y25=\"Construção\",Y25=\"Start-up\",Y25=\"Operação\"),Y37/(1+'Parâmetros de Fluxo de Caixa'!$B$32)^Y24,\"\")","v":""},{"$f":"IF(OR(Z25=\"Construção\",Z25=\"Start-up\",Z25=\"Operação\"),Z37/(1+'Parâmetros de Fluxo de Caixa'!$B$32)^Z24,\"\")","v":""},{"$f":"IF(OR(AA25=\"Construção\",AA25=\"Start-up\",AA25=\"Operação\"),AA37/(1+'Parâmetros de Fluxo de Caixa'!$B$32)^AA24,\"\")","v":""},{"$f":"IF(OR(AB25=\"Construção\",AB25=\"Start-up\",AB25=\"Operação\"),AB37/(1+'Parâmetros de Fluxo de Caixa'!$B$32)^AB24,\"\")","v":""},{"$f":"IF(OR(AC25=\"Construção\",AC25=\"Start-up\",AC25=\"Operação\"),AC37/(1+'Parâmetros de Fluxo de Caixa'!$B$32)^AC24,\"\")","v":""},{"$f":"IF(OR(AD25=\"Construção\",AD25=\"Start-up\",AD25=\"Operação\"),AD37/(1+'Parâmetros de Fluxo de Caixa'!$B$32)^AD24,\"\")","v":""},{"$f":"IF(OR(AE25=\"Construção\",AE25=\"Start-up\",AE25=\"Operação\"),AE37/(1+'Parâmetros de Fluxo de Caixa'!$B$32)^AE24,\"\")","v":""},{"$f":"IF(OR(AF25=\"Construção\",AF25=\"Start-up\",AF25=\"Operação\"),AF37/(1+'Parâmetros de Fluxo de Caixa'!$B$32)^AF24,\"\")","v":""},{"$f":"IF(OR(AG25=\"Construção\",AG25=\"Start-up\",AG25=\"Operação\"),AG37/(1+'Parâmetros de Fluxo de Caixa'!$B$32)^AG24,\"\")","v":""},{"$f":"IF(OR(AH25=\"Construção\",AH25=\"Start-up\",AH25=\"Operação\"),AH37/(1+'Parâmetros de Fluxo de Caixa'!$B$32)^AH24,\"\")","v":""},{"$f":"IF(OR(AI25=\"Construção\",AI25=\"Start-up\",AI25=\"Operação\"),AI37/(1+'Parâmetros de Fluxo de Caixa'!$B$32)^AI24,\"\")","v":""},{"$f":"IF(OR(AJ25=\"Construção\",AJ25=\"Start-up\",AJ25=\"Operação\"),AJ37/(1+'Parâmetros de Fluxo de Caixa'!$B$32)^AJ24,\"\")","v":""},{"$f":"IF(OR(AK25=\"Construção\",AK25=\"Start-up\",AK25=\"Operação\"),AK37/(1+'Parâmetros de Fluxo de Caixa'!$B$32)^AK24,\"\")","v":""},{"$f":"IF(OR(AL25=\"Construção\",AL25=\"Start-up\",AL25=\"Operação\"),AL37/(1+'Parâmetros de Fluxo de Caixa'!$B$32)^AL24,\"\")","v":""},{"$f":"IF(OR(AM25=\"Construção\",AM25=\"Start-up\",AM25=\"Operação\"),AM37/(1+'Parâmetros de Fluxo de Caixa'!$B$32)^AM24,\"\")","v":""},{"$f":"IF(OR(AN25=\"Construção\",AN25=\"Start-up\",AN25=\"Operação\"),AN37/(1+'Parâmetros de Fluxo de Caixa'!$B$32)^AN24,\"\")","v":""},{"$f":"IF(OR(AO25=\"Construção\",AO25=\"Start-up\",AO25=\"Operação\"),AO37/(1+'Parâmetros de Fluxo de Caixa'!$B$32)^AO24,\"\")","v":""},{"$f":"IF(OR(AP25=\"Construção\",AP25=\"Start-up\",AP25=\"Operação\"),AP37/(1+'Parâmetros de Fluxo de Caixa'!$B$32)^AP24,\"\")","v":""},{"$f":"IF(OR(AQ25=\"Construção\",AQ25=\"Start-up\",AQ25=\"Operação\"),AQ37/(1+'Parâmetros de Fluxo de Caixa'!$B$32)^AQ24,\"\")","v":""},{"$f":"IF(OR(AR25=\"Construção\",AR25=\"Start-up\",AR25=\"Operação\"),AR37/(1+'Parâmetros de Fluxo de Caixa'!$B$32)^AR24,\"\")","v":""},{"$f":"IF(OR(AS25=\"Construção\",AS25=\"Start-up\",AS25=\"Operação\"),AS37/(1+'Parâmetros de Fluxo de Caixa'!$B$32)^AS24,\"\")","v":""},{"$f":"IF(OR(AT25=\"Construção\",AT25=\"Start-up\",AT25=\"Operação\"),AT37/(1+'Parâmetros de Fluxo de Caixa'!$B$32)^AT24,\"\")","v":""},{"$f":"IF(OR(AU25=\"Construção\",AU25=\"Start-up\",AU25=\"Operação\"),AU37/(1+'Parâmetros de Fluxo de Caixa'!$B$32)^AU24,\"\")","v":""},{"$f":"IF(OR(AV25=\"Construção\",AV25=\"Start-up\",AV25=\"Operação\"),AV37/(1+'Parâmetros de Fluxo de Caixa'!$B$32)^AV24,\"\")","v":""}]
["Fluxo de Caixa Descontado Acumulado",{"$f":"IF(OR(B25=\"Construção\",B25=\"Start-up\",B25=\"Operação\"),SUM($B$39:B39),\"\")","v":-336.12627113321798},{"$f":"IF(OR(C25=\"Construção\",C25=\"Start-up\",C25=\"Operação\"),SUM($B$39:C39),\"\")","v":-2609.4091386599339},{"$f":"IF(OR(D25=\"Construção\",D25=\"Start-up\",D25=\"Operação\"),SUM($B$39:D39),\"\")","v":-3702.7157258789839},{"$f":"IF(OR(E25=\"Construção\",E25=\"Start-up\",E25=\"Operação\"),SUM($B$39:E39),\"\")","v":-3311.8697110942312},{"$f":"IF(OR(F25=\"Construção\",F25=\"Start-up\",F25=\"Operação\"),SUM($B$39:F39),\"\")","v":-2905.5392820810785},{"$f":"IF(OR(G25=\"Construção\",G25=\"Start-up\",G25=\"Operação\"),SUM($B$39:G39),\"\")","v":-2539.1277745976158},{"$f":"IF(OR(H25=\"Construção\",H25=\"Start-up\",H25=\"Operação\"),SUM($B$39:H39),\"\")","v":-2208.7134535673845},{"$f":"IF(OR(I25=\"Construção\",I25=\"Start-up\",I25=\"Operação\"),SUM($B$39:I39),\"\")","v":-1910.7598650142297},{"$f":"IF(OR(J25=\"Construção\",J25=\"Start-up\",J25=\"Operação\"),SUM($B$39:J39),\"\")","v":-1642.0779850796732},{"$f":"IF(OR(K25=\"Construção\",K25=\"Start-up\",K25=\"Operação\"),SUM($B$39:K39),\"\")","v":-1399.7920876158512},{"$f":"IF(OR(L25=\"Construção\",L25=\"Start-up\",L25=\"Operação\"),SUM($B$39:L39),\"\")","v":-1181.30896503182},{"$f":"IF(OR(M25=\"Construção\",M25=\"Start-up\",M25=\"Operação\"),SUM($B$39:M39),\"\")","v":-984.29017296119798},{"$f":"IF(OR(N25=\"Construção\",N25=\"Start-up\",N25=\"Operação\"),SUM($B$39:N39),\"\")","v":-806.62700168334447},{"$f":"IF(OR(O25=\"Construção\",O25=\"Start-up\",O25=\"Operação\"),SUM($B$39:O39),\"\")","v":-683.66207128310168},{"$f":"IF(OR(P25=\"Construção\",P25=\"Start-up\",P25=\"Operação\"),SUM($B$39:P39),\"\")","v":-572.77752437634376},{"$f":"IF(OR(Q25=\"Construção\",Q25=\"Start-up\",Q25=\"Operação\"),SUM($B$39:Q39),\"\")","v":-472.78655375816572},{"$f":"IF(OR(R25=\"Construção\",R25=\"Start-up\",R25=\"Operação\"),SUM($B$39:R39),\"\")","v":-382.61894714321716},{"$f":"IF(OR(S25=\"Construção\",S25=\"Start-up\",S25=\"Operação\"),SUM($B$39:S39),\"\")","v":-301.3096325880681},{"$f":"IF(OR(T25=\"Construção\",T25=\"Start-up\",T25=\"Operação\"),SUM($B$39:T39),\"\")","v":-227.98834924003995},{"$f":"IF(OR(U25=\"Construção\",U25=\"Start-up\",U25=\"Operação\"),SUM($B$39:U39),\"\")","v":-161.87033285760592},{"$f":"IF(OR(V25=\"Construção\",V25=\"Start-up\",V25=\"Operação\"),SUM($B$39:V39),\"\")","v":-102.24791640865294},{"$f":"IF(OR(W25=\"Construção\",W25=\"Start-up\",W25=\"Operação\"),SUM($B$39:W39),\"\")","v":-48.482955847059131},{"$f":"IF(OR(X25=\"Construção\",X25=\"Start-up\",X25=\"Operação\"),SUM($B$39:X39),\"\")","v":2.9913849175500218E-12},{"$f":"IF(OR(Y25=\"Construção\",Y25=\"Start-up\",Y25=\"Operação\"),SUM($B$39:Y39),\"\")","v":""},{"$f":"IF(OR(Z25=\"Construção\",Z25=\"Start-up\",Z25=\"Operação\"),SUM($B$39:Z39),\"\")","v":""},{"$f":"IF(OR(AA25=\"Construção\",AA25=\"Start-up\",AA25=\"Operação\"),SUM($B$39:AA39),\"\")","v":""},{"$f":"IF(OR(AB25=\"Construção\",AB25=\"Start-up\",AB25=\"Operação\"),SUM($B$39:AB39),\"\")","v":""},{"$f":"IF(OR(AC25=\"Construção\",AC25=\"Start-up\",AC25=\"Operação\"),SUM($B$39:AC39),\"\")","v":""},{"$f":"IF(OR(AD25=\"Construção\",AD25=\"Start-up\",AD25=\"Operação\"),SUM($B$39:AD39),\"\")","v":""},{"$f":"IF(OR(AE25=\"Construção\",AE25=\"Start-up\",AE25=\"Operação\"),SUM($B$39:AE39),\"\")","v":""},{"$f":"IF(OR(AF25=\"Construção\",AF25=\"Start-up\",AF25=\"Operação\"),SUM($B$39:AF39),\"\")","v":""},{"$f":"IF(OR(AG25=\"Construção\",AG25=\"Start-up\",AG25=\"Operação\"),SUM($B$39:AG39),\"\")","v":""},{"$f":"IF(OR(AH25=\"Construção\",AH25=\"Start-up\",AH25=\"Operação\"),SUM($B$39:AH39),\"\")","v":""},{"$f":"IF(OR(AI25=\"Construção\",AI25=\"Start-up\",AI25=\"Operação\"),SUM($B$39:AI39),\"\")","v":""},{"$f":"IF(OR(AJ25=\"Construção\",AJ25=\"Start-up\",AJ25=\"Operação\"),SUM($B$39:AJ39),\"\")","v":""},{"$f":"IF(OR(AK25=\"Construção\",AK25=\"Start-up\",AK25=\"Operação\"),SUM($B$39:AK39),\"\")","v":""},{"$f":"IF(OR(AL25=\"Construção\",AL25=\"Start-up\",AL25=\"Operação\"),SUM($B$39:AL39),\"\")","v":""},{"$f":"IF(OR(AM25=\"Construção\",AM25=\"Start-up\",AM25=\"Operação\"),SUM($B$39:AM39),\"\")","v":""},{"$f":"IF(OR(AN25=\"Construção\",AN25=\"Start-up\",AN25=\"Operação\"),SUM($B$39:AN39),\"\")","v":""},{"$f":"IF(OR(AO25=\"Construção\",AO25=\"Start-up\",AO25=\"Operação\"),SUM($B$39:AO39),\"\")","v":""},{"$f":"IF(OR(AP25=\"Construção\",AP25=\"Start-up\",AP25=\"Operação\"),SUM($B$39:AP39),\"\")","v":""},{"$f":"IF(OR(AQ25=\"Construção\",AQ25=\"Start-up\",AQ25=\"Operação\"),SUM($B$39:AQ39),\"\")","v":""},{"$f":"IF(OR(AR25=\"Construção\",AR25=\"Start-up\",AR25=\"Operação\"),SUM($B$39:AR39),\"\")","v":""},{"$f":"IF(OR(AS25=\"Construção\",AS25=\"Start-up\",AS25=\"Operação\"),SUM($B$39:AS39),\"\")","v":""},{"$f":"IF(OR(AT25=\"Construção\",AT25=\"Start-up\",AT25=\"Operação\"),SUM($B$39:AT39),\"\")","v":""},{"$f":"IF(OR(AU25=\"Construção\",AU25=\"Start-up\",AU25=\"Operação\"),SUM($B$39:AU39),\"\")","v":""},{"$f":"IF(OR(AV25=\"Construção\",AV25=\"Start-up\",AV25=\"Operação\"),SUM($B$39:AV39),\"\")","v":""}]
["Custo CAPEX descontado",{"$f":"IF(OR(B25=\"Construção\",B25=\"Start-up\",B25=\"Operação\"),(B30+B31+B36)/((1+'Parâmetros de Fluxo de Caixa'!$B$32)^'Fluxo de Caixa Descontado'!B23),\"\")","v":-372.74574941758908},{"$f":"IF(OR(C25=\"Construção\",C25=\"Start-up\",C25=\"Operação\"),(C30+C31+C36)/((1+'Parâmetros de Fluxo de Caixa'!$B$32)^'Fluxo de Caixa Descontado'!C23),\"\")","v":-2520.9470334991352},{"$f":"IF(OR(D25=\"Construção\",D25=\"Start-up\",D25=\"Operação\"),(D30+D31+D36)/((1+'Parâmetros de Fluxo de Caixa'!$B$32)^'Fluxo de Caixa Descontado'!D23),\"\")","v":-1212.4175293475819},{"$f":"IF(OR(E25=\"Construção\",E25=\"Start-up\",E25=\"Operação\"),(E30+E31+E36)/((1+'Parâmetros de Fluxo de Caixa'!$B$32)^'Fluxo de Caixa Descontado'!E23),\"\")","v":0},{"$f":"IF(OR(F25=\"Construção\",F25=\"Start-up\",F25=\"Operação\"),(F30+F31+F36)/((1+'Parâmetros de Fluxo de Caixa'!$B$32)^'Fluxo de Caixa Descontado'!F23),\"\")","v":0},{"$f":"IF(OR(G25=\"Construção\",G25=\"Start-up\",G25=\"Operação\"),(G30+G31+G36)/((1+'Parâmetros de Fluxo de Caixa'!$B$32)^'Fluxo de Caixa Descontado'!G23),\"\")","v":0},{"$f":"IF(OR(H25=\"Construção\",H25=\"Start-up\",H25=\"Operação\"),(H30+H31+H36)/((1+'Parâmetros de Fluxo de Caixa'!$B$32)^'Fluxo de Caixa Descontado'!H23),\"\")","v":0},{"$f":"IF(OR(I25=\"Construção\",I25=\"Start-up\",I25=\"Operação\"),(I30+I31+I36)/((1+'Parâmetros de Fluxo de Caixa'!$B$32)^'Fluxo de Caixa Descontado'!I23),\"\")","v":0},{"$f":"IF(OR(J25=\"Construção\",J25=\"Start-up\",J25=\"Operação\"),(J30+J31+J36)/((1+'Parâmetros de Fluxo de Caixa'!$B$32)^'Fluxo de Caixa Descontado'!J23),\"\")","v":0},{"$f":"IF(OR(K25=\"Construção\",K25=\"Start-up\",K25=\"Operação\"),(K30+K31+K36)/((1+'Parâmetros de Fluxo de Caixa'!$B$32)^'Fluxo de Caixa Descontado'!K23),\"\")","v":0},{"$f":"IF(OR(L25=\"Construção\",L25=\"Start-up\",L25=\"Operação\"),(L30+L31+L36)/((1+'Parâmetros de Fluxo de Caixa'!$B$32)^'Fluxo de Caixa Descontado'!L23),\"\")","v":0},{"$f":"IF(OR(M25=\"Construção\",M25=\"Start-up\",M25=\"Operação\"),(M30+M31+M36)/((1+'Parâmetros de Fluxo de Caixa'!$B$32)^'Fluxo de Caixa Descontado'!M23),\"\")","v":0},{"$f":"IF(OR(N25=\"Construção\",N25=\"Start-up\",N25=\"Operação\"),(N30+N31+N36)/((1+'Parâmetros de Fluxo de Caixa'!$B$32)^'Fluxo de Caixa Descontado'!N23),\"\")","v":0},{"$f":"IF(OR(O25=\"Construção\",O25=\"Start-up\",O25=\"Operação\"),(O30+O31+O36)/((1+'Parâmetros de Fluxo de Caixa'!$B$32)^'Fluxo de Caixa Descontado'!O23),\"\")","v":0},{"$f":"IF(OR(P25=\"Construção\",P25=\"Start-up\",P25=\"Operação\"),(P30+P31+P36)/((1+'Parâmetros de Fluxo de Caixa'!$B$32)^'Fluxo de Caixa Descontado'!P23),\"\")","v":0},{"$f":"IF(OR(Q25=\"Construção\",Q25=\"Start-up\",Q25=\"Operação\"),(Q30+Q31+Q36)/((1+'Parâmetros de Fluxo de Caixa'!$B$32)^'Fluxo de Caixa Descontado'!Q23),\"\")","v":0},{"$f":"IF(OR(R25=\"Construção\",R25=\"Start-up\",R25=\"Operação\"),(R30+R31+R36)/((1+'Parâmetros de Fluxo de Caixa'!$B$32)^'Fluxo de Caixa Descontado'!R23),\"\")","v":0},{"$f":"IF(OR(S25=\"Construção\",S25=\"Start-up\",S25=\"Operação\"),(S30+S31+S36)/((1+'Parâmetros de Fluxo de Caixa'!$B$32)^'Fluxo de Caixa Descontado'!S23),\"\")","v":0},{"$f":"IF(OR(T25=\"Construção\",T25=\"Start-up\",T25=\"Operação\"),(T30+T31+T36)/((1+'Parâmetros de Fluxo de Caixa'!$B$32)^'Fluxo de Caixa Descontado'!T23),\"\")","v":0},{"$f":"IF(OR(U25=\"Construção\",U25=\"Start-up\",U25=\"Operação\"),(U30+U31+U36)/((1+'Parâmetros de Fluxo de Caixa'!$B$32)^'Fluxo de Caixa Descontado'!U23),\"\")","v":0},{"$f":"IF(OR(V25=\"Construção\",V25=\"Start-up\",V25=\"Operação\"),(V30+V31+V36)/((1+'Parâmetros de Fluxo de Caixa'!$B$32)^'Fluxo de Caixa Descontado'!V23),\"\")","v":0},{"$f":"IF(OR(W25=\"Construção\",W25=\"Start-up\",W25=\"Operação\"),(W30+W31+W36)/((1+'Parâmetros de Fluxo de Caixa'!$B$32)^'Fluxo de Caixa Descontado'!W23),\"\")","v":0},{"$f":"IF(OR(X25=\"Construção\",X25=\"Start-up\",X25=\"Operação\"),(X30+X31+X36)/((1+'Parâmetros de Fluxo de Caixa'!$B$32)^'Fluxo de Caixa Descontado'!X23),\"\")","v":0},{"$f":"IF(OR(Y25=\"Construção\",Y25=\"Start-up\",Y25=\"Operação\"),(Y30+Y31+Y36)/((1+'Parâmetros de Fluxo de Caixa'!$B$32)^'Fluxo de Caixa Descontado'!Y23),\"\")","v":""},{"$f":"IF(OR(Z25=\"Construção\",Z25=\"Start-up\",Z25=\"Operação\"),(Z30+Z31+Z36)/((1+'Parâmetros de Fluxo de Caixa'!$B$32)^'Fluxo de Caixa Descontado'!Z23),\"\")","v":""},{"$f":"IF(OR(AA25=\"Construção\",AA25=\"Start-up\",AA25=\"Operação\"),(AA30+AA31+AA36)/((1+'Parâmetros de Fluxo de Caixa'!$B$32)^'Fluxo de Caixa Descontado'!AA23),\"\")","v":""},{"$f":"IF(OR(AB25=\"Construção\",AB25=\"Start-up\",AB25=\"Operação\"),(AB30+AB31+AB36)/((1+'Parâmetros de Fluxo de Caixa'!$B$32)^'Fluxo de Caixa Descontado'!AB23),\"\")","v":""},{"$f":"IF(OR(AC25=\"Construção\",AC25=\"Start-up\",AC25=\"Operação\"),(AC30+AC31+AC36)/((1+'Parâmetros de Fluxo de Caixa'!$B$32)^'Fluxo de Caixa Descontado'!AC23),\"\")","v":""},{"$f":"IF(OR(AD25=\"Construção\",AD25=\"Start-up\",AD25=\"Operação\"),(AD30+AD31+AD36)/((1+'Parâmetros de Fluxo de Caixa'!$B$32)^'Fluxo de Caixa Descontado'!AD23),\"\")","v":""},{"$f":"IF(OR(AE25=\"Construção\",AE25=\"Start-up\",AE25=\"Operação\"),(AE30+AE31+AE36)/((1+'Parâmetros de Fluxo de Caixa'!$B$32)^'Fluxo de Caixa Descontado'!AE23),\"\")","v":""},{"$f":"IF(OR(AF25=\"Construção\",AF25=\"Start-up\",AF25=\"Operação\"),(AF30+AF31+AF36)/((1+'Parâmetros de Fluxo de Caixa'!$B$32)^'Fluxo de Caixa Descontado'!AF23),\"\")","v":""},{"$f":"IF(OR(AG25=\"Construção\",AG25=\"Start-up\",AG25=\"Operação\"),(AG30+AG31+AG36)/((1+'Parâmetros de Fluxo de Caixa'!$B$32)^'Fluxo de Caixa Descontado'!AG23),\"\")","v":""},{"$f":"IF(OR(AH25=\"Construção\",AH25=\"Start-up\",AH25=\"Operação\"),(AH30+AH31+AH36)/((1+'Parâmetros de Fluxo de Caixa'!$B$32)^'Fluxo de Caixa Descontado'!AH23),\"\")","v":""},{"$f":"IF(OR(AI25=\"Construção\",AI25=\"Start-up\",AI25=\"Operação\"),(AI30+AI31+AI36)/((1+'Parâmetros de Fluxo de Caixa'!$B$32)^'Fluxo de Caixa Descontado'!AI23),\"\")","v":""},{"$f":"IF(OR(AJ25=\"Construção\",AJ25=\"Start-up\",AJ25=\"Operação\"),(AJ30+AJ31+AJ36)/((1+'Parâmetros de Fluxo de Caixa'!$B$32)^'Fluxo de Caixa Descontado'!AJ23),\"\")","v":""},{"$f":"IF(OR(AK25=\"Construção\",AK25=\"Start-up\",AK25=\"Operação\"),(AK30+AK31+AK36)/((1+'Parâmetros de Fluxo de Caixa'!$B$32)^'Fluxo de Caixa Descontado'!AK23),\"\")","v":""},{"$f":"IF(OR(AL25=\"Construção\",AL25=\"Start-up\",AL25=\"Operação\"),(AL30+AL31+AL36)/((1+'Parâmetros de Fluxo de Caixa'!$B$32)^'Fluxo de Caixa Descontado'!AL23),\"\")","v":""},{"$f":"IF(OR(AM25=\"Construção\",AM25=\"Start-up\",AM25=\"Operação\"),(AM30+AM31+AM36)/((1+'Parâmetros de Fluxo de Caixa'!$B$32)^'Fluxo de Caixa Descontado'!AM23),\"\")","v":""},{"$f":"IF(OR(AN25=\"Construção\",AN25=\"Start-up\",AN25=\"Operação\"),(AN30+AN31+AN36)/((1+'Parâmetros de Fluxo de Caixa'!$B$32)^'Fluxo de Caixa Descontado'!AN23),\"\")","v":""},{"$f":"IF(OR(AO25=\"Construção\",AO25=\"Start-up\",AO25=\"Operação\"),(AO30+AO31+AO36)/((1+'Parâmetros de Fluxo de Caixa'!$B$32)^'Fluxo de Caixa Descontado'!AO23),\"\")","v":""},{"$f":"IF(OR(AP25=\"Construção\",AP25=\"Start-up\",AP25=\"Operação\"),(AP30+AP31+AP36)/((1+'Parâmetros de Fluxo de Caixa'!$B$32)^'Fluxo de Caixa Descontado'!AP23),\"\")","v":""},{"$f":"IF(OR(AQ25=\"Construção\",AQ25=\"Start-up\",AQ25=\"Operação\"),(AQ30+AQ31+AQ36)/((1+'Parâmetros de Fluxo de Caixa'!$B$32)^'Fluxo de Caixa Descontado'!AQ23),\"\")","v":""},{"$f":"IF(OR(AR25=\"Construção\",AR25=\"Start-up\",AR25=\"Operação\"),(AR30+AR31+AR36)/((1+'Parâmetros de Fluxo de Caixa'!$B$32)^'Fluxo de Caixa Descontado'!AR23),\"\")","v":""},{"$f":"IF(OR(AS25=\"Construção\",AS25=\"Start-up\",AS25=\"Operação\"),(AS30+AS31+AS36)/((1+'Parâmetros de Fluxo de Caixa'!$B$32)^'Fluxo de Caixa Descontado'!AS23),\"\")","v":""},{"$f":"IF(OR(AT25=\"Construção\",AT25=\"Start-up\",AT25=\"Operação\"),(AT30+AT31+AT36)/((1+'Parâmetros de Fluxo de Caixa'!$B$32)^'Fluxo de Caixa Descontado'!AT23),\"\")","v":""},{"$f":"IF(OR(AU25=\"Construção\",AU25=\"Start-up\",AU25=\"Operação\"),(AU30+AU31+AU36)/((1+'Parâmetros de Fluxo de Caixa'!$B$32)^'Fluxo de Caixa Descontado'!AU23),\"\")","v":""},{"$f":"IF(OR(AV25=\"Construção\",AV25=\"Start-up\",AV25=\"Operação\"),(AV30+AV31+AV36)/((1+'Parâmetros de Fluxo de Caixa'!$B$32)^'Fluxo de Caixa Descontado'!AV23),\"\")","v":""}]
["Custo OPEX variável descontado",{"$f":"IF(OR(B25=\"Construção\",B25=\"Start-up\",B25=\"Operação\"),(B28)/((1+'Parâmetros de Fluxo de Caixa'!$B$32)^'Fluxo de Caixa Descontado'!B23),\"\")","v":0},{"$f":"IF(OR(C25=\"Construção\",C25=\"Start-up\",C25=\"Operação\"),(C28)/((1+'Parâmetros de Fluxo de Caixa'!$B$32)^'Fluxo de Caixa Descontado'!C23),\"\")","v":0},{"$f":"IF(OR(D25=\"Construção\",D25=\"Start-up\",D25=\"Operação\"),(D28)/((1+'Parâmetros de Fluxo de Caixa'!$B$32)^'Fluxo de Caixa Descontado'!D23),\"\")","v":0},{"$f":"IF(OR(E25=\"Construção\",E25=\"Start-up\",E25=\"Operação\"),(E28)/((1+'Parâmetros de Fluxo de Caixa'!$B$32)^'Fluxo de Caixa Descontado'!E23),\"\")","v":-2779.5849742250011},{"$f":"IF(OR(F25=\"Construção\",F25=\"Start-up\",F25=\"Operação\"),(F28)/((1+'Parâmetros de Fluxo de Caixa'!$B$32)^'Fluxo de Caixa Descontado'!F23),\"\")","v":-2864.5846486711607},{"$f":"IF(OR(G25=\"Construção\",G25=\"Start-up\",G25=\"Operação\"),(G28)/((1+'Parâmetros de Fluxo de Caixa'!$B$32)^'Fluxo de Caixa Descontado'!G23),\"\")","v":-2583.1606606051378},{"$f":"IF(OR(H25=\"Construção\",H25=\"Start-up\",H25=\"Operação\"),(H28)/((1+'Parâmetros de Fluxo de Caixa'!$B$32)^'Fluxo de Caixa Descontado'!H23),\"\")","v":-2329.3844717045972},{"$f":"IF(OR(I25=\"Construção\",I25=\"Start-up\",I25=\"Operação\"),(I28)/((1+'Parâmetros de Fluxo de Caixa'!$B$32)^'Fluxo de Caixa Descontado'!I23),\"\")","v":-2100.5398927635379},{"$f":"IF(OR(J25=\"Construção\",J25=\"Start-up\",J25=\"Operação\"),(J28)/((1+'Parâmetros de Fluxo de Caixa'!$B$32)^'Fluxo de Caixa Descontado'!J23),\"\")","v":-1894.1775798231563},{"$f":"IF(OR(K25=\"Construção\",K25=\"Start-up\",K25=\"Operação\"),(K28)/((1+'Parâmetros de Fluxo de Caixa'!$B$32)^'Fluxo de Caixa Descontado'!K23),\"\")","v":-1708.0888186247878},{"$f":"IF(OR(L25=\"Construção\",L25=\"Start-up\",L25=\"Operação\"),(L28)/((1+'Parâmetros de Fluxo de Caixa'!$B$32)^'Fluxo de Caixa Descontado'!L23),\"\")","v":-1540.2818845440097},{"$f":"IF(OR(M25=\"Construção\",M25=\"Start-up\",M25=\"Operação\"),(M28)/((1+'Parâmetros de Fluxo de Caixa'!$B$32)^'Fluxo de Caixa Descontado'!M23),\"\")","v":-1388.960724984174},{"$f":"IF(OR(N25=\"Construção\",N25=\"Start-up\",N25=\"Operação\"),(N28)/((1+'Parâmetros de Fluxo de Caixa'!$B$32)^'Fluxo de Caixa Descontado'!N23),\"\")","v":-1252.5057360651181},{"$f":"IF(OR(O25=\"Construção\",O25=\"Start-up\",O25=\"Operação\"),(O28)/((1+'Parâmetros de Fluxo de Caixa'!$B$32)^'Fluxo de Caixa Descontado'!O23),\"\")","v":-1129.4564278582448},{"$f":"IF(OR(P25=\"Construção\",P25=\"Start-up\",P25=\"Operação\"),(P28)/((1+'Parâmetros de Fluxo de Caixa'!$B$32)^'Fluxo de Caixa Descontado'!P23),\"\")","v":-1018.4957926324292},{"$f":"IF(OR(Q25=\"Construção\",Q25=\"Start-up\",Q25=\"Operação\"),(Q28)/((1+'Parâmetros de Fluxo de Caixa'!$B$32)^'Fluxo de Caixa Descontado'!Q23),\"\")","v":-918.43620880269441},{"$f":"IF(OR(R25=\"Construção\",R25=\"Start-up\",R25=\"Operação\"),(R28)/((1+'Parâmetros de Fluxo de Caixa'!$B$32)^'Fluxo de Caixa Descontado'!R23),\"\")","v":-828.20672971036117},{"$f":"IF(OR(S25=\"Construção\",S25=\"Start-up\",S25=\"Operação\"),(S28)/((1+'Parâmetros de Fluxo de Caixa'!$B$32)^'Fluxo de Caixa Descontado'!S23),\"\")","v":-746.8416211853505},{"$f":"IF(OR(T25=\"Construção\",T25=\"Start-up\",T25=\"Operação\"),(T28)/((1+'Parâmetros de Fluxo de Caixa'!$B$32)^'Fluxo de Caixa Descontado'!T23),\"\")","v":-673.47002520714307},{"$f":"IF(OR(U25=\"Construção\",U25=\"Start-up\",U25=\"Operação\"),(U28)/((1+'Parâmetros de Fluxo de Caixa'!$B$32)^'Fluxo de Caixa Descontado'!U23),\"\")","v":-607.30663903363984},{"$f":"IF(OR(V25=\"Construção\",V25=\"Start-up\",V25=\"Operação\"),(V28)/((1+'Parâmetros de Fluxo de Caixa'!$B$32)^'Fluxo de Caixa Descontado'!V23),\"\")","v":-547.64331003580321},{"$f":"IF(OR(W25=\"Construção\",W25=\"Start-up\",W25=\"Operação\"),(W28)/((1+'Parâmetros de Fluxo de Caixa'!$B$32)^'Fluxo de Caixa Descontado'!W23),\"\")","v":-493.84145627684819},{"$f":"IF(OR(X25=\"Construção\",X25=\"Start-up\",X25=\"Operação\"),(X28)/((1+'Parâmetros de Fluxo de Caixa'!$B$32)^'Fluxo de Caixa Descontado'!X23),\"\")","v":-445.32523171276227},{"$f":"IF(OR(Y25=\"Construção\",Y25=\"Start-up\",Y25=\"Operação\"),(Y28)/((1+'Parâmetros de Fluxo de Caixa'!$B$32)^'Fluxo de Caixa Descontado'!Y23),\"\")","v":""},{"$f":"IF(OR(Z25=\"Construção\",Z25=\"Start-up\",Z25=\"Operação\"),(Z28)/((1+'Parâmetros de Fluxo de Caixa'!$B$32)^'Fluxo de Caixa Descontado'!Z23),\"\")","v":""},{"$f":"IF(OR(AA25=\"Construção\",AA25=\"Start-up\",AA25=\"Operação\"),(AA28)/((1+'Parâmetros de Fluxo de Caixa'!$B$32)^'Fluxo de Caixa Descontado'!AA23),\"\")","v":""},{"$f":"IF(OR(AB25=\"Construção\",AB25=\"Start-up\",AB25=\"Operação\"),(AB28)/((1+'Parâmetros de Fluxo de Caixa'!$B$32)^'Fluxo de Caixa Descontado'!AB23),\"\")","v":""},{"$f":"IF(OR(AC25=\"Construção\",AC25=\"Start-up\",AC25=\"Operação\"),(AC28)/((1+'Parâmetros de Fluxo de Caixa'!$B$32)^'Fluxo de Caixa Descontado'!AC23),\"\")","v":""},{"$f":"IF(OR(AD25=\"Construção\",AD25=\"Start-up\",AD25=\"Operação\"),(AD28)/((1+'Parâmetros de Fluxo de Caixa'!$B$32)^'Fluxo de Caixa Descontado'!AD23),\"\")","v":""},{"$f":"IF(OR(AE25=\"Construção\",AE25=\"Start-up\",AE25=\"Operação\"),(AE28)/((1+'Parâmetros de Fluxo de Caixa'!$B$32)^'Fluxo de Caixa Descontado'!AE23),\"\")","v":""},{"$f":"IF(OR(AF25=\"Construção\",AF25=\"Start-up\",AF25=\"Operação\"),(AF28)/((1+'Parâmetros de Fluxo de Caixa'!$B$32)^'Fluxo de Caixa Descontado'!AF23),\"\")","v":""},{"$f":"IF(OR(AG25=\"Construção\",AG25=\"Start-up\",AG25=\"Operação\"),(AG28)/((1+'Parâmetros de Fluxo de Caixa'!$B$32)^'Fluxo de Caixa Descontado'!AG23),\"\")","v":""},{"$f":"IF(OR(AH25=\"Construção\",AH25=\"Start-up\",AH25=\"Operação\"),(AH28)/((1+'Parâmetros de Fluxo de Caixa'!$B$32)^'Fluxo de Caixa Descontado'!AH23),\"\")","v":""},{"$f":"IF(OR(AI25=\"Construção\",AI25=\"Start-up\",AI25=\"Operação\"),(AI28)/((1+'Parâmetros de Fluxo de Caixa'!$B$32)^'Fluxo de Caixa Descontado'!AI23),\"\")","v":""},{"$f":"IF(OR(AJ25=\"Construção\",AJ25=\"Start-up\",AJ25=\"Operação\"),(AJ28)/((1+'Parâmetros de Fluxo de Caixa'!$B$32)^'Fluxo de Caixa Descontado'!AJ23),\"\")","v":""},{"$f":"IF(OR(AK25=\"Construção\",AK25=\"Start-up\",AK25=\"Operação\"),(AK28)/((1+'Parâmetros de Fluxo de Caixa'!$B$32)^'Fluxo de Caixa Descontado'!AK23),\"\")","v":""},{"$f":"IF(OR(AL25=\"Construção\",AL25=\"Start-up\",AL25=\"Operação\"),(AL28)/((1+'Parâmetros de Fluxo de Caixa'!$B$32)^'Fluxo de Caixa Descontado'!AL23),\"\")","v":""},{"$f":"IF(OR(AM25=\"Construção\",AM25=\"Start-up\",AM25=\"Operação\"),(AM28)/((1+'Parâmetros de Fluxo de Caixa'!$B$32)^'Fluxo de Caixa Descontado'!AM23),\"\")","v":""},{"$f":"IF(OR(AN25=\"Construção\",AN25=\"Start-up\",AN25=\"Operação\"),(AN28)/((1+'Parâmetros de Fluxo de Caixa'!$B$32)^'Fluxo de Caixa Descontado'!AN23),\"\")","v":""},{"$f":"IF(OR(AO25=\"Construção\",AO25=\"Start-up\",AO25=\"Operação\"),(AO28)/((1+'Parâmetros de Fluxo de Caixa'!$B$32)^'Fluxo de Caixa Descontado'!AO23),\"\")","v":""},{"$f":"IF(OR(AP25=\"Construção\",AP25=\"Start-up\",AP25=\"Operação\"),(AP28)/((1+'Parâmetros de Fluxo de Caixa'!$B$32)^'Fluxo de Caixa Descontado'!AP23),\"\")","v":""},{"$f":"IF(OR(AQ25=\"Construção\",AQ25=\"Start-up\",AQ25=\"Operação\"),(AQ28)/((1+'Parâmetros de Fluxo de Caixa'!$B$32)^'Fluxo de Caixa Descontado'!AQ23),\"\")","v":""},{"$f":"IF(OR(AR25=\"Construção\",AR25=\"Start-up\",AR25=\"Operação\"),(AR28)/((1+'Parâmetros de Fluxo de Caixa'!$B$32)^'Fluxo de Caixa Descontado'!AR23),\"\")","v":""},{"$f":"IF(OR(AS25=\"Construção\",AS25=\"Start-up\",AS25=\"Operação\"),(AS28)/((1+'Parâmetros de Fluxo de Caixa'!$B$32)^'Fluxo de Caixa Descontado'!AS23),\"\")","v":""},{"$f":"IF(OR(AT25=\"Construção\",AT25=\"Start-up\",AT25=\"Operação\"),(AT28)/((1+'Parâmetros de Fluxo de Caixa'!$B$32)^'Fluxo de Caixa Descontado'!AT23),\"\")","v":""},{"$f":"IF(OR(AU25=\"Construção\",AU25=\"Start-up\",AU25=\"Operação\"),(AU28)/((1+'Parâmetros de Fluxo de Caixa'!$B$32)^'Fluxo de Caixa Descontado'!AU23),\"\")","v":""},{"$f":"IF(OR(AV25=\"Construção\",AV25=\"Start-up\",AV25=\"Operação\"),(AV28)/((1+'Parâmetros de Fluxo de Caixa'!$B$32)^'Fluxo de Caixa Descontado'!AV23),\"\")","v":""}]
["Custo OPEX fixo descontado",{"$f":"IF(OR(B25=\"Construção\",B25=\"Start-up\",B25=\"Operação\"),(B29)/((1+'Parâmetros de Fluxo de Caixa'!$B$32)^'Fluxo de Caixa Descontado'!B23),\"\")","v":0},{"$f":"IF(OR(C25=\"Construção\",C25=\"Start-up\",C25=\"Operação\"),(C29)/((1+'Parâmetros de Fluxo de Caixa'!$B$32)^'Fluxo de Caixa Descontado'!C23),\"\")","v":0},{"$f":"IF(OR(D25=\"Construção\",D25=\"Start-up\",D25=\"Operação\"),(D29)/((1+'Parâmetros de Fluxo de Caixa'!$B$32)^'Fluxo de Caixa Descontado'!D23),\"\")","v":0},{"$f":"IF(OR(E25=\"Construção\",E25=\"Start-up\",E25=\"Operação\"),(E29)/((1+'Parâmetros de Fluxo de Caixa'!$B$32)^'Fluxo de Caixa Descontado'!E23),\"\")","v":-222.07790052886958},{"$f":"IF(OR(F25=\"Construção\",F25=\"Start-up\",F25=\"Operação\"),(F29)/((1+'Parâmetros de Fluxo de Caixa'!$B$32)^'Fluxo de Caixa Descontado'!F23),\"\")","v":-200.26041000466529},{"$f":"IF(OR(G25=\"Construção\",G25=\"Start-up\",G25=\"Operação\"),(G29)/((1+'Parâmetros de Fluxo de Caixa'!$B$32)^'Fluxo de Caixa Descontado'!G23),\"\")","v":-180.58632452724939},{"$f":"IF(OR(H25=\"Construção\",H25=\"Start-up\",H25=\"Operação\"),(H29)/((1+'Parâmetros de Fluxo de Caixa'!$B$32)^'Fluxo de Caixa Descontado'!H23),\"\")","v":-162.84507060332751},{"$f":"IF(OR(I25=\"Construção\",I25=\"Start-up\",I25=\"Operação\"),(I29)/((1+'Parâmetros de Fluxo de Caixa'!$B$32)^'Fluxo de Caixa Descontado'!I23),\"\")","v":-146.8467620082784},{"$f":"IF(OR(J25=\"Construção\",J25=\"Start-up\",J25=\"Operação\"),(J29)/((1+'Parâmetros de Fluxo de Caixa'!$B$32)^'Fluxo de Caixa Descontado'!J23),\"\")","v":-132.42016741693948},{"$f":"IF(OR(K25=\"Construção\",K25=\"Start-up\",K25=\"Operação\"),(K29)/((1+'Parâmetros de Fluxo de Caixa'!$B$32)^'Fluxo de Caixa Descontado'!K23),\"\")","v":-119.41087769944666},{"$f":"IF(OR(L25=\"Construção\",L25=\"Start-up\",L25=\"Operação\"),(L29)/((1+'Parâmetros de Fluxo de Caixa'!$B$32)^'Fluxo de Caixa Descontado'!L23),\"\")","v":-107.67965326653233},{"$f":"IF(OR(M25=\"Construção\",M25=\"Start-up\",M25=\"Operação\"),(M29)/((1+'Parâmetros de Fluxo de Caixa'!$B$32)^'Fluxo de Caixa Descontado'!M23),\"\")","v":-97.100933775770727},{"$f":"IF(OR(N25=\"Construção\",N25=\"Start-up\",N25=\"Operação\"),(N29)/((1+'Parâmetros de Fluxo de Caixa'!$B$32)^'Fluxo de Caixa Descontado'!N23),\"\")","v":-87.561494248023266},{"$f":"IF(OR(O25=\"Construção\",O25=\"Start-up\",O25=\"Operação\"),(O29)/((1+'Parâmetros de Fluxo de Caixa'!$B$32)^'Fluxo de Caixa Descontado'!O23),\"\")","v":-78.959233210378642},{"$f":"IF(OR(P25=\"Construção\",P25=\"Start-up\",P25=\"Operação\"),(P29)/((1+'Parâmetros de Fluxo de Caixa'!$B$32)^'Fluxo de Caixa Descontado'!P23),\"\")","v":-71.202079894972883},{"$f":"IF(OR(Q25=\"Construção\",Q25=\"Start-up\",Q25=\"Operação\"),(Q29)/((1+'Parâmetros de Fluxo de Caixa'!$B$32)^'Fluxo de Caixa Descontado'!Q23),\"\")","v":-64.20700879734126},{"$f":"IF(OR(R25=\"Construção\",R25=\"Start-up\",R25=\"Operação\"),(R29)/((1+'Parâmetros de Fluxo de Caixa'!$B$32)^'Fluxo de Caixa Descontado'!R23),\"\")","v":-57.899151047031751},{"$f":"IF(OR(S25=\"Construção\",S25=\"Start-up\",S25=\"Operação\"),(S29)/((1+'Parâmetros de Fluxo de Caixa'!$B$32)^'Fluxo de Caixa Descontado'!S23),\"\")","v":-52.210993079400609},{"$f":"IF(OR(T25=\"Construção\",T25=\"Start-up\",T25=\"Operação\"),(T29)/((1+'Parâmetros de Fluxo de Caixa'!$B$32)^'Fluxo de Caixa Descontado'!T23),\"\")","v":-47.081654031902559},{"$f":"IF(OR(U25=\"Construção\",U25=\"Start-up\",U25=\"Operação\"),(U29)/((1+'Parâmetros de Fluxo de Caixa'!$B$32)^'Fluxo de Caixa Descontado'!U23),\"\")","v":-42.456234130783841},{"$f":"IF(OR(V25=\"Construção\",V25=\"Start-up\",V25=\"Operação\"),(V29)/((1+'Parâmetros de Fluxo de Caixa'!$B$32)^'Fluxo de Caixa Descontado'!V23),\"\")","v":-38.285227093902385},{"$f":"IF(OR(W25=\"Construção\",W25=\"Start-up\",W25=\"Operação\"),(W29)/((1+'Parâmetros de Fluxo de Caixa'!$B$32)^'Fluxo de Caixa Descontado'!W23),\"\")","v":-34.523990260570386},{"$f":"IF(OR(X25=\"Construção\",X25=\"Start-up\",X25=\"Operação\"),(X29)/((1+'Parâmetros de Fluxo de Caixa'!$B$32)^'Fluxo de Caixa Descontado'!X23),\"\")","v":-31.132266777171385},{"$f":"IF(OR(Y25=\"Construção\",Y25=\"Start-up\",Y25=\"Operação\"),(Y29)/((1+'Parâmetros de Fluxo de Caixa'!$B$32)^'Fluxo de Caixa Descontado'!Y23),\"\")","v":""},{"$f":"IF(OR(Z25=\"Construção\",Z25=\"Start-up\",Z25=\"Operação\"),(Z29)/((1+'Parâmetros de Fluxo de Caixa'!$B$32)^'Fluxo de Caixa Descontado'!Z23),\"\")","v":""},{"$f":"IF(OR(AA25=\"Construção\",AA25=\"Start-up\",AA25=\"Operação\"),(AA29)/((1+'Parâmetros de Fluxo de Caixa'!$B$32)^'Fluxo de Caixa Descontado'!AA23),\"\")","v":""},{"$f":"IF(OR(AB25=\"Construção\",AB25=\"Start-up\",AB25=\"Operação\"),(AB29)/((1+'Parâmetros de Fluxo de Caixa'!$B$32)^'Fluxo de Caixa Descontado'!AB23),\"\")","v":""},{"$f":"IF(OR(AC25=\"Construção\",AC25=\"Start-up\",AC25=\"Operação\"),(AC29)/((1+'Parâmetros de Fluxo de Caixa'!$B$32)^'Fluxo de Caixa Descontado'!AC23),\"\")","v":""},{"$f":"IF(OR(AD25=\"Construção\",AD25=\"Start-up\",AD25=\"Operação\"),(AD29)/((1+'Parâmetros de Fluxo de Caixa'!$B$32)^'Fluxo de Caixa Descontado'!AD23),\"\")","v":""},{"$f":"IF(OR(AE25=\"Construção\",AE25=\"Start-up\",AE25=\"Operação\"),(AE29)/((1+'Parâmetros de Fluxo de Caixa'!$B$32)^'Fluxo de Caixa Descontado'!AE23),\"\")","v":""},{"$f":"IF(OR(AF25=\"Construção\",AF25=\"Start-up\",AF25=\"Operação\"),(AF29)/((1+'Parâmetros de Fluxo de Caixa'!$B$32)^'Fluxo de Caixa Descontado'!AF23),\"\")","v":""},{"$f":"IF(OR(AG25=\"Construção\",AG25=\"Start-up\",AG25=\"Operação\"),(AG29)/((1+'Parâmetros de Fluxo de Caixa'!$B$32)^'Fluxo de Caixa Descontado'!AG23),\"\")","v":""},{"$f":"IF(OR(AH25=\"Construção\",AH25=\"Start-up\",AH25=\"Operação\"),(AH29)/((1+'Parâmetros de Fluxo de Caixa'!$B$32)^'Fluxo de Caixa Descontado'!AH23),\"\")","v":""},{"$f":"IF(OR(AI25=\"Construção\",AI25=\"Start-up\",AI25=\"Operação\"),(AI29)/((1+'Parâmetros de Fluxo de Caixa'!$B$32)^'Fluxo de Caixa Descontado'!AI23),\"\")","v":""},{"$f":"IF(OR(AJ25=\"Construção\",AJ25=\"Start-up\",AJ25=\"Operação\"),(AJ29)/((1+'Parâmetros de Fluxo de Caixa'!$B$32)^'Fluxo de Caixa Descontado'!AJ23),\"\")","v":""},{"$f":"IF(OR(AK25=\"Construção\",AK25=\"Start-up\",AK25=\"Operação\"),(AK29)/((1+'Parâmetros de Fluxo de Caixa'!$B$32)^'Fluxo de Caixa Descontado'!AK23),\"\")","v":""},{"$f":"IF(OR(AL25=\"Construção\",AL25=\"Start-up\",AL25=\"Operação\"),(AL29)/((1+'Parâmetros de Fluxo de Caixa'!$B$32)^'Fluxo de Caixa Descontado'!AL23),\"\")","v":""},{"$f":"IF(OR(AM25=\"Construção\",AM25=\"Start-up\",AM25=\"Operação\"),(AM29)/((1+'Parâmetros de Fluxo de Caixa'!$B$32)^'Fluxo de Caixa Descontado'!AM23),\"\")","v":""},{"$f":"IF(OR(AN25=\"Construção\",AN25=\"Start-up\",AN25=\"Operação\"),(AN29)/((1+'Parâmetros de Fluxo de Caixa'!$B$32)^'Fluxo de Caixa Descontado'!AN23),\"\")","v":""},{"$f":"IF(OR(AO25=\"Construção\",AO25=\"Start-up\",AO25=\"Operação\"),(AO29)/((1+'Parâmetros de Fluxo de Caixa'!$B$32)^'Fluxo de Caixa Descontado'!AO23),\"\")","v":""},{"$f":"IF(OR(AP25=\"Construção\",AP25=\"Start-up\",AP25=\"Operação\"),(AP29)/((1+'Parâmetros de Fluxo de Caixa'!$B$32)^'Fluxo de Caixa Descontado'!AP23),\"\")","v":""},{"$f":"IF(OR(AQ25=\"Construção\",AQ25=\"Start-up\",AQ25=\"Operação\"),(AQ29)/((1+'Parâmetros de Fluxo de Caixa'!$B$32)^'Fluxo de Caixa Descontado'!AQ23),\"\")","v":""},{"$f":"IF(OR(AR25=\"Construção\",AR25=\"Start-up\",AR25=\"Operação\"),(AR29)/((1+'Parâmetros de Fluxo de Caixa'!$B$32)^'Fluxo de Caixa Descontado'!AR23),\"\")","v":""},{"$f":"IF(OR(AS25=\"Construção\",AS25=\"Start-up\",AS25=\"Operação\"),(AS29)/((1+'Parâmetros de Fluxo de Caixa'!$B$32)^'Fluxo de Caixa Descontado'!AS23),\"\")","v":""},{"$f":"IF(OR(AT25=\"Construção\",AT25=\"Start-up\",AT25=\"Operação\"),(AT29)/((1+'Parâmetros de Fluxo de Caixa'!$B$32)^'Fluxo de Caixa Descontado'!AT23),\"\")","v":""},{"$f":"IF(OR(AU25=\"Construção\",AU25=\"Start-up\",AU25=\"Operação\"),(AU29)/((1+'Parâmetros de Fluxo de Caixa'!$B$32)^'Fluxo de Caixa Descontado'!AU23),\"\")","v":""},{"$f":"IF(OR(AV25=\"Construção\",AV25=\"Start-up\",AV25=\"Operação\"),(AV29)/((1+'Parâmetros de Fluxo de Caixa'!$B$32)^'Fluxo de Caixa Descontado'!AV23),\"\")","v":""}]
["Tributos descontado",{"$f":"IF(OR(B25=\"Construção\",B25=\"Start-up\",B25=\"Operação\"),(B35+B33)/((1+'Parâmetros de Fluxo de Caixa'!$B$32)^'Fluxo de Caixa Descontado'!B23),\"\")","v":0},{"$f":"IF(OR(C25=\"Construção\",C25=\"Start-up\",C25=\"Operação\"),(C35+C33)/((1+'Parâmetros de Fluxo de Caixa'!$B$32)^'Fluxo de Caixa Descontado'!C23),\"\")","v":0},{"$f":"IF(OR(D25=\"Construção\",D25=\"Start-up\",D25=\"Operação\"),(D35+D33)/((1+'Parâmetros de Fluxo de Caixa'!$B$32)^'Fluxo de Caixa Descontado'!D23),\"\")","v":0},{"$f":"IF(OR(E25=\"Construção\",E25=\"Start-up\",E25=\"Operação\"),(E35+E33)/((1+'Parâmetros de Fluxo de Caixa'!$B$32)^'Fluxo de Caixa Descontado'!E23),\"\")","v":-402.22652855451395},{"$f":"IF(OR(F25=\"Construção\",F25=\"Start-up\",F25=\"Operação\"),(F35+F33)/((1+'Parâmetros de Fluxo de Caixa'!$B$32)^'Fluxo de Caixa Descontado'!F23),\"\")","v":-439.21805922258181},{"$f":"IF(OR(G25=\"Construção\",G25=\"Start-up\",G25=\"Operação\"),(G35+G33)/((1+'Parâmetros de Fluxo de Caixa'!$B$32)^'Fluxo de Caixa Descontado'!G23),\"\")","v":-396.06817432936464},{"$f":"IF(OR(H25=\"Construção\",H25=\"Start-up\",H25=\"Operação\"),(H35+H33)/((1+'Parâmetros de Fluxo de Caixa'!$B$32)^'Fluxo de Caixa Descontado'!H23),\"\")","v":-357.15744246549571},{"$f":"IF(OR(I25=\"Construção\",I25=\"Start-up\",I25=\"Operação\"),(I35+I33)/((1+'Parâmetros de Fluxo de Caixa'!$B$32)^'Fluxo de Caixa Descontado'!I23),\"\")","v":-322.06939859402996},{"$f":"IF(OR(J25=\"Construção\",J25=\"Start-up\",J25=\"Operação\"),(J35+J33)/((1+'Parâmetros de Fluxo de Caixa'!$B$32)^'Fluxo de Caixa Descontado'!J23),\"\")","v":-290.42849224888033},{"$f":"IF(OR(K25=\"Construção\",K25=\"Start-up\",K25=\"Operação\"),(K35+K33)/((1+'Parâmetros de Fluxo de Caixa'!$B$32)^'Fluxo de Caixa Descontado'!K23),\"\")","v":-261.89606798465167},{"$f":"IF(OR(L25=\"Construção\",L25=\"Start-up\",L25=\"Operação\"),(L35+L33)/((1+'Parâmetros de Fluxo de Caixa'!$B$32)^'Fluxo de Caixa Descontado'!L23),\"\")","v":-236.1667407171746},{"$f":"IF(OR(M25=\"Construção\",M25=\"Start-up\",M25=\"Operação\"),(M35+M33)/((1+'Parâmetros de Fluxo de Caixa'!$B$32)^'Fluxo de Caixa Descontado'!M23),\"\")","v":-212.96512715968632},{"$f":"IF(OR(N25=\"Construção\",N25=\"Start-up\",N25=\"Operação\"),(N35+N33)/((1+'Parâmetros de Fluxo de Caixa'!$B$32)^'Fluxo de Caixa Descontado'!N23),\"\")","v":-192.04289837092668},{"$f":"IF(OR(O25=\"Construção\",O25=\"Start-up\",O25=\"Operação\"),(O35+O33)/((1+'Parâmetros de Fluxo de Caixa'!$B$32)^'Fluxo de Caixa Descontado'!O23),\"\")","v":-214.47787462450853},{"$f":"IF(OR(P25=\"Construção\",P25=\"Start-up\",P25=\"Operação\"),(P35+P33)/((1+'Parâmetros de Fluxo de Caixa'!$B$32)^'Fluxo de Caixa Descontado'!P23),\"\")","v":-193.40702972671386},{"$f":"IF(OR(Q25=\"Construção\",Q25=\"Start-up\",Q25=\"Operação\"),(Q35+Q33)/((1+'Parâmetros de Fluxo de Caixa'!$B$32)^'Fluxo de Caixa Descontado'!Q23),\"\")","v":-174.40623753474819},{"$f":"IF(OR(R25=\"Construção\",R25=\"Start-up\",R25=\"Operação\"),(R35+R33)/((1+'Parâmetros de Fluxo de Caixa'!$B$32)^'Fluxo de Caixa Descontado'!R23),\"\")","v":-157.2721308734605},{"$f":"IF(OR(S25=\"Construção\",S25=\"Start-up\",S25=\"Operação\"),(S35+S33)/((1+'Parâmetros de Fluxo de Caixa'!$B$32)^'Fluxo de Caixa Descontado'!S23),\"\")","v":-141.8213218695854},{"$f":"IF(OR(T25=\"Construção\",T25=\"Start-up\",T25=\"Operação\"),(T35+T33)/((1+'Parâmetros de Fluxo de Caixa'!$B$32)^'Fluxo de Caixa Descontado'!T23),\"\")","v":-127.88843913496333},{"$f":"IF(OR(U25=\"Construção\",U25=\"Start-up\",U25=\"Operação\"),(U35+U33)/((1+'Parâmetros de Fluxo de Caixa'!$B$32)^'Fluxo de Caixa Descontado'!U23),\"\")","v":-115.32435778180944},{"$f":"IF(OR(V25=\"Construção\",V25=\"Start-up\",V25=\"Operação\"),(V35+V33)/((1+'Parâmetros de Fluxo de Caixa'!$B$32)^'Fluxo de Caixa Descontado'!V23),\"\")","v":-103.99460332572619},{"$f":"IF(OR(W25=\"Construção\",W25=\"Start-up\",W25=\"Operação\"),(W35+W33)/((1+'Parâmetros de Fluxo de Caixa'!$B$32)^'Fluxo de Caixa Descontado'!W23),\"\")","v":-93.777912393291601},{"$f":"IF(OR(X25=\"Construção\",X25=\"Start-up\",X25=\"Operação\"),(X35+X33)/((1+'Parâmetros de Fluxo de Caixa'!$B$32)^'Fluxo de Caixa Descontado'!X23),\"\")","v":-84.56493482934745},{"$f":"IF(OR(Y25=\"Construção\",Y25=\"Start-up\",Y25=\"Operação\"),(Y35+Y33)/((1+'Parâmetros de Fluxo de Caixa'!$B$32)^'Fluxo de Caixa Descontado'!Y23),\"\")","v":""},{"$f":"IF(OR(Z25=\"Construção\",Z25=\"Start-up\",Z25=\"Operação\"),(Z35+Z33)/((1+'Parâmetros de Fluxo de Caixa'!$B$32)^'Fluxo de Caixa Descontado'!Z23),\"\")","v":""},{"$f":"IF(OR(AA25=\"Construção\",AA25=\"Start-up\",AA25=\"Operação\"),(AA35+AA33)/((1+'Parâmetros de Fluxo de Caixa'!$B$32)^'Fluxo de Caixa Descontado'!AA23),\"\")","v":""},{"$f":"IF(OR(AB25=\"Construção\",AB25=\"Start-up\",AB25=\"Operação\"),(AB35+AB33)/((1+'Parâmetros de Fluxo de Caixa'!$B$32)^'Fluxo de Caixa Descontado'!AB23),\"\")","v":""},{"$f":"IF(OR(AC25=\"Construção\",AC25=\"Start-up\",AC25=\"Operação\"),(AC35+AC33)/((1+'Parâmetros de Fluxo de Caixa'!$B$32)^'Fluxo de Caixa Descontado'!AC23),\"\")","v":""},{"$f":"IF(OR(AD25=\"Construção\",AD25=\"Start-up\",AD25=\"Operação\"),(AD35+AD33)/((1+'Parâmetros de Fluxo de Caixa'!$B$32)^'Fluxo de Caixa Descontado'!AD23),\"\")","v":""},{"$f":"IF(OR(AE25=\"Construção\",AE25=\"Start-up\",AE25=\"Operação\"),(AE35+AE33)/((1+'Parâmetros de Fluxo de Caixa'!$B$32)^'Fluxo de Caixa Descontado'!AE23),\"\")","v":""},{"$f":"IF(OR(AF25=\"Construção\",AF25=\"Start-up\",AF25=\"Operação\"),(AF35+AF33)/((1+'Parâmetros de Fluxo de Caixa'!$B$32)^'Fluxo de Caixa Descontado'!AF23),\"\")","v":""},{"$f":"IF(OR(AG25=\"Construção\",AG25=\"Start-up\",AG25=\"Operação\"),(AG35+AG33)/((1+'Parâmetros de Fluxo de Caixa'!$B$32)^'Fluxo de Caixa Descontado'!AG23),\"\")","v":""},{"$f":"IF(OR(AH25=\"Construção\",AH25=\"Start-up\",AH25=\"Operação\"),(AH35+AH33)/((1+'Parâmetros de Fluxo de Caixa'!$B$32)^'Fluxo de Caixa Descontado'!AH23),\"\")","v":""},{"$f":"IF(OR(AI25=\"Construção\",AI25=\"Start-up\",AI25=\"Operação\"),(AI35+AI33)/((1+'Parâmetros de Fluxo de Caixa'!$B$32)^'Fluxo de Caixa Descontado'!AI23),\"\")","v":""},{"$f":"IF(OR(AJ25=\"Construção\",AJ25=\"Start-up\",AJ25=\"Operação\"),(AJ35+AJ33)/((1+'Parâmetros de Fluxo de Caixa'!$B$32)^'Fluxo de Caixa Descontado'!AJ23),\"\")","v":""},{"$f":"IF(OR(AK25=\"Construção\",AK25=\"Start-up\",AK25=\"Operação\"),(AK35+AK33)/((1+'Parâmetros de Fluxo de Caixa'!$B$32)^'Fluxo de Caixa Descontado'!AK23),\"\")","v":""},{"$f":"IF(OR(AL25=\"Construção\",AL25=\"Start-up\",AL25=\"Operação\"),(AL35+AL33)/((1+'Parâmetros de Fluxo de Caixa'!$B$32)^'Fluxo de Caixa Descontado'!AL23),\"\")","v":""},{"$f":"IF(OR(AM25=\"Construção\",AM25=\"Start-up\",AM25=\"Operação\"),(AM35+AM33)/((1+'Parâmetros de Fluxo de Caixa'!$B$32)^'Fluxo de Caixa Descontado'!AM23),\"\")","v":""},{"$f":"IF(OR(AN25=\"Construção\",AN25=\"Start-up\",AN25=\"Operação\"),(AN35+AN33)/((1+'Parâmetros de Fluxo de Caixa'!$B$32)^'Fluxo de Caixa Descontado'!AN23),\"\")","v":""},{"$f":"IF(OR(AO25=\"Construção\",AO25=\"Start-up\",AO25=\"Operação\"),(AO35+AO33)/((1+'Parâmetros de Fluxo de Caixa'!$B$32)^'Fluxo de Caixa Descontado'!AO23),\"\")","v":""},{"$f":"IF(OR(AP25=\"Construção\",AP25=\"Start-up\",AP25=\"Operação\"),(AP35+AP33)/((1+'Parâmetros de Fluxo de Caixa'!$B$32)^'Fluxo de Caixa Descontado'!AP23),\"\")","v":""},{"$f":"IF(OR(AQ25=\"Construção\",AQ25=\"Start-up\",AQ25=\"Operação\"),(AQ35+AQ33)/((1+'Parâmetros de Fluxo de Caixa'!$B$32)^'Fluxo de Caixa Descontado'!AQ23),\"\")","v":""},{"$f":"IF(OR(AR25=\"Construção\",AR25=\"Start-up\",AR25=\"Operação\"),(AR35+AR33)/((1+'Parâmetros de Fluxo de Caixa'!$B$32)^'Fluxo de Caixa Descontado'!AR23),\"\")","v":""},{"$f":"IF(OR(AS25=\"Construção\",AS25=\"Start-up\",AS25=\"Operação\"),(AS35+AS33)/((1+'Parâmetros de Fluxo de Caixa'!$B$32)^'Fluxo de Caixa Descontado'!AS23),\"\")","v":""},{"$f":"IF(OR(AT25=\"Construção\",AT25=\"Start-up\",AT25=\"Operação\"),(AT35+AT33)/((1+'Parâmetros de Fluxo de Caixa'!$B$32)^'Fluxo de Caixa Descontado'!AT23),\"\")","v":""},{"$f":"IF(OR(AU25=\"Construção\",AU25=\"Start-up\",AU25=\"Operação\"),(AU35+AU33)/((1+'Parâmetros de Fluxo de Caixa'!$B$32)^'Fluxo de Caixa Descontado'!AU23),\"\")","v":""},{"$f":"IF(OR(AV25=\"Construção\",AV25=\"Start-up\",AV25=\"Operação\"),(AV35+AV33)/((1+'Parâmetros de Fluxo de Caixa'!$B$32)^'Fluxo de Caixa Descontado'!AV23),\"\")","v":""}]
["Receitas decontadas",{"$f":"IF(OR(B25=\"Construção\",B25=\"Start-up\",B25=\"Operação\"),(B27)/((1+'Parâmetros de Fluxo de Caixa'!$B$32)^'Fluxo de Caixa Descontado'!B23),\"\")","v":0},{"$f":"IF(OR(C25=\"Construção\",C25=\"Start-up\",C25=\"Operação\"),(C27)/((1+'Parâmetros de Fluxo de Caixa'!$B$32)^'Fluxo de Caixa Descontado'!C23),\"\")","v":0},{"$f":"IF(OR(D25=\"Construção\",D25=\"Start-up\",D25=\"Operação\"),(D27)/((1+'Parâmetros de Fluxo de Caixa'!$B$32)^'Fluxo de Caixa Descontado'!D23),\"\")","v":0},{"$f":"IF(OR(E25=\"Construção\",E25=\"Start-up\",E25=\"Operação\"),(E27)/((1+'Parâmetros de Fluxo de Caixa'!$B$32)^'Fluxo de Caixa Descontado'!E23),\"\")","v":3837.3163716814711},{"$f":"IF(OR(F25=\"Construção\",F25=\"Start-up\",F25=\"Operação\"),(F27)/((1+'Parâmetros de Fluxo de Caixa'!$B$32)^'Fluxo de Caixa Descontado'!F23),\"\")","v":3954.6614592986562},{"$f":"IF(OR(G25=\"Construção\",G25=\"Start-up\",G25=\"Operação\"),(G27)/((1+'Parâmetros de Fluxo de Caixa'!$B$32)^'Fluxo de Caixa Descontado'!G23),\"\")","v":3566.1455884749048},{"$f":"IF(OR(H25=\"Construção\",H25=\"Start-up\",H25=\"Operação\"),(H27)/((1+'Parâmetros de Fluxo de Caixa'!$B$32)^'Fluxo de Caixa Descontado'!H23),\"\")","v":3215.798492256883},{"$f":"IF(OR(I25=\"Construção\",I25=\"Start-up\",I25=\"Operação\"),(I27)/((1+'Parâmetros de Fluxo de Caixa'!$B$32)^'Fluxo de Caixa Descontado'!I23),\"\")","v":2899.8703743960778},{"$f":"IF(OR(J25=\"Construção\",J25=\"Start-up\",J25=\"Operação\"),(J27)/((1+'Parâmetros de Fluxo de Caixa'!$B$32)^'Fluxo de Caixa Descontado'!J23),\"\")","v":2614.979828042131},{"$f":"IF(OR(K25=\"Construção\",K25=\"Start-up\",K25=\"Operação\"),(K27)/((1+'Parâmetros de Fluxo de Caixa'!$B$32)^'Fluxo de Caixa Descontado'!K23),\"\")","v":2358.0776442434426},{"$f":"IF(OR(L25=\"Construção\",L25=\"Start-up\",L25=\"Operação\"),(L27)/((1+'Parâmetros de Fluxo de Caixa'!$B$32)^'Fluxo de Caixa Descontado'!L23),\"\")","v":2126.4141759915387},{"$f":"IF(OR(M25=\"Construção\",M25=\"Start-up\",M25=\"Operação\"),(M27)/((1+'Parâmetros de Fluxo de Caixa'!$B$32)^'Fluxo de Caixa Descontado'!M23),\"\")","v":1917.5099085036622},{"$f":"IF(OR(N25=\"Construção\",N25=\"Start-up\",N25=\"Operação\"),(N27)/((1+'Parâmetros de Fluxo de Caixa'!$B$32)^'Fluxo de Caixa Descontado'!N23),\"\")","v":1729.1289207546899},{"$f":"IF(OR(O25=\"Construção\",O25=\"Start-up\",O25=\"Operação\"),(O27)/((1+'Parâmetros de Fluxo de Caixa'!$B$32)^'Fluxo de Caixa Descontado'!O23),\"\")","v":1559.2549542147874},{"$f":"IF(OR(P25=\"Construção\",P25=\"Start-up\",P25=\"Operação\"),(P27)/((1+'Parâmetros de Fluxo de Caixa'!$B$32)^'Fluxo de Caixa Descontado'!P23),\"\")","v":1406.0698326543588},{"$f":"IF(OR(Q25=\"Construção\",Q25=\"Start-up\",Q25=\"Operação\"),(Q27)/((1+'Parâmetros de Fluxo de Caixa'!$B$32)^'Fluxo de Caixa Descontado'!Q23),\"\")","v":1267.9340020415416},{"$f":"IF(OR(R25=\"Construção\",R25=\"Start-up\",R25=\"Operação\"),(R27)/((1+'Parâmetros de Fluxo de Caixa'!$B$32)^'Fluxo de Caixa Descontado'!R23),\"\")","v":1143.3689822490314},{"$f":"IF(OR(S25=\"Construção\",S25=\"Start-up\",S25=\"Operação\"),(S27)/((1+'Parâmetros de Fluxo de Caixa'!$B$32)^'Fluxo de Caixa Descontado'!S23),\"\")","v":1031.0415427492851},{"$f":"IF(OR(T25=\"Construção\",T25=\"Start-up\",T25=\"Operação\"),(T27)/((1+'Parâmetros de Fluxo de Caixa'!$B$32)^'Fluxo de Caixa Descontado'!T23),\"\")","v":929.74943292915805},{"$f":"IF(OR(U25=\"Construção\",U25=\"Start-up\",U25=\"Operação\"),(U27)/((1+'Parâmetros de Fluxo de Caixa'!$B$32)^'Fluxo de Caixa Descontado'!U23),\"\")","v":838.40851429426118},{"$f":"IF(OR(V25=\"Construção\",V25=\"Start-up\",V25=\"Operação\"),(V27)/((1+'Parâmetros de Fluxo de Caixa'!$B$32)^'Fluxo de Caixa Descontado'!V23),\"\")","v":756.04115683786574},{"$f":"IF(OR(W25=\"Construção\",W25=\"Start-up\",W25=\"Operação\"),(W27)/((1+'Parâmetros de Fluxo de Caixa'!$B$32)^'Fluxo de Caixa Descontado'!W23),\"\")","v":681.76577537966318},{"$f":"IF(OR(X25=\"Construção\",X25=\"Start-up\",X25=\"Operação\"),(X27)/((1+'Parâmetros de Fluxo de Caixa'!$B$32)^'Fluxo de Caixa Descontado'!X23),\"\")","v":614.7873938808749},{"$f":"IF(OR(Y25=\"Construção\",Y25=\"Start-up\",Y25=\"Operação\"),(Y27)/((1+'Parâmetros de Fluxo de Caixa'!$B$32)^'Fluxo de Caixa Descontado'!Y23),\"\")","v":""},{"$f":"IF(OR(Z25=\"Construção\",Z25=\"Start-up\",Z25=\"Operação\"),(Z27)/((1+'Parâmetros de Fluxo de Caixa'!$B$32)^'Fluxo de Caixa Descontado'!Z23),\"\")","v":""},{"$f":"IF(OR(AA25=\"Construção\",AA25=\"Start-up\",AA25=\"Operação\"),(AA27)/((1+'Parâmetros de Fluxo de Caixa'!$B$32)^'Fluxo de Caixa Descontado'!AA23),\"\")","v":""},{"$f":"IF(OR(AB25=\"Construção\",AB25=\"Start-up\",AB25=\"Operação\"),(AB27)/((1+'Parâmetros de Fluxo de Caixa'!$B$32)^'Fluxo de Caixa Descontado'!AB23),\"\")","v":""},{"$f":"IF(OR(AC25=\"Construção\",AC25=\"Start-up\",AC25=\"Operação\"),(AC27)/((1+'Parâmetros de Fluxo de Caixa'!$B$32)^'Fluxo de Caixa Descontado'!AC23),\"\")","v":""},{"$f":"IF(OR(AD25=\"Construção\",AD25=\"Start-up\",AD25=\"Operação\"),(AD27)/((1+'Parâmetros de Fluxo de Caixa'!$B$32)^'Fluxo de Caixa Descontado'!AD23),\"\")","v":""},{"$f":"IF(OR(AE25=\"Construção\",AE25=\"Start-up\",AE25=\"Operação\"),(AE27)/((1+'Parâmetros de Fluxo de Caixa'!$B$32)^'Fluxo de Caixa Descontado'!AE23),\"\")","v":""},{"$f":"IF(OR(AF25=\"Construção\",AF25=\"Start-up\",AF25=\"Operação\"),(AF27)/((1+'Parâmetros de Fluxo de Caixa'!$B$32)^'Fluxo de Caixa Descontado'!AF23),\"\")","v":""},{"$f":"IF(OR(AG25=\"Construção\",AG25=\"Start-up\",AG25=\"Operação\"),(AG27)/((1+'Parâmetros de Fluxo de Caixa'!$B$32)^'Fluxo de Caixa Descontado'!AG23),\"\")","v":""},{"$f":"IF(OR(AH25=\"Construção\",AH25=\"Start-up\",AH25=\"Operação\"),(AH27)/((1+'Parâmetros de Fluxo de Caixa'!$B$32)^'Fluxo de Caixa Descontado'!AH23),\"\")","v":""},{"$f":"IF(OR(AI25=\"Construção\",AI25=\"Start-up\",AI25=\"Operação\"),(AI27)/((1+'Parâmetros de Fluxo de Caixa'!$B$32)^'Fluxo de Caixa Descontado'!AI23),\"\")","v":""},{"$f":"IF(OR(AJ25=\"Construção\",AJ25=\"Start-up\",AJ25=\"Operação\"),(AJ27)/((1+'Parâmetros de Fluxo de Caixa'!$B$32)^'Fluxo de Caixa Descontado'!AJ23),\"\")","v":""},{"$f":"IF(OR(AK25=\"Construção\",AK25=\"Start-up\",AK25=\"Operação\"),(AK27)/((1+'Parâmetros de Fluxo de Caixa'!$B$32)^'Fluxo de Caixa Descontado'!AK23),\"\")","v":""},{"$f":"IF(OR(AL25=\"Construção\",AL25=\"Start-up\",AL25=\"Operação\"),(AL27)/((1+'Parâmetros de Fluxo de Caixa'!$B$32)^'Fluxo de Caixa Descontado'!AL23),\"\")","v":""},{"$f":"IF(OR(AM25=\"Construção\",AM25=\"Start-up\",AM25=\"Operação\"),(AM27)/((1+'Parâmetros de Fluxo de Caixa'!$B$32)^'Fluxo de Caixa Descontado'!AM23),\"\")","v":""},{"$f":"IF(OR(AN25=\"Construção\",AN25=\"Start-up\",AN25=\"Operação\"),(AN27)/((1+'Parâmetros de Fluxo de Caixa'!$B$32)^'Fluxo de Caixa Descontado'!AN23),\"\")","v":""},{"$f":"IF(OR(AO25=\"Construção\",AO25=\"Start-up\",AO25=\"Operação\"),(AO27)/((1+'Parâmetros de Fluxo de Caixa'!$B$32)^'Fluxo de Caixa Descontado'!AO23),\"\")","v":""},{"$f":"IF(OR(AP25=\"Construção\",AP25=\"Start-up\",AP25=\"Operação\"),(AP27)/((1+'Parâmetros de Fluxo de Caixa'!$B$32)^'Fluxo de Caixa Descontado'!AP23),\"\")","v":""},{"$f":"IF(OR(AQ25=\"Construção\",AQ25=\"Start-up\",AQ25=\"Operação\"),(AQ27)/((1+'Parâmetros de Fluxo de Caixa'!$B$32)^'Fluxo de Caixa Descontado'!AQ23),\"\")","v":""},{"$f":"IF(OR(AR25=\"Construção\",AR25=\"Start-up\",AR25=\"Operação\"),(AR27)/((1+'Parâmetros de Fluxo de Caixa'!$B$32)^'Fluxo de Caixa Descontado'!AR23),\"\")","v":""},{"$f":"IF(OR(AS25=\"Construção\",AS25=\"Start-up\",AS25=\"Operação\"),(AS27)/((1+'Parâmetros de Fluxo de Caixa'!$B$32)^'Fluxo de Caixa Descontado'!AS23),\"\")","v":""},{"$f":"IF(OR(AT25=\"Construção\",AT25=\"Start-up\",AT25=\"Operação\"),(AT27)/((1+'Parâmetros de Fluxo de Caixa'!$B$32)^'Fluxo de Caixa Descontado'!AT23),\"\")","v":""},{"$f":"IF(OR(AU25=\"Construção\",AU25=\"Start-up\",AU25=\"Operação\"),(AU27)/((1+'Parâmetros de Fluxo de Caixa'!$B$32)^'Fluxo de Caixa Descontado'!AU23),\"\")","v":""},{"$f":"IF(OR(AV25=\"Construção\",AV25=\"Start-up\",AV25=\"Operação\"),(AV27)/((1+'Parâmetros de Fluxo de Caixa'!$B$32)^'Fluxo de Caixa Descontado'!AV23),\"\")","v":""}]
[]
["CAPEX (% LCOF)",{"$f":"SUM(B41:AV41)/(SUM($B$41:$AV$44))","v":0.1067955595357678}]
["OPEX Variável (% LCOF)",{"$f":"SUM(B42:AV42)/(SUM($B$41:$AV$44))","v":0.72435647858949304}]
["OPEX Fixo (% LCOF)",{"$f":"SUM(B43:AV43)/(SUM($B$41:$AV$44))","v":5.1361079208063182E-2}]
["Tributos (% LCOF)",{"$f":"SUM(B44:AV44)/(SUM($B$41:$AV$44))","v":0.11748688266667576}]
[]
["% OPEX Variável - Óleo de Soja",{"$f":"'CAPEX e OPEX'!C36*'CAPEX e OPEX'!C15/'CAPEX e OPEX'!$C$52","v":0.85796964056445446},{"$f":"B52*$B$48","v":0.62147586757596129},"Discriminação preço "]
["% OPEX Variável - Hidrogênio",{"$f":"'CAPEX e OPEX'!C38*'CAPEX e OPEX'!C18/'CAPEX e OPEX'!$C$52","v":5.821317572633649E-2},{"$f":"B53*$B$48","v":4.2167090976640453E-2},"CAPEX","Óleo","H2","Catalisadores","Utilidades","OPEX fixo","Tributos","Diesel Verde","Nafta","GLP"]
["% OPEX Variável - Catalisadores",{"$f":"'CAPEX e OPEX'!C19*'CAPEX e OPEX'!C39/'CAPEX e OPEX'!C52","v":2.6931661795064992E-2},1.9508123700436461E-2,{"$f":"$B$4/B57*B47","v":1.3677300753033044},{"$f":"$B$4/B57*B48*B52","v":7.9592376204946191},{"$f":"$B$4/B57*B48*B53","v":0.5400336752530045},{"$f":"$B$4/B57*B48*B54","v":0.249840420461376},{"$f":"$B$4/B57*B48*B55","v":0.52771725790047108},{"$f":"$B$4/B57*B49","v":0.65778102608635014},{"$f":"$B$4/B57*B50","v":1.5046537850014707},{"$f":"-$B$4/B57*B58","v":-0.29448586146182443},{"$f":"-$B$4/B57*B59","v":-1.3488359962047189},{"$f":"-$B$4/B57*B60","v":-0.16136312218701554}]
["% OPEX Variável - Utilidades",{"$f":"1-SUM(B52:B54)","v":5.6885521914144088E-2},4.1205396336454848E-2]
[]
["% Receita - SAF",{"$f":"'CAPEX e OPEX'!C47*'CAPEX e OPEX'!C29/'CAPEX e OPEX'!C53","v":0.85908598071405506}]
["% Receita - Diesel ",{"$f":"'CAPEX e OPEX'!C48*'CAPEX e OPEX'!C30/'CAPEX e OPEX'!C53","v":2.2994144033291006E-2}]
["% Receita - Nafta",{"$f":"'CAPEX e OPEX'!C49*'CAPEX e OPEX'!C31/'CAPEX e OPEX'!C53","v":0.10532026569988499}]
["% Receita - GLP",{"$f":"'CAPEX e OPEX'!C50*'CAPEX e OPEX'!C32/'CAPEX e OPEX'!C53","v":1.2599609552768865E-2}]
[]
[]
["ATJ - Fluxo de Caixa"]
["Referencia ano",0,{"$f":"B64+1","v":1},{"$f":"C64+1","v":2},3,{"$f":"E64+1","v":4},5,6,7,8,9,10,11,12,13,14,15,16,17,18,19,20,21,22,23,24,25,26,27,28,29,30,31,32,33,34,35,36,37,38,39,40,41,42,43,44,45,46]
["Ano VPL",{"$f":"IF(B64+1<='Parâmetros de Fluxo de Caixa'!$B$3,'Fluxo de Caixa Descontado'!B64,'Fluxo de Caixa Descontado'!B64+'Parâmetros de Fluxo de Caixa'!$B$4/12)","v":0},{"$f":"IF(C64+1<='Parâmetros de Fluxo de Caixa'!$B$3,'Fluxo de Caixa Descontado'!C64,'Fluxo de Caixa Descontado'!C64+'Parâmetros de Fluxo de Caixa'!$B$4/12)","v":1},{"$f":"IF(D64+1<='Parâmetros de Fluxo de Caixa'!$B$3,'Fluxo de Caixa Descontado'!D64,'Fluxo de Caixa Descontado'!D64+'Parâmetros de Fluxo de Caixa'!$B$4/12)","v":2},{"$f":"IF(E64+1<='Parâmetros de Fluxo de Caixa'!$B$3,'Fluxo de Caixa Descontado'!E64,'Fluxo de Caixa Descontado'!E64+'Parâmetros de Fluxo de Caixa'!$B$4/12)","v":3},{"$f":"IF(F64+1<='Parâmetros de Fluxo de Caixa'!$B$3,'Fluxo de Caixa Descontado'!F64,'Fluxo de Caixa Descontado'!F64+'Parâmetros de Fluxo de Caixa'!$B$4/12)","v":4},{"$f":"IF(G64+1<='Parâmetros de Fluxo de Caixa'!$B$3,'Fluxo de Caixa Descontado'!G64,'Fluxo de Caixa Descontado'!G64+'Parâmetros de Fluxo de Caixa'!$B$4/12)","v":5},{"$f":"IF(H64+1<='Parâmetros de Fluxo de Caixa'!$B$3,'Fluxo de Caixa Descontado'!H64,'Fluxo de Caixa Descontado'!H64+'Parâmetros de Fluxo de Caixa'!$B$4/12)","v":6},{"$f":"IF(I64+1<='Parâmetros de Fluxo de Caixa'!$B$3,'Fluxo de Caixa Descontado'!I64,'Fluxo de Caixa Descontado'!I64+'Parâmetros de Fluxo de Caixa'!$B$4/12)","v":7},{"$f":"IF(J64+1<='Parâmetros de Fluxo de Caixa'!$B$3,'Fluxo de Caixa Descontado'!J64,'Fluxo de Caixa Descontado'!J64+'Parâmetros de Fluxo de Caixa'!$B$4/12)","v":8},{"$f":"IF(K64+1<='Parâmetros de Fluxo de Caixa'!$B$3,'Fluxo de Caixa Descontado'!K64,'Fluxo de Caixa Descontado'!K64+'Parâmetros de Fluxo de Caixa'!$B$4/12)","v":9},{"$f":"IF(L64+1<='Parâmetros de Fluxo de Caixa'!$B$3,'Fluxo de Caixa Descontado'!L64,'Fluxo de Caixa Descontado'!L64+'Parâmetros de Fluxo de Caixa'!$B$4/12)","v":10},{"$f":"IF(M64+1<='Parâmetros de Fluxo de Caixa'!$B$3,'Fluxo de Caixa Descontado'!M64,'Fluxo de Caixa Descontado'!M64+'Parâmetros de Fluxo de Caixa'!$B$4/12)","v":11},{"$f":"IF(N64+1<='Parâmetros de Fluxo de Caixa'!$B$3,'Fluxo de Caixa Descontado'!N64,'Fluxo de Caixa Descontado'!N64+'Parâmetros de Fluxo de Caixa'!$B$4/12)","v":12},{"$f":"IF(O64+1<='Parâmetros de Fluxo de Caixa'!$B$3,'Fluxo de Caixa Descontado'!O64,'Fluxo de Caixa Descontado'!O64+'Parâmetros de Fluxo de Caixa'!$B$4/12)","v":13},{"$f":"IF(P64+1<='Parâmetros de Fluxo de Caixa'!$B$3,'Fluxo de Caixa Descontado'!P64,'Fluxo de Caixa Descontado'!P64+'Parâmetros de Fluxo de Caixa'!$B$4/12)","v":14},{"$f":"IF(Q64+1<='Parâmetros de Fluxo de Caixa'!$B$3,'Fluxo de Caixa Descontado'!Q64,'Fluxo de Caixa Descontado'!Q64+'Parâmetros de Fluxo de Caixa'!$B$4/12)","v":15},{"$f":"IF(R64+1<='Parâmetros de Fluxo de Caixa'!$B$3,'Fluxo de Caixa Descontado'!R64,'Fluxo de Caixa Descontado'!R64+'Parâmetros de Fluxo de Caixa'!$B$4/12)","v":16},{"$f":"IF(S64+1<='Parâmetros de Fluxo de Caixa'!$B$3,'Fluxo de Caixa Descontado'!S64,'Fluxo de Caixa Descontado'!S64+'Parâmetros de Fluxo de Caixa'!$B$4/12)","v":17},{"$f":"IF(T64+1<='Parâmetros de Fluxo de Caixa'!$B$3,'Fluxo de Caixa Descontado'!T64,'Fluxo de Caixa Descontado'!T64+'Parâmetros de Fluxo de Caixa'!$B$4/12)","v":18},{"$f":"IF(U64+1<='Parâmetros de Fluxo de Caixa'!$B$3,'Fluxo de Caixa Descontado'!U64,'Fluxo de Caixa Descontado'!U64+'Parâmetros de Fluxo de Caixa'!$B$4/12)","v":19},{"$f":"IF(V64+1<='Parâmetros de Fluxo de Caixa'!$B$3,'Fluxo de Caixa Descontado'!V64,'Fluxo de Caixa Descontado'!V64+'Parâmetros de Fluxo de Caixa'!$B$4/12)","v":20},{"$f":"IF(W64+1<='Parâmetros de Fluxo de Caixa'!$B$3,'Fluxo de Caixa Descontado'!W64,'Fluxo de Caixa Descontado'!W64+'Parâmetros de Fluxo de Caixa'!$B$4/12)","v":21},{"$f":"IF(X64+1<='Parâmetros de Fluxo de Caixa'!$B$3,'Fluxo de Caixa Descontado'!X64,'Fluxo de Caixa Descontado'!X64+'Parâmetros de Fluxo de Caixa'!$B$4/12)","v":22},{"$f":"IF(Y64+1<='Parâmetros de Fluxo de Caixa'!$B$3,'Fluxo de Caixa Descontado'!Y64,'Fluxo de Caixa Descontado'!Y64+'Parâmetros de Fluxo de Caixa'!$B$4/12)","v":23},{"$f":"IF(Z64+1<='Parâmetros de Fluxo de Caixa'!$B$3,'Fluxo de Caixa Descontado'!Z64,'Fluxo de Caixa Descontado'!Z64+'Parâmetros de Fluxo de Caixa'!$B$4/12)","v":24},{"$f":"IF(AA64+1<='Parâmetros de Fluxo de Caixa'!$B$3,'Fluxo de Caixa Descontado'!AA64,'Fluxo de Caixa Descontado'!AA64+'Parâmetros de Fluxo de Caixa'!$B$4/12)","v":25},{"$f":"IF(AB64+1<='Parâmetros de Fluxo de Caixa'!$B$3,'Fluxo de Caixa Descontado'!AB64,'Fluxo de Caixa Descontado'!AB64+'Parâmetros de Fluxo de Caixa'!$B$4/12)","v":26},{"$f":"IF(AC64+1<='Parâmetros de Fluxo de Caixa'!$B$3,'Fluxo de Caixa Descontado'!AC64,'Fluxo de Caixa Descontado'!AC64+'Parâmetros de Fluxo de Caixa'!$B$4/12)","v":27},{"$f":"IF(AD64+1<='Parâmetros de Fluxo de Caixa'!$B$3,'Fluxo de Caixa Descontado'!AD64,'Fluxo de Caixa Descontado'!AD64+'Parâmetros de Fluxo de Caixa'!$B$4/12)","v":28},{"$f":"IF(AE64+1<='Parâmetros de Fluxo de Caixa'!$B$3,'Fluxo de Caixa Descontado'!AE64,'Fluxo de Caixa Descontado'!AE64+'Parâmetros de Fluxo de Caixa'!$B$4/12)","v":29},{"$f":"IF(AF64+1<='Parâmetros de Fluxo de Caixa'!$B$3,'Fluxo de Caixa Descontado'!AF64,'Fluxo de Caixa Descontado'!AF64+'Parâmetros de Fluxo de Caixa'!$B$4/12)","v":30},{"$f":"IF(AG64+1<='Parâmetros de Fluxo de Caixa'!$B$3,'Fluxo de Caixa Descontado'!AG64,'Fluxo de Caixa Descontado'!AG64+'Parâmetros de Fluxo de Caixa'!$B$4/12)","v":31},{"$f":"IF(AH64+1<='Parâmetros de Fluxo de Caixa'!$B$3,'Fluxo de Caixa Descontado'!AH64,'Fluxo de Caixa Descontado'!AH64+'Parâmetros de Fluxo de Caixa'!$B$4/12)","v":32},{"$f":"IF(AI64+1<='Parâmetros de Fluxo de Caixa'!$B$3,'Fluxo de Caixa Descontado'!AI64,'Fluxo de Caixa Descontado'!AI64+'Parâmetros de Fluxo de Caixa'!$B$4/12)","v":33},{"$f":"IF(AJ64+1<='Parâmetros de Fluxo de Caixa'!$B$3,'Fluxo de Caixa Descontado'!AJ64,'Fluxo de Caixa Descontado'!AJ64+'Parâmetros de Fluxo de Caixa'!$B$4/12)","v":34},{"$f":"IF(AK64+1<='Parâmetros de Fluxo de Caixa'!$B$3,'Fluxo de Caixa Descontado'!AK64,'Fluxo de Caixa Descontado'!AK64+'Parâmetros de Fluxo de Caixa'!$B$4/12)","v":35},{"$f":"IF(AL64+1<='Parâmetros de Fluxo de Caixa'!$B$3,'Fluxo de Caixa Descontado'!AL64,'Fluxo de Caixa Descontado'!AL64+'Parâmetros de Fluxo de Caixa'!$B$4/12)","v":36},{"$f":"IF(AM64+1<='Parâmetros de Fluxo de Caixa'!$B$3,'Fluxo de Caixa Descontado'!AM64,'Fluxo de Caixa Descontado'!AM64+'Parâmetros de Fluxo de Caixa'!$B$4/12)","v":37},{"$f":"IF(AN64+1<='Parâmetros de Fluxo de Caixa'!$B$3,'Fluxo de Caixa Descontado'!AN64,'Fluxo de Caixa Descontado'!AN64+'Parâmetros de Fluxo de Caixa'!$B$4/12)","v":38},{"$f":"IF(AO64+1<='Parâmetros de Fluxo de Caixa'!$B$3,'Fluxo de Caixa Descontado'!AO64,'Fluxo de Caixa Descontado'!AO64+'Parâmetros de Fluxo de Caixa'!$B$4/12)","v":39},{"$f":"IF(AP64+1<='Parâmetros de Fluxo de Caixa'!$B$3,'Fluxo de Caixa Descontado'!AP64,'Fluxo de Caixa Descontado'!AP64+'Parâmetros de Fluxo de Caixa'!$B$4/12)","v":40},{"$f":"IF(AQ64+1<='Parâmetros de Fluxo de Caixa'!$B$3,'Fluxo de Caixa Descontado'!AQ64,'Fluxo de Caixa Descontado'!AQ64+'Parâmetros de Fluxo de Caixa'!$B$4/12)","v":41},{"$f":"IF(AR64+1<='Parâmetros de Fluxo de Caixa'!$B$3,'Fluxo de Caixa Descontado'!AR64,'Fluxo de Caixa Descontado'!AR64+'Parâmetros de Fluxo de Caixa'!$B$4/12)","v":42},{"$f":"IF(AS64+1<='Parâmetros de Fluxo de Caixa'!$B$3,'Fluxo de Caixa Descontado'!AS64,'Fluxo de Caixa Descontado'!AS64+'Parâmetros de Fluxo de Caixa'!$B$4/12)","v":43},{"$f":"IF(AT64+1<='Parâmetros de Fluxo de Caixa'!$B$3,'Fluxo de Caixa Descontado'!AT64,'Fluxo de Caixa Descontado'!AT64+'Parâmetros de Fluxo de Caixa'!$B$4/12)","v":44},{"$f":"IF(AU64+1<='Parâmetros de Fluxo de Caixa'!$B$3,'Fluxo de Caixa Descontado'!AU64,'Fluxo de Caixa Descontado'!AU64+'Parâmetros de Fluxo de Caixa'!$B$4/12)","v":45},{"$f":"IF(AV64+1<='Parâmetros de Fluxo de Caixa'!$B$3,'Fluxo de Caixa Descontado'!AV64,'Fluxo de Caixa Descontado'!AV64+'Parâmetros de Fluxo de Caixa'!$B$4/12)","v":46}]
["Ano Projeto",{"$f":"IF(B65+1<='Parâmetros de Fluxo de Caixa'!$B$12,B65+1,\"\")","v":1},{"$f":"IF(C65+1<='Parâmetros de Fluxo de Caixa'!$B$12,C65+1,\"\")","v":2},{"$f":"IF(D65+1<='Parâmetros de Fluxo de Caixa'!$B$12,D65+1,\"\")","v":3},{"$f":"IF(E65+1<='Parâmetros de Fluxo de Caixa'!$B$12,E65+1,\"\")","v":4},{"$f":"IF(F65+1<='Parâmetros de Fluxo de Caixa'!$B$12,F65+1,\"\")","v":5},{"$f":"IF(G65+1<='Parâmetros de Fluxo de Caixa'!$B$12,G65+1,\"\")","v":6},{"$f":"IF(H65+1<='Parâmetros de Fluxo de Caixa'!$B$12,H65+1,\"\")","v":7},{"$f":"IF(I65+1<='Parâmetros de Fluxo de Caixa'!$B$12,I65+1,\"\")","v":8},{"$f":"IF(J65+1<='Parâmetros de Fluxo de Caixa'!$B$12,J65+1,\"\")","v":9},{"$f":"IF(K65+1<='Parâmetros de Fluxo de Caixa'!$B$12,K65+1,\"\")","v":10},{"$f":"IF(L65+1<='Parâmetros de Fluxo de Caixa'!$B$12,L65+1,\"\")","v":11},{"$f":"IF(M65+1<='Parâmetros de Fluxo de Caixa'!$B$12,M65+1,\"\")","v":12},{"$f":"IF(N65+1<='Parâmetros de Fluxo de Caixa'!$B$12,N65+1,\"\")","v":13},{"$f":"IF(O65+1<='Parâmetros de Fluxo de Caixa'!$B$12,O65+1,\"\")","v":14},{"$f":"IF(P65+1<='Parâmetros de Fluxo de Caixa'!$B$12,P65+1,\"\")","v":15},{"$f":"IF(Q65+1<='Parâmetros de Fluxo de Caixa'!$B$12,Q65+1,\"\")","v":16},{"$f":"IF(R65+1<='Parâmetros de Fluxo de Caixa'!$B$12,R65+1,\"\")","v":17},{"$f":"IF(S65+1<='Parâmetros de Fluxo de Caixa'!$B$12,S65+1,\"\")","v":18},{"$f":"IF(T65+1<='Parâmetros de Fluxo de Caixa'!$B$12,T65+1,\"\")","v":19},{"$f":"IF(U65+1<='Parâmetros de Fluxo de Caixa'!$B$12,U65+1,\"\")","v":20},{"$f":"IF(V65+1<='Parâmetros de Fluxo de Caixa'!$B$12,V65+1,\"\")","v":21},{"$f":"IF(W65+1<='Parâmetros de Fluxo de Caixa'!$B$12,W65+1,\"\")","v":22},{"$f":"IF(X65+1<='Parâmetros de Fluxo de Caixa'!$B$12,X65+1,\"\")","v":23},{"$f":"IF(Y65+1<='Parâmetros de Fluxo de Caixa'!$B$12,Y65+1,\"\")","v":""},{"$f":"IF(Z65+1<='Parâmetros de Fluxo de Caixa'!$B$12,Z65+1,\"\")","v":""},{"$f":"IF(AA65+1<='Parâmetros de Fluxo de Caixa'!$B$12,AA65+1,\"\")","v":""},{"$f":"IF(AB65+1<='Parâmetros de Fluxo de Caixa'!$B$12,AB65+1,\"\")","v":""},{"$f":"IF(AC65+1<='Parâmetros de Fluxo de Caixa'!$B$12,AC65+1,\"\")","v":""},{"$f":"IF(AD65+1<='Parâmetros de Fluxo de Caixa'!$B$12,AD65+1,\"\")","v":""},{"$f":"IF(AE65+1<='Parâmetros de Fluxo de Caixa'!$B$12,AE65+1,\"\")","v":""},{"$f":"IF(AF65+1<='Parâmetros de Fluxo de Caixa'!$B$12,AF65+1,\"\")","v":""},{"$f":"IF(AG65+1<='Parâmetros de Fluxo de Caixa'!$B$12,AG65+1,\"\")","v":""},{"$f":"IF(AH65+1<='Parâmetros de Fluxo de Caixa'!$B$12,AH65+1,\"\")","v":""},{"$f":"IF(AI65+1<='Parâmetros de Fluxo de Caixa'!$B$12,AI65+1,\"\")","v":""},{"$f":"IF(AJ65+1<='Parâmetros de Fluxo de Caixa'!$B$12,AJ65+1,\"\")","v":""},{"$f":"IF(AK65+1<='Parâmetros de Fluxo de Caixa'!$B$12,AK65+1,\"\")","v":""},{"$f":"IF(AL65+1<='Parâmetros de Fluxo de Caixa'!$B$12,AL65+1,\"\")","v":""},{"$f":"IF(AM65+1<='Parâmetros de Fluxo de Caixa'!$B$12,AM65+1,\"\")","v":""},{"$f":"IF(AN65+1<='Parâmetros de Fluxo de Caixa'!$B$12,AN65+1,\"\")","v":""},{"$f":"IF(AO65+1<='Parâmetros de Fluxo de Caixa'!$B$12,AO65+1,\"\")","v":""},{"$f":"IF(AP65+1<='Parâmetros de Fluxo de Caixa'!$B$12,AP65+1,\"\")","v":""},{"$f":"IF(AQ65+1<='Parâmetros de Fluxo de Caixa'!$B$12,AQ65+1,\"\")","v":""},{"$f":"IF(AR65+1<='Parâmetros de Fluxo de Caixa'!$B$12,AR65+1,\"\")","v":""},{"$f":"IF(AS65+1<='Parâmetros de Fluxo de Caixa'!$B$12,AS65+1,\"\")","v":""},{"$f":"IF(AT65+1<='Parâmetros de Fluxo de Caixa'!$B$12,AT65+1,\"\")","v":""},{"$f":"IF(AU65+1<='Parâmetros de Fluxo de Caixa'!$B$12,AU65+1,\"\")","v":""},{"$f":"IF(AV65+1<='Parâmetros de Fluxo de Caixa'!$B$12,AV65+1,\"\")","v":""}]
["Cronograma",{"$f":"IF(B66<='Parâmetros de Fluxo de Caixa'!$B$3,\"Construção\",IF(B66='Parâmetros de Fluxo de Caixa'!$B$3+1+'Parâmetros de Fluxo de Caixa'!$B$4/12,\"Start-up\",IF(B66<='Parâmetros de Fluxo de Caixa'!$B$12,\"Operação\",\"\")))","v":"Construção"},{"$f":"IF(C66<='Parâmetros de Fluxo de Caixa'!$B$3,\"Construção\",IF(C66='Parâmetros de Fluxo de Caixa'!$B$3+1+'Parâmetros de Fluxo de Caixa'!$B$4/12,\"Start-up\",IF(C66<='Parâmetros de Fluxo de Caixa'!$B$12,\"Operação\",\"\")))","v":"Construção"},{"$f":"IF(D66<='Parâmetros de Fluxo de Caixa'!$B$3,\"Construção\",IF(D66='Parâmetros de Fluxo de Caixa'!$B$3+1+'Parâmetros de Fluxo de Caixa'!$B$4/12,\"Start-up\",IF(D66<='Parâmetros de Fluxo de Caixa'!$B$12,\"Operação\",\"\")))","v":"Construção"},{"$f":"IF(E66<='Parâmetros de Fluxo de Caixa'!$B$3,\"Construção\",IF(E66='Parâmetros de Fluxo de Caixa'!$B$3+1+'Parâmetros de Fluxo de Caixa'!$B$4/12,\"Start-up\",IF(E66<='Parâmetros de Fluxo de Caixa'!$B$12,\"Operação\",\"\")))","v":"Start-up"},{"$f":"IF(F66<='Parâmetros de Fluxo de Caixa'!$B$3,\"Construção\",IF(F66='Parâmetros de Fluxo de Caixa'!$B$3+1+'Parâmetros de Fluxo de Caixa'!$B$4/12,\"Start-up\",IF(F66<='Parâmetros de Fluxo de Caixa'!$B$12,\"Operação\",\"\")))","v":"Operação"},{"$f":"IF(G66<='Parâmetros de Fluxo de Caixa'!$B$3,\"Construção\",IF(G66='Parâmetros de Fluxo de Caixa'!$B$3+1+'Parâmetros de Fluxo de Caixa'!$B$4/12,\"Start-up\",IF(G66<='Parâmetros de Fluxo de Caixa'!$B$12,\"Operação\",\"\")))","v":"Operação"},{"$f":"IF(H66<='Parâmetros de Fluxo de Caixa'!$B$3,\"Construção\",IF(H66='Parâmetros de Fluxo de Caixa'!$B$3+1+'Parâmetros de Fluxo de Caixa'!$B$4/12,\"Start-up\",IF(H66<='Parâmetros de Fluxo de Caixa'!$B$12,\"Operação\",\"\")))","v":"Operação"},{"$f":"IF(I66<='Parâmetros de Fluxo de Caixa'!$B$3,\"Construção\",IF(I66='Parâmetros de Fluxo de Caixa'!$B$3+1+'Parâmetros de Fluxo de Caixa'!$B$4/12,\"Start-up\",IF(I66<='Parâmetros de Fluxo de Caixa'!$B$12,\"Operação\",\"\")))","v":"Operação"},{"$f":"IF(J66<='Parâmetros de Fluxo de Caixa'!$B$3,\"Construção\",IF(J66='Parâmetros de Fluxo de Caixa'!$B$3+1+'Parâmetros de Fluxo de Caixa'!$B$4/12,\"Start-up\",IF(J66<='Parâmetros de Fluxo de Caixa'!$B$12,\"Operação\",\"\")))","v":"Operação"},{"$f":"IF(K66<='Parâmetros de Fluxo de Caixa'!$B$3,\"Construção\",IF(K66='Parâmetros de Fluxo de Caixa'!$B$3+1+'Parâmetros de Fluxo de Caixa'!$B$4/12,\"Start-up\",IF(K66<='Parâmetros de Fluxo de Caixa'!$B$12,\"Operação\",\"\")))","v":"Operação"},{"$f":"IF(L66<='Parâmetros de Fluxo de Caixa'!$B$3,\"Construção\",IF(L66='Parâmetros de Fluxo de Caixa'!$B$3+1+'Parâmetros de Fluxo de Caixa'!$B$4/12,\"Start-up\",IF(L66<='Parâmetros de Fluxo de Caixa'!$B$12,\"Operação\",\"\")))","v":"Operação"},{"$f":"IF(M66<='Parâmetros de Fluxo de Caixa'!$B$3,\"Construção\",IF(M66='Parâmetros de Fluxo de Caixa'!$B$3+1+'Parâmetros de Fluxo de Caixa'!$B$4/12,\"Start-up\",IF(M66<='Parâmetros de Fluxo de Caixa'!$B$12,\"Operação\",\"\")))","v":"Operação"},{"$f":"IF(N66<='Parâmetros de Fluxo de Caixa'!$B$3,\"Construção\",IF(N66='Parâmetros de Fluxo de Caixa'!$B$3+1+'Parâmetros de Fluxo de Caixa'!$B$4/12,\"Start-up\",IF(N66<='Parâmetros de Fluxo de Caixa'!$B$12,\"Operação\",\"\")))","v":"Operação"},{"$f":"IF(O66<='Parâmetros de Fluxo de Caixa'!$B$3,\"Construção\",IF(O66='Parâmetros de Fluxo de Caixa'!$B$3+1+'Parâmetros de Fluxo de Caixa'!$B$4/12,\"Start-up\",IF(O66<='Parâmetros de Fluxo de Caixa'!$B$12,\"Operação\",\"\")))","v":"Operação"},{"$f":"IF(P66<='Parâmetros de Fluxo de Caixa'!$B$3,\"Construção\",IF(P66='Parâmetros de Fluxo de Caixa'!$B$3+1+'Parâmetros de Fluxo de Caixa'!$B$4/12,\"Start-up\",IF(P66<='Parâmetros de Fluxo de Caixa'!$B$12,\"Operação\",\"\")))","v":"Operação"},{"$f":"IF(Q66<='Parâmetros de Fluxo de Caixa'!$B$3,\"Construção\",IF(Q66='Parâmetros de Fluxo de Caixa'!$B$3+1+'Parâmetros de Fluxo de Caixa'!$B$4/12,\"Start-up\",IF(Q66<='Parâmetros de Fluxo de Caixa'!$B$12,\"Operação\",\"\")))","v":"Operação"},{"$f":"IF(R66<='Parâmetros de Fluxo de Caixa'!$B$3,\"Construção\",IF(R66='Parâmetros de Fluxo de Caixa'!$B$3+1+'Parâmetros de Fluxo de Caixa'!$B$4/12,\"Start-up\",IF(R66<='Parâmetros de Fluxo de Caixa'!$B$12,\"Operação\",\"\")))","v":"Operação"},{"$f":"IF(S66<='Parâmetros de Fluxo de Caixa'!$B$3,\"Construção\",IF(S66='Parâmetros de Fluxo de Caixa'!$B$3+1+'Parâmetros de Fluxo de Caixa'!$B$4/12,\"Start-up\",IF(S66<='Parâmetros de Fluxo de Caixa'!$B$12,\"Operação\",\"\")))","v":"Operação"},{"$f":"IF(T66<='Parâmetros de Fluxo de Caixa'!$B$3,\"Construção\",IF(T66='Parâmetros de Fluxo de Caixa'!$B$3+1+'Parâmetros de Fluxo de Caixa'!$B$4/12,\"Start-up\",IF(T66<='Parâmetros de Fluxo de Caixa'!$B$12,\"Operação\",\"\")))","v":"Operação"},{"$f":"IF(U66<='Parâmetros de Fluxo de Caixa'!$B$3,\"Construção\",IF(U66='Parâmetros de Fluxo de Caixa'!$B$3+1+'Parâmetros de Fluxo de Caixa'!$B$4/12,\"Start-up\",IF(U66<='Parâmetros de Fluxo de Caixa'!$B$12,\"Operação\",\"\")))","v":"Operação"},{"$f":"IF(V66<='Parâmetros de Fluxo de Caixa'!$B$3,\"Construção\",IF(V66='Parâmetros de Fluxo de Caixa'!$B$3+1+'Parâmetros de Fluxo de Caixa'!$B$4/12,\"Start-up\",IF(V66<='Parâmetros de Fluxo de Caixa'!$B$12,\"Operação\",\"\")))","v":"Operação"},{"$f":"IF(W66<='Parâmetros de Fluxo de Caixa'!$B$3,\"Construção\",IF(W66='Parâmetros de Fluxo de Caixa'!$B$3+1+'Parâmetros de Fluxo de Caixa'!$B$4/12,\"Start-up\",IF(W66<='Parâmetros de Fluxo de Caixa'!$B$12,\"Operação\",\"\")))","v":"Operação"},{"$f":"IF(X66<='Parâmetros de Fluxo de Caixa'!$B$3,\"Construção\",IF(X66='Parâmetros de Fluxo de Caixa'!$B$3+1+'Parâmetros de Fluxo de Caixa'!$B$4/12,\"Start-up\",IF(X66<='Parâmetros de Fluxo de Caixa'!$B$12,\"Operação\",\"\")))","v":"Operação"},{"$f":"IF(Y66<='Parâmetros de Fluxo de Caixa'!$B$3,\"Construção\",IF(Y66='Parâmetros de Fluxo de Caixa'!$B$3+1+'Parâmetros de Fluxo de Caixa'!$B$4/12,\"Start-up\",IF(Y66<='Parâmetros de Fluxo de Caixa'!$B$12,\"Operação\",\"\")))","v":""},{"$f":"IF(Z66<='Parâmetros de Fluxo de Caixa'!$B$3,\"Construção\",IF(Z66='Parâmetros de Fluxo de Caixa'!$B$3+1+'Parâmetros de Fluxo de Caixa'!$B$4/12,\"Start-up\",IF(Z66<='Parâmetros de Fluxo de Caixa'!$B$12,\"Operação\",\"\")))","v":""},{"$f":"IF(AA66<='Parâmetros de Fluxo de Caixa'!$B$3,\"Construção\",IF(AA66='Parâmetros de Fluxo de Caixa'!$B$3+1+'Parâmetros de Fluxo de Caixa'!$B$4/12,\"Start-up\",IF(AA66<='Parâmetros de Fluxo de Caixa'!$B$12,\"Operação\",\"\")))","v":""},{"$f":"IF(AB66<='Parâmetros de Fluxo de Caixa'!$B$3,\"Construção\",IF(AB66='Parâmetros de Fluxo de Caixa'!$B$3+1+'Parâmetros de Fluxo de Caixa'!$B$4/12,\"Start-up\",IF(AB66<='Parâmetros de Fluxo de Caixa'!$B$12,\"Operação\",\"\")))","v":""},{"$f":"IF(AC66<='Parâmetros de Fluxo de Caixa'!$B$3,\"Construção\",IF(AC66='Parâmetros de Fluxo de Caixa'!$B$3+1+'Parâmetros de Fluxo de Caixa'!$B$4/12,\"Start-up\",IF(AC66<='Parâmetros de Fluxo de Caixa'!$B$12,\"Operação\",\"\")))","v":""},{"$f":"IF(AD66<='Parâmetros de Fluxo de Caixa'!$B$3,\"Construção\",IF(AD66='Parâmetros de Fluxo de Caixa'!$B$3+1+'Parâmetros de Fluxo de Caixa'!$B$4/12,\"Start-up\",IF(AD66<='Parâmetros de Fluxo de Caixa'!$B$12,\"Operação\",\"\")))","v":""},{"$f":"IF(AE66<='Parâmetros de Fluxo de Caixa'!$B$3,\"Construção\",IF(AE66='Parâmetros de Fluxo de Caixa'!$B$3+1+'Parâmetros de Fluxo de Caixa'!$B$4/12,\"Start-up\",IF(AE66<='Parâmetros de Fluxo de Caixa'!$B$12,\"Operação\",\"\")))","v":""},{"$f":"IF(AF66<='Parâmetros de Fluxo de Caixa'!$B$3,\"Construção\",IF(AF66='Parâmetros de Fluxo de Caixa'!$B$3+1+'Parâmetros de Fluxo de Caixa'!$B$4/12,\"Start-up\",IF(AF66<='Parâmetros de Fluxo de Caixa'!$B$12,\"Operação\",\"\")))","v":""},{"$f":"IF(AG66<='Parâmetros de Fluxo de Caixa'!$B$3,\"Construção\",IF(AG66='Parâmetros de Fluxo de Caixa'!$B$3+1+'Parâmetros de Fluxo de Caixa'!$B$4/12,\"Start-up\",IF(AG66<='Parâmetros de Fluxo de Caixa'!$B$12,\"Operação\",\"\")))","v":""},{"$f":"IF(AH66<='Parâmetros de Fluxo de Caixa'!$B$3,\"Construção\",IF(AH66='Parâmetros de Fluxo de Caixa'!$B$3+1+'Parâmetros de Fluxo de Caixa'!$B$4/12,\"Start-up\",IF(AH66<='Parâmetros de Fluxo de Caixa'!$B$12,\"Operação\",\"\")))","v":""},{"$f":"IF(AI66<='Parâmetros de Fluxo de Caixa'!$B$3,\"Construção\",IF(AI66='Parâmetros de Fluxo de Caixa'!$B$3+1+'Parâmetros de Fluxo de Caixa'!$B$4/12,\"Start-up\",IF(AI66<='Parâmetros de Fluxo de Caixa'!$B$12,\"Operação\",\"\")))","v":""},{"$f":"IF(AJ66<='Parâmetros de Fluxo de Caixa'!$B$3,\"Construção\",IF(AJ66='Parâmetros de Fluxo de Caixa'!$B$3+1+'Parâmetros de Fluxo de Caixa'!$B$4/12,\"Start-up\",IF(AJ66<='Parâmetros de Fluxo de Caixa'!$B$12,\"Operação\",\"\")))","v":""},{"$f":"IF(AK66<='Parâmetros de Fluxo de Caixa'!$B$3,\"Construção\",IF(AK66='Parâmetros de Fluxo de Caixa'!$B$3+1+'Parâmetros de Fluxo de Caixa'!$B$4/12,\"Start-up\",IF(AK66<='Parâmetros de Fluxo de Caixa'!$B$12,\"Operação\",\"\")))","v":""},{"$f":"IF(AL66<='Parâmetros de Fluxo de Caixa'!$B$3,\"Construção\",IF(AL66='Parâmetros de Fluxo de Caixa'!$B$3+1+'Parâmetros de Fluxo de Caixa'!$B$4/12,\"Start-up\",IF(AL66<='Parâmetros de Fluxo de Caixa'!$B$12,\"Operação\",\"\")))","v":""},{"$f":"IF(AM66<='Parâmetros de Fluxo de Caixa'!$B$3,\"Construção\",IF(AM66='Parâmetros de Fluxo de Caixa'!$B$3+1+'Parâmetros de Fluxo de Caixa'!$B$4/12,\"Start-up\",IF(AM66<='Parâmetros de Fluxo de Caixa'!$B$12,\"Operação\",\"\")))","v":""},{"$f":"IF(AN66<='Parâmetros de Fluxo de Caixa'!$B$3,\"Construção\",IF(AN66='Parâmetros de Fluxo de Caixa'!$B$3+1+'Parâmetros de Fluxo de Caixa'!$B$4/12,\"Start-up\",IF(AN66<='Parâmetros de Fluxo de Caixa'!$B$12,\"Operação\",\"\")))","v":""},{"$f":"IF(AO66<='Parâmetros de Fluxo de Caixa'!$B$3,\"Construção\",IF(AO66='Parâmetros de Fluxo de Caixa'!$B$3+1+'Parâmetros de Fluxo de Caixa'!$B$4/12,\"Start-up\",IF(AO66<='Parâmetros de Fluxo de Caixa'!$B$12,\"Operação\",\"\")))","v":""},{"$f":"IF(AP66<='Parâmetros de Fluxo de Caixa'!$B$3,\"Construção\",IF(AP66='Parâmetros de Fluxo de Caixa'!$B$3+1+'Parâmetros de Fluxo de Caixa'!$B$4/12,\"Start-up\",IF(AP66<='Parâmetros de Fluxo de Caixa'!$B$12,\"Operação\",\"\")))","v":""},{"$f":"IF(AQ66<='Parâmetros de Fluxo de Caixa'!$B$3,\"Construção\",IF(AQ66='Parâmetros de Fluxo de Caixa'!$B$3+1+'Parâmetros de Fluxo de Caixa'!$B$4/12,\"Start-up\",IF(AQ66<='Parâmetros de Fluxo de Caixa'!$B$12,\"Operação\",\"\")))","v":""},{"$f":"IF(AR66<='Parâmetros de Fluxo de Caixa'!$B$3,\"Construção\",IF(AR66='Parâmetros de Fluxo de Caixa'!$B$3+1+'Parâmetros de Fluxo de Caixa'!$B$4/12,\"Start-up\",IF(AR66<='Parâmetros de Fluxo de Caixa'!$B$12,\"Operação\",\"\")))","v":""},{"$f":"IF(AS66<='Parâmetros de Fluxo de Caixa'!$B$3,\"Construção\",IF(AS66='Parâmetros de Fluxo de Caixa'!$B$3+1+'Parâmetros de Fluxo de Caixa'!$B$4/12,\"Start-up\",IF(AS66<='Parâmetros de Fluxo de Caixa'!$B$12,\"Operação\",\"\")))","v":""},{"$f":"IF(AT66<='Parâmetros de Fluxo de Caixa'!$B$3,\"Construção\",IF(AT66='Parâmetros de Fluxo de Caixa'!$B$3+1+'Parâmetros de Fluxo de Caixa'!$B$4/12,\"Start-up\",IF(AT66<='Parâmetros de Fluxo de Caixa'!$B$12,\"Operação\",\"\")))","v":""},{"$f":"IF(AU66<='Parâmetros de Fluxo de Caixa'!$B$3,\"Construção\",IF(AU66='Parâmetros de Fluxo de Caixa'!$B$3+1+'Parâmetros de Fluxo de Caixa'!$B$4/12,\"Start-up\",IF(AU66<='Parâmetros de Fluxo de Caixa'!$B$12,\"Operação\",\"\")))","v":""},{"$f":"IF(AV66<='Parâmetros de Fluxo de Caixa'!$B$3,\"Construção\",IF(AV66='Parâmetros de Fluxo de Caixa'!$B$3+1+'Parâmetros de Fluxo de Caixa'!$B$4/12,\"Start-up\",IF(AV66<='Parâmetros de Fluxo de Caixa'!$B$12,\"Operação\",\"\")))","v":""}]
[]
["Receitas (milhões R$ / ano)",{"$f":"IF(B67=\"Construção\",0,IF(B67=\"Start-up\",('CAPEX e OPEX'!$D$53*'Fluxo de Caixa Descontado'!$B$3)*(1-'Parâmetros de Fluxo de Caixa'!$B$14)+'Parâmetros de Fluxo de Caixa'!$B$14*'Parâmetros de Fluxo de Caixa'!$B$15*'Fluxo de Caixa Descontado'!F69,IF(B67=\"Operação\",'CAPEX e OPEX'!$D$53*'Fluxo de Caixa Descontado'!$B$3,\"\")))","v":0},{"$f":"IF(C67=\"Construção\",0,IF(C67=\"Start-up\",('CAPEX e OPEX'!$D$53*'Fluxo de Caixa Descontado'!$B$3)*(1-'Parâmetros de Fluxo de Caixa'!$B$14)+'Parâmetros de Fluxo de Caixa'!$B$14*'Parâmetros de Fluxo de Caixa'!$B$15*'Fluxo de Caixa Descontado'!G69,IF(C67=\"Operação\",'CAPEX e OPEX'!$D$53*'Fluxo de Caixa Descontado'!$B$3,\"\")))","v":0},{"$f":"IF(D67=\"Construção\",0,IF(D67=\"Start-up\",('CAPEX e OPEX'!$D$53*'Fluxo de Caixa Descontado'!$B$3)*(1-'Parâmetros de Fluxo de Caixa'!$B$14)+'Parâmetros de Fluxo de Caixa'!$B$14*'Parâmetros de Fluxo de Caixa'!$B$15*'Fluxo de Caixa Descontado'!H69,IF(D67=\"Operação\",'CAPEX e OPEX'!$D$53*'Fluxo de Caixa Descontado'!$B$3,\"\")))","v":0},{"$f":"IF(E67=\"Construção\",0,IF(E67=\"Start-up\",('CAPEX e OPEX'!$D$53*'Fluxo de Caixa Descontado'!$B$3)*(1-'Parâmetros de Fluxo de Caixa'!$B$14)+'Parâmetros de Fluxo de Caixa'!$B$14*'Parâmetros de Fluxo de Caixa'!$B$15*'Fluxo de Caixa Descontado'!I69,IF(E67=\"Operação\",'CAPEX e OPEX'!$D$53*'Fluxo de Caixa Descontado'!$B$3,\"\")))","v":5714.0920343257712},{"$f":"IF(F67=\"Construção\",0,IF(F67=\"Start-up\",('CAPEX e OPEX'!$D$53*'Fluxo de Caixa Descontado'!$B$3)*(1-'Parâmetros de Fluxo de Caixa'!$B$14)+'Parâmetros de Fluxo de Caixa'!$B$14*'Parâmetros de Fluxo de Caixa'!$B$15*'Fluxo de Caixa Descontado'!J69,IF(F67=\"Operação\",'CAPEX e OPEX'!$D$53*'Fluxo de Caixa Descontado'!$B$3,\"\")))","v":6530.3908963723106},{"$f":"IF(G67=\"Construção\",0,IF(G67=\"Start-up\",('CAPEX e OPEX'!$D$53*'Fluxo de Caixa Descontado'!$B$3)*(1-'Parâmetros de Fluxo de Caixa'!$B$14)+'Parâmetros de Fluxo de Caixa'!$B$14*'Parâmetros de Fluxo de Caixa'!$B$15*'Fluxo de Caixa Descontado'!K69,IF(G67=\"Operação\",'CAPEX e OPEX'!$D$53*'Fluxo de Caixa Descontado'!$B$3,\"\")))","v":6530.3908963723106},{"$f":"IF(H67=\"Construção\",0,IF(H67=\"Start-up\",('CAPEX e OPEX'!$D$53*'Fluxo de Caixa Descontado'!$B$3)*(1-'Parâmetros de Fluxo de Caixa'!$B$14)+'Parâmetros de Fluxo de Caixa'!$B$14*'Parâmetros de Fluxo de Caixa'!$B$15*'Fluxo de Caixa Descontado'!L69,IF(H67=\"Operação\",'CAPEX e OPEX'!$D$53*'Fluxo de Caixa Descontado'!$B$3,\"\")))","v":6530.3908963723106},{"$f":"IF(I67=\"Construção\",0,IF(I67=\"Start-up\",('CAPEX e OPEX'!$D$53*'Fluxo de Caixa Descontado'!$B$3)*(1-'Parâmetros de Fluxo de Caixa'!$B$14)+'Parâmetros de Fluxo de Caixa'!$B$14*'Parâmetros de Fluxo de Caixa'!$B$15*'Fluxo de Caixa Descontado'!M69,IF(I67=\"Operação\",'CAPEX e OPEX'!$D$53*'Fluxo de Caixa Descontado'!$B$3,\"\")))","v":6530.3908963723106},{"$f":"IF(J67=\"Construção\",0,IF(J67=\"Start-up\",('CAPEX e OPEX'!$D$53*'Fluxo de Caixa Descontado'!$B$3)*(1-'Parâmetros de Fluxo de Caixa'!$B$14)+'Parâmetros de Fluxo de Caixa'!$B$14*'Parâmetros de Fluxo de Caixa'!$B$15*'Fluxo de Caixa Descontado'!N69,IF(J67=\"Operação\",'CAPEX e OPEX'!$D$53*'Fluxo de Caixa Descontado'!$B$3,\"\")))","v":6530.3908963723106},{"$f":"IF(K67=\"Construção\",0,IF(K67=\"Start-up\",('CAPEX e OPEX'!$D$53*'Fluxo de Caixa Descontado'!$B$3)*(1-'Parâmetros de Fluxo de Caixa'!$B$14)+'Parâmetros de Fluxo de Caixa'!$B$14*'Parâmetros de Fluxo de Caixa'!$B$15*'Fluxo de Caixa Descontado'!O69,IF(K67=\"Operação\",'CAPEX e OPEX'!$D$53*'Fluxo de Caixa Descontado'!$B$3,\"\")))","v":6530.3908963723106},{"$f":"IF(L67=\"Construção\",0,IF(L67=\"Start-up\",('CAPEX e OPEX'!$D$53*'Fluxo de Caixa Descontado'!$B$3)*(1-'Parâmetros de Fluxo de Caixa'!$B$14)+'Parâmetros de Fluxo de Caixa'!$B$14*'Parâmetros de Fluxo de Caixa'!$B$15*'Fluxo de Caixa Descontado'!P69,IF(L67=\"Operação\",'CAPEX e OPEX'!$D$53*'Fluxo de Caixa Descontado'!$B$3,\"\")))","v":6530.3908963723106},{"$f":"IF(M67=\"Construção\",0,IF(M67=\"Start-up\",('CAPEX e OPEX'!$D$53*'Fluxo de Caixa Descontado'!$B$3)*(1-'Parâmetros de Fluxo de Caixa'!$B$14)+'Parâmetros de Fluxo de Caixa'!$B$14*'Parâmetros de Fluxo de Caixa'!$B$15*'Fluxo de Caixa Descontado'!Q69,IF(M67=\"Operação\",'CAPEX e OPEX'!$D$53*'Fluxo de Caixa Descontado'!$B$3,\"\")))","v":6530.3908963723106},{"$f":"IF(N67=\"Construção\",0,IF(N67=\"Start-up\",('CAPEX e OPEX'!$D$53*'Fluxo de Caixa Descontado'!$B$3)*(1-'Parâmetros de Fluxo de Caixa'!$B$14)+'Parâmetros de Fluxo de Caixa'!$B$14*'Parâmetros de Fluxo de Caixa'!$B$15*'Fluxo de Caixa Descontado'!R69,IF(N67=\"Operação\",'CAPEX e OPEX'!$D$53*'Fluxo de Caixa Descontado'!$B$3,\"\")))","v":6530.3908963723106},{"$f":"IF(O67=\"Construção\",0,IF(O67=\"Start-up\",('CAPEX e OPEX'!$D$53*'Fluxo de Caixa Descontado'!$B$3)*(1-'Parâmetros de Fluxo de Caixa'!$B$14)+'Parâmetros de Fluxo de Caixa'!$B$14*'Parâmetros de Fluxo de Caixa'!$B$15*'Fluxo de Caixa Descontado'!S69,IF(O67=\"Operação\",'CAPEX e OPEX'!$D$53*'Fluxo de Caixa Descontado'!$B$3,\"\")))","v":6530.3908963723106},{"$f":"IF(P67=\"Construção\",0,IF(P67=\"Start-up\",('CAPEX e OPEX'!$D$53*'Fluxo de Caixa Descontado'!$B$3)*(1-'Parâmetros de Fluxo de Caixa'!$B$14)+'Parâmetros de Fluxo de Caixa'!$B$14*'Parâmetros de Fluxo de Caixa'!$B$15*'Fluxo de Caixa Descontado'!T69,IF(P67=\"Operação\",'CAPEX e OPEX'!$D$53*'Fluxo de Caixa Descontado'!$B$3,\"\")))","v":6530.3908963723106},{"$f":"IF(Q67=\"Construção\",0,IF(Q67=\"Start-up\",('CAPEX e OPEX'!$D$53*'Fluxo de Caixa Descontado'!$B$3)*(1-'Parâmetros de Fluxo de Caixa'!$B$14)+'Parâmetros de Fluxo de Caixa'!$B$14*'Parâmetros de Fluxo de Caixa'!$B$15*'Fluxo de Caixa Descontado'!U69,IF(Q67=\"Operação\",'CAPEX e OPEX'!$D$53*'Fluxo de Caixa Descontado'!$B$3,\"\")))","v":6530.3908963723106},{"$f":"IF(R67=\"Construção\",0,IF(R67=\"Start-up\",('CAPEX e OPEX'!$D$53*'Fluxo de Caixa Descontado'!$B$3)*(1-'Parâmetros de Fluxo de Caixa'!$B$14)+'Parâmetros de Fluxo de Caixa'!$B$14*'Parâmetros de Fluxo de Caixa'!$B$15*'Fluxo de Caixa Descontado'!V69,IF(R67=\"Operação\",'CAPEX e OPEX'!$D$53*'Fluxo de Caixa Descontado'!$B$3,\"\")))","v":6530.3908963723106},{"$f":"IF(S67=\"Construção\",0,IF(S67=\"Start-up\",('CAPEX e OPEX'!$D$53*'Fluxo de Caixa Descontado'!$B$3)*(1-'Parâmetros de Fluxo de Caixa'!$B$14)+'Parâmetros de Fluxo de Caixa'!$B$14*'Parâmetros de Fluxo de Caixa'!$B$15*'Fluxo de Caixa Descontado'!W69,IF(S67=\"Operação\",'CAPEX e OPEX'!$D$53*'Fluxo de Caixa Descontado'!$B$3,\"\")))","v":6530.3908963723106},{"$f":"IF(T67=\"Construção\",0,IF(T67=\"Start-up\",('CAPEX e OPEX'!$D$53*'Fluxo de Caixa Descontado'!$B$3)*(1-'Parâmetros de Fluxo de Caixa'!$B$14)+'Parâmetros de Fluxo de Caixa'!$B$14*'Parâmetros de Fluxo de Caixa'!$B$15*'Fluxo de Caixa Descontado'!X69,IF(T67=\"Operação\",'CAPEX e OPEX'!$D$53*'Fluxo de Caixa Descontado'!$B$3,\"\")))","v":6530.3908963723106},{"$f":"IF(U67=\"Construção\",0,IF(U67=\"Start-up\",('CAPEX e OPEX'!$D$53*'Fluxo de Caixa Descontado'!$B$3)*(1-'Parâmetros de Fluxo de Caixa'!$B$14)+'Parâmetros de Fluxo de Caixa'!$B$14*'Parâmetros de Fluxo de Caixa'!$B$15*'Fluxo de Caixa Descontado'!Y69,IF(U67=\"Operação\",'CAPEX e OPEX'!$D$53*'Fluxo de Caixa Descontado'!$B$3,\"\")))","v":6530.3908963723106},{"$f":"IF(V67=\"Construção\",0,IF(V67=\"Start-up\",('CAPEX e OPEX'!$D$53*'Fluxo de Caixa Descontado'!$B$3)*(1-'Parâmetros de Fluxo de Caixa'!$B$14)+'Parâmetros de Fluxo de Caixa'!$B$14*'Parâmetros de Fluxo de Caixa'!$B$15*'Fluxo de Caixa Descontado'!Z69,IF(V67=\"Operação\",'CAPEX e OPEX'!$D$53*'Fluxo de Caixa Descontado'!$B$3,\"\")))","v":6530.3908963723106},{"$f":"IF(W67=\"Construção\",0,IF(W67=\"Start-up\",('CAPEX e OPEX'!$D$53*'Fluxo de Caixa Descontado'!$B$3)*(1-'Parâmetros de Fluxo de Caixa'!$B$14)+'Parâmetros de Fluxo de Caixa'!$B$14*'Parâmetros de Fluxo de Caixa'!$B$15*'Fluxo de Caixa Descontado'!AA69,IF(W67=\"Operação\",'CAPEX e OPEX'!$D$53*'Fluxo de Caixa Descontado'!$B$3,\"\")))","v":6530.3908963723106},{"$f":"IF(X67=\"Construção\",0,IF(X67=\"Start-up\",('CAPEX e OPEX'!$D$53*'Fluxo de Caixa Descontado'!$B$3)*(1-'Parâmetros de Fluxo de Caixa'!$B$14)+'Parâmetros de Fluxo de Caixa'!$B$14*'Parâmetros de Fluxo de Caixa'!$B$15*'Fluxo de Caixa Descontado'!AB69,IF(X67=\"Operação\",'CAPEX e OPEX'!$D$53*'Fluxo de Caixa Descontado'!$B$3,\"\")))","v":6530.3908963723106},{"$f":"IF(Y67=\"Construção\",0,IF(Y67=\"Start-up\",('CAPEX e OPEX'!$D$53*'Fluxo de Caixa Descontado'!$B$3)*(1-'Parâmetros de Fluxo de Caixa'!$B$14)+'Parâmetros de Fluxo de Caixa'!$B$14*'Parâmetros de Fluxo de Caixa'!$B$15*'Fluxo de Caixa Descontado'!AC69,IF(Y67=\"Operação\",'CAPEX e OPEX'!$D$53*'Fluxo de Caixa Descontado'!$B$3,\"\")))","v":""},{"$f":"IF(Z67=\"Construção\",0,IF(Z67=\"Start-up\",('CAPEX e OPEX'!$D$53*'Fluxo de Caixa Descontado'!$B$3)*(1-'Parâmetros de Fluxo de Caixa'!$B$14)+'Parâmetros de Fluxo de Caixa'!$B$14*'Parâmetros de Fluxo de Caixa'!$B$15*'Fluxo de Caixa Descontado'!AD69,IF(Z67=\"Operação\",'CAPEX e OPEX'!$D$53*'Fluxo de Caixa Descontado'!$B$3,\"\")))","v":""},{"$f":"IF(AA67=\"Construção\",0,IF(AA67=\"Start-up\",('CAPEX e OPEX'!$D$53*'Fluxo de Caixa Descontado'!$B$3)*(1-'Parâmetros de Fluxo de Caixa'!$B$14)+'Parâmetros de Fluxo de Caixa'!$B$14*'Parâmetros de Fluxo de Caixa'!$B$15*'Fluxo de Caixa Descontado'!AE69,IF(AA67=\"Operação\",'CAPEX e OPEX'!$D$53*'Fluxo de Caixa Descontado'!$B$3,\"\")))","v":""},{"$f":"IF(AB67=\"Construção\",0,IF(AB67=\"Start-up\",('CAPEX e OPEX'!$D$53*'Fluxo de Caixa Descontado'!$B$3)*(1-'Parâmetros de Fluxo de Caixa'!$B$14)+'Parâmetros de Fluxo de Caixa'!$B$14*'Parâmetros de Fluxo de Caixa'!$B$15*'Fluxo de Caixa Descontado'!AF69,IF(AB67=\"Operação\",'CAPEX e OPEX'!$D$53*'Fluxo de Caixa Descontado'!$B$3,\"\")))","v":""},{"$f":"IF(AC67=\"Construção\",0,IF(AC67=\"Start-up\",('CAPEX e OPEX'!$D$53*'Fluxo de Caixa Descontado'!$B$3)*(1-'Parâmetros de Fluxo de Caixa'!$B$14)+'Parâmetros de Fluxo de Caixa'!$B$14*'Parâmetros de Fluxo de Caixa'!$B$15*'Fluxo de Caixa Descontado'!AG69,IF(AC67=\"Operação\",'CAPEX e OPEX'!$D$53*'Fluxo de Caixa Descontado'!$B$3,\"\")))","v":""},{"$f":"IF(AD67=\"Construção\",0,IF(AD67=\"Start-up\",('CAPEX e OPEX'!$D$53*'Fluxo de Caixa Descontado'!$B$3)*(1-'Parâmetros de Fluxo de Caixa'!$B$14)+'Parâmetros de Fluxo de Caixa'!$B$14*'Parâmetros de Fluxo de Caixa'!$B$15*'Fluxo de Caixa Descontado'!AH69,IF(AD67=\"Operação\",'CAPEX e OPEX'!$D$53*'Fluxo de Caixa Descontado'!$B$3,\"\")))","v":""},{"$f":"IF(AE67=\"Construção\",0,IF(AE67=\"Start-up\",('CAPEX e OPEX'!$D$53*'Fluxo de Caixa Descontado'!$B$3)*(1-'Parâmetros de Fluxo de Caixa'!$B$14)+'Parâmetros de Fluxo de Caixa'!$B$14*'Parâmetros de Fluxo de Caixa'!$B$15*'Fluxo de Caixa Descontado'!AI69,IF(AE67=\"Operação\",'CAPEX e OPEX'!$D$53*'Fluxo de Caixa Descontado'!$B$3,\"\")))","v":""},{"$f":"IF(AF67=\"Construção\",0,IF(AF67=\"Start-up\",('CAPEX e OPEX'!$D$53*'Fluxo de Caixa Descontado'!$B$3)*(1-'Parâmetros de Fluxo de Caixa'!$B$14)+'Parâmetros de Fluxo de Caixa'!$B$14*'Parâmetros de Fluxo de Caixa'!$B$15*'Fluxo de Caixa Descontado'!AJ69,IF(AF67=\"Operação\",'CAPEX e OPEX'!$D$53*'Fluxo de Caixa Descontado'!$B$3,\"\")))","v":""},{"$f":"IF(AG67=\"Construção\",0,IF(AG67=\"Start-up\",('CAPEX e OPEX'!$D$53*'Fluxo de Caixa Descontado'!$B$3)*(1-'Parâmetros de Fluxo de Caixa'!$B$14)+'Parâmetros de Fluxo de Caixa'!$B$14*'Parâmetros de Fluxo de Caixa'!$B$15*'Fluxo de Caixa Descontado'!AK69,IF(AG67=\"Operação\",'CAPEX e OPEX'!$D$53*'Fluxo de Caixa Descontado'!$B$3,\"\")))","v":""},{"$f":"IF(AH67=\"Construção\",0,IF(AH67=\"Start-up\",('CAPEX e OPEX'!$D$53*'Fluxo de Caixa Descontado'!$B$3)*(1-'Parâmetros de Fluxo de Caixa'!$B$14)+'Parâmetros de Fluxo de Caixa'!$B$14*'Parâmetros de Fluxo de Caixa'!$B$15*'Fluxo de Caixa Descontado'!AL69,IF(AH67=\"Operação\",'CAPEX e OPEX'!$D$53*'Fluxo de Caixa Descontado'!$B$3,\"\")))","v":""},{"$f":"IF(AI67=\"Construção\",0,IF(AI67=\"Start-up\",('CAPEX e OPEX'!$D$53*'Fluxo de Caixa Descontado'!$B$3)*(1-'Parâmetros de Fluxo de Caixa'!$B$14)+'Parâmetros de Fluxo de Caixa'!$B$14*'Parâmetros de Fluxo de Caixa'!$B$15*'Fluxo de Caixa Descontado'!AM69,IF(AI67=\"Operação\",'CAPEX e OPEX'!$D$53*'Fluxo de Caixa Descontado'!$B$3,\"\")))","v":""},{"$f":"IF(AJ67=\"Construção\",0,IF(AJ67=\"Start-up\",('CAPEX e OPEX'!$D$53*'Fluxo de Caixa Descontado'!$B$3)*(1-'Parâmetros de Fluxo de Caixa'!$B$14)+'Parâmetros de Fluxo de Caixa'!$B$14*'Parâmetros de Fluxo de Caixa'!$B$15*'Fluxo de Caixa Descontado'!AN69,IF(AJ67=\"Operação\",'CAPEX e OPEX'!$D$53*'Fluxo de Caixa Descontado'!$B$3,\"\")))","v":""},{"$f":"IF(AK67=\"Construção\",0,IF(AK67=\"Start-up\",('CAPEX e OPEX'!$D$53*'Fluxo de Caixa Descontado'!$B$3)*(1-'Parâmetros de Fluxo de Caixa'!$B$14)+'Parâmetros de Fluxo de Caixa'!$B$14*'Parâmetros de Fluxo de Caixa'!$B$15*'Fluxo de Caixa Descontado'!AO69,IF(AK67=\"Operação\",'CAPEX e OPEX'!$D$53*'Fluxo de Caixa Descontado'!$B$3,\"\")))","v":""},{"$f":"IF(AL67=\"Construção\",0,IF(AL67=\"Start-up\",('CAPEX e OPEX'!$D$53*'Fluxo de Caixa Descontado'!$B$3)*(1-'Parâmetros de Fluxo de Caixa'!$B$14)+'Parâmetros de Fluxo de Caixa'!$B$14*'Parâmetros de Fluxo de Caixa'!$B$15*'Fluxo de Caixa Descontado'!AP69,IF(AL67=\"Operação\",'CAPEX e OPEX'!$D$53*'Fluxo de Caixa Descontado'!$B$3,\"\")))","v":""},{"$f":"IF(AM67=\"Construção\",0,IF(AM67=\"Start-up\",('CAPEX e OPEX'!$D$53*'Fluxo de Caixa Descontado'!$B$3)*(1-'Parâmetros de Fluxo de Caixa'!$B$14)+'Parâmetros de Fluxo de Caixa'!$B$14*'Parâmetros de Fluxo de Caixa'!$B$15*'Fluxo de Caixa Descontado'!AQ69,IF(AM67=\"Operação\",'CAPEX e OPEX'!$D$53*'Fluxo de Caixa Descontado'!$B$3,\"\")))","v":""},{"$f":"IF(AN67=\"Construção\",0,IF(AN67=\"Start-up\",('CAPEX e OPEX'!$D$53*'Fluxo de Caixa Descontado'!$B$3)*(1-'Parâmetros de Fluxo de Caixa'!$B$14)+'Parâmetros de Fluxo de Caixa'!$B$14*'Parâmetros de Fluxo de Caixa'!$B$15*'Fluxo de Caixa Descontado'!AR69,IF(AN67=\"Operação\",'CAPEX e OPEX'!$D$53*'Fluxo de Caixa Descontado'!$B$3,\"\")))","v":""},{"$f":"IF(AO67=\"Construção\",0,IF(AO67=\"Start-up\",('CAPEX e OPEX'!$D$53*'Fluxo de Caixa Descontado'!$B$3)*(1-'Parâmetros de Fluxo de Caixa'!$B$14)+'Parâmetros de Fluxo de Caixa'!$B$14*'Parâmetros de Fluxo de Caixa'!$B$15*'Fluxo de Caixa Descontado'!AV69,IF(AO67=\"Operação\",'CAPEX e OPEX'!$D$53*'Fluxo de Caixa Descontado'!$B$3,\"\")))","v":""},{"$f":"IF(AP67=\"Construção\",0,IF(AP67=\"Start-up\",('CAPEX e OPEX'!$D$53*'Fluxo de Caixa Descontado'!$B$3)*(1-'Parâmetros de Fluxo de Caixa'!$B$14)+'Parâmetros de Fluxo de Caixa'!$B$14*'Parâmetros de Fluxo de Caixa'!$B$15*'Fluxo de Caixa Descontado'!AW69,IF(AP67=\"Operação\",'CAPEX e OPEX'!$D$53*'Fluxo de Caixa Descontado'!$B$3,\"\")))","v":""},{"$f":"IF(AQ67=\"Construção\",0,IF(AQ67=\"Start-up\",('CAPEX e OPEX'!$D$53*'Fluxo de Caixa Descontado'!$B$3)*(1-'Parâmetros de Fluxo de Caixa'!$B$14)+'Parâmetros de Fluxo de Caixa'!$B$14*'Parâmetros de Fluxo de Caixa'!$B$15*'Fluxo de Caixa Descontado'!AX69,IF(AQ67=\"Operação\",'CAPEX e OPEX'!$D$53*'Fluxo de Caixa Descontado'!$B$3,\"\")))","v":""},{"$f":"IF(AR67=\"Construção\",0,IF(AR67=\"Start-up\",('CAPEX e OPEX'!$D$53*'Fluxo de Caixa Descontado'!$B$3)*(1-'Parâmetros de Fluxo de Caixa'!$B$14)+'Parâmetros de Fluxo de Caixa'!$B$14*'Parâmetros de Fluxo de Caixa'!$B$15*'Fluxo de Caixa Descontado'!AY69,IF(AR67=\"Operação\",'CAPEX e OPEX'!$D$53*'Fluxo de Caixa Descontado'!$B$3,\"\")))","v":""},{"$f":"IF(AS67=\"Construção\",0,IF(AS67=\"Start-up\",('CAPEX e OPEX'!$D$53*'Fluxo de Caixa Descontado'!$B$3)*(1-'Parâmetros de Fluxo de Caixa'!$B$14)+'Parâmetros de Fluxo de Caixa'!$B$14*'Parâmetros de Fluxo de Caixa'!$B$15*'Fluxo de Caixa Descontado'!AZ69,IF(AS67=\"Operação\",'CAPEX e OPEX'!$D$53*'Fluxo de Caixa Descontado'!$B$3,\"\")))","v":""},{"$f":"IF(AT67=\"Construção\",0,IF(AT67=\"Start-up\",('CAPEX e OPEX'!$D$53*'Fluxo de Caixa Descontado'!$B$3)*(1-'Parâmetros de Fluxo de Caixa'!$B$14)+'Parâmetros de Fluxo de Caixa'!$B$14*'Parâmetros de Fluxo de Caixa'!$B$15*'Fluxo de Caixa Descontado'!BA69,IF(AT67=\"Operação\",'CAPEX e OPEX'!$D$53*'Fluxo de Caixa Descontado'!$B$3,\"\")))","v":""},{"$f":"IF(AU67=\"Construção\",0,IF(AU67=\"Start-up\",('CAPEX e OPEX'!$D$53*'Fluxo de Caixa Descontado'!$B$3)*(1-'Parâmetros de Fluxo de Caixa'!$B$14)+'Parâmetros de Fluxo de Caixa'!$B$14*'Parâmetros de Fluxo de Caixa'!$B$15*'Fluxo de Caixa Descontado'!BB69,IF(AU67=\"Operação\",'CAPEX e OPEX'!$D$53*'Fluxo de Caixa Descontado'!$B$3,\"\")))","v":""},{"$f":"IF(AV67=\"Construção\",0,IF(AV67=\"Start-up\",('CAPEX e OPEX'!$D$53*'Fluxo de Caixa Descontado'!$B$3)*(1-'Parâmetros de Fluxo de Caixa'!$B$14)+'Parâmetros de Fluxo de Caixa'!$B$14*'Parâmetros de Fluxo de Caixa'!$B$15*'Fluxo de Caixa Descontado'!BC69,IF(AV67=\"Operação\",'CAPEX e OPEX'!$D$53*'Fluxo de Caixa Descontado'!$B$3,\"\")))","v":""}]
["OPEX variável (milhões R$ / ano)",{"$f":"IF(B67=\"Construção\",0,IF(B67=\"Start-up\",-('CAPEX e OPEX'!$D$52*'Fluxo de Caixa Descontado'!$B$3*(1-'Parâmetros de Fluxo de Caixa'!$B$14)+'Parâmetros de Fluxo de Caixa'!$B$14*'Parâmetros de Fluxo de Caixa'!$B$16*-'Fluxo de Caixa Descontado'!C70),IF(B67=\"Operação\",-('CAPEX e OPEX'!$D$52*'Fluxo de Caixa Descontado'!$B$3),\"\")))","v":0},{"$f":"IF(C67=\"Construção\",0,IF(C67=\"Start-up\",-('CAPEX e OPEX'!$D$52*'Fluxo de Caixa Descontado'!$B$3*(1-'Parâmetros de Fluxo de Caixa'!$B$14)+'Parâmetros de Fluxo de Caixa'!$B$14*'Parâmetros de Fluxo de Caixa'!$B$16*-'Fluxo de Caixa Descontado'!D70),IF(C67=\"Operação\",-('CAPEX e OPEX'!$D$52*'Fluxo de Caixa Descontado'!$B$3),\"\")))","v":0},{"$f":"IF(D67=\"Construção\",0,IF(D67=\"Start-up\",-('CAPEX e OPEX'!$D$52*'Fluxo de Caixa Descontado'!$B$3*(1-'Parâmetros de Fluxo de Caixa'!$B$14)+'Parâmetros de Fluxo de Caixa'!$B$14*'Parâmetros de Fluxo de Caixa'!$B$16*-'Fluxo de Caixa Descontado'!E70),IF(D67=\"Operação\",-('CAPEX e OPEX'!$D$52*'Fluxo de Caixa Descontado'!$B$3),\"\")))","v":0},{"$f":"IF(E67=\"Construção\",0,IF(E67=\"Start-up\",-('CAPEX e OPEX'!$D$52*'Fluxo de Caixa Descontado'!$B$3*(1-'Parâmetros de Fluxo de Caixa'!$B$14)+'Parâmetros de Fluxo de Caixa'!$B$14*'Parâmetros de Fluxo de Caixa'!$B$16*-'Fluxo de Caixa Descontado'!F70),IF(E67=\"Operação\",-('CAPEX e OPEX'!$D$52*'Fluxo de Caixa Descontado'!$B$3),\"\")))","v":-3241.7244624203831},{"$f":"IF(F67=\"Construção\",0,IF(F67=\"Start-up\",-('CAPEX e OPEX'!$D$52*'Fluxo de Caixa Descontado'!$B$3*(1-'Parâmetros de Fluxo de Caixa'!$B$14)+'Parâmetros de Fluxo de Caixa'!$B$14*'Parâmetros de Fluxo de Caixa'!$B$16*-'Fluxo de Caixa Descontado'!G70),IF(F67=\"Operação\",-('CAPEX e OPEX'!$D$52*'Fluxo de Caixa Descontado'!$B$3),\"\")))","v":-3704.8279570518662},{"$f":"IF(G67=\"Construção\",0,IF(G67=\"Start-up\",-('CAPEX e OPEX'!$D$52*'Fluxo de Caixa Descontado'!$B$3*(1-'Parâmetros de Fluxo de Caixa'!$B$14)+'Parâmetros de Fluxo de Caixa'!$B$14*'Parâmetros de Fluxo de Caixa'!$B$16*-'Fluxo de Caixa Descontado'!H70),IF(G67=\"Operação\",-('CAPEX e OPEX'!$D$52*'Fluxo de Caixa Descontado'!$B$3),\"\")))","v":-3704.8279570518662},{"$f":"IF(H67=\"Construção\",0,IF(H67=\"Start-up\",-('CAPEX e OPEX'!$D$52*'Fluxo de Caixa Descontado'!$B$3*(1-'Parâmetros de Fluxo de Caixa'!$B$14)+'Parâmetros de Fluxo de Caixa'!$B$14*'Parâmetros de Fluxo de Caixa'!$B$16*-'Fluxo de Caixa Descontado'!I70),IF(H67=\"Operação\",-('CAPEX e OPEX'!$D$52*'Fluxo de Caixa Descontado'!$B$3),\"\")))","v":-3704.8279570518662},{"$f":"IF(I67=\"Construção\",0,IF(I67=\"Start-up\",-('CAPEX e OPEX'!$D$52*'Fluxo de Caixa Descontado'!$B$3*(1-'Parâmetros de Fluxo de Caixa'!$B$14)+'Parâmetros de Fluxo de Caixa'!$B$14*'Parâmetros de Fluxo de Caixa'!$B$16*-'Fluxo de Caixa Descontado'!J70),IF(I67=\"Operação\",-('CAPEX e OPEX'!$D$52*'Fluxo de Caixa Descontado'!$B$3),\"\")))","v":-3704.8279570518662},{"$f":"IF(J67=\"Construção\",0,IF(J67=\"Start-up\",-('CAPEX e OPEX'!$D$52*'Fluxo de Caixa Descontado'!$B$3*(1-'Parâmetros de Fluxo de Caixa'!$B$14)+'Parâmetros de Fluxo de Caixa'!$B$14*'Parâmetros de Fluxo de Caixa'!$B$16*-'Fluxo de Caixa Descontado'!K70),IF(J67=\"Operação\",-('CAPEX e OPEX'!$D$52*'Fluxo de Caixa Descontado'!$B$3),\"\")))","v":-3704.8279570518662},{"$f":"IF(K67=\"Construção\",0,IF(K67=\"Start-up\",-('CAPEX e OPEX'!$D$52*'Fluxo de Caixa Descontado'!$B$3*(1-'Parâmetros de Fluxo de Caixa'!$B$14)+'Parâmetros de Fluxo de Caixa'!$B$14*'Parâmetros de Fluxo de Caixa'!$B$16*-'Fluxo de Caixa Descontado'!L70),IF(K67=\"Operação\",-('CAPEX e OPEX'!$D$52*'Fluxo de Caixa Descontado'!$B$3),\"\")))","v":-3704.8279570518662},{"$f":"IF(L67=\"Construção\",0,IF(L67=\"Start-up\",-('CAPEX e OPEX'!$D$52*'Fluxo de Caixa Descontado'!$B$3*(1-'Parâmetros de Fluxo de Caixa'!$B$14)+'Parâmetros de Fluxo de Caixa'!$B$14*'Parâmetros de Fluxo de Caixa'!$B$16*-'Fluxo de Caixa Descontado'!M70),IF(L67=\"Operação\",-('CAPEX e OPEX'!$D$52*'Fluxo de Caixa Descontado'!$B$3),\"\")))","v":-3704.8279570518662},{"$f":"IF(M67=\"Construção\",0,IF(M67=\"Start-up\",-('CAPEX e OPEX'!$D$52*'Fluxo de Caixa Descontado'!$B$3*(1-'Parâmetros de Fluxo de Caixa'!$B$14)+'Parâmetros de Fluxo de Caixa'!$B$14*'Parâmetros de Fluxo de Caixa'!$B$16*-'Fluxo de Caixa Descontado'!N70),IF(M67=\"Operação\",-('CAPEX e OPEX'!$D$52*'Fluxo de Caixa Descontado'!$B$3),\"\")))","v":-3704.8279570518662},{"$f":"IF(N67=\"Construção\",0,IF(N67=\"Start-up\",-('CAPEX e OPEX'!$D$52*'Fluxo de Caixa Descontado'!$B$3*(1-'Parâmetros de Fluxo de Caixa'!$B$14)+'Parâmetros de Fluxo de Caixa'!$B$14*'Parâmetros de Fluxo de Caixa'!$B$16*-'Fluxo de Caixa Descontado'!O70),IF(N67=\"Operação\",-('CAPEX e OPEX'!$D$52*'Fluxo de Caixa Descontado'!$B$3),\"\")))","v":-3704.8279570518662},{"$f":"IF(O67=\"Construção\",0,IF(O67=\"Start-up\",-('CAPEX e OPEX'!$D$52*'Fluxo de Caixa Descontado'!$B$3*(1-'Parâmetros de Fluxo de Caixa'!$B$14)+'Parâmetros de Fluxo de Caixa'!$B$14*'Parâmetros de Fluxo de Caixa'!$B$16*-'Fluxo de Caixa Descontado'!P70),IF(O67=\"Operação\",-('CAPEX e OPEX'!$D$52*'Fluxo de Caixa Descontado'!$B$3),\"\")))","v":-3704.8279570518662},{"$f":"IF(P67=\"Construção\",0,IF(P67=\"Start-up\",-('CAPEX e OPEX'!$D$52*'Fluxo de Caixa Descontado'!$B$3*(1-'Parâmetros de Fluxo de Caixa'!$B$14)+'Parâmetros de Fluxo de Caixa'!$B$14*'Parâmetros de Fluxo de Caixa'!$B$16*-'Fluxo de Caixa Descontado'!Q70),IF(P67=\"Operação\",-('CAPEX e OPEX'!$D$52*'Fluxo de Caixa Descontado'!$B$3),\"\")))","v":-3704.8279570518662},{"$f":"IF(Q67=\"Construção\",0,IF(Q67=\"Start-up\",-('CAPEX e OPEX'!$D$52*'Fluxo de Caixa Descontado'!$B$3*(1-'Parâmetros de Fluxo de Caixa'!$B$14)+'Parâmetros de Fluxo de Caixa'!$B$14*'Parâmetros de Fluxo de Caixa'!$B$16*-'Fluxo de Caixa Descontado'!R70),IF(Q67=\"Operação\",-('CAPEX e OPEX'!$D$52*'Fluxo de Caixa Descontado'!$B$3),\"\")))","v":-3704.8279570518662},{"$f":"IF(R67=\"Construção\",0,IF(R67=\"Start-up\",-('CAPEX e OPEX'!$D$52*'Fluxo de Caixa Descontado'!$B$3*(1-'Parâmetros de Fluxo de Caixa'!$B$14)+'Parâmetros de Fluxo de Caixa'!$B$14*'Parâmetros de Fluxo de Caixa'!$B$16*-'Fluxo de Caixa Descontado'!S70),IF(R67=\"Operação\",-('CAPEX e OPEX'!$D$52*'Fluxo de Caixa Descontado'!$B$3),\"\")))","v":-3704.8279570518662},{"$f":"IF(S67=\"Construção\",0,IF(S67=\"Start-up\",-('CAPEX e OPEX'!$D$52*'Fluxo de Caixa Descontado'!$B$3*(1-'Parâmetros de Fluxo de Caixa'!$B$14)+'Parâmetros de Fluxo de Caixa'!$B$14*'Parâmetros de Fluxo de Caixa'!$B$16*-'Fluxo de Caixa Descontado'!T70),IF(S67=\"Operação\",-('CAPEX e OPEX'!$D$52*'Fluxo de Caixa Descontado'!$B$3),\"\")))","v":-3704.8279570518662},{"$f":"IF(T67=\"Construção\",0,IF(T67=\"Start-up\",-('CAPEX e OPEX'!$D$52*'Fluxo de Caixa Descontado'!$B$3*(1-'Parâmetros de Fluxo de Caixa'!$B$14)+'Parâmetros de Fluxo de Caixa'!$B$14*'Parâmetros de Fluxo de Caixa'!$B$16*-'Fluxo de Caixa Descontado'!U70),IF(T67=\"Operação\",-('CAPEX e OPEX'!$D$52*'Fluxo de Caixa Descontado'!$B$3),\"\")))","v":-3704.8279570518662},{"$f":"IF(U67=\"Construção\",0,IF(U67=\"Start-up\",-('CAPEX e OPEX'!$D$52*'Fluxo de Caixa Descontado'!$B$3*(1-'Parâmetros de Fluxo de Caixa'!$B$14)+'Parâmetros de Fluxo de Caixa'!$B$14*'Parâmetros de Fluxo de Caixa'!$B$16*-'Fluxo de Caixa Descontado'!V70),IF(U67=\"Operação\",-('CAPEX e OPEX'!$D$52*'Fluxo de Caixa Descontado'!$B$3),\"\")))","v":-3704.8279570518662},{"$f":"IF(V67=\"Construção\",0,IF(V67=\"Start-up\",-('CAPEX e OPEX'!$D$52*'Fluxo de Caixa Descontado'!$B$3*(1-'Parâmetros de Fluxo de Caixa'!$B$14)+'Parâmetros de Fluxo de Caixa'!$B$14*'Parâmetros de Fluxo de Caixa'!$B$16*-'Fluxo de Caixa Descontado'!W70),IF(V67=\"Operação\",-('CAPEX e OPEX'!$D$52*'Fluxo de Caixa Descontado'!$B$3),\"\")))","v":-3704.8279570518662},{"$f":"IF(W67=\"Construção\",0,IF(W67=\"Start-up\",-('CAPEX e OPEX'!$D$52*'Fluxo de Caixa Descontado'!$B$3*(1-'Parâmetros de Fluxo de Caixa'!$B$14)+'Parâmetros de Fluxo de Caixa'!$B$14*'Parâmetros de Fluxo de Caixa'!$B$16*-'Fluxo de Caixa Descontado'!X70),IF(W67=\"Operação\",-('CAPEX e OPEX'!$D$52*'Fluxo de Caixa Descontado'!$B$3),\"\")))","v":-3704.8279570518662},{"$f":"IF(X67=\"Construção\",0,IF(X67=\"Start-up\",-('CAPEX e OPEX'!$D$52*'Fluxo de Caixa Descontado'!$B$3*(1-'Parâmetros de Fluxo de Caixa'!$B$14)+'Parâmetros de Fluxo de Caixa'!$B$14*'Parâmetros de Fluxo de Caixa'!$B$16*-'Fluxo de Caixa Descontado'!Y70),IF(X67=\"Operação\",-('CAPEX e OPEX'!$D$52*'Fluxo de Caixa Descontado'!$B$3),\"\")))","v":-3704.8279570518662},{"$f":"IF(Y67=\"Construção\",0,IF(Y67=\"Start-up\",-('CAPEX e OPEX'!$D$52*'Fluxo de Caixa Descontado'!$B$3*(1-'Parâmetros de Fluxo de Caixa'!$B$14)+'Parâmetros de Fluxo de Caixa'!$B$14*'Parâmetros de Fluxo de Caixa'!$B$16*-'Fluxo de Caixa Descontado'!Z70),IF(Y67=\"Operação\",-('CAPEX e OPEX'!$D$52*'Fluxo de Caixa Descontado'!$B$3),\"\")))","v":""},{"$f":"IF(Z67=\"Construção\",0,IF(Z67=\"Start-up\",-('CAPEX e OPEX'!$D$52*'Fluxo de Caixa Descontado'!$B$3*(1-'Parâmetros de Fluxo de Caixa'!$B$14)+'Parâmetros de Fluxo de Caixa'!$B$14*'Parâmetros de Fluxo de Caixa'!$B$16*-'Fluxo de Caixa Descontado'!AA70),IF(Z67=\"Operação\",-('CAPEX e OPEX'!$D$52*'Fluxo de Caixa Descontado'!$B$3),\"\")))","v":""},{"$f":"IF(AA67=\"Construção\",0,IF(AA67=\"Start-up\",-('CAPEX e OPEX'!$D$52*'Fluxo de Caixa Descontado'!$B$3*(1-'Parâmetros de Fluxo de Caixa'!$B$14)+'Parâmetros de Fluxo de Caixa'!$B$14*'Parâmetros de Fluxo de Caixa'!$B$16*-'Fluxo de Caixa Descontado'!AB70),IF(AA67=\"Operação\",-('CAPEX e OPEX'!$D$52*'Fluxo de Caixa Descontado'!$B$3),\"\")))","v":""},{"$f":"IF(AB67=\"Construção\",0,IF(AB67=\"Start-up\",-('CAPEX e OPEX'!$D$52*'Fluxo de Caixa Descontado'!$B$3*(1-'Parâmetros de Fluxo de Caixa'!$B$14)+'Parâmetros de Fluxo de Caixa'!$B$14*'Parâmetros de Fluxo de Caixa'!$B$16*-'Fluxo de Caixa Descontado'!AC70),IF(AB67=\"Operação\",-('CAPEX e OPEX'!$D$52*'Fluxo de Caixa Descontado'!$B$3),\"\")))","v":""},{"$f":"IF(AC67=\"Construção\",0,IF(AC67=\"Start-up\",-('CAPEX e OPEX'!$D$52*'Fluxo de Caixa Descontado'!$B$3*(1-'Parâmetros de Fluxo de Caixa'!$B$14)+'Parâmetros de Fluxo de Caixa'!$B$14*'Parâmetros de Fluxo de Caixa'!$B$16*-'Fluxo de Caixa Descontado'!AD70),IF(AC67=\"Operação\",-('CAPEX e OPEX'!$D$52*'Fluxo de Caixa Descontado'!$B$3),\"\")))","v":""},{"$f":"IF(AD67=\"Construção\",0,IF(AD67=\"Start-up\",-('CAPEX e OPEX'!$D$52*'Fluxo de Caixa Descontado'!$B$3*(1-'Parâmetros de Fluxo de Caixa'!$B$14)+'Parâmetros de Fluxo de Caixa'!$B$14*'Parâmetros de Fluxo de Caixa'!$B$16*-'Fluxo de Caixa Descontado'!AE70),IF(AD67=\"Operação\",-('CAPEX e OPEX'!$D$52*'Fluxo de Caixa Descontado'!$B$3),\"\")))","v":""},{"$f":"IF(AE67=\"Construção\",0,IF(AE67=\"Start-up\",-('CAPEX e OPEX'!$D$52*'Fluxo de Caixa Descontado'!$B$3*(1-'Parâmetros de Fluxo de Caixa'!$B$14)+'Parâmetros de Fluxo de Caixa'!$B$14*'Parâmetros de Fluxo de Caixa'!$B$16*-'Fluxo de Caixa Descontado'!AF70),IF(AE67=\"Operação\",-('CAPEX e OPEX'!$D$52*'Fluxo de Caixa Descontado'!$B$3),\"\")))","v":""},{"$f":"IF(AF67=\"Construção\",0,IF(AF67=\"Start-up\",-('CAPEX e OPEX'!$D$52*'Fluxo de Caixa Descontado'!$B$3*(1-'Parâmetros de Fluxo de Caixa'!$B$14)+'Parâmetros de Fluxo de Caixa'!$B$14*'Parâmetros de Fluxo de Caixa'!$B$16*-'Fluxo de Caixa Descontado'!AG70),IF(AF67=\"Operação\",-('CAPEX e OPEX'!$D$52*'Fluxo de Caixa Descontado'!$B$3),\"\")))","v":""},{"$f":"IF(AG67=\"Construção\",0,IF(AG67=\"Start-up\",-('CAPEX e OPEX'!$D$52*'Fluxo de Caixa Descontado'!$B$3*(1-'Parâmetros de Fluxo de Caixa'!$B$14)+'Parâmetros de Fluxo de Caixa'!$B$14*'Parâmetros de Fluxo de Caixa'!$B$16*-'Fluxo de Caixa Descontado'!AH70),IF(AG67=\"Operação\",-('CAPEX e OPEX'!$D$52*'Fluxo de Caixa Descontado'!$B$3),\"\")))","v":""},{"$f":"IF(AH67=\"Construção\",0,IF(AH67=\"Start-up\",-('CAPEX e OPEX'!$D$52*'Fluxo de Caixa Descontado'!$B$3*(1-'Parâmetros de Fluxo de Caixa'!$B$14)+'Parâmetros de Fluxo de Caixa'!$B$14*'Parâmetros de Fluxo de Caixa'!$B$16*-'Fluxo de Caixa Descontado'!AI70),IF(AH67=\"Operação\",-('CAPEX e OPEX'!$D$52*'Fluxo de Caixa Descontado'!$B$3),\"\")))","v":""},{"$f":"IF(AI67=\"Construção\",0,IF(AI67=\"Start-up\",-('CAPEX e OPEX'!$D$52*'Fluxo de Caixa Descontado'!$B$3*(1-'Parâmetros de Fluxo de Caixa'!$B$14)+'Parâmetros de Fluxo de Caixa'!$B$14*'Parâmetros de Fluxo de Caixa'!$B$16*-'Fluxo de Caixa Descontado'!AJ70),IF(AI67=\"Operação\",-('CAPEX e OPEX'!$D$52*'Fluxo de Caixa Descontado'!$B$3),\"\")))","v":""},{"$f":"IF(AJ67=\"Construção\",0,IF(AJ67=\"Start-up\",-('CAPEX e OPEX'!$D$52*'Fluxo de Caixa Descontado'!$B$3*(1-'Parâmetros de Fluxo de Caixa'!$B$14)+'Parâmetros de Fluxo de Caixa'!$B$14*'Parâmetros de Fluxo de Caixa'!$B$16*-'Fluxo de Caixa Descontado'!AK70),IF(AJ67=\"Operação\",-('CAPEX e OPEX'!$D$52*'Fluxo de Caixa Descontado'!$B$3),\"\")))","v":""},{"$f":"IF(AK67=\"Construção\",0,IF(AK67=\"Start-up\",-('CAPEX e OPEX'!$D$52*'Fluxo de Caixa Descontado'!$B$3*(1-'Parâmetros de Fluxo de Caixa'!$B$14)+'Parâmetros de Fluxo de Caixa'!$B$14*'Parâmetros de Fluxo de Caixa'!$B$16*-'Fluxo de Caixa Descontado'!AL70),IF(AK67=\"Operação\",-('CAPEX e OPEX'!$D$52*'Fluxo de Caixa Descontado'!$B$3),\"\")))","v":""},{"$f":"IF(AL67=\"Construção\",0,IF(AL67=\"Start-up\",-('CAPEX e OPEX'!$D$52*'Fluxo de Caixa Descontado'!$B$3*(1-'Parâmetros de Fluxo de Caixa'!$B$14)+'Parâmetros de Fluxo de Caixa'!$B$14*'Parâmetros de Fluxo de Caixa'!$B$16*-'Fluxo de Caixa Descontado'!AM70),IF(AL67=\"Operação\",-('CAPEX e OPEX'!$D$52*'Fluxo de Caixa Descontado'!$B$3),\"\")))","v":""},{"$f":"IF(AM67=\"Construção\",0,IF(AM67=\"Start-up\",-('CAPEX e OPEX'!$D$52*'Fluxo de Caixa Descontado'!$B$3*(1-'Parâmetros de Fluxo de Caixa'!$B$14)+'Parâmetros de Fluxo de Caixa'!$B$14*'Parâmetros de Fluxo de Caixa'!$B$16*-'Fluxo de Caixa Descontado'!AN70),IF(AM67=\"Operação\",-('CAPEX e OPEX'!$D$52*'Fluxo de Caixa Descontado'!$B$3),\"\")))","v":""},{"$f":"IF(AN67=\"Construção\",0,IF(AN67=\"Start-up\",-('CAPEX e OPEX'!$D$52*'Fluxo de Caixa Descontado'!$B$3*(1-'Parâmetros de Fluxo de Caixa'!$B$14)+'Parâmetros de Fluxo de Caixa'!$B$14*'Parâmetros de Fluxo de Caixa'!$B$16*-'Fluxo de Caixa Descontado'!AO70),IF(AN67=\"Operação\",-('CAPEX e OPEX'!$D$52*'Fluxo de Caixa Descontado'!$B$3),\"\")))","v":""},{"$f":"IF(AO67=\"Construção\",0,IF(AO67=\"Start-up\",-('CAPEX e OPEX'!$D$52*'Fluxo de Caixa Descontado'!$B$3*(1-'Parâmetros de Fluxo de Caixa'!$B$14)+'Parâmetros de Fluxo de Caixa'!$B$14*'Parâmetros de Fluxo de Caixa'!$B$16*-'Fluxo de Caixa Descontado'!AP70),IF(AO67=\"Operação\",-('CAPEX e OPEX'!$D$52*'Fluxo de Caixa Descontado'!$B$3),\"\")))","v":""},{"$f":"IF(AP67=\"Construção\",0,IF(AP67=\"Start-up\",-('CAPEX e OPEX'!$D$52*'Fluxo de Caixa Descontado'!$B$3*(1-'Parâmetros de Fluxo de Caixa'!$B$14)+'Parâmetros de Fluxo de Caixa'!$B$14*'Parâmetros de Fluxo de Caixa'!$B$16*-'Fluxo de Caixa Descontado'!AQ70),IF(AP67=\"Operação\",-('CAPEX e OPEX'!$D$52*'Fluxo de Caixa Descontado'!$B$3),\"\")))","v":""},{"$f":"IF(AQ67=\"Construção\",0,IF(AQ67=\"Start-up\",-('CAPEX e OPEX'!$D$52*'Fluxo de Caixa Descontado'!$B$3*(1-'Parâmetros de Fluxo de Caixa'!$B$14)+'Parâmetros de Fluxo de Caixa'!$B$14*'Parâmetros de Fluxo de Caixa'!$B$16*-'Fluxo de Caixa Descontado'!AR70),IF(AQ67=\"Operação\",-('CAPEX e OPEX'!$D$52*'Fluxo de Caixa Descontado'!$B$3),\"\")))","v":""},{"$f":"IF(AR67=\"Construção\",0,IF(AR67=\"Start-up\",-('CAPEX e OPEX'!$D$52*'Fluxo de Caixa Descontado'!$B$3*(1-'Parâmetros de Fluxo de Caixa'!$B$14)+'Parâmetros de Fluxo de Caixa'!$B$14*'Parâmetros de Fluxo de Caixa'!$B$16*-'Fluxo de Caixa Descontado'!AV70),IF(AR67=\"Operação\",-('CAPEX e OPEX'!$D$52*'Fluxo de Caixa Descontado'!$B$3),\"\")))","v":""},{"$f":"IF(AS67=\"Construção\",0,IF(AS67=\"Start-up\",-('CAPEX e OPEX'!$D$52*'Fluxo de Caixa Descontado'!$B$3*(1-'Parâmetros de Fluxo de Caixa'!$B$14)+'Parâmetros de Fluxo de Caixa'!$B$14*'Parâmetros de Fluxo de Caixa'!$B$16*-'Fluxo de Caixa Descontado'!AW70),IF(AS67=\"Operação\",-('CAPEX e OPEX'!$D$52*'Fluxo de Caixa Descontado'!$B$3),\"\")))","v":""},{"$f":"IF(AT67=\"Construção\",0,IF(AT67=\"Start-up\",-('CAPEX e OPEX'!$D$52*'Fluxo de Caixa Descontado'!$B$3*(1-'Parâmetros de Fluxo de Caixa'!$B$14)+'Parâmetros de Fluxo de Caixa'!$B$14*'Parâmetros de Fluxo de Caixa'!$B$16*-'Fluxo de Caixa Descontado'!AX70),IF(AT67=\"Operação\",-('CAPEX e OPEX'!$D$52*'Fluxo de Caixa Descontado'!$B$3),\"\")))","v":""},{"$f":"IF(AU67=\"Construção\",0,IF(AU67=\"Start-up\",-('CAPEX e OPEX'!$D$52*'Fluxo de Caixa Descontado'!$B$3*(1-'Parâmetros de Fluxo de Caixa'!$B$14)+'Parâmetros de Fluxo de Caixa'!$B$14*'Parâmetros de Fluxo de Caixa'!$B$16*-'Fluxo de Caixa Descontado'!AY70),IF(AU67=\"Operação\",-('CAPEX e OPEX'!$D$52*'Fluxo de Caixa Descontado'!$B$3),\"\")))","v":""},{"$f":"IF(AV67=\"Construção\",0,IF(AV67=\"Start-up\",-('CAPEX e OPEX'!$D$52*'Fluxo de Caixa Descontado'!$B$3*(1-'Parâmetros de Fluxo de Caixa'!$B$14)+'Parâmetros de Fluxo de Caixa'!$B$14*'Parâmetros de Fluxo de Caixa'!$B$16*-'Fluxo de Caixa Descontado'!AZ70),IF(AV67=\"Operação\",-('CAPEX e OPEX'!$D$52*'Fluxo de Caixa Descontado'!$B$3),\"\")))","v":""}]
["OPEX fixo (milhões R$ / ano)",{"$f":"IF(B67=\"Construção\",0,IF(B67=\"Start-up\",-('CAPEX e OPEX'!$D$58*'Fluxo de Caixa Descontado'!$B$3*(1-'Parâmetros de Fluxo de Caixa'!$B$14)+'Parâmetros de Fluxo de Caixa'!$B$14*'Parâmetros de Fluxo de Caixa'!$B$17*(-'Fluxo de Caixa Descontado'!F71)),IF(B67=\"Operação\",-'CAPEX e OPEX'!$D$58*'Fluxo de Caixa Descontado'!$B$3,\"\")))","v":0},{"$f":"IF(C67=\"Construção\",0,IF(C67=\"Start-up\",-('CAPEX e OPEX'!$D$58*'Fluxo de Caixa Descontado'!$B$3*(1-'Parâmetros de Fluxo de Caixa'!$B$14)+'Parâmetros de Fluxo de Caixa'!$B$14*'Parâmetros de Fluxo de Caixa'!$B$17*(-'Fluxo de Caixa Descontado'!G71)),IF(C67=\"Operação\",-'CAPEX e OPEX'!$D$58*'Fluxo de Caixa Descontado'!$B$3,\"\")))","v":0},{"$f":"IF(D67=\"Construção\",0,IF(D67=\"Start-up\",-('CAPEX e OPEX'!$D$58*'Fluxo de Caixa Descontado'!$B$3*(1-'Parâmetros de Fluxo de Caixa'!$B$14)+'Parâmetros de Fluxo de Caixa'!$B$14*'Parâmetros de Fluxo de Caixa'!$B$17*(-'Fluxo de Caixa Descontado'!H71)),IF(D67=\"Operação\",-'CAPEX e OPEX'!$D$58*'Fluxo de Caixa Descontado'!$B$3,\"\")))","v":0},{"$f":"IF(E67=\"Construção\",0,IF(E67=\"Start-up\",-('CAPEX e OPEX'!$D$58*'Fluxo de Caixa Descontado'!$B$3*(1-'Parâmetros de Fluxo de Caixa'!$B$14)+'Parâmetros de Fluxo de Caixa'!$B$14*'Parâmetros de Fluxo de Caixa'!$B$17*(-'Fluxo de Caixa Descontado'!I71)),IF(E67=\"Operação\",-'CAPEX e OPEX'!$D$58*'Fluxo de Caixa Descontado'!$B$3,\"\")))","v":-364.30175171976941},{"$f":"IF(F67=\"Construção\",0,IF(F67=\"Start-up\",-('CAPEX e OPEX'!$D$58*'Fluxo de Caixa Descontado'!$B$3*(1-'Parâmetros de Fluxo de Caixa'!$B$14)+'Parâmetros de Fluxo de Caixa'!$B$14*'Parâmetros de Fluxo de Caixa'!$B$17*(-'Fluxo de Caixa Descontado'!J71)),IF(F67=\"Operação\",-'CAPEX e OPEX'!$D$58*'Fluxo de Caixa Descontado'!$B$3,\"\")))","v":-364.30175171976941},{"$f":"IF(G67=\"Construção\",0,IF(G67=\"Start-up\",-('CAPEX e OPEX'!$D$58*'Fluxo de Caixa Descontado'!$B$3*(1-'Parâmetros de Fluxo de Caixa'!$B$14)+'Parâmetros de Fluxo de Caixa'!$B$14*'Parâmetros de Fluxo de Caixa'!$B$17*(-'Fluxo de Caixa Descontado'!K71)),IF(G67=\"Operação\",-'CAPEX e OPEX'!$D$58*'Fluxo de Caixa Descontado'!$B$3,\"\")))","v":-364.30175171976941},{"$f":"IF(H67=\"Construção\",0,IF(H67=\"Start-up\",-('CAPEX e OPEX'!$D$58*'Fluxo de Caixa Descontado'!$B$3*(1-'Parâmetros de Fluxo de Caixa'!$B$14)+'Parâmetros de Fluxo de Caixa'!$B$14*'Parâmetros de Fluxo de Caixa'!$B$17*(-'Fluxo de Caixa Descontado'!L71)),IF(H67=\"Operação\",-'CAPEX e OPEX'!$D$58*'Fluxo de Caixa Descontado'!$B$3,\"\")))","v":-364.30175171976941},{"$f":"IF(I67=\"Construção\",0,IF(I67=\"Start-up\",-('CAPEX e OPEX'!$D$58*'Fluxo de Caixa Descontado'!$B$3*(1-'Parâmetros de Fluxo de Caixa'!$B$14)+'Parâmetros de Fluxo de Caixa'!$B$14*'Parâmetros de Fluxo de Caixa'!$B$17*(-'Fluxo de Caixa Descontado'!M71)),IF(I67=\"Operação\",-'CAPEX e OPEX'!$D$58*'Fluxo de Caixa Descontado'!$B$3,\"\")))","v":-364.30175171976941},{"$f":"IF(J67=\"Construção\",0,IF(J67=\"Start-up\",-('CAPEX e OPEX'!$D$58*'Fluxo de Caixa Descontado'!$B$3*(1-'Parâmetros de Fluxo de Caixa'!$B$14)+'Parâmetros de Fluxo de Caixa'!$B$14*'Parâmetros de Fluxo de Caixa'!$B$17*(-'Fluxo de Caixa Descontado'!N71)),IF(J67=\"Operação\",-'CAPEX e OPEX'!$D$58*'Fluxo de Caixa Descontado'!$B$3,\"\")))","v":-364.30175171976941},{"$f":"IF(K67=\"Construção\",0,IF(K67=\"Start-up\",-('CAPEX e OPEX'!$D$58*'Fluxo de Caixa Descontado'!$B$3*(1-'Parâmetros de Fluxo de Caixa'!$B$14)+'Parâmetros de Fluxo de Caixa'!$B$14*'Parâmetros de Fluxo de Caixa'!$B$17*(-'Fluxo de Caixa Descontado'!O71)),IF(K67=\"Operação\",-'CAPEX e OPEX'!$D$58*'Fluxo de Caixa Descontado'!$B$3,\"\")))","v":-364.30175171976941},{"$f":"IF(L67=\"Construção\",0,IF(L67=\"Start-up\",-('CAPEX e OPEX'!$D$58*'Fluxo de Caixa Descontado'!$B$3*(1-'Parâmetros de Fluxo de Caixa'!$B$14)+'Parâmetros de Fluxo de Caixa'!$B$14*'Parâmetros de Fluxo de Caixa'!$B$17*(-'Fluxo de Caixa Descontado'!P71)),IF(L67=\"Operação\",-'CAPEX e OPEX'!$D$58*'Fluxo de Caixa Descontado'!$B$3,\"\")))","v":-364.30175171976941},{"$f":"IF(M67=\"Construção\",0,IF(M67=\"Start-up\",-('CAPEX e OPEX'!$D$58*'Fluxo de Caixa Descontado'!$B$3*(1-'Parâmetros de Fluxo de Caixa'!$B$14)+'Parâmetros de Fluxo de Caixa'!$B$14*'Parâmetros de Fluxo de Caixa'!$B$17*(-'Fluxo de Caixa Descontado'!Q71)),IF(M67=\"Operação\",-'CAPEX e OPEX'!$D$58*'Fluxo de Caixa Descontado'!$B$3,\"\")))","v":-364.30175171976941},{"$f":"IF(N67=\"Construção\",0,IF(N67=\"Start-up\",-('CAPEX e OPEX'!$D$58*'Fluxo de Caixa Descontado'!$B$3*(1-'Parâmetros de Fluxo de Caixa'!$B$14)+'Parâmetros de Fluxo de Caixa'!$B$14*'Parâmetros de Fluxo de Caixa'!$B$17*(-'Fluxo de Caixa Descontado'!R71)),IF(N67=\"Operação\",-'CAPEX e OPEX'!$D$58*'Fluxo de Caixa Descontado'!$B$3,\"\")))","v":-364.30175171976941},{"$f":"IF(O67=\"Construção\",0,IF(O67=\"Start-up\",-('CAPEX e OPEX'!$D$58*'Fluxo de Caixa Descontado'!$B$3*(1-'Parâmetros de Fluxo de Caixa'!$B$14)+'Parâmetros de Fluxo de Caixa'!$B$14*'Parâmetros de Fluxo de Caixa'!$B$17*(-'Fluxo de Caixa Descontado'!S71)),IF(O67=\"Operação\",-'CAPEX e OPEX'!$D$58*'Fluxo de Caixa Descontado'!$B$3,\"\")))","v":-364.30175171976941},{"$f":"IF(P67=\"Construção\",0,IF(P67=\"Start-up\",-('CAPEX e OPEX'!$D$58*'Fluxo de Caixa Descontado'!$B$3*(1-'Parâmetros de Fluxo de Caixa'!$B$14)+'Parâmetros de Fluxo de Caixa'!$B$14*'Parâmetros de Fluxo de Caixa'!$B$17*(-'Fluxo de Caixa Descontado'!T71)),IF(P67=\"Operação\",-'CAPEX e OPEX'!$D$58*'Fluxo de Caixa Descontado'!$B$3,\"\")))","v":-364.30175171976941},{"$f":"IF(Q67=\"Construção\",0,IF(Q67=\"Start-up\",-('CAPEX e OPEX'!$D$58*'Fluxo de Caixa Descontado'!$B$3*(1-'Parâmetros de Fluxo de Caixa'!$B$14)+'Parâmetros de Fluxo de Caixa'!$B$14*'Parâmetros de Fluxo de Caixa'!$B$17*(-'Fluxo de Caixa Descontado'!U71)),IF(Q67=\"Operação\",-'CAPEX e OPEX'!$D$58*'Fluxo de Caixa Descontado'!$B$3,\"\")))","v":-364.30175171976941},{"$f":"IF(R67=\"Construção\",0,IF(R67=\"Start-up\",-('CAPEX e OPEX'!$D$58*'Fluxo de Caixa Descontado'!$B$3*(1-'Parâmetros de Fluxo de Caixa'!$B$14)+'Parâmetros de Fluxo de Caixa'!$B$14*'Parâmetros de Fluxo de Caixa'!$B$17*(-'Fluxo de Caixa Descontado'!V71)),IF(R67=\"Operação\",-'CAPEX e OPEX'!$D$58*'Fluxo de Caixa Descontado'!$B$3,\"\")))","v":-364.30175171976941},{"$f":"IF(S67=\"Construção\",0,IF(S67=\"Start-up\",-('CAPEX e OPEX'!$D$58*'Fluxo de Caixa Descontado'!$B$3*(1-'Parâmetros de Fluxo de Caixa'!$B$14)+'Parâmetros de Fluxo de Caixa'!$B$14*'Parâmetros de Fluxo de Caixa'!$B$17*(-'Fluxo de Caixa Descontado'!W71)),IF(S67=\"Operação\",-'CAPEX e OPEX'!$D$58*'Fluxo de Caixa Descontado'!$B$3,\"\")))","v":-364.30175171976941},{"$f":"IF(T67=\"Construção\",0,IF(T67=\"Start-up\",-('CAPEX e OPEX'!$D$58*'Fluxo de Caixa Descontado'!$B$3*(1-'Parâmetros de Fluxo de Caixa'!$B$14)+'Parâmetros de Fluxo de Caixa'!$B$14*'Parâmetros de Fluxo de Caixa'!$B$17*(-'Fluxo de Caixa Descontado'!X71)),IF(T67=\"Operação\",-'CAPEX e OPEX'!$D$58*'Fluxo de Caixa Descontado'!$B$3,\"\")))","v":-364.30175171976941},{"$f":"IF(U67=\"Construção\",0,IF(U67=\"Start-up\",-('CAPEX e OPEX'!$D$58*'Fluxo de Caixa Descontado'!$B$3*(1-'Parâmetros de Fluxo de Caixa'!$B$14)+'Parâmetros de Fluxo de Caixa'!$B$14*'Parâmetros de Fluxo de Caixa'!$B$17*(-'Fluxo de Caixa Descontado'!Y71)),IF(U67=\"Operação\",-'CAPEX e OPEX'!$D$58*'Fluxo de Caixa Descontado'!$B$3,\"\")))","v":-364.30175171976941},{"$f":"IF(V67=\"Construção\",0,IF(V67=\"Start-up\",-('CAPEX e OPEX'!$D$58*'Fluxo de Caixa Descontado'!$B$3*(1-'Parâmetros de Fluxo de Caixa'!$B$14)+'Parâmetros de Fluxo de Caixa'!$B$14*'Parâmetros de Fluxo de Caixa'!$B$17*(-'Fluxo de Caixa Descontado'!Z71)),IF(V67=\"Operação\",-'CAPEX e OPEX'!$D$58*'Fluxo de Caixa Descontado'!$B$3,\"\")))","v":-364.30175171976941},{"$f":"IF(W67=\"Construção\",0,IF(W67=\"Start-up\",-('CAPEX e OPEX'!$D$58*'Fluxo de Caixa Descontado'!$B$3*(1-'Parâmetros de Fluxo de Caixa'!$B$14)+'Parâmetros de Fluxo de Caixa'!$B$14*'Parâmetros de Fluxo de Caixa'!$B$17*(-'Fluxo de Caixa Descontado'!AA71)),IF(W67=\"Operação\",-'CAPEX e OPEX'!$D$58*'Fluxo de Caixa Descontado'!$B$3,\"\")))","v":-364.30175171976941},{"$f":"IF(X67=\"Construção\",0,IF(X67=\"Start-up\",-('CAPEX e OPEX'!$D$58*'Fluxo de Caixa Descontado'!$B$3*(1-'Parâmetros de Fluxo de Caixa'!$B$14)+'Parâmetros de Fluxo de Caixa'!$B$14*'Parâmetros de Fluxo de Caixa'!$B$17*(-'Fluxo de Caixa Descontado'!AB71)),IF(X67=\"Operação\",-'CAPEX e OPEX'!$D$58*'Fluxo de Caixa Descontado'!$B$3,\"\")))","v":-364.30175171976941},{"$f":"IF(Y67=\"Construção\",0,IF(Y67=\"Start-up\",-('CAPEX e OPEX'!$D$58*'Fluxo de Caixa Descontado'!$B$3*(1-'Parâmetros de Fluxo de Caixa'!$B$14)+'Parâmetros de Fluxo de Caixa'!$B$14*'Parâmetros de Fluxo de Caixa'!$B$17*(-'Fluxo de Caixa Descontado'!AC71)),IF(Y67=\"Operação\",-'CAPEX e OPEX'!$D$58*'Fluxo de Caixa Descontado'!$B$3,\"\")))","v":""},{"$f":"IF(Z67=\"Construção\",0,IF(Z67=\"Start-up\",-('CAPEX e OPEX'!$D$58*'Fluxo de Caixa Descontado'!$B$3*(1-'Parâmetros de Fluxo de Caixa'!$B$14)+'Parâmetros de Fluxo de Caixa'!$B$14*'Parâmetros de Fluxo de Caixa'!$B$17*(-'Fluxo de Caixa Descontado'!AD71)),IF(Z67=\"Operação\",-'CAPEX e OPEX'!$D$58*'Fluxo de Caixa Descontado'!$B$3,\"\")))","v":""},{"$f":"IF(AA67=\"Construção\",0,IF(AA67=\"Start-up\",-('CAPEX e OPEX'!$D$58*'Fluxo de Caixa Descontado'!$B$3*(1-'Parâmetros de Fluxo de Caixa'!$B$14)+'Parâmetros de Fluxo de Caixa'!$B$14*'Parâmetros de Fluxo de Caixa'!$B$17*(-'Fluxo de Caixa Descontado'!AE71)),IF(AA67=\"Operação\",-'CAPEX e OPEX'!$D$58*'Fluxo de Caixa Descontado'!$B$3,\"\")))","v":""},{"$f":"IF(AB67=\"Construção\",0,IF(AB67=\"Start-up\",-('CAPEX e OPEX'!$D$58*'Fluxo de Caixa Descontado'!$B$3*(1-'Parâmetros de Fluxo de Caixa'!$B$14)+'Parâmetros de Fluxo de Caixa'!$B$14*'Parâmetros de Fluxo de Caixa'!$B$17*(-'Fluxo de Caixa Descontado'!AF71)),IF(AB67=\"Operação\",-'CAPEX e OPEX'!$D$58*'Fluxo de Caixa Descontado'!$B$3,\"\")))","v":""},{"$f":"IF(AC67=\"Construção\",0,IF(AC67=\"Start-up\",-('CAPEX e OPEX'!$D$58*'Fluxo de Caixa Descontado'!$B$3*(1-'Parâmetros de Fluxo de Caixa'!$B$14)+'Parâmetros de Fluxo de Caixa'!$B$14*'Parâmetros de Fluxo de Caixa'!$B$17*(-'Fluxo de Caixa Descontado'!AG71)),IF(AC67=\"Operação\",-'CAPEX e OPEX'!$D$58*'Fluxo de Caixa Descontado'!$B$3,\"\")))","v":""},{"$f":"IF(AD67=\"Construção\",0,IF(AD67=\"Start-up\",-('CAPEX e OPEX'!$D$58*'Fluxo de Caixa Descontado'!$B$3*(1-'Parâmetros de Fluxo de Caixa'!$B$14)+'Parâmetros de Fluxo de Caixa'!$B$14*'Parâmetros de Fluxo de Caixa'!$B$17*(-'Fluxo de Caixa Descontado'!AH71)),IF(AD67=\"Operação\",-'CAPEX e OPEX'!$D$58*'Fluxo de Caixa Descontado'!$B$3,\"\")))","v":""},{"$f":"IF(AE67=\"Construção\",0,IF(AE67=\"Start-up\",-('CAPEX e OPEX'!$D$58*'Fluxo de Caixa Descontado'!$B$3*(1-'Parâmetros de Fluxo de Caixa'!$B$14)+'Parâmetros de Fluxo de Caixa'!$B$14*'Parâmetros de Fluxo de Caixa'!$B$17*(-'Fluxo de Caixa Descontado'!AI71)),IF(AE67=\"Operação\",-'CAPEX e OPEX'!$D$58*'Fluxo de Caixa Descontado'!$B$3,\"\")))","v":""},{"$f":"IF(AF67=\"Construção\",0,IF(AF67=\"Start-up\",-('CAPEX e OPEX'!$D$58*'Fluxo de Caixa Descontado'!$B$3*(1-'Parâmetros de Fluxo de Caixa'!$B$14)+'Parâmetros de Fluxo de Caixa'!$B$14*'Parâmetros de Fluxo de Caixa'!$B$17*(-'Fluxo de Caixa Descontado'!AJ71)),IF(AF67=\"Operação\",-'CAPEX e OPEX'!$D$58*'Fluxo de Caixa Descontado'!$B$3,\"\")))","v":""},{"$f":"IF(AG67=\"Construção\",0,IF(AG67=\"Start-up\",-('CAPEX e OPEX'!$D$58*'Fluxo de Caixa Descontado'!$B$3*(1-'Parâmetros de Fluxo de Caixa'!$B$14)+'Parâmetros de Fluxo de Caixa'!$B$14*'Parâmetros de Fluxo de Caixa'!$B$17*(-'Fluxo de Caixa Descontado'!AK71)),IF(AG67=\"Operação\",-'CAPEX e OPEX'!$D$58*'Fluxo de Caixa Descontado'!$B$3,\"\")))","v":""},{"$f":"IF(AH67=\"Construção\",0,IF(AH67=\"Start-up\",-('CAPEX e OPEX'!$D$58*'Fluxo de Caixa Descontado'!$B$3*(1-'Parâmetros de Fluxo de Caixa'!$B$14)+'Parâmetros de Fluxo de Caixa'!$B$14*'Parâmetros de Fluxo de Caixa'!$B$17*(-'Fluxo de Caixa Descontado'!AL71)),IF(AH67=\"Operação\",-'CAPEX e OPEX'!$D$58*'Fluxo de Caixa Descontado'!$B$3,\"\")))","v":""},{"$f":"IF(AI67=\"Construção\",0,IF(AI67=\"Start-up\",-('CAPEX e OPEX'!$D$58*'Fluxo de Caixa Descontado'!$B$3*(1-'Parâmetros de Fluxo de Caixa'!$B$14)+'Parâmetros de Fluxo de Caixa'!$B$14*'Parâmetros de Fluxo de Caixa'!$B$17*(-'Fluxo de Caixa Descontado'!AM71)),IF(AI67=\"Operação\",-'CAPEX e OPEX'!$D$58*'Fluxo de Caixa Descontado'!$B$3,\"\")))","v":""},{"$f":"IF(AJ67=\"Construção\",0,IF(AJ67=\"Start-up\",-('CAPEX e OPEX'!$D$58*'Fluxo de Caixa Descontado'!$B$3*(1-'Parâmetros de Fluxo de Caixa'!$B$14)+'Parâmetros de Fluxo de Caixa'!$B$14*'Parâmetros de Fluxo de Caixa'!$B$17*(-'Fluxo de Caixa Descontado'!AN71)),IF(AJ67=\"Operação\",-'CAPEX e OPEX'!$D$58*'Fluxo de Caixa Descontado'!$B$3,\"\")))","v":""},{"$f":"IF(AK67=\"Construção\",0,IF(AK67=\"Start-up\",-('CAPEX e OPEX'!$D$58*'Fluxo de Caixa Descontado'!$B$3*(1-'Parâmetros de Fluxo de Caixa'!$B$14)+'Parâmetros de Fluxo de Caixa'!$B$14*'Parâmetros de Fluxo de Caixa'!$B$17*(-'Fluxo de Caixa Descontado'!AO71)),IF(AK67=\"Operação\",-'CAPEX e OPEX'!$D$58*'Fluxo de Caixa Descontado'!$B$3,\"\")))","v":""},{"$f":"IF(AL67=\"Construção\",0,IF(AL67=\"Start-up\",-('CAPEX e OPEX'!$D$58*'Fluxo de Caixa Descontado'!$B$3*(1-'Parâmetros de Fluxo de Caixa'!$B$14)+'Parâmetros de Fluxo de Caixa'!$B$14*'Parâmetros de Fluxo de Caixa'!$B$17*(-'Fluxo de Caixa Descontado'!AP71)),IF(AL67=\"Operação\",-'CAPEX e OPEX'!$D$58*'Fluxo de Caixa Descontado'!$B$3,\"\")))","v":""},{"$f":"IF(AM67=\"Construção\",0,IF(AM67=\"Start-up\",-('CAPEX e OPEX'!$D$58*'Fluxo de Caixa Descontado'!$B$3*(1-'Parâmetros de Fluxo de Caixa'!$B$14)+'Parâmetros de Fluxo de Caixa'!$B$14*'Parâmetros de Fluxo de Caixa'!$B$17*(-'Fluxo de Caixa Descontado'!AQ71)),IF(AM67=\"Operação\",-'CAPEX e OPEX'!$D$58*'Fluxo de Caixa Descontado'!$B$3,\"\")))","v":""},{"$f":"IF(AN67=\"Construção\",0,IF(AN67=\"Start-up\",-('CAPEX e OPEX'!$D$58*'Fluxo de Caixa Descontado'!$B$3*(1-'Parâmetros de Fluxo de Caixa'!$B$14)+'Parâmetros de Fluxo de Caixa'!$B$14*'Parâmetros de Fluxo de Caixa'!$B$17*(-'Fluxo de Caixa Descontado'!AR71)),IF(AN67=\"Operação\",-'CAPEX e OPEX'!$D$58*'Fluxo de Caixa Descontado'!$B$3,\"\")))","v":""},{"$f":"IF(AO67=\"Construção\",0,IF(AO67=\"Start-up\",-('CAPEX e OPEX'!$D$58*'Fluxo de Caixa Descontado'!$B$3*(1-'Parâmetros de Fluxo de Caixa'!$B$14)+'Parâmetros de Fluxo de Caixa'!$B$14*'Parâmetros de Fluxo de Caixa'!$B$17*(-'Fluxo de Caixa Descontado'!AV71)),IF(AO67=\"Operação\",-'CAPEX e OPEX'!$D$58*'Fluxo de Caixa Descontado'!$B$3,\"\")))","v":""},{"$f":"IF(AP67=\"Construção\",0,IF(AP67=\"Start-up\",-('CAPEX e OPEX'!$D$58*'Fluxo de Caixa Descontado'!$B$3*(1-'Parâmetros de Fluxo de Caixa'!$B$14)+'Parâmetros de Fluxo de Caixa'!$B$14*'Parâmetros de Fluxo de Caixa'!$B$17*(-'Fluxo de Caixa Descontado'!AW71)),IF(AP67=\"Operação\",-'CAPEX e OPEX'!$D$58*'Fluxo de Caixa Descontado'!$B$3,\"\")))","v":""},{"$f":"IF(AQ67=\"Construção\",0,IF(AQ67=\"Start-up\",-('CAPEX e OPEX'!$D$58*'Fluxo de Caixa Descontado'!$B$3*(1-'Parâmetros de Fluxo de Caixa'!$B$14)+'Parâmetros de Fluxo de Caixa'!$B$14*'Parâmetros de Fluxo de Caixa'!$B$17*(-'Fluxo de Caixa Descontado'!AX71)),IF(AQ67=\"Operação\",-'CAPEX e OPEX'!$D$58*'Fluxo de Caixa Descontado'!$B$3,\"\")))","v":""},{"$f":"IF(AR67=\"Construção\",0,IF(AR67=\"Start-up\",-('CAPEX e OPEX'!$D$58*'Fluxo de Caixa Descontado'!$B$3*(1-'Parâmetros de Fluxo de Caixa'!$B$14)+'Parâmetros de Fluxo de Caixa'!$B$14*'Parâmetros de Fluxo de Caixa'!$B$17*(-'Fluxo de Caixa Descontado'!AY71)),IF(AR67=\"Operação\",-'CAPEX e OPEX'!$D$58*'Fluxo de Caixa Descontado'!$B$3,\"\")))","v":""},{"$f":"IF(AS67=\"Construção\",0,IF(AS67=\"Start-up\",-('CAPEX e OPEX'!$D$58*'Fluxo de Caixa Descontado'!$B$3*(1-'Parâmetros de Fluxo de Caixa'!$B$14)+'Parâmetros de Fluxo de Caixa'!$B$14*'Parâmetros de Fluxo de Caixa'!$B$17*(-'Fluxo de Caixa Descontado'!AZ71)),IF(AS67=\"Operação\",-'CAPEX e OPEX'!$D$58*'Fluxo de Caixa Descontado'!$B$3,\"\")))","v":""},{"$f":"IF(AT67=\"Construção\",0,IF(AT67=\"Start-up\",-('CAPEX e OPEX'!$D$58*'Fluxo de Caixa Descontado'!$B$3*(1-'Parâmetros de Fluxo de Caixa'!$B$14)+'Parâmetros de Fluxo de Caixa'!$B$14*'Parâmetros de Fluxo de Caixa'!$B$17*(-'Fluxo de Caixa Descontado'!BA71)),IF(AT67=\"Operação\",-'CAPEX e OPEX'!$D$58*'Fluxo de Caixa Descontado'!$B$3,\"\")))","v":""},{"$f":"IF(AU67=\"Construção\",0,IF(AU67=\"Start-up\",-('CAPEX e OPEX'!$D$58*'Fluxo de Caixa Descontado'!$B$3*(1-'Parâmetros de Fluxo de Caixa'!$B$14)+'Parâmetros de Fluxo de Caixa'!$B$14*'Parâmetros de Fluxo de Caixa'!$B$17*(-'Fluxo de Caixa Descontado'!BB71)),IF(AU67=\"Operação\",-'CAPEX e OPEX'!$D$58*'Fluxo de Caixa Descontado'!$B$3,\"\")))","v":""},{"$f":"IF(AV67=\"Construção\",0,IF(AV67=\"Start-up\",-('CAPEX e OPEX'!$D$58*'Fluxo de Caixa Descontado'!$B$3*(1-'Parâmetros de Fluxo de Caixa'!$B$14)+'Parâmetros de Fluxo de Caixa'!$B$14*'Parâmetros de Fluxo de Caixa'!$B$17*(-'Fluxo de Caixa Descontado'!BC71)),IF(AV67=\"Operação\",-'CAPEX e OPEX'!$D$58*'Fluxo de Caixa Descontado'!$B$3,\"\")))","v":""}]
["Custo de Capital Equity (milhões R$ / ano)",{"$f":"IF(B67=\"Construção\",-('Parâmetros de Fluxo de Caixa'!$B$6*'Parâmetros de Fluxo de Caixa'!$B$23*'CAPEX e OPEX'!D3/10^6),0)","v":-179.34855469280959},{"$f":"IF(C67=\"Construção\",-('Parâmetros de Fluxo de Caixa'!$B$7*'Parâmetros de Fluxo de Caixa'!$B$23*'CAPEX e OPEX'!D3/10^6),0)","v":-1345.1141601960717},{"$f":"IF(D67=\"Construção\",-('Parâmetros de Fluxo de Caixa'!$B$8*'Parâmetros de Fluxo de Caixa'!$B$23*'CAPEX e OPEX'!D3/10^6),0)","v":-717.39421877123834},{"$f":"IF(E67=\"Construção\",-('Parâmetros de Fluxo de Caixa'!$B$9*'Parâmetros de Fluxo de Caixa'!$B$23*'CAPEX e OPEX'!D3/10^6),0)","v":0},{"$f":"IF(F67=\"Construção\",-('Parâmetros de Fluxo de Caixa'!$B$10*'Parâmetros de Fluxo de Caixa'!$B$23*'CAPEX e OPEX'!D3/10^6),0)","v":0},{"$f":"IF(G67=\"Start-up\",0,IF(G67=\"Operação\",0,\"\"))","v":0},{"$f":"IF(H67=\"Start-up\",0,IF(H67=\"Operação\",0,\"\"))","v":0},0,0,0,0,0,0,0,0,0,0,0,0,0,0,0,0,"","","","","","","","","","","","","","","","","","","","",{"$f":"IF(AS67=\"Start-up\",0,IF(AS67=\"Operação\",0,\"\"))","v":""},{"$f":"IF(AT67=\"Start-up\",0,IF(AT67=\"Operação\",0,\"\"))","v":""},{"$f":"IF(AU67=\"Start-up\",0,IF(AU67=\"Operação\",0,\"\"))","v":""},""]
["Custo de Capital Financiado (milhões R$ / ano)",{"$f":"IF(B67=\"Construção\",-('Parâmetros de Fluxo de Caixa'!$B$6*'Parâmetros de Fluxo de Caixa'!$B$18*'CAPEX e OPEX'!D3/10^6),0)","v":-269.02283203921439},{"$f":"IF(C67=\"Construção\",-('Parâmetros de Fluxo de Caixa'!$B$7*'Parâmetros de Fluxo de Caixa'!$B$18*'CAPEX e OPEX'!D3/10^6),0)","v":-2017.6712402941077},{"$f":"IF(D67=\"Construção\",-('Parâmetros de Fluxo de Caixa'!$B$8*'Parâmetros de Fluxo de Caixa'!$B$18*'CAPEX e OPEX'!D3/10^6),0)","v":-1076.0913281568576},{"$f":"IF(E67=\"Construção\",-('Parâmetros de Fluxo de Caixa'!$B$9*'Parâmetros de Fluxo de Caixa'!$B$18*'CAPEX e OPEX'!D3/10^6),0)","v":0},{"$f":"IF(F67=\"Construção\",-('Parâmetros de Fluxo de Caixa'!$B$10*'Parâmetros de Fluxo de Caixa'!$B$18*'CAPEX e OPEX'!D3/10^6),0)","v":0},{"$f":"IF(G67=\"Start-up\",0,IF(G67=\"Operação\",0,\"\"))","v":0},{"$f":"IF(H67=\"Start-up\",0,IF(H67=\"Operação\",0,\"\"))","v":0},0,0,0,0,0,0,0,0,0,0,0,0,0,0,0,0,"","","","","","","","","","","","","","","","","","","","","","","",""]
["Depreciação",{"$f":"IF(B67=\"Construção\",0,IF(B66>'Parâmetros de Fluxo de Caixa'!$B$12,\"\",IF(B24<='Parâmetros de Fluxo de Caixa'!$B$26+'Parâmetros de Fluxo de Caixa'!$B$3+'Parâmetros de Fluxo de Caixa'!$B$4/12,-(SUM($B$72:$D$73)-SUM($B$72:$D$73)*'Parâmetros de Fluxo de Caixa'!$B$27)/'Parâmetros de Fluxo de Caixa'!$B$26,0)))","v":0},{"$f":"IF(C67=\"Construção\",0,IF(C66>'Parâmetros de Fluxo de Caixa'!$B$12,\"\",IF(C24<='Parâmetros de Fluxo de Caixa'!$B$26+'Parâmetros de Fluxo de Caixa'!$B$3+'Parâmetros de Fluxo de Caixa'!$B$4/12,-(SUM($B$72:$D$73)-SUM($B$72:$D$73)*'Parâmetros de Fluxo de Caixa'!$B$27)/'Parâmetros de Fluxo de Caixa'!$B$26,0)))","v":0},{"$f":"IF(D67=\"Construção\",0,IF(D66>'Parâmetros de Fluxo de Caixa'!$B$12,\"\",IF(D24<='Parâmetros de Fluxo de Caixa'!$B$26+'Parâmetros de Fluxo de Caixa'!$B$3+'Parâmetros de Fluxo de Caixa'!$B$4/12,-(SUM($B$72:$D$73)-SUM($B$72:$D$73)*'Parâmetros de Fluxo de Caixa'!$B$27)/'Parâmetros de Fluxo de Caixa'!$B$26,0)))","v":0},{"$f":"IF(E67=\"Construção\",0,IF(E66>'Parâmetros de Fluxo de Caixa'!$B$12,\"\",IF(E24<='Parâmetros de Fluxo de Caixa'!$B$26+'Parâmetros de Fluxo de Caixa'!$B$3+'Parâmetros de Fluxo de Caixa'!$B$4/12,-(SUM($B$72:$D$73)-SUM($B$72:$D$73)*'Parâmetros de Fluxo de Caixa'!$B$27)/'Parâmetros de Fluxo de Caixa'!$B$26,0)))","v":560.46423341502987},{"$f":"IF(F67=\"Construção\",0,IF(F66>'Parâmetros de Fluxo de Caixa'!$B$12,\"\",IF(F24<='Parâmetros de Fluxo de Caixa'!$B$26+'Parâmetros de Fluxo de Caixa'!$B$3+'Parâmetros de Fluxo de Caixa'!$B$4/12,-(SUM($B$72:$D$73)-SUM($B$72:$D$73)*'Parâmetros de Fluxo de Caixa'!$B$27)/'Parâmetros de Fluxo de Caixa'!$B$26,0)))","v":560.46423341502987},{"$f":"IF(G67=\"Construção\",0,IF(G66>'Parâmetros de Fluxo de Caixa'!$B$12,\"\",IF(G24<='Parâmetros de Fluxo de Caixa'!$B$26+'Parâmetros de Fluxo de Caixa'!$B$3+'Parâmetros de Fluxo de Caixa'!$B$4/12,-(SUM($B$72:$D$73)-SUM($B$72:$D$73)*'Parâmetros de Fluxo de Caixa'!$B$27)/'Parâmetros de Fluxo de Caixa'!$B$26,0)))","v":560.46423341502987},{"$f":"IF(H67=\"Construção\",0,IF(H66>'Parâmetros de Fluxo de Caixa'!$B$12,\"\",IF(H24<='Parâmetros de Fluxo de Caixa'!$B$26+'Parâmetros de Fluxo de Caixa'!$B$3+'Parâmetros de Fluxo de Caixa'!$B$4/12,-(SUM($B$72:$D$73)-SUM($B$72:$D$73)*'Parâmetros de Fluxo de Caixa'!$B$27)/'Parâmetros de Fluxo de Caixa'!$B$26,0)))","v":560.46423341502987},{"$f":"IF(I67=\"Construção\",0,IF(I66>'Parâmetros de Fluxo de Caixa'!$B$12,\"\",IF(I24<='Parâmetros de Fluxo de Caixa'!$B$26+'Parâmetros de Fluxo de Caixa'!$B$3+'Parâmetros de Fluxo de Caixa'!$B$4/12,-(SUM($B$72:$D$73)-SUM($B$72:$D$73)*'Parâmetros de Fluxo de Caixa'!$B$27)/'Parâmetros de Fluxo de Caixa'!$B$26,0)))","v":560.46423341502987},{"$f":"IF(J67=\"Construção\",0,IF(J66>'Parâmetros de Fluxo de Caixa'!$B$12,\"\",IF(J24<='Parâmetros de Fluxo de Caixa'!$B$26+'Parâmetros de Fluxo de Caixa'!$B$3+'Parâmetros de Fluxo de Caixa'!$B$4/12,-(SUM($B$72:$D$73)-SUM($B$72:$D$73)*'Parâmetros de Fluxo de Caixa'!$B$27)/'Parâmetros de Fluxo de Caixa'!$B$26,0)))","v":560.46423341502987},{"$f":"IF(K67=\"Construção\",0,IF(K66>'Parâmetros de Fluxo de Caixa'!$B$12,\"\",IF(K24<='Parâmetros de Fluxo de Caixa'!$B$26+'Parâmetros de Fluxo de Caixa'!$B$3+'Parâmetros de Fluxo de Caixa'!$B$4/12,-(SUM($B$72:$D$73)-SUM($B$72:$D$73)*'Parâmetros de Fluxo de Caixa'!$B$27)/'Parâmetros de Fluxo de Caixa'!$B$26,0)))","v":560.46423341502987},{"$f":"IF(L67=\"Construção\",0,IF(L66>'Parâmetros de Fluxo de Caixa'!$B$12,\"\",IF(L24<='Parâmetros de Fluxo de Caixa'!$B$26+'Parâmetros de Fluxo de Caixa'!$B$3+'Parâmetros de Fluxo de Caixa'!$B$4/12,-(SUM($B$72:$D$73)-SUM($B$72:$D$73)*'Parâmetros de Fluxo de Caixa'!$B$27)/'Parâmetros de Fluxo de Caixa'!$B$26,0)))","v":560.46423341502987},{"$f":"IF(M67=\"Construção\",0,IF(M66>'Parâmetros de Fluxo de Caixa'!$B$12,\"\",IF(M24<='Parâmetros de Fluxo de Caixa'!$B$26+'Parâmetros de Fluxo de Caixa'!$B$3+'Parâmetros de Fluxo de Caixa'!$B$4/12,-(SUM($B$72:$D$73)-SUM($B$72:$D$73)*'Parâmetros de Fluxo de Caixa'!$B$27)/'Parâmetros de Fluxo de Caixa'!$B$26,0)))","v":560.46423341502987},{"$f":"IF(N67=\"Construção\",0,IF(N66>'Parâmetros de Fluxo de Caixa'!$B$12,\"\",IF(N24<='Parâmetros de Fluxo de Caixa'!$B$26+'Parâmetros de Fluxo de Caixa'!$B$3+'Parâmetros de Fluxo de Caixa'!$B$4/12,-(SUM($B$72:$D$73)-SUM($B$72:$D$73)*'Parâmetros de Fluxo de Caixa'!$B$27)/'Parâmetros de Fluxo de Caixa'!$B$26,0)))","v":560.46423341502987},{"$f":"IF(O67=\"Construção\",0,IF(O66>'Parâmetros de Fluxo de Caixa'!$B$12,\"\",IF(O24<='Parâmetros de Fluxo de Caixa'!$B$26+'Parâmetros de Fluxo de Caixa'!$B$3+'Parâmetros de Fluxo de Caixa'!$B$4/12,-(SUM($B$72:$D$73)-SUM($B$72:$D$73)*'Parâmetros de Fluxo de Caixa'!$B$27)/'Parâmetros de Fluxo de Caixa'!$B$26,0)))","v":0},{"$f":"IF(P67=\"Construção\",0,IF(P66>'Parâmetros de Fluxo de Caixa'!$B$12,\"\",IF(P24<='Parâmetros de Fluxo de Caixa'!$B$26+'Parâmetros de Fluxo de Caixa'!$B$3+'Parâmetros de Fluxo de Caixa'!$B$4/12,-(SUM($B$72:$D$73)-SUM($B$72:$D$73)*'Parâmetros de Fluxo de Caixa'!$B$27)/'Parâmetros de Fluxo de Caixa'!$B$26,0)))","v":0},{"$f":"IF(Q67=\"Construção\",0,IF(Q66>'Parâmetros de Fluxo de Caixa'!$B$12,\"\",IF(Q24<='Parâmetros de Fluxo de Caixa'!$B$26+'Parâmetros de Fluxo de Caixa'!$B$3+'Parâmetros de Fluxo de Caixa'!$B$4/12,-(SUM($B$72:$D$73)-SUM($B$72:$D$73)*'Parâmetros de Fluxo de Caixa'!$B$27)/'Parâmetros de Fluxo de Caixa'!$B$26,0)))","v":0},{"$f":"IF(R67=\"Construção\",0,IF(R66>'Parâmetros de Fluxo de Caixa'!$B$12,\"\",IF(R24<='Parâmetros de Fluxo de Caixa'!$B$26+'Parâmetros de Fluxo de Caixa'!$B$3+'Parâmetros de Fluxo de Caixa'!$B$4/12,-(SUM($B$72:$D$73)-SUM($B$72:$D$73)*'Parâmetros de Fluxo de Caixa'!$B$27)/'Parâmetros de Fluxo de Caixa'!$B$26,0)))","v":0},{"$f":"IF(S67=\"Construção\",0,IF(S66>'Parâmetros de Fluxo de Caixa'!$B$12,\"\",IF(S24<='Parâmetros de Fluxo de Caixa'!$B$26+'Parâmetros de Fluxo de Caixa'!$B$3+'Parâmetros de Fluxo de Caixa'!$B$4/12,-(SUM($B$72:$D$73)-SUM($B$72:$D$73)*'Parâmetros de Fluxo de Caixa'!$B$27)/'Parâmetros de Fluxo de Caixa'!$B$26,0)))","v":0},{"$f":"IF(T67=\"Construção\",0,IF(T66>'Parâmetros de Fluxo de Caixa'!$B$12,\"\",IF(T24<='Parâmetros de Fluxo de Caixa'!$B$26+'Parâmetros de Fluxo de Caixa'!$B$3+'Parâmetros de Fluxo de Caixa'!$B$4/12,-(SUM($B$72:$D$73)-SUM($B$72:$D$73)*'Parâmetros de Fluxo de Caixa'!$B$27)/'Parâmetros de Fluxo de Caixa'!$B$26,0)))","v":0},{"$f":"IF(U67=\"Construção\",0,IF(U66>'Parâmetros de Fluxo de Caixa'!$B$12,\"\",IF(U24<='Parâmetros de Fluxo de Caixa'!$B$26+'Parâmetros de Fluxo de Caixa'!$B$3+'Parâmetros de Fluxo de Caixa'!$B$4/12,-(SUM($B$72:$D$73)-SUM($B$72:$D$73)*'Parâmetros de Fluxo de Caixa'!$B$27)/'Parâmetros de Fluxo de Caixa'!$B$26,0)))","v":0},{"$f":"IF(V67=\"Construção\",0,IF(V66>'Parâmetros de Fluxo de Caixa'!$B$12,\"\",IF(V24<='Parâmetros de Fluxo de Caixa'!$B$26+'Parâmetros de Fluxo de Caixa'!$B$3+'Parâmetros de Fluxo de Caixa'!$B$4/12,-(SUM($B$72:$D$73)-SUM($B$72:$D$73)*'Parâmetros de Fluxo de Caixa'!$B$27)/'Parâmetros de Fluxo de Caixa'!$B$26,0)))","v":0},{"$f":"IF(W67=\"Construção\",0,IF(W66>'Parâmetros de Fluxo de Caixa'!$B$12,\"\",IF(W24<='Parâmetros de Fluxo de Caixa'!$B$26+'Parâmetros de Fluxo de Caixa'!$B$3+'Parâmetros de Fluxo de Caixa'!$B$4/12,-(SUM($B$72:$D$73)-SUM($B$72:$D$73)*'Parâmetros de Fluxo de Caixa'!$B$27)/'Parâmetros de Fluxo de Caixa'!$B$26,0)))","v":0},{"$f":"IF(X67=\"Construção\",0,IF(X66>'Parâmetros de Fluxo de Caixa'!$B$12,\"\",IF(X24<='Parâmetros de Fluxo de Caixa'!$B$26+'Parâmetros de Fluxo de Caixa'!$B$3+'Parâmetros de Fluxo de Caixa'!$B$4/12,-(SUM($B$72:$D$73)-SUM($B$72:$D$73)*'Parâmetros de Fluxo de Caixa'!$B$27)/'Parâmetros de Fluxo de Caixa'!$B$26,0)))","v":0},{"$f":"IF(Y67=\"Construção\",0,IF(Y66>'Parâmetros de Fluxo de Caixa'!$B$12,\"\",IF(Y24<='Parâmetros de Fluxo de Caixa'!$B$26+'Parâmetros de Fluxo de Caixa'!$B$3+'Parâmetros de Fluxo de Caixa'!$B$4/12,-(SUM($B$72:$D$73)-SUM($B$72:$D$73)*'Parâmetros de Fluxo de Caixa'!$B$27)/'Parâmetros de Fluxo de Caixa'!$B$26,0)))","v":""},{"$f":"IF(Z67=\"Construção\",0,IF(Z66>'Parâmetros de Fluxo de Caixa'!$B$12,\"\",IF(Z24<='Parâmetros de Fluxo de Caixa'!$B$26+'Parâmetros de Fluxo de Caixa'!$B$3+'Parâmetros de Fluxo de Caixa'!$B$4/12,-(SUM($B$72:$D$73)-SUM($B$72:$D$73)*'Parâmetros de Fluxo de Caixa'!$B$27)/'Parâmetros de Fluxo de Caixa'!$B$26,0)))","v":""},{"$f":"IF(AA67=\"Construção\",0,IF(AA66>'Parâmetros de Fluxo de Caixa'!$B$12,\"\",IF(AA24<='Parâmetros de Fluxo de Caixa'!$B$26+'Parâmetros de Fluxo de Caixa'!$B$3+'Parâmetros de Fluxo de Caixa'!$B$4/12,-(SUM($B$72:$D$73)-SUM($B$72:$D$73)*'Parâmetros de Fluxo de Caixa'!$B$27)/'Parâmetros de Fluxo de Caixa'!$B$26,0)))","v":""},{"$f":"IF(AB67=\"Construção\",0,IF(AB66>'Parâmetros de Fluxo de Caixa'!$B$12,\"\",IF(AB24<='Parâmetros de Fluxo de Caixa'!$B$26+'Parâmetros de Fluxo de Caixa'!$B$3+'Parâmetros de Fluxo de Caixa'!$B$4/12,-(SUM($B$72:$D$73)-SUM($B$72:$D$73)*'Parâmetros de Fluxo de Caixa'!$B$27)/'Parâmetros de Fluxo de Caixa'!$B$26,0)))","v":""},{"$f":"IF(AC67=\"Construção\",0,IF(AC66>'Parâmetros de Fluxo de Caixa'!$B$12,\"\",IF(AC24<='Parâmetros de Fluxo de Caixa'!$B$26+'Parâmetros de Fluxo de Caixa'!$B$3+'Parâmetros de Fluxo de Caixa'!$B$4/12,-(SUM($B$72:$D$73)-SUM($B$72:$D$73)*'Parâmetros de Fluxo de Caixa'!$B$27)/'Parâmetros de Fluxo de Caixa'!$B$26,0)))","v":""},{"$f":"IF(AD67=\"Construção\",0,IF(AD66>'Parâmetros de Fluxo de Caixa'!$B$12,\"\",IF(AD24<='Parâmetros de Fluxo de Caixa'!$B$26+'Parâmetros de Fluxo de Caixa'!$B$3+'Parâmetros de Fluxo de Caixa'!$B$4/12,-(SUM($B$72:$D$73)-SUM($B$72:$D$73)*'Parâmetros de Fluxo de Caixa'!$B$27)/'Parâmetros de Fluxo de Caixa'!$B$26,0)))","v":""},{"$f":"IF(AE67=\"Construção\",0,IF(AE66>'Parâmetros de Fluxo de Caixa'!$B$12,\"\",IF(AE24<='Parâmetros de Fluxo de Caixa'!$B$26+'Parâmetros de Fluxo de Caixa'!$B$3+'Parâmetros de Fluxo de Caixa'!$B$4/12,-(SUM($B$72:$D$73)-SUM($B$72:$D$73)*'Parâmetros de Fluxo de Caixa'!$B$27)/'Parâmetros de Fluxo de Caixa'!$B$26,0)))","v":""},{"$f":"IF(AF67=\"Construção\",0,IF(AF66>'Parâmetros de Fluxo de Caixa'!$B$12,\"\",IF(AF24<='Parâmetros de Fluxo de Caixa'!$B$26+'Parâmetros de Fluxo de Caixa'!$B$3+'Parâmetros de Fluxo de Caixa'!$B$4/12,-(SUM($B$72:$D$73)-SUM($B$72:$D$73)*'Parâmetros de Fluxo de Caixa'!$B$27)/'Parâmetros de Fluxo de Caixa'!$B$26,0)))","v":""},{"$f":"IF(AG67=\"Construção\",0,IF(AG66>'Parâmetros de Fluxo de Caixa'!$B$12,\"\",IF(AG24<='Parâmetros de Fluxo de Caixa'!$B$26+'Parâmetros de Fluxo de Caixa'!$B$3+'Parâmetros de Fluxo de Caixa'!$B$4/12,-(SUM($B$72:$D$73)-SUM($B$72:$D$73)*'Parâmetros de Fluxo de Caixa'!$B$27)/'Parâmetros de Fluxo de Caixa'!$B$26,0)))","v":""},{"$f":"IF(AH67=\"Construção\",0,IF(AH66>'Parâmetros de Fluxo de Caixa'!$B$12,\"\",IF(AH24<='Parâmetros de Fluxo de Caixa'!$B$26+'Parâmetros de Fluxo de Caixa'!$B$3+'Parâmetros de Fluxo de Caixa'!$B$4/12,-(SUM($B$72:$D$73)-SUM($B$72:$D$73)*'Parâmetros de Fluxo de Caixa'!$B$27)/'Parâmetros de Fluxo de Caixa'!$B$26,0)))","v":""},{"$f":"IF(AI67=\"Construção\",0,IF(AI66>'Parâmetros de Fluxo de Caixa'!$B$12,\"\",IF(AI24<='Parâmetros de Fluxo de Caixa'!$B$26+'Parâmetros de Fluxo de Caixa'!$B$3+'Parâmetros de Fluxo de Caixa'!$B$4/12,-(SUM($B$72:$D$73)-SUM($B$72:$D$73)*'Parâmetros de Fluxo de Caixa'!$B$27)/'Parâmetros de Fluxo de Caixa'!$B$26,0)))","v":""},{"$f":"IF(AJ67=\"Construção\",0,IF(AJ66>'Parâmetros de Fluxo de Caixa'!$B$12,\"\",IF(AJ24<='Parâmetros de Fluxo de Caixa'!$B$26+'Parâmetros de Fluxo de Caixa'!$B$3+'Parâmetros de Fluxo de Caixa'!$B$4/12,-(SUM($B$72:$D$73)-SUM($B$72:$D$73)*'Parâmetros de Fluxo de Caixa'!$B$27)/'Parâmetros de Fluxo de Caixa'!$B$26,0)))","v":""},{"$f":"IF(AK67=\"Construção\",0,IF(AK66>'Parâmetros de Fluxo de Caixa'!$B$12,\"\",IF(AK24<='Parâmetros de Fluxo de Caixa'!$B$26+'Parâmetros de Fluxo de Caixa'!$B$3+'Parâmetros de Fluxo de Caixa'!$B$4/12,-(SUM($B$72:$D$73)-SUM($B$72:$D$73)*'Parâmetros de Fluxo de Caixa'!$B$27)/'Parâmetros de Fluxo de Caixa'!$B$26,0)))","v":""},{"$f":"IF(AL67=\"Construção\",0,IF(AL66>'Parâmetros de Fluxo de Caixa'!$B$12,\"\",IF(AL24<='Parâmetros de Fluxo de Caixa'!$B$26+'Parâmetros de Fluxo de Caixa'!$B$3+'Parâmetros de Fluxo de Caixa'!$B$4/12,-(SUM($B$72:$D$73)-SUM($B$72:$D$73)*'Parâmetros de Fluxo de Caixa'!$B$27)/'Parâmetros de Fluxo de Caixa'!$B$26,0)))","v":""},{"$f":"IF(AM67=\"Construção\",0,IF(AM66>'Parâmetros de Fluxo de Caixa'!$B$12,\"\",IF(AM24<='Parâmetros de Fluxo de Caixa'!$B$26+'Parâmetros de Fluxo de Caixa'!$B$3+'Parâmetros de Fluxo de Caixa'!$B$4/12,-(SUM($B$72:$D$73)-SUM($B$72:$D$73)*'Parâmetros de Fluxo de Caixa'!$B$27)/'Parâmetros de Fluxo de Caixa'!$B$26,0)))","v":""},{"$f":"IF(AN67=\"Construção\",0,IF(AN66>'Parâmetros de Fluxo de Caixa'!$B$12,\"\",IF(AN24<='Parâmetros de Fluxo de Caixa'!$B$26+'Parâmetros de Fluxo de Caixa'!$B$3+'Parâmetros de Fluxo de Caixa'!$B$4/12,-(SUM($B$72:$D$73)-SUM($B$72:$D$73)*'Parâmetros de Fluxo de Caixa'!$B$27)/'Parâmetros de Fluxo de Caixa'!$B$26,0)))","v":""},{"$f":"IF(AO67=\"Construção\",0,IF(AO66>'Parâmetros de Fluxo de Caixa'!$B$12,\"\",IF(AO24<='Parâmetros de Fluxo de Caixa'!$B$26+'Parâmetros de Fluxo de Caixa'!$B$3+'Parâmetros de Fluxo de Caixa'!$B$4/12,-(SUM($B$72:$D$73)-SUM($B$72:$D$73)*'Parâmetros de Fluxo de Caixa'!$B$27)/'Parâmetros de Fluxo de Caixa'!$B$26,0)))","v":""},{"$f":"IF(AP67=\"Construção\",0,IF(AP66>'Parâmetros de Fluxo de Caixa'!$B$12,\"\",IF(AP24<='Parâmetros de Fluxo de Caixa'!$B$26+'Parâmetros de Fluxo de Caixa'!$B$3+'Parâmetros de Fluxo de Caixa'!$B$4/12,-(SUM($B$72:$D$73)-SUM($B$72:$D$73)*'Parâmetros de Fluxo de Caixa'!$B$27)/'Parâmetros de Fluxo de Caixa'!$B$26,0)))","v":""},{"$f":"IF(AQ67=\"Construção\",0,IF(AQ66>'Parâmetros de Fluxo de Caixa'!$B$12,\"\",IF(AQ24<='Parâmetros de Fluxo de Caixa'!$B$26+'Parâmetros de Fluxo de Caixa'!$B$3+'Parâmetros de Fluxo de Caixa'!$B$4/12,-(SUM($B$72:$D$73)-SUM($B$72:$D$73)*'Parâmetros de Fluxo de Caixa'!$B$27)/'Parâmetros de Fluxo de Caixa'!$B$26,0)))","v":""},{"$f":"IF(AR67=\"Construção\",0,IF(AR66>'Parâmetros de Fluxo de Caixa'!$B$12,\"\",IF(AR24<='Parâmetros de Fluxo de Caixa'!$B$26+'Parâmetros de Fluxo de Caixa'!$B$3+'Parâmetros de Fluxo de Caixa'!$B$4/12,-(SUM($B$72:$D$73)-SUM($B$72:$D$73)*'Parâmetros de Fluxo de Caixa'!$B$27)/'Parâmetros de Fluxo de Caixa'!$B$26,0)))","v":""},{"$f":"IF(AS67=\"Construção\",0,IF(AS66>'Parâmetros de Fluxo de Caixa'!$B$12,\"\",IF(AS24<='Parâmetros de Fluxo de Caixa'!$B$26+'Parâmetros de Fluxo de Caixa'!$B$3+'Parâmetros de Fluxo de Caixa'!$B$4/12,-(SUM($B$72:$D$73)-SUM($B$72:$D$73)*'Parâmetros de Fluxo de Caixa'!$B$27)/'Parâmetros de Fluxo de Caixa'!$B$26,0)))","v":""},{"$f":"IF(AT67=\"Construção\",0,IF(AT66>'Parâmetros de Fluxo de Caixa'!$B$12,\"\",IF(AT24<='Parâmetros de Fluxo de Caixa'!$B$26+'Parâmetros de Fluxo de Caixa'!$B$3+'Parâmetros de Fluxo de Caixa'!$B$4/12,-(SUM($B$72:$D$73)-SUM($B$72:$D$73)*'Parâmetros de Fluxo de Caixa'!$B$27)/'Parâmetros de Fluxo de Caixa'!$B$26,0)))","v":""},{"$f":"IF(AU67=\"Construção\",0,IF(AU66>'Parâmetros de Fluxo de Caixa'!$B$12,\"\",IF(AU24<='Parâmetros de Fluxo de Caixa'!$B$26+'Parâmetros de Fluxo de Caixa'!$B$3+'Parâmetros de Fluxo de Caixa'!$B$4/12,-(SUM($B$72:$D$73)-SUM($B$72:$D$73)*'Parâmetros de Fluxo de Caixa'!$B$27)/'Parâmetros de Fluxo de Caixa'!$B$26,0)))","v":""},{"$f":"IF(AV67=\"Construção\",0,IF(AV66>'Parâmetros de Fluxo de Caixa'!$B$12,\"\",IF(AV24<='Parâmetros de Fluxo de Caixa'!$B$26+'Parâmetros de Fluxo de Caixa'!$B$3+'Parâmetros de Fluxo de Caixa'!$B$4/12,-(SUM($B$72:$D$73)-SUM($B$72:$D$73)*'Parâmetros de Fluxo de Caixa'!$B$27)/'Parâmetros de Fluxo de Caixa'!$B$26,0)))","v":""}]
["PIS e COFINS",{"$f":"IF(B67=\"Construção\",0,IF(OR(B67=\"Start-up\",B67=\"Operação\"),IF(B69>0,-B69*'Parâmetros de Fluxo de Caixa'!$B$29,0),\"\"))","v":0},{"$f":"IF(C67=\"Construção\",0,IF(OR(C67=\"Start-up\",C67=\"Operação\"),IF(C69>0,-C69*'Parâmetros de Fluxo de Caixa'!$B$29,0),\"\"))","v":0},{"$f":"IF(D67=\"Construção\",0,IF(OR(D67=\"Start-up\",D67=\"Operação\"),IF(D69>0,-D69*'Parâmetros de Fluxo de Caixa'!$B$29,0),\"\"))","v":0},{"$f":"IF(E67=\"Construção\",0,IF(OR(E67=\"Start-up\",E67=\"Operação\"),IF(E69>0,-E69*'Parâmetros de Fluxo de Caixa'!$B$29,0),\"\"))","v":-528.55351317513384},{"$f":"IF(F67=\"Construção\",0,IF(OR(F67=\"Start-up\",F67=\"Operação\"),IF(F69>0,-F69*'Parâmetros de Fluxo de Caixa'!$B$29,0),\"\"))","v":-604.0611579144387},{"$f":"IF(G67=\"Construção\",0,IF(OR(G67=\"Start-up\",G67=\"Operação\"),IF(G69>0,-G69*'Parâmetros de Fluxo de Caixa'!$B$29,0),\"\"))","v":-604.0611579144387},{"$f":"IF(H67=\"Construção\",0,IF(OR(H67=\"Start-up\",H67=\"Operação\"),IF(H69>0,-H69*'Parâmetros de Fluxo de Caixa'!$B$29,0),\"\"))","v":-604.0611579144387},{"$f":"IF(I67=\"Construção\",0,IF(OR(I67=\"Start-up\",I67=\"Operação\"),IF(I69>0,-I69*'Parâmetros de Fluxo de Caixa'!$B$29,0),\"\"))","v":-604.0611579144387},{"$f":"IF(J67=\"Construção\",0,IF(OR(J67=\"Start-up\",J67=\"Operação\"),IF(J69>0,-J69*'Parâmetros de Fluxo de Caixa'!$B$29,0),\"\"))","v":-604.0611579144387},{"$f":"IF(K67=\"Construção\",0,IF(OR(K67=\"Start-up\",K67=\"Operação\"),IF(K69>0,-K69*'Parâmetros de Fluxo de Caixa'!$B$29,0),\"\"))","v":-604.0611579144387},{"$f":"IF(L67=\"Construção\",0,IF(OR(L67=\"Start-up\",L67=\"Operação\"),IF(L69>0,-L69*'Parâmetros de Fluxo de Caixa'!$B$29,0),\"\"))","v":-604.0611579144387},{"$f":"IF(M67=\"Construção\",0,IF(OR(M67=\"Start-up\",M67=\"Operação\"),IF(M69>0,-M69*'Parâmetros de Fluxo de Caixa'!$B$29,0),\"\"))","v":-604.0611579144387},{"$f":"IF(N67=\"Construção\",0,IF(OR(N67=\"Start-up\",N67=\"Operação\"),IF(N69>0,-N69*'Parâmetros de Fluxo de Caixa'!$B$29,0),\"\"))","v":-604.0611579144387},{"$f":"IF(O67=\"Construção\",0,IF(OR(O67=\"Start-up\",O67=\"Operação\"),IF(O69>0,-O69*'Parâmetros de Fluxo de Caixa'!$B$29,0),\"\"))","v":-604.0611579144387},{"$f":"IF(P67=\"Construção\",0,IF(OR(P67=\"Start-up\",P67=\"Operação\"),IF(P69>0,-P69*'Parâmetros de Fluxo de Caixa'!$B$29,0),\"\"))","v":-604.0611579144387},{"$f":"IF(Q67=\"Construção\",0,IF(OR(Q67=\"Start-up\",Q67=\"Operação\"),IF(Q69>0,-Q69*'Parâmetros de Fluxo de Caixa'!$B$29,0),\"\"))","v":-604.0611579144387},{"$f":"IF(R67=\"Construção\",0,IF(OR(R67=\"Start-up\",R67=\"Operação\"),IF(R69>0,-R69*'Parâmetros de Fluxo de Caixa'!$B$29,0),\"\"))","v":-604.0611579144387},{"$f":"IF(S67=\"Construção\",0,IF(OR(S67=\"Start-up\",S67=\"Operação\"),IF(S69>0,-S69*'Parâmetros de Fluxo de Caixa'!$B$29,0),\"\"))","v":-604.0611579144387},{"$f":"IF(T67=\"Construção\",0,IF(OR(T67=\"Start-up\",T67=\"Operação\"),IF(T69>0,-T69*'Parâmetros de Fluxo de Caixa'!$B$29,0),\"\"))","v":-604.0611579144387},{"$f":"IF(U67=\"Construção\",0,IF(OR(U67=\"Start-up\",U67=\"Operação\"),IF(U69>0,-U69*'Parâmetros de Fluxo de Caixa'!$B$29,0),\"\"))","v":-604.0611579144387},{"$f":"IF(V67=\"Construção\",0,IF(OR(V67=\"Start-up\",V67=\"Operação\"),IF(V69>0,-V69*'Parâmetros de Fluxo de Caixa'!$B$29,0),\"\"))","v":-604.0611579144387},{"$f":"IF(W67=\"Construção\",0,IF(OR(W67=\"Start-up\",W67=\"Operação\"),IF(W69>0,-W69*'Parâmetros de Fluxo de Caixa'!$B$29,0),\"\"))","v":-604.0611579144387},{"$f":"IF(X67=\"Construção\",0,IF(OR(X67=\"Start-up\",X67=\"Operação\"),IF(X69>0,-X69*'Parâmetros de Fluxo de Caixa'!$B$29,0),\"\"))","v":-604.0611579144387},{"$f":"IF(Y67=\"Construção\",0,IF(OR(Y67=\"Start-up\",Y67=\"Operação\"),IF(Y69>0,-Y69*'Parâmetros de Fluxo de Caixa'!$B$29,0),\"\"))","v":""},{"$f":"IF(Z67=\"Construção\",0,IF(OR(Z67=\"Start-up\",Z67=\"Operação\"),IF(Z69>0,-Z69*'Parâmetros de Fluxo de Caixa'!$B$29,0),\"\"))","v":""},{"$f":"IF(AA67=\"Construção\",0,IF(OR(AA67=\"Start-up\",AA67=\"Operação\"),IF(AA69>0,-AA69*'Parâmetros de Fluxo de Caixa'!$B$29,0),\"\"))","v":""},{"$f":"IF(AB67=\"Construção\",0,IF(OR(AB67=\"Start-up\",AB67=\"Operação\"),IF(AB69>0,-AB69*'Parâmetros de Fluxo de Caixa'!$B$29,0),\"\"))","v":""},{"$f":"IF(AC67=\"Construção\",0,IF(OR(AC67=\"Start-up\",AC67=\"Operação\"),IF(AC69>0,-AC69*'Parâmetros de Fluxo de Caixa'!$B$29,0),\"\"))","v":""},{"$f":"IF(AD67=\"Construção\",0,IF(OR(AD67=\"Start-up\",AD67=\"Operação\"),IF(AD69>0,-AD69*'Parâmetros de Fluxo de Caixa'!$B$29,0),\"\"))","v":""},{"$f":"IF(AE67=\"Construção\",0,IF(OR(AE67=\"Start-up\",AE67=\"Operação\"),IF(AE69>0,-AE69*'Parâmetros de Fluxo de Caixa'!$B$29,0),\"\"))","v":""},{"$f":"IF(AF67=\"Construção\",0,IF(OR(AF67=\"Start-up\",AF67=\"Operação\"),IF(AF69>0,-AF69*'Parâmetros de Fluxo de Caixa'!$B$29,0),\"\"))","v":""},{"$f":"IF(AG67=\"Construção\",0,IF(OR(AG67=\"Start-up\",AG67=\"Operação\"),IF(AG69>0,-AG69*'Parâmetros de Fluxo de Caixa'!$B$29,0),\"\"))","v":""},{"$f":"IF(AH67=\"Construção\",0,IF(OR(AH67=\"Start-up\",AH67=\"Operação\"),IF(AH69>0,-AH69*'Parâmetros de Fluxo de Caixa'!$B$29,0),\"\"))","v":""},{"$f":"IF(AI67=\"Construção\",0,IF(OR(AI67=\"Start-up\",AI67=\"Operação\"),IF(AI69>0,-AI69*'Parâmetros de Fluxo de Caixa'!$B$29,0),\"\"))","v":""},{"$f":"IF(AJ67=\"Construção\",0,IF(OR(AJ67=\"Start-up\",AJ67=\"Operação\"),IF(AJ69>0,-AJ69*'Parâmetros de Fluxo de Caixa'!$B$29,0),\"\"))","v":""},{"$f":"IF(AK67=\"Construção\",0,IF(OR(AK67=\"Start-up\",AK67=\"Operação\"),IF(AK69>0,-AK69*'Parâmetros de Fluxo de Caixa'!$B$29,0),\"\"))","v":""},{"$f":"IF(AL67=\"Construção\",0,IF(OR(AL67=\"Start-up\",AL67=\"Operação\"),IF(AL69>0,-AL69*'Parâmetros de Fluxo de Caixa'!$B$29,0),\"\"))","v":""},{"$f":"IF(AM67=\"Construção\",0,IF(OR(AM67=\"Start-up\",AM67=\"Operação\"),IF(AM69>0,-AM69*'Parâmetros de Fluxo de Caixa'!$B$29,0),\"\"))","v":""},{"$f":"IF(AN67=\"Construção\",0,IF(OR(AN67=\"Start-up\",AN67=\"Operação\"),IF(AN69>0,-AN69*'Parâmetros de Fluxo de Caixa'!$B$29,0),\"\"))","v":""},{"$f":"IF(AO67=\"Construção\",0,IF(OR(AO67=\"Start-up\",AO67=\"Operação\"),IF(AO69>0,-AO69*'Parâmetros de Fluxo de Caixa'!$B$29,0),\"\"))","v":""},{"$f":"IF(AP67=\"Construção\",0,IF(OR(AP67=\"Start-up\",AP67=\"Operação\"),IF(AP69>0,-AP69*'Parâmetros de Fluxo de Caixa'!$B$29,0),\"\"))","v":""},{"$f":"IF(AQ67=\"Construção\",0,IF(OR(AQ67=\"Start-up\",AQ67=\"Operação\"),IF(AQ69>0,-AQ69*'Parâmetros de Fluxo de Caixa'!$B$29,0),\"\"))","v":""},{"$f":"IF(AR67=\"Construção\",0,IF(OR(AR67=\"Start-up\",AR67=\"Operação\"),IF(AR69>0,-AR69*'Parâmetros de Fluxo de Caixa'!$B$29,0),\"\"))","v":""},{"$f":"IF(AS67=\"Construção\",0,IF(OR(AS67=\"Start-up\",AS67=\"Operação\"),IF(AS69>0,-AS69*'Parâmetros de Fluxo de Caixa'!$B$29,0),\"\"))","v":""},{"$f":"IF(AT67=\"Construção\",0,IF(OR(AT67=\"Start-up\",AT67=\"Operação\"),IF(AT69>0,-AT69*'Parâmetros de Fluxo de Caixa'!$B$29,0),\"\"))","v":""},{"$f":"IF(AU67=\"Construção\",0,IF(OR(AU67=\"Start-up\",AU67=\"Operação\"),IF(AU69>0,-AU69*'Parâmetros de Fluxo de Caixa'!$B$29,0),\"\"))","v":""},{"$f":"IF(AV67=\"Construção\",0,IF(OR(AV67=\"Start-up\",AV67=\"Operação\"),IF(AV69>0,-AV69*'Parâmetros de Fluxo de Caixa'!$B$29,0),\"\"))","v":""}]
["EBITDA",{"$f":"IF(B67=\"Construção\",0,IF(OR(B67=\"Start-up\",B67=\"Operação\"),B69+B70+B71,\"\"))","v":0},{"$f":"IF(C67=\"Construção\",0,IF(OR(C67=\"Start-up\",C67=\"Operação\"),C69+C70+C71,\"\"))","v":0},0,2108.0658201856186,2461.2611876006749,2461.2611876006749,2461.2611876006749,2461.2611876006749,2461.2611876006749,2461.2611876006749,2461.2611876006749,2461.2611876006749,2461.2611876006749,2461.2611876006749,2461.2611876006749,2461.2611876006749,2461.2611876006749,2461.2611876006749,2461.2611876006749,2461.2611876006749,2461.2611876006749,2461.2611876006749,2461.2611876006749,"","","","","","","","","","","","","","","","","","","","",{"$f":"IF(AS67=\"Construção\",0,IF(OR(AS67=\"Start-up\",AS67=\"Operação\"),AS69+AS70+AS71,\"\"))","v":""},{"$f":"IF(AT67=\"Construção\",0,IF(OR(AT67=\"Start-up\",AT67=\"Operação\"),AT69+AT70+AT71,\"\"))","v":""},{"$f":"IF(AU67=\"Construção\",0,IF(OR(AU67=\"Start-up\",AU67=\"Operação\"),AU69+AU70+AU71,\"\"))","v":""},""]
["IR e CSLL",{"$f":"IF(B67=\"Construção\",0,IF(OR(B67=\"Start-up\",B67=\"Operação\"),IF((B76-B74+B75)>0,-(B76-B74+B75)*'Parâmetros de Fluxo de Caixa'!$B$28,0),\"\"))","v":0},{"$f":"IF(C67=\"Construção\",0,IF(OR(C67=\"Start-up\",C67=\"Operação\"),IF((C76-C74+C75)>0,-(C76-C74+C75)*'Parâmetros de Fluxo de Caixa'!$B$28,0),\"\"))","v":0},{"$f":"IF(D67=\"Construção\",0,IF(OR(D67=\"Start-up\",D67=\"Operação\"),IF((D76-D74+D75)>0,-(D76-D74+D75)*'Parâmetros de Fluxo de Caixa'!$B$28,0),\"\"))","v":0},{"$f":"IF(E67=\"Construção\",0,IF(OR(E67=\"Start-up\",E67=\"Operação\"),IF((E76-E74+E75)>0,-(E76-E74+E75)*'Parâmetros de Fluxo de Caixa'!$B$28,0),\"\"))","v":-346.47634502245467},{"$f":"IF(F67=\"Construção\",0,IF(OR(F67=\"Start-up\",F67=\"Operação\"),IF((F76-F74+F75)>0,-(F76-F74+F75)*'Parâmetros de Fluxo de Caixa'!$B$28,0),\"\"))","v":-440.89017073221015},{"$f":"IF(G67=\"Construção\",0,IF(OR(G67=\"Start-up\",G67=\"Operação\"),IF((G76-G74+G75)>0,-(G76-G74+G75)*'Parâmetros de Fluxo de Caixa'!$B$28,0),\"\"))","v":-440.89017073221015},{"$f":"IF(H67=\"Construção\",0,IF(OR(H67=\"Start-up\",H67=\"Operação\"),IF((H76-H74+H75)>0,-(H76-H74+H75)*'Parâmetros de Fluxo de Caixa'!$B$28,0),\"\"))","v":-440.89017073221015},{"$f":"IF(I67=\"Construção\",0,IF(OR(I67=\"Start-up\",I67=\"Operação\"),IF((I76-I74+I75)>0,-(I76-I74+I75)*'Parâmetros de Fluxo de Caixa'!$B$28,0),\"\"))","v":-440.89017073221015},{"$f":"IF(J67=\"Construção\",0,IF(OR(J67=\"Start-up\",J67=\"Operação\"),IF((J76-J74+J75)>0,-(J76-J74+J75)*'Parâmetros de Fluxo de Caixa'!$B$28,0),\"\"))","v":-440.89017073221015},{"$f":"IF(K67=\"Construção\",0,IF(OR(K67=\"Start-up\",K67=\"Operação\"),IF((K76-K74+K75)>0,-(K76-K74+K75)*'Parâmetros de Fluxo de Caixa'!$B$28,0),\"\"))","v":-440.89017073221015},{"$f":"IF(L67=\"Construção\",0,IF(OR(L67=\"Start-up\",L67=\"Operação\"),IF((L76-L74+L75)>0,-(L76-L74+L75)*'Parâmetros de Fluxo de Caixa'!$B$28,0),\"\"))","v":-440.89017073221015},{"$f":"IF(M67=\"Construção\",0,IF(OR(M67=\"Start-up\",M67=\"Operação\"),IF((M76-M74+M75)>0,-(M76-M74+M75)*'Parâmetros de Fluxo de Caixa'!$B$28,0),\"\"))","v":-440.89017073221015},{"$f":"IF(N67=\"Construção\",0,IF(OR(N67=\"Start-up\",N67=\"Operação\"),IF((N76-N74+N75)>0,-(N76-N74+N75)*'Parâmetros de Fluxo de Caixa'!$B$28,0),\"\"))","v":-440.89017073221015},{"$f":"IF(O67=\"Construção\",0,IF(OR(O67=\"Start-up\",O67=\"Operação\"),IF((O76-O74+O75)>0,-(O76-O74+O75)*'Parâmetros de Fluxo de Caixa'!$B$28,0),\"\"))","v":-631.44801009332036},{"$f":"IF(P67=\"Construção\",0,IF(OR(P67=\"Start-up\",P67=\"Operação\"),IF((P76-P74+P75)>0,-(P76-P74+P75)*'Parâmetros de Fluxo de Caixa'!$B$28,0),\"\"))","v":-631.44801009332036},{"$f":"IF(Q67=\"Construção\",0,IF(OR(Q67=\"Start-up\",Q67=\"Operação\"),IF((Q76-Q74+Q75)>0,-(Q76-Q74+Q75)*'Parâmetros de Fluxo de Caixa'!$B$28,0),\"\"))","v":-631.44801009332036},{"$f":"IF(R67=\"Construção\",0,IF(OR(R67=\"Start-up\",R67=\"Operação\"),IF((R76-R74+R75)>0,-(R76-R74+R75)*'Parâmetros de Fluxo de Caixa'!$B$28,0),\"\"))","v":-631.44801009332036},{"$f":"IF(S67=\"Construção\",0,IF(OR(S67=\"Start-up\",S67=\"Operação\"),IF((S76-S74+S75)>0,-(S76-S74+S75)*'Parâmetros de Fluxo de Caixa'!$B$28,0),\"\"))","v":-631.44801009332036},{"$f":"IF(T67=\"Construção\",0,IF(OR(T67=\"Start-up\",T67=\"Operação\"),IF((T76-T74+T75)>0,-(T76-T74+T75)*'Parâmetros de Fluxo de Caixa'!$B$28,0),\"\"))","v":-631.44801009332036},{"$f":"IF(U67=\"Construção\",0,IF(OR(U67=\"Start-up\",U67=\"Operação\"),IF((U76-U74+U75)>0,-(U76-U74+U75)*'Parâmetros de Fluxo de Caixa'!$B$28,0),\"\"))","v":-631.44801009332036},{"$f":"IF(V67=\"Construção\",0,IF(OR(V67=\"Start-up\",V67=\"Operação\"),IF((V76-V74+V75)>0,-(V76-V74+V75)*'Parâmetros de Fluxo de Caixa'!$B$28,0),\"\"))","v":-631.44801009332036},{"$f":"IF(W67=\"Construção\",0,IF(OR(W67=\"Start-up\",W67=\"Operação\"),IF((W76-W74+W75)>0,-(W76-W74+W75)*'Parâmetros de Fluxo de Caixa'!$B$28,0),\"\"))","v":-631.44801009332036},{"$f":"IF(X67=\"Construção\",0,IF(OR(X67=\"Start-up\",X67=\"Operação\"),IF((X76-X74+X75)>0,-(X76-X74+X75)*'Parâmetros de Fluxo de Caixa'!$B$28,0),\"\"))","v":-631.44801009332036},{"$f":"IF(Y67=\"Construção\",0,IF(OR(Y67=\"Start-up\",Y67=\"Operação\"),IF((Y76-Y74+Y75)>0,-(Y76-Y74+Y75)*'Parâmetros de Fluxo de Caixa'!$B$28,0),\"\"))","v":""},{"$f":"IF(Z67=\"Construção\",0,IF(OR(Z67=\"Start-up\",Z67=\"Operação\"),IF((Z76-Z74+Z75)>0,-(Z76-Z74+Z75)*'Parâmetros de Fluxo de Caixa'!$B$28,0),\"\"))","v":""},{"$f":"IF(AA67=\"Construção\",0,IF(OR(AA67=\"Start-up\",AA67=\"Operação\"),IF((AA76-AA74+AA75)>0,-(AA76-AA74+AA75)*'Parâmetros de Fluxo de Caixa'!$B$28,0),\"\"))","v":""},{"$f":"IF(AB67=\"Construção\",0,IF(OR(AB67=\"Start-up\",AB67=\"Operação\"),IF((AB76-AB74+AB75)>0,-(AB76-AB74+AB75)*'Parâmetros de Fluxo de Caixa'!$B$28,0),\"\"))","v":""},{"$f":"IF(AC67=\"Construção\",0,IF(OR(AC67=\"Start-up\",AC67=\"Operação\"),IF((AC76-AC74+AC75)>0,-(AC76-AC74+AC75)*'Parâmetros de Fluxo de Caixa'!$B$28,0),\"\"))","v":""},{"$f":"IF(AD67=\"Construção\",0,IF(OR(AD67=\"Start-up\",AD67=\"Operação\"),IF((AD76-AD74+AD75)>0,-(AD76-AD74+AD75)*'Parâmetros de Fluxo de Caixa'!$B$28,0),\"\"))","v":""},{"$f":"IF(AE67=\"Construção\",0,IF(OR(AE67=\"Start-up\",AE67=\"Operação\"),IF((AE76-AE74+AE75)>0,-(AE76-AE74+AE75)*'Parâmetros de Fluxo de Caixa'!$B$28,0),\"\"))","v":""},{"$f":"IF(AF67=\"Construção\",0,IF(OR(AF67=\"Start-up\",AF67=\"Operação\"),IF((AF76-AF74+AF75)>0,-(AF76-AF74+AF75)*'Parâmetros de Fluxo de Caixa'!$B$28,0),\"\"))","v":""},{"$f":"IF(AG67=\"Construção\",0,IF(OR(AG67=\"Start-up\",AG67=\"Operação\"),IF((AG76-AG74+AG75)>0,-(AG76-AG74+AG75)*'Parâmetros de Fluxo de Caixa'!$B$28,0),\"\"))","v":""},{"$f":"IF(AH67=\"Construção\",0,IF(OR(AH67=\"Start-up\",AH67=\"Operação\"),IF((AH76-AH74+AH75)>0,-(AH76-AH74+AH75)*'Parâmetros de Fluxo de Caixa'!$B$28,0),\"\"))","v":""},{"$f":"IF(AI67=\"Construção\",0,IF(OR(AI67=\"Start-up\",AI67=\"Operação\"),IF((AI76-AI74+AI75)>0,-(AI76-AI74+AI75)*'Parâmetros de Fluxo de Caixa'!$B$28,0),\"\"))","v":""},{"$f":"IF(AJ67=\"Construção\",0,IF(OR(AJ67=\"Start-up\",AJ67=\"Operação\"),IF((AJ76-AJ74+AJ75)>0,-(AJ76-AJ74+AJ75)*'Parâmetros de Fluxo de Caixa'!$B$28,0),\"\"))","v":""},{"$f":"IF(AK67=\"Construção\",0,IF(OR(AK67=\"Start-up\",AK67=\"Operação\"),IF((AK76-AK74+AK75)>0,-(AK76-AK74+AK75)*'Parâmetros de Fluxo de Caixa'!$B$28,0),\"\"))","v":""},{"$f":"IF(AL67=\"Construção\",0,IF(OR(AL67=\"Start-up\",AL67=\"Operação\"),IF((AL76-AL74+AL75)>0,-(AL76-AL74+AL75)*'Parâmetros de Fluxo de Caixa'!$B$28,0),\"\"))","v":""},{"$f":"IF(AM67=\"Construção\",0,IF(OR(AM67=\"Start-up\",AM67=\"Operação\"),IF((AM76-AM74+AM75)>0,-(AM76-AM74+AM75)*'Parâmetros de Fluxo de Caixa'!$B$28,0),\"\"))","v":""},{"$f":"IF(AN67=\"Construção\",0,IF(OR(AN67=\"Start-up\",AN67=\"Operação\"),IF((AN76-AN74+AN75)>0,-(AN76-AN74+AN75)*'Parâmetros de Fluxo de Caixa'!$B$28,0),\"\"))","v":""},{"$f":"IF(AO67=\"Construção\",0,IF(OR(AO67=\"Start-up\",AO67=\"Operação\"),IF((AO76-AO74+AO75)>0,-(AO76-AO74+AO75)*'Parâmetros de Fluxo de Caixa'!$B$28,0),\"\"))","v":""},{"$f":"IF(AP67=\"Construção\",0,IF(OR(AP67=\"Start-up\",AP67=\"Operação\"),IF((AP76-AP74+AP75)>0,-(AP76-AP74+AP75)*'Parâmetros de Fluxo de Caixa'!$B$28,0),\"\"))","v":""},{"$f":"IF(AQ67=\"Construção\",0,IF(OR(AQ67=\"Start-up\",AQ67=\"Operação\"),IF((AQ76-AQ74+AQ75)>0,-(AQ76-AQ74+AQ75)*'Parâmetros de Fluxo de Caixa'!$B$28,0),\"\"))","v":""},{"$f":"IF(AR67=\"Construção\",0,IF(OR(AR67=\"Start-up\",AR67=\"Operação\"),IF((AR76-AR74+AR75)>0,-(AR76-AR74+AR75)*'Parâmetros de Fluxo de Caixa'!$B$28,0),\"\"))","v":""},{"$f":"IF(AS67=\"Construção\",0,IF(OR(AS67=\"Start-up\",AS67=\"Operação\"),IF((AS76-AS74+AS75)>0,-(AS76-AS74+AS75)*'Parâmetros de Fluxo de Caixa'!$B$28,0),\"\"))","v":""},{"$f":"IF(AT67=\"Construção\",0,IF(OR(AT67=\"Start-up\",AT67=\"Operação\"),IF((AT76-AT74+AT75)>0,-(AT76-AT74+AT75)*'Parâmetros de Fluxo de Caixa'!$B$28,0),\"\"))","v":""},{"$f":"IF(AU67=\"Construção\",0,IF(OR(AU67=\"Start-up\",AU67=\"Operação\"),IF((AU76-AU74+AU75)>0,-(AU76-AU74+AU75)*'Parâmetros de Fluxo de Caixa'!$B$28,0),\"\"))","v":""},{"$f":"IF(AV67=\"Construção\",0,IF(OR(AV67=\"Start-up\",AV67=\"Operação\"),IF((AV76-AV74+AV75)>0,-(AV76-AV74+AV75)*'Parâmetros de Fluxo de Caixa'!$B$28,0),\"\"))","v":""}]
["Venda de infraestrutura residual",{"$f":"IF('Fluxo de Caixa Descontado'!B67<>\"\",IF(AND(B67=\"Operação\",C67=\"\"),'Parâmetros de Fluxo de Caixa'!$B$27*'CAPEX e OPEX'!$D$3/10^6,0),\"\")","v":0},{"$f":"IF('Fluxo de Caixa Descontado'!C67<>\"\",IF(AND(C67=\"Operação\",D67=\"\"),'Parâmetros de Fluxo de Caixa'!$B$27*'CAPEX e OPEX'!$D$3/10^6,0),\"\")","v":0},{"$f":"IF('Fluxo de Caixa Descontado'!D67<>\"\",IF(AND(D67=\"Operação\",E67=\"\"),'Parâmetros de Fluxo de Caixa'!$B$27*'CAPEX e OPEX'!$D$3/10^6,0),\"\")","v":0},{"$f":"IF('Fluxo de Caixa Descontado'!E67<>\"\",IF(AND(E67=\"Operação\",F67=\"\"),'Parâmetros de Fluxo de Caixa'!$B$27*'CAPEX e OPEX'!$D$3/10^6,0),\"\")","v":0},{"$f":"IF('Fluxo de Caixa Descontado'!F67<>\"\",IF(AND(F67=\"Operação\",G67=\"\"),'Parâmetros de Fluxo de Caixa'!$B$27*'CAPEX e OPEX'!$D$3/10^6,0),\"\")","v":0},{"$f":"IF('Fluxo de Caixa Descontado'!G67<>\"\",IF(AND(G67=\"Operação\",H67=\"\"),'Parâmetros de Fluxo de Caixa'!$B$27*'CAPEX e OPEX'!$D$3/10^6,0),\"\")","v":0},{"$f":"IF('Fluxo de Caixa Descontado'!H67<>\"\",IF(AND(H67=\"Operação\",I67=\"\"),'Parâmetros de Fluxo de Caixa'!$B$27*'CAPEX e OPEX'!$D$3/10^6,0),\"\")","v":0},{"$f":"IF('Fluxo de Caixa Descontado'!I67<>\"\",IF(AND(I67=\"Operação\",J67=\"\"),'Parâmetros de Fluxo de Caixa'!$B$27*'CAPEX e OPEX'!$D$3/10^6,0),\"\")","v":0},{"$f":"IF('Fluxo de Caixa Descontado'!J67<>\"\",IF(AND(J67=\"Operação\",K67=\"\"),'Parâmetros de Fluxo de Caixa'!$B$27*'CAPEX e OPEX'!$D$3/10^6,0),\"\")","v":0},{"$f":"IF('Fluxo de Caixa Descontado'!K67<>\"\",IF(AND(K67=\"Operação\",L67=\"\"),'Parâmetros de Fluxo de Caixa'!$B$27*'CAPEX e OPEX'!$D$3/10^6,0),\"\")","v":0},{"$f":"IF('Fluxo de Caixa Descontado'!L67<>\"\",IF(AND(L67=\"Operação\",M67=\"\"),'Parâmetros de Fluxo de Caixa'!$B$27*'CAPEX e OPEX'!$D$3/10^6,0),\"\")","v":0},{"$f":"IF('Fluxo de Caixa Descontado'!M67<>\"\",IF(AND(M67=\"Operação\",N67=\"\"),'Parâmetros de Fluxo de Caixa'!$B$27*'CAPEX e OPEX'!$D$3/10^6,0),\"\")","v":0},{"$f":"IF('Fluxo de Caixa Descontado'!N67<>\"\",IF(AND(N67=\"Operação\",O67=\"\"),'Parâmetros de Fluxo de Caixa'!$B$27*'CAPEX e OPEX'!$D$3/10^6,0),\"\")","v":0},{"$f":"IF('Fluxo de Caixa Descontado'!O67<>\"\",IF(AND(O67=\"Operação\",P67=\"\"),'Parâmetros de Fluxo de Caixa'!$B$27*'CAPEX e OPEX'!$D$3/10^6,0),\"\")","v":0},{"$f":"IF('Fluxo de Caixa Descontado'!P67<>\"\",IF(AND(P67=\"Operação\",Q67=\"\"),'Parâmetros de Fluxo de Caixa'!$B$27*'CAPEX e OPEX'!$D$3/10^6,0),\"\")","v":0},{"$f":"IF('Fluxo de Caixa Descontado'!Q67<>\"\",IF(AND(Q67=\"Operação\",R67=\"\"),'Parâmetros de Fluxo de Caixa'!$B$27*'CAPEX e OPEX'!$D$3/10^6,0),\"\")","v":0},{"$f":"IF('Fluxo de Caixa Descontado'!R67<>\"\",IF(AND(R67=\"Operação\",S67=\"\"),'Parâmetros de Fluxo de Caixa'!$B$27*'CAPEX e OPEX'!$D$3/10^6,0),\"\")","v":0},{"$f":"IF('Fluxo de Caixa Descontado'!S67<>\"\",IF(AND(S67=\"Operação\",T67=\"\"),'Parâmetros de Fluxo de Caixa'!$B$27*'CAPEX e OPEX'!$D$3/10^6,0),\"\")","v":0},{"$f":"IF('Fluxo de Caixa Descontado'!T67<>\"\",IF(AND(T67=\"Operação\",U67=\"\"),'Parâmetros de Fluxo de Caixa'!$B$27*'CAPEX e OPEX'!$D$3/10^6,0),\"\")","v":0},{"$f":"IF('Fluxo de Caixa Descontado'!U67<>\"\",IF(AND(U67=\"Operação\",V67=\"\"),'Parâmetros de Fluxo de Caixa'!$B$27*'CAPEX e OPEX'!$D$3/10^6,0),\"\")","v":0},{"$f":"IF('Fluxo de Caixa Descontado'!V67<>\"\",IF(AND(V67=\"Operação\",W67=\"\"),'Parâmetros de Fluxo de Caixa'!$B$27*'CAPEX e OPEX'!$D$3/10^6,0),\"\")","v":0},{"$f":"IF('Fluxo de Caixa Descontado'!W67<>\"\",IF(AND(W67=\"Operação\",X67=\"\"),'Parâmetros de Fluxo de Caixa'!$B$27*'CAPEX e OPEX'!$D$3/10^6,0),\"\")","v":0},{"$f":"IF('Fluxo de Caixa Descontado'!X67<>\"\",IF(AND(X67=\"Operação\",Y67=\"\"),'Parâmetros de Fluxo de Caixa'!$B$27*'CAPEX e OPEX'!$D$3/10^6,0),\"\")","v":0},{"$f":"IF('Fluxo de Caixa Descontado'!Y67<>\"\",IF(AND(Y67=\"Operação\",Z67=\"\"),'Parâmetros de Fluxo de Caixa'!$B$27*'CAPEX e OPEX'!$D$3/10^6,0),\"\")","v":""},{"$f":"IF('Fluxo de Caixa Descontado'!Z67<>\"\",IF(AND(Z67=\"Operação\",AA67=\"\"),'Parâmetros de Fluxo de Caixa'!$B$27*'CAPEX e OPEX'!$D$3/10^6,0),\"\")","v":""},{"$f":"IF('Fluxo de Caixa Descontado'!AA67<>\"\",IF(AND(AA67=\"Operação\",AB67=\"\"),'Parâmetros de Fluxo de Caixa'!$B$27*'CAPEX e OPEX'!$D$3/10^6,0),\"\")","v":""},{"$f":"IF('Fluxo de Caixa Descontado'!AB67<>\"\",IF(AND(AB67=\"Operação\",AC67=\"\"),'Parâmetros de Fluxo de Caixa'!$B$27*'CAPEX e OPEX'!$D$3/10^6,0),\"\")","v":""},{"$f":"IF('Fluxo de Caixa Descontado'!AC67<>\"\",IF(AND(AC67=\"Operação\",AD67=\"\"),'Parâmetros de Fluxo de Caixa'!$B$27*'CAPEX e OPEX'!$D$3/10^6,0),\"\")","v":""},{"$f":"IF('Fluxo de Caixa Descontado'!AD67<>\"\",IF(AND(AD67=\"Operação\",AE67=\"\"),'Parâmetros de Fluxo de Caixa'!$B$27*'CAPEX e OPEX'!$D$3/10^6,0),\"\")","v":""},{"$f":"IF('Fluxo de Caixa Descontado'!AE67<>\"\",IF(AND(AE67=\"Operação\",AF67=\"\"),'Parâmetros de Fluxo de Caixa'!$B$27*'CAPEX e OPEX'!$D$3/10^6,0),\"\")","v":""},{"$f":"IF('Fluxo de Caixa Descontado'!AF67<>\"\",IF(AND(AF67=\"Operação\",AG67=\"\"),'Parâmetros de Fluxo de Caixa'!$B$27*'CAPEX e OPEX'!$D$3/10^6,0),\"\")","v":""},{"$f":"IF('Fluxo de Caixa Descontado'!AG67<>\"\",IF(AND(AG67=\"Operação\",AH67=\"\"),'Parâmetros de Fluxo de Caixa'!$B$27*'CAPEX e OPEX'!$D$3/10^6,0),\"\")","v":""},{"$f":"IF('Fluxo de Caixa Descontado'!AH67<>\"\",IF(AND(AH67=\"Operação\",AI67=\"\"),'Parâmetros de Fluxo de Caixa'!$B$27*'CAPEX e OPEX'!$D$3/10^6,0),\"\")","v":""},{"$f":"IF('Fluxo de Caixa Descontado'!AI67<>\"\",IF(AND(AI67=\"Operação\",AJ67=\"\"),'Parâmetros de Fluxo de Caixa'!$B$27*'CAPEX e OPEX'!$D$3/10^6,0),\"\")","v":""},{"$f":"IF('Fluxo de Caixa Descontado'!AJ67<>\"\",IF(AND(AJ67=\"Operação\",AK67=\"\"),'Parâmetros de Fluxo de Caixa'!$B$27*'CAPEX e OPEX'!$D$3/10^6,0),\"\")","v":""},{"$f":"IF('Fluxo de Caixa Descontado'!AK67<>\"\",IF(AND(AK67=\"Operação\",AL67=\"\"),'Parâmetros de Fluxo de Caixa'!$B$27*'CAPEX e OPEX'!$D$3/10^6,0),\"\")","v":""},{"$f":"IF('Fluxo de Caixa Descontado'!AL67<>\"\",IF(AND(AL67=\"Operação\",AM67=\"\"),'Parâmetros de Fluxo de Caixa'!$B$27*'CAPEX e OPEX'!$D$3/10^6,0),\"\")","v":""},{"$f":"IF('Fluxo de Caixa Descontado'!AM67<>\"\",IF(AND(AM67=\"Operação\",AN67=\"\"),'Parâmetros de Fluxo de Caixa'!$B$27*'CAPEX e OPEX'!$D$3/10^6,0),\"\")","v":""},{"$f":"IF('Fluxo de Caixa Descontado'!AN67<>\"\",IF(AND(AN67=\"Operação\",AO67=\"\"),'Parâmetros de Fluxo de Caixa'!$B$27*'CAPEX e OPEX'!$D$3/10^6,0),\"\")","v":""},{"$f":"IF('Fluxo de Caixa Descontado'!AO67<>\"\",IF(AND(AO67=\"Operação\",AP67=\"\"),'Parâmetros de Fluxo de Caixa'!$B$27*'CAPEX e OPEX'!$D$3/10^6,0),\"\")","v":""},{"$f":"IF('Fluxo de Caixa Descontado'!AP67<>\"\",IF(AND(AP67=\"Operação\",AQ67=\"\"),'Parâmetros de Fluxo de Caixa'!$B$27*'CAPEX e OPEX'!$D$3/10^6,0),\"\")","v":""},{"$f":"IF('Fluxo de Caixa Descontado'!AQ67<>\"\",IF(AND(AQ67=\"Operação\",AR67=\"\"),'Parâmetros de Fluxo de Caixa'!$B$27*'CAPEX e OPEX'!$D$3/10^6,0),\"\")","v":""},{"$f":"IF('Fluxo de Caixa Descontado'!AR67<>\"\",IF(AND(AR67=\"Operação\",AS67=\"\"),'Parâmetros de Fluxo de Caixa'!$B$27*'CAPEX e OPEX'!$D$3/10^6,0),\"\")","v":""},{"$f":"IF('Fluxo de Caixa Descontado'!AS67<>\"\",IF(AND(AS67=\"Operação\",AT67=\"\"),'Parâmetros de Fluxo de Caixa'!$B$27*'CAPEX e OPEX'!$D$3/10^6,0),\"\")","v":""},{"$f":"IF('Fluxo de Caixa Descontado'!AT67<>\"\",IF(AND(AT67=\"Operação\",AU67=\"\"),'Parâmetros de Fluxo de Caixa'!$B$27*'CAPEX e OPEX'!$D$3/10^6,0),\"\")","v":""},{"$f":"IF('Fluxo de Caixa Descontado'!AU67<>\"\",IF(AND(AU67=\"Operação\",AV67=\"\"),'Parâmetros de Fluxo de Caixa'!$B$27*'CAPEX e OPEX'!$D$3/10^6,0),\"\")","v":""},{"$f":"IF('Fluxo de Caixa Descontado'!AV67<>\"\",IF(AND(AV67=\"Operação\",AW67=\"\"),'Parâmetros de Fluxo de Caixa'!$B$27*'CAPEX e OPEX'!$D$3/10^6,0),\"\")","v":""}]
["Fluxo de Caixa Livre",{"$f":"IF(OR(B67=\"Construção\",B67=\"Start-up\",B67=\"Operação\"),B69+B70+B71+B72+B73+B77+B78+B75,\"\")","v":-448.37138673202401},-3362.7854004901792,-1793.485546928096,1233.0359619880301,1416.3098589540259,1416.3098589540259,1416.3098589540259,1416.3098589540259,1416.3098589540259,1416.3098589540259,1416.3098589540259,1416.3098589540259,1416.3098589540259,1225.752019592916,1225.752019592916,1225.752019592916,1225.752019592916,1225.752019592916,1225.752019592916,1225.752019592916,1225.752019592916,1225.752019592916,1225.752019592916,"","","","","","","","","","","","","","","","","","","","","","","",""]
["Fluxo de Caixa Livre Acumulado",{"$f":"IF(OR(B25=\"Construção\",B25=\"Start-up\",B25=\"Operação\"),SUM($B$79:B79),\"\")","v":-448.37138673202401},{"$f":"IF(OR(C25=\"Construção\",C25=\"Start-up\",C25=\"Operação\"),SUM($B$79:C79),\"\")","v":-3811.1567872222031},{"$f":"IF(OR(D25=\"Construção\",D25=\"Start-up\",D25=\"Operação\"),SUM($B$79:D79),\"\")","v":-5604.6423341502996},{"$f":"IF(OR(E25=\"Construção\",E25=\"Start-up\",E25=\"Operação\"),SUM($B$79:E79),\"\")","v":-4371.6063721622695},{"$f":"IF(OR(F25=\"Construção\",F25=\"Start-up\",F25=\"Operação\"),SUM($B$79:F79),\"\")","v":-2955.2965132082436},{"$f":"IF(OR(G25=\"Construção\",G25=\"Start-up\",G25=\"Operação\"),SUM($B$79:G79),\"\")","v":-1538.9866542542177},{"$f":"IF(OR(H25=\"Construção\",H25=\"Start-up\",H25=\"Operação\"),SUM($B$79:H79),\"\")","v":-122.67679530019177},{"$f":"IF(OR(I25=\"Construção\",I25=\"Start-up\",I25=\"Operação\"),SUM($B$79:I79),\"\")","v":1293.6330636538341},{"$f":"IF(OR(J25=\"Construção\",J25=\"Start-up\",J25=\"Operação\"),SUM($B$79:J79),\"\")","v":2709.9429226078601},{"$f":"IF(OR(K25=\"Construção\",K25=\"Start-up\",K25=\"Operação\"),SUM($B$79:K79),\"\")","v":4126.252781561886},{"$f":"IF(OR(L25=\"Construção\",L25=\"Start-up\",L25=\"Operação\"),SUM($B$79:L79),\"\")","v":5542.5626405159119},{"$f":"IF(OR(M25=\"Construção\",M25=\"Start-up\",M25=\"Operação\"),SUM($B$79:M79),\"\")","v":6958.8724994699378},{"$f":"IF(OR(N25=\"Construção\",N25=\"Start-up\",N25=\"Operação\"),SUM($B$79:N79),\"\")","v":8375.1823584239646},{"$f":"IF(OR(O25=\"Construção\",O25=\"Start-up\",O25=\"Operação\"),SUM($B$79:O79),\"\")","v":9600.9343780168801},{"$f":"IF(OR(P25=\"Construção\",P25=\"Start-up\",P25=\"Operação\"),SUM($B$79:P79),\"\")","v":10826.686397609796},{"$f":"IF(OR(Q25=\"Construção\",Q25=\"Start-up\",Q25=\"Operação\"),SUM($B$79:Q79),\"\")","v":12052.438417202711},{"$f":"IF(OR(R25=\"Construção\",R25=\"Start-up\",R25=\"Operação\"),SUM($B$79:R79),\"\")","v":13278.190436795627},{"$f":"IF(OR(S25=\"Construção\",S25=\"Start-up\",S25=\"Operação\"),SUM($B$79:S79),\"\")","v":14503.942456388542},{"$f":"IF(OR(T25=\"Construção\",T25=\"Start-up\",T25=\"Operação\"),SUM($B$79:T79),\"\")","v":15729.694475981458},{"$f":"IF(OR(U25=\"Construção\",U25=\"Start-up\",U25=\"Operação\"),SUM($B$79:U79),\"\")","v":16955.446495574375},{"$f":"IF(OR(V25=\"Construção\",V25=\"Start-up\",V25=\"Operação\"),SUM($B$79:V79),\"\")","v":18181.198515167292},{"$f":"IF(OR(W25=\"Construção\",W25=\"Start-up\",W25=\"Operação\"),SUM($B$79:W79),\"\")","v":19406.95053476021},{"$f":"IF(OR(X25=\"Construção\",X25=\"Start-up\",X25=\"Operação\"),SUM($B$79:X79),\"\")","v":20632.702554353127},{"$f":"IF(OR(Y25=\"Construção\",Y25=\"Start-up\",Y25=\"Operação\"),SUM($B$79:Y79),\"\")","v":""},{"$f":"IF(OR(Z25=\"Construção\",Z25=\"Start-up\",Z25=\"Operação\"),SUM($B$79:Z79),\"\")","v":""},{"$f":"IF(OR(AA25=\"Construção\",AA25=\"Start-up\",AA25=\"Operação\"),SUM($B$79:AA79),\"\")","v":""},{"$f":"IF(OR(AB25=\"Construção\",AB25=\"Start-up\",AB25=\"Operação\"),SUM($B$79:AB79),\"\")","v":""},{"$f":"IF(OR(AC25=\"Construção\",AC25=\"Start-up\",AC25=\"Operação\"),SUM($B$79:AC79),\"\")","v":""},{"$f":"IF(OR(AD25=\"Construção\",AD25=\"Start-up\",AD25=\"Operação\"),SUM($B$79:AD79),\"\")","v":""},{"$f":"IF(OR(AE25=\"Construção\",AE25=\"Start-up\",AE25=\"Operação\"),SUM($B$79:AE79),\"\")","v":""},{"$f":"IF(OR(AF25=\"Construção\",AF25=\"Start-up\",AF25=\"Operação\"),SUM($B$79:AF79),\"\")","v":""},{"$f":"IF(OR(AG25=\"Construção\",AG25=\"Start-up\",AG25=\"Operação\"),SUM($B$79:AG79),\"\")","v":""},{"$f":"IF(OR(AH25=\"Construção\",AH25=\"Start-up\",AH25=\"Operação\"),SUM($B$79:AH79),\"\")","v":""},{"$f":"IF(OR(AI25=\"Construção\",AI25=\"Start-up\",AI25=\"Operação\"),SUM($B$79:AI79),\"\")","v":""},{"$f":"IF(OR(AJ25=\"Construção\",AJ25=\"Start-up\",AJ25=\"Operação\"),SUM($B$79:AJ79),\"\")","v":""},{"$f":"IF(OR(AK25=\"Construção\",AK25=\"Start-up\",AK25=\"Operação\"),SUM($B$79:AK79),\"\")","v":""},{"$f":"IF(OR(AL25=\"Construção\",AL25=\"Start-up\",AL25=\"Operação\"),SUM($B$79:AL79),\"\")","v":""},{"$f":"IF(OR(AM25=\"Construção\",AM25=\"Start-up\",AM25=\"Operação\"),SUM($B$79:AM79),\"\")","v":""},{"$f":"IF(OR(AN25=\"Construção\",AN25=\"Start-up\",AN25=\"Operação\"),SUM($B$79:AN79),\"\")","v":""},{"$f":"IF(OR(AO25=\"Construção\",AO25=\"Start-up\",AO25=\"Operação\"),SUM($B$79:AO79),\"\")","v":""},{"$f":"IF(OR(AP25=\"Construção\",AP25=\"Start-up\",AP25=\"Operação\"),SUM($B$79:AP79),\"\")","v":""},{"$f":"IF(OR(AQ25=\"Construção\",AQ25=\"Start-up\",AQ25=\"Operação\"),SUM($B$79:AQ79),\"\")","v":""},{"$f":"IF(OR(AR25=\"Construção\",AR25=\"Start-up\",AR25=\"Operação\"),SUM($B$79:AR79),\"\")","v":""},{"$f":"IF(OR(AS25=\"Construção\",AS25=\"Start-up\",AS25=\"Operação\"),SUM($B$79:AS79),\"\")","v":""},{"$f":"IF(OR(AT25=\"Construção\",AT25=\"Start-up\",AT25=\"Operação\"),SUM($B$79:AT79),\"\")","v":""},{"$f":"IF(OR(AU25=\"Construção\",AU25=\"Start-up\",AU25=\"Operação\"),SUM($B$79:AU79),\"\")","v":""},{"$f":"IF(OR(AV25=\"Construção\",AV25=\"Start-up\",AV25=\"Operação\"),SUM($B$79:AV79),\"\")","v":""}]
["Fluxo de Caixa Descontado",{"$f":"IF(OR(B67=\"Construção\",B67=\"Start-up\",B67=\"Operação\"),B79/(1+'Parâmetros de Fluxo de Caixa'!$B$32)^B66,\"\")","v":-404.3222559628029},{"$f":"IF(OR(C67=\"Construção\",C67=\"Start-up\",C67=\"Operação\"),C79/(1+'Parâmetros de Fluxo de Caixa'!$B$32)^C66,\"\")","v":-2734.5046679665988},{"$f":"IF(OR(D67=\"Construção\",D67=\"Start-up\",D67=\"Operação\"),D79/(1+'Parâmetros de Fluxo de Caixa'!$B$32)^D66,\"\")","v":-1315.1253673599376},{"$f":"IF(OR(E67=\"Construção\",E67=\"Start-up\",E67=\"Operação\"),E79/(1+'Parâmetros de Fluxo de Caixa'!$B$32)^E66,\"\")","v":815.33253883659881},{"$f":"IF(OR(F67=\"Construção\",F67=\"Start-up\",F67=\"Operação\"),F79/(1+'Parâmetros de Fluxo de Caixa'!$B$32)^F66,\"\")","v":844.51441674437706},{"$f":"IF(OR(G67=\"Construção\",G67=\"Start-up\",G67=\"Operação\"),G79/(1+'Parâmetros de Fluxo de Caixa'!$B$32)^G66,\"\")","v":761.54720010104825},{"$f":"IF(OR(H67=\"Construção\",H67=\"Start-up\",H67=\"Operação\"),H79/(1+'Parâmetros de Fluxo de Caixa'!$B$32)^H66,\"\")","v":686.73089112851733},{"$f":"IF(OR(I67=\"Construção\",I67=\"Start-up\",I67=\"Operação\"),I79/(1+'Parâmetros de Fluxo de Caixa'!$B$32)^I66,\"\")","v":619.26472419252786},{"$f":"IF(OR(J67=\"Construção\",J67=\"Start-up\",J67=\"Operação\"),J79/(1+'Parâmetros de Fluxo de Caixa'!$B$32)^J66,\"\")","v":558.42660288523427},{"$f":"IF(OR(K67=\"Construção\",K67=\"Start-up\",K67=\"Operação\"),K79/(1+'Parâmetros de Fluxo de Caixa'!$B$32)^K66,\"\")","v":503.56537136288216},{"$f":"IF(OR(L67=\"Construção\",L67=\"Start-up\",L67=\"Operação\"),L79/(1+'Parâmetros de Fluxo de Caixa'!$B$32)^L66,\"\")","v":454.09384496668025},{"$f":"IF(OR(M67=\"Construção\",M67=\"Start-up\",M67=\"Operação\"),M79/(1+'Parâmetros de Fluxo de Caixa'!$B$32)^M66,\"\")","v":409.48252553297493},{"$f":"IF(OR(N67=\"Construção\",N67=\"Start-up\",N67=\"Operação\"),N79/(1+'Parâmetros de Fluxo de Caixa'!$B$32)^N66,\"\")","v":369.25393412713385},{"$f":"IF(OR(O67=\"Construção\",O67=\"Start-up\",O67=\"Operação\"),O79/(1+'Parâmetros de Fluxo de Caixa'!$B$32)^O66,\"\")","v":288.17694178312678},{"$f":"IF(OR(P67=\"Construção\",P67=\"Start-up\",P67=\"Operação\"),P79/(1+'Parâmetros de Fluxo de Caixa'!$B$32)^P66,\"\")","v":259.86571548967481},{"$f":"IF(OR(Q67=\"Construção\",Q67=\"Start-up\",Q67=\"Operação\"),Q79/(1+'Parâmetros de Fluxo de Caixa'!$B$32)^Q66,\"\")","v":234.33585514895844},{"$f":"IF(OR(R67=\"Construção\",R67=\"Start-up\",R67=\"Operação\"),R79/(1+'Parâmetros de Fluxo de Caixa'!$B$32)^R66,\"\")","v":211.31411238653948},{"$f":"IF(OR(S67=\"Construção\",S67=\"Start-up\",S67=\"Operação\"),S79/(1+'Parâmetros de Fluxo de Caixa'!$B$32)^S66,\"\")","v":190.55408343433569},{"$f":"IF(OR(T67=\"Construção\",T67=\"Start-up\",T67=\"Operação\"),T79/(1+'Parâmetros de Fluxo de Caixa'!$B$32)^T66,\"\")","v":171.83357184909315},{"$f":"IF(OR(U67=\"Construção\",U67=\"Start-up\",U67=\"Operação\"),U79/(1+'Parâmetros de Fluxo de Caixa'!$B$32)^U66,\"\")","v":154.9522103240169},{"$f":"IF(OR(V67=\"Construção\",V67=\"Start-up\",V67=\"Operação\"),V79/(1+'Parâmetros de Fluxo de Caixa'!$B$32)^V66,\"\")","v":139.72931613959864},{"$f":"IF(OR(W67=\"Construção\",W67=\"Start-up\",W67=\"Operação\"),W79/(1+'Parâmetros de Fluxo de Caixa'!$B$32)^W66,\"\")","v":126.00195730033884},{"$f":"IF(OR(X67=\"Construção\",X67=\"Start-up\",X67=\"Operação\"),X79/(1+'Parâmetros de Fluxo de Caixa'!$B$32)^X66,\"\")","v":113.62320865905312},{"$f":"IF(OR(Y67=\"Construção\",Y67=\"Start-up\",Y67=\"Operação\"),Y79/(1+'Parâmetros de Fluxo de Caixa'!$B$32)^Y66,\"\")","v":""},{"$f":"IF(OR(Z67=\"Construção\",Z67=\"Start-up\",Z67=\"Operação\"),Z79/(1+'Parâmetros de Fluxo de Caixa'!$B$32)^Z66,\"\")","v":""},{"$f":"IF(OR(AA67=\"Construção\",AA67=\"Start-up\",AA67=\"Operação\"),AA79/(1+'Parâmetros de Fluxo de Caixa'!$B$32)^AA66,\"\")","v":""},{"$f":"IF(OR(AB67=\"Construção\",AB67=\"Start-up\",AB67=\"Operação\"),AB79/(1+'Parâmetros de Fluxo de Caixa'!$B$32)^AB66,\"\")","v":""},{"$f":"IF(OR(AC67=\"Construção\",AC67=\"Start-up\",AC67=\"Operação\"),AC79/(1+'Parâmetros de Fluxo de Caixa'!$B$32)^AC66,\"\")","v":""},{"$f":"IF(OR(AD67=\"Construção\",AD67=\"Start-up\",AD67=\"Operação\"),AD79/(1+'Parâmetros de Fluxo de Caixa'!$B$32)^AD66,\"\")","v":""},{"$f":"IF(OR(AE67=\"Construção\",AE67=\"Start-up\",AE67=\"Operação\"),AE79/(1+'Parâmetros de Fluxo de Caixa'!$B$32)^AE66,\"\")","v":""},{"$f":"IF(OR(AF67=\"Construção\",AF67=\"Start-up\",AF67=\"Operação\"),AF79/(1+'Parâmetros de Fluxo de Caixa'!$B$32)^AF66,\"\")","v":""},{"$f":"IF(OR(AG67=\"Construção\",AG67=\"Start-up\",AG67=\"Operação\"),AG79/(1+'Parâmetros de Fluxo de Caixa'!$B$32)^AG66,\"\")","v":""},{"$f":"IF(OR(AH67=\"Construção\",AH67=\"Start-up\",AH67=\"Operação\"),AH79/(1+'Parâmetros de Fluxo de Caixa'!$B$32)^AH66,\"\")","v":""},{"$f":"IF(OR(AI67=\"Construção\",AI67=\"Start-up\",AI67=\"Operação\"),AI79/(1+'Parâmetros de Fluxo de Caixa'!$B$32)^AI66,\"\")","v":""},{"$f":"IF(OR(AJ67=\"Construção\",AJ67=\"Start-up\",AJ67=\"Operação\"),AJ79/(1+'Parâmetros de Fluxo de Caixa'!$B$32)^AJ66,\"\")","v":""},{"$f":"IF(OR(AK67=\"Construção\",AK67=\"Start-up\",AK67=\"Operação\"),AK79/(1+'Parâmetros de Fluxo de Caixa'!$B$32)^AK66,\"\")","v":""},{"$f":"IF(OR(AL67=\"Construção\",AL67=\"Start-up\",AL67=\"Operação\"),AL79/(1+'Parâmetros de Fluxo de Caixa'!$B$32)^AL66,\"\")","v":""},{"$f":"IF(OR(AM67=\"Construção\",AM67=\"Start-up\",AM67=\"Operação\"),AM79/(1+'Parâmetros de Fluxo de Caixa'!$B$32)^AM66,\"\")","v":""},{"$f":"IF(OR(AN67=\"Construção\",AN67=\"Start-up\",AN67=\"Operação\"),AN79/(1+'Parâmetros de Fluxo de Caixa'!$B$32)^AN66,\"\")","v":""},{"$f":"IF(OR(AO67=\"Construção\",AO67=\"Start-up\",AO67=\"Operação\"),AO79/(1+'Parâmetros de Fluxo de Caixa'!$B$32)^AO66,\"\")","v":""},{"$f":"IF(OR(AP67=\"Construção\",AP67=\"Start-up\",AP67=\"Operação\"),AP79/(1+'Parâmetros de Fluxo de Caixa'!$B$32)^AP66,\"\")","v":""},{"$f":"IF(OR(AQ67=\"Construção\",AQ67=\"Start-up\",AQ67=\"Operação\"),AQ79/(1+'Parâmetros de Fluxo de Caixa'!$B$32)^AQ66,\"\")","v":""},{"$f":"IF(OR(AR67=\"Construção\",AR67=\"Start-up\",AR67=\"Operação\"),AR79/(1+'Parâmetros de Fluxo de Caixa'!$B$32)^AR66,\"\")","v":""},{"$f":"IF(OR(AS67=\"Construção\",AS67=\"Start-up\",AS67=\"Operação\"),AS79/(1+'Parâmetros de Fluxo de Caixa'!$B$32)^AS66,\"\")","v":""},{"$f":"IF(OR(AT67=\"Construção\",AT67=\"Start-up\",AT67=\"Operação\"),AT79/(1+'Parâmetros de Fluxo de Caixa'!$B$32)^AT66,\"\")","v":""},{"$f":"IF(OR(AU67=\"Construção\",AU67=\"Start-up\",AU67=\"Operação\"),AU79/(1+'Parâmetros de Fluxo de Caixa'!$B$32)^AU66,\"\")","v":""},{"$f":"IF(OR(AV67=\"Construção\",AV67=\"Start-up\",AV67=\"Operação\"),AV79/(1+'Parâmetros de Fluxo de Caixa'!$B$32)^AV66,\"\")","v":""}]
["Fluxo de Caixa Descontado Acumulado",{"$f":"IF(OR(B25=\"Construção\",B25=\"Start-up\",B25=\"Operação\"),SUM($B$81:B81),\"\")","v":-404.3222559628029},{"$f":"IF(OR(C25=\"Construção\",C25=\"Start-up\",C25=\"Operação\"),SUM($B$81:C81),\"\")","v":-3138.8269239294018},{"$f":"IF(OR(D25=\"Construção\",D25=\"Start-up\",D25=\"Operação\"),SUM($B$81:D81),\"\")","v":-4453.952291289339},{"$f":"IF(OR(E25=\"Construção\",E25=\"Start-up\",E25=\"Operação\"),SUM($B$81:E81),\"\")","v":-3638.6197524527402},{"$f":"IF(OR(F25=\"Construção\",F25=\"Start-up\",F25=\"Operação\"),SUM($B$81:F81),\"\")","v":-2794.1053357083629},{"$f":"IF(OR(G25=\"Construção\",G25=\"Start-up\",G25=\"Operação\"),SUM($B$81:G81),\"\")","v":-2032.5581356073146},{"$f":"IF(OR(H25=\"Construção\",H25=\"Start-up\",H25=\"Operação\"),SUM($B$81:H81),\"\")","v":-1345.8272444787972},{"$f":"IF(OR(I25=\"Construção\",I25=\"Start-up\",I25=\"Operação\"),SUM($B$81:I81),\"\")","v":-726.56252028626932},{"$f":"IF(OR(J25=\"Construção\",J25=\"Start-up\",J25=\"Operação\"),SUM($B$81:J81),\"\")","v":-168.13591740103504},{"$f":"IF(OR(K25=\"Construção\",K25=\"Start-up\",K25=\"Operação\"),SUM($B$81:K81),\"\")","v":335.42945396184712},{"$f":"IF(OR(L25=\"Construção\",L25=\"Start-up\",L25=\"Operação\"),SUM($B$81:L81),\"\")","v":789.52329892852731},{"$f":"IF(OR(M25=\"Construção\",M25=\"Start-up\",M25=\"Operação\"),SUM($B$81:M81),\"\")","v":1199.0058244615022},{"$f":"IF(OR(N25=\"Construção\",N25=\"Start-up\",N25=\"Operação\"),SUM($B$81:N81),\"\")","v":1568.259758588636},{"$f":"IF(OR(O25=\"Construção\",O25=\"Start-up\",O25=\"Operação\"),SUM($B$81:O81),\"\")","v":1856.4367003717628},{"$f":"IF(OR(P25=\"Construção\",P25=\"Start-up\",P25=\"Operação\"),SUM($B$81:P81),\"\")","v":2116.3024158614376},{"$f":"IF(OR(Q25=\"Construção\",Q25=\"Start-up\",Q25=\"Operação\"),SUM($B$81:Q81),\"\")","v":2350.6382710103962},{"$f":"IF(OR(R25=\"Construção\",R25=\"Start-up\",R25=\"Operação\"),SUM($B$81:R81),\"\")","v":2561.9523833969356},{"$f":"IF(OR(S25=\"Construção\",S25=\"Start-up\",S25=\"Operação\"),SUM($B$81:S81),\"\")","v":2752.5064668312712},{"$f":"IF(OR(T25=\"Construção\",T25=\"Start-up\",T25=\"Operação\"),SUM($B$81:T81),\"\")","v":2924.3400386803642},{"$f":"IF(OR(U25=\"Construção\",U25=\"Start-up\",U25=\"Operação\"),SUM($B$81:U81),\"\")","v":3079.2922490043811},{"$f":"IF(OR(V25=\"Construção\",V25=\"Start-up\",V25=\"Operação\"),SUM($B$81:V81),\"\")","v":3219.0215651439798},{"$f":"IF(OR(W25=\"Construção\",W25=\"Start-up\",W25=\"Operação\"),SUM($B$81:W81),\"\")","v":3345.0235224443186},{"$f":"IF(OR(X25=\"Construção\",X25=\"Start-up\",X25=\"Operação\"),SUM($B$81:X81),\"\")","v":3458.6467311033716},{"$f":"IF(OR(Y25=\"Construção\",Y25=\"Start-up\",Y25=\"Operação\"),SUM($B$81:Y81),\"\")","v":""},{"$f":"IF(OR(Z25=\"Construção\",Z25=\"Start-up\",Z25=\"Operação\"),SUM($B$81:Z81),\"\")","v":""},{"$f":"IF(OR(AA25=\"Construção\",AA25=\"Start-up\",AA25=\"Operação\"),SUM($B$81:AA81),\"\")","v":""},{"$f":"IF(OR(AB25=\"Construção\",AB25=\"Start-up\",AB25=\"Operação\"),SUM($B$81:AB81),\"\")","v":""},{"$f":"IF(OR(AC25=\"Construção\",AC25=\"Start-up\",AC25=\"Operação\"),SUM($B$81:AC81),\"\")","v":""},{"$f":"IF(OR(AD25=\"Construção\",AD25=\"Start-up\",AD25=\"Operação\"),SUM($B$81:AD81),\"\")","v":""},{"$f":"IF(OR(AE25=\"Construção\",AE25=\"Start-up\",AE25=\"Operação\"),SUM($B$81:AE81),\"\")","v":""},{"$f":"IF(OR(AF25=\"Construção\",AF25=\"Start-up\",AF25=\"Operação\"),SUM($B$81:AF81),\"\")","v":""},{"$f":"IF(OR(AG25=\"Construção\",AG25=\"Start-up\",AG25=\"Operação\"),SUM($B$81:AG81),\"\")","v":""},{"$f":"IF(OR(AH25=\"Construção\",AH25=\"Start-up\",AH25=\"Operação\"),SUM($B$81:AH81),\"\")","v":""},{"$f":"IF(OR(AI25=\"Construção\",AI25=\"Start-up\",AI25=\"Operação\"),SUM($B$81:AI81),\"\")","v":""},{"$f":"IF(OR(AJ25=\"Construção\",AJ25=\"Start-up\",AJ25=\"Operação\"),SUM($B$81:AJ81),\"\")","v":""},{"$f":"IF(OR(AK25=\"Construção\",AK25=\"Start-up\",AK25=\"Operação\"),SUM($B$81:AK81),\"\")","v":""},{"$f":"IF(OR(AL25=\"Construção\",AL25=\"Start-up\",AL25=\"Operação\"),SUM($B$81:AL81),\"\")","v":""},{"$f":"IF(OR(AM25=\"Construção\",AM25=\"Start-up\",AM25=\"Operação\"),SUM($B$81:AM81),\"\")","v":""},{"$f":"IF(OR(AN25=\"Construção\",AN25=\"Start-up\",AN25=\"Operação\"),SUM($B$81:AN81),\"\")","v":""},{"$f":"IF(OR(AO25=\"Construção\",AO25=\"Start-up\",AO25=\"Operação\"),SUM($B$81:AO81),\"\")","v":""},{"$f":"IF(OR(AP25=\"Construção\",AP25=\"Start-up\",AP25=\"Operação\"),SUM($B$81:AP81),\"\")","v":""},{"$f":"IF(OR(AQ25=\"Construção\",AQ25=\"Start-up\",AQ25=\"Operação\"),SUM($B$81:AQ81),\"\")","v":""},{"$f":"IF(OR(AR25=\"Construção\",AR25=\"Start-up\",AR25=\"Operação\"),SUM($B$81:AR81),\"\")","v":""},{"$f":"IF(OR(AS25=\"Construção\",AS25=\"Start-up\",AS25=\"Operação\"),SUM($B$81:AS81),\"\")","v":""},{"$f":"IF(OR(AT25=\"Construção\",AT25=\"Start-up\",AT25=\"Operação\"),SUM($B$81:AT81),\"\")","v":""},{"$f":"IF(OR(AU25=\"Construção\",AU25=\"Start-up\",AU25=\"Operação\"),SUM($B$81:AU81),\"\")","v":""},{"$f":"IF(OR(AV25=\"Construção\",AV25=\"Start-up\",AV25=\"Operação\"),SUM($B$81:AV81),\"\")","v":""}]
["Custo CAPEX descontado",{"$f":"IF(OR(B25=\"Construção\",B25=\"Start-up\",B25=\"Operação\"),(B72+B73+B78)/((1+'Parâmetros de Fluxo de Caixa'!$B$32)^'Fluxo de Caixa Descontado'!B65),\"\")","v":-448.37138673202401},{"$f":"IF(OR(C25=\"Construção\",C25=\"Start-up\",C25=\"Operação\"),(C72+C73+C78)/((1+'Parâmetros de Fluxo de Caixa'!$B$32)^'Fluxo de Caixa Descontado'!C65),\"\")","v":-3032.4169197210208},{"$f":"IF(OR(D25=\"Construção\",D25=\"Start-up\",D25=\"Operação\"),(D72+D73+D78)/((1+'Parâmetros de Fluxo de Caixa'!$B$32)^'Fluxo de Caixa Descontado'!D65),\"\")","v":-1458.4024895821863},{"$f":"IF(OR(E25=\"Construção\",E25=\"Start-up\",E25=\"Operação\"),(E72+E73+E78)/((1+'Parâmetros de Fluxo de Caixa'!$B$32)^'Fluxo de Caixa Descontado'!E65),\"\")","v":0},{"$f":"IF(OR(F25=\"Construção\",F25=\"Start-up\",F25=\"Operação\"),(F72+F73+F78)/((1+'Parâmetros de Fluxo de Caixa'!$B$32)^'Fluxo de Caixa Descontado'!F65),\"\")","v":0},{"$f":"IF(OR(G25=\"Construção\",G25=\"Start-up\",G25=\"Operação\"),(G72+G73+G78)/((1+'Parâmetros de Fluxo de Caixa'!$B$32)^'Fluxo de Caixa Descontado'!G65),\"\")","v":0},{"$f":"IF(OR(H25=\"Construção\",H25=\"Start-up\",H25=\"Operação\"),(H72+H73+H78)/((1+'Parâmetros de Fluxo de Caixa'!$B$32)^'Fluxo de Caixa Descontado'!H65),\"\")","v":0},{"$f":"IF(OR(I25=\"Construção\",I25=\"Start-up\",I25=\"Operação\"),(I72+I73+I78)/((1+'Parâmetros de Fluxo de Caixa'!$B$32)^'Fluxo de Caixa Descontado'!I65),\"\")","v":0},{"$f":"IF(OR(J25=\"Construção\",J25=\"Start-up\",J25=\"Operação\"),(J72+J73+J78)/((1+'Parâmetros de Fluxo de Caixa'!$B$32)^'Fluxo de Caixa Descontado'!J65),\"\")","v":0},{"$f":"IF(OR(K25=\"Construção\",K25=\"Start-up\",K25=\"Operação\"),(K72+K73+K78)/((1+'Parâmetros de Fluxo de Caixa'!$B$32)^'Fluxo de Caixa Descontado'!K65),\"\")","v":0},{"$f":"IF(OR(L25=\"Construção\",L25=\"Start-up\",L25=\"Operação\"),(L72+L73+L78)/((1+'Parâmetros de Fluxo de Caixa'!$B$32)^'Fluxo de Caixa Descontado'!L65),\"\")","v":0},{"$f":"IF(OR(M25=\"Construção\",M25=\"Start-up\",M25=\"Operação\"),(M72+M73+M78)/((1+'Parâmetros de Fluxo de Caixa'!$B$32)^'Fluxo de Caixa Descontado'!M65),\"\")","v":0},{"$f":"IF(OR(N25=\"Construção\",N25=\"Start-up\",N25=\"Operação\"),(N72+N73+N78)/((1+'Parâmetros de Fluxo de Caixa'!$B$32)^'Fluxo de Caixa Descontado'!N65),\"\")","v":0},{"$f":"IF(OR(O25=\"Construção\",O25=\"Start-up\",O25=\"Operação\"),(O72+O73+O78)/((1+'Parâmetros de Fluxo de Caixa'!$B$32)^'Fluxo de Caixa Descontado'!O65),\"\")","v":0},{"$f":"IF(OR(P25=\"Construção\",P25=\"Start-up\",P25=\"Operação\"),(P72+P73+P78)/((1+'Parâmetros de Fluxo de Caixa'!$B$32)^'Fluxo de Caixa Descontado'!P65),\"\")","v":0},{"$f":"IF(OR(Q25=\"Construção\",Q25=\"Start-up\",Q25=\"Operação\"),(Q72+Q73+Q78)/((1+'Parâmetros de Fluxo de Caixa'!$B$32)^'Fluxo de Caixa Descontado'!Q65),\"\")","v":0},{"$f":"IF(OR(R25=\"Construção\",R25=\"Start-up\",R25=\"Operação\"),(R72+R73+R78)/((1+'Parâmetros de Fluxo de Caixa'!$B$32)^'Fluxo de Caixa Descontado'!R65),\"\")","v":0},{"$f":"IF(OR(S25=\"Construção\",S25=\"Start-up\",S25=\"Operação\"),(S72+S73+S78)/((1+'Parâmetros de Fluxo de Caixa'!$B$32)^'Fluxo de Caixa Descontado'!S65),\"\")","v":0},{"$f":"IF(OR(T25=\"Construção\",T25=\"Start-up\",T25=\"Operação\"),(T72+T73+T78)/((1+'Parâmetros de Fluxo de Caixa'!$B$32)^'Fluxo de Caixa Descontado'!T65),\"\")","v":0},{"$f":"IF(OR(U25=\"Construção\",U25=\"Start-up\",U25=\"Operação\"),(U72+U73+U78)/((1+'Parâmetros de Fluxo de Caixa'!$B$32)^'Fluxo de Caixa Descontado'!U65),\"\")","v":0},{"$f":"IF(OR(V25=\"Construção\",V25=\"Start-up\",V25=\"Operação\"),(V72+V73+V78)/((1+'Parâmetros de Fluxo de Caixa'!$B$32)^'Fluxo de Caixa Descontado'!V65),\"\")","v":0},{"$f":"IF(OR(W25=\"Construção\",W25=\"Start-up\",W25=\"Operação\"),(W72+W73+W78)/((1+'Parâmetros de Fluxo de Caixa'!$B$32)^'Fluxo de Caixa Descontado'!W65),\"\")","v":0},{"$f":"IF(OR(X25=\"Construção\",X25=\"Start-up\",X25=\"Operação\"),(X72+X73+X78)/((1+'Parâmetros de Fluxo de Caixa'!$B$32)^'Fluxo de Caixa Descontado'!X65),\"\")","v":0},{"$f":"IF(OR(Y25=\"Construção\",Y25=\"Start-up\",Y25=\"Operação\"),(Y72+Y73+Y78)/((1+'Parâmetros de Fluxo de Caixa'!$B$32)^'Fluxo de Caixa Descontado'!Y65),\"\")","v":""},{"$f":"IF(OR(Z25=\"Construção\",Z25=\"Start-up\",Z25=\"Operação\"),(Z72+Z73+Z78)/((1+'Parâmetros de Fluxo de Caixa'!$B$32)^'Fluxo de Caixa Descontado'!Z65),\"\")","v":""},{"$f":"IF(OR(AA25=\"Construção\",AA25=\"Start-up\",AA25=\"Operação\"),(AA72+AA73+AA78)/((1+'Parâmetros de Fluxo de Caixa'!$B$32)^'Fluxo de Caixa Descontado'!AA65),\"\")","v":""},{"$f":"IF(OR(AB25=\"Construção\",AB25=\"Start-up\",AB25=\"Operação\"),(AB72+AB73+AB78)/((1+'Parâmetros de Fluxo de Caixa'!$B$32)^'Fluxo de Caixa Descontado'!AB65),\"\")","v":""},{"$f":"IF(OR(AC25=\"Construção\",AC25=\"Start-up\",AC25=\"Operação\"),(AC72+AC73+AC78)/((1+'Parâmetros de Fluxo de Caixa'!$B$32)^'Fluxo de Caixa Descontado'!AC65),\"\")","v":""},{"$f":"IF(OR(AD25=\"Construção\",AD25=\"Start-up\",AD25=\"Operação\"),(AD72+AD73+AD78)/((1+'Parâmetros de Fluxo de Caixa'!$B$32)^'Fluxo de Caixa Descontado'!AD65),\"\")","v":""},{"$f":"IF(OR(AE25=\"Construção\",AE25=\"Start-up\",AE25=\"Operação\"),(AE72+AE73+AE78)/((1+'Parâmetros de Fluxo de Caixa'!$B$32)^'Fluxo de Caixa Descontado'!AE65),\"\")","v":""},{"$f":"IF(OR(AF25=\"Construção\",AF25=\"Start-up\",AF25=\"Operação\"),(AF72+AF73+AF78)/((1+'Parâmetros de Fluxo de Caixa'!$B$32)^'Fluxo de Caixa Descontado'!AF65),\"\")","v":""},{"$f":"IF(OR(AG25=\"Construção\",AG25=\"Start-up\",AG25=\"Operação\"),(AG72+AG73+AG78)/((1+'Parâmetros de Fluxo de Caixa'!$B$32)^'Fluxo de Caixa Descontado'!AG65),\"\")","v":""},{"$f":"IF(OR(AH25=\"Construção\",AH25=\"Start-up\",AH25=\"Operação\"),(AH72+AH73+AH78)/((1+'Parâmetros de Fluxo de Caixa'!$B$32)^'Fluxo de Caixa Descontado'!AH65),\"\")","v":""},{"$f":"IF(OR(AI25=\"Construção\",AI25=\"Start-up\",AI25=\"Operação\"),(AI72+AI73+AI78)/((1+'Parâmetros de Fluxo de Caixa'!$B$32)^'Fluxo de Caixa Descontado'!AI65),\"\")","v":""},{"$f":"IF(OR(AJ25=\"Construção\",AJ25=\"Start-up\",AJ25=\"Operação\"),(AJ72+AJ73+AJ78)/((1+'Parâmetros de Fluxo de Caixa'!$B$32)^'Fluxo de Caixa Descontado'!AJ65),\"\")","v":""},{"$f":"IF(OR(AK25=\"Construção\",AK25=\"Start-up\",AK25=\"Operação\"),(AK72+AK73+AK78)/((1+'Parâmetros de Fluxo de Caixa'!$B$32)^'Fluxo de Caixa Descontado'!AK65),\"\")","v":""},{"$f":"IF(OR(AL25=\"Construção\",AL25=\"Start-up\",AL25=\"Operação\"),(AL72+AL73+AL78)/((1+'Parâmetros de Fluxo de Caixa'!$B$32)^'Fluxo de Caixa Descontado'!AL65),\"\")","v":""},{"$f":"IF(OR(AM25=\"Construção\",AM25=\"Start-up\",AM25=\"Operação\"),(AM72+AM73+AM78)/((1+'Parâmetros de Fluxo de Caixa'!$B$32)^'Fluxo de Caixa Descontado'!AM65),\"\")","v":""},{"$f":"IF(OR(AN25=\"Construção\",AN25=\"Start-up\",AN25=\"Operação\"),(AN72+AN73+AN78)/((1+'Parâmetros de Fluxo de Caixa'!$B$32)^'Fluxo de Caixa Descontado'!AN65),\"\")","v":""},{"$f":"IF(OR(AO25=\"Construção\",AO25=\"Start-up\",AO25=\"Operação\"),(AO72+AO73+AO78)/((1+'Parâmetros de Fluxo de Caixa'!$B$32)^'Fluxo de Caixa Descontado'!AO65),\"\")","v":""},{"$f":"IF(OR(AP25=\"Construção\",AP25=\"Start-up\",AP25=\"Operação\"),(AP72+AP73+AP78)/((1+'Parâmetros de Fluxo de Caixa'!$B$32)^'Fluxo de Caixa Descontado'!AP65),\"\")","v":""},{"$f":"IF(OR(AQ25=\"Construção\",AQ25=\"Start-up\",AQ25=\"Operação\"),(AQ72+AQ73+AQ78)/((1+'Parâmetros de Fluxo de Caixa'!$B$32)^'Fluxo de Caixa Descontado'!AQ65),\"\")","v":""},{"$f":"IF(OR(AR25=\"Construção\",AR25=\"Start-up\",AR25=\"Operação\"),(AR72+AR73+AR78)/((1+'Parâmetros de Fluxo de Caixa'!$B$32)^'Fluxo de Caixa Descontado'!AR65),\"\")","v":""},{"$f":"IF(OR(AS25=\"Construção\",AS25=\"Start-up\",AS25=\"Operação\"),(AS72+AS73+AS78)/((1+'Parâmetros de Fluxo de Caixa'!$B$32)^'Fluxo de Caixa Descontado'!AS65),\"\")","v":""},{"$f":"IF(OR(AT25=\"Construção\",AT25=\"Start-up\",AT25=\"Operação\"),(AT72+AT73+AT78)/((1+'Parâmetros de Fluxo de Caixa'!$B$32)^'Fluxo de Caixa Descontado'!AT65),\"\")","v":""},{"$f":"IF(OR(AU25=\"Construção\",AU25=\"Start-up\",AU25=\"Operação\"),(AU72+AU73+AU78)/((1+'Parâmetros de Fluxo de Caixa'!$B$32)^'Fluxo de Caixa Descontado'!AU65),\"\")","v":""},{"$f":"IF(OR(AV25=\"Construção\",AV25=\"Start-up\",AV25=\"Operação\"),(AV72+AV73+AV78)/((1+'Parâmetros de Fluxo de Caixa'!$B$32)^'Fluxo de Caixa Descontado'!AV65),\"\")","v":""}]
["Custo OPEX variável descontado",{"$f":"IF(OR(B25=\"Construção\",B25=\"Start-up\",B25=\"Operação\"),(B70)/((1+'Parâmetros de Fluxo de Caixa'!$B$32)^'Fluxo de Caixa Descontado'!B65),\"\")","v":0},{"$f":"IF(OR(C25=\"Construção\",C25=\"Start-up\",C25=\"Operação\"),(C70)/((1+'Parâmetros de Fluxo de Caixa'!$B$32)^'Fluxo de Caixa Descontado'!C65),\"\")","v":0},{"$f":"IF(OR(D25=\"Construção\",D25=\"Start-up\",D25=\"Operação\"),(D70)/((1+'Parâmetros de Fluxo de Caixa'!$B$32)^'Fluxo de Caixa Descontado'!D65),\"\")","v":0},{"$f":"IF(OR(E25=\"Construção\",E25=\"Start-up\",E25=\"Operação\"),(E70)/((1+'Parâmetros de Fluxo de Caixa'!$B$32)^'Fluxo de Caixa Descontado'!E65),\"\")","v":-2377.0886148608729},{"$f":"IF(OR(F25=\"Construção\",F25=\"Start-up\",F25=\"Operação\"),(F70)/((1+'Parâmetros de Fluxo de Caixa'!$B$32)^'Fluxo de Caixa Descontado'!F65),\"\")","v":-2449.7799555705346},{"$f":"IF(OR(G25=\"Construção\",G25=\"Start-up\",G25=\"Operação\"),(G70)/((1+'Parâmetros de Fluxo de Caixa'!$B$32)^'Fluxo de Caixa Descontado'!G65),\"\")","v":-2209.1074220146911},{"$f":"IF(OR(H25=\"Construção\",H25=\"Start-up\",H25=\"Operação\"),(H70)/((1+'Parâmetros de Fluxo de Caixa'!$B$32)^'Fluxo de Caixa Descontado'!H65),\"\")","v":-1992.0791624176072},{"$f":"IF(OR(I25=\"Construção\",I25=\"Start-up\",I25=\"Operação\"),(I70)/((1+'Parâmetros de Fluxo de Caixa'!$B$32)^'Fluxo de Caixa Descontado'!I65),\"\")","v":-1796.372303941336},{"$f":"IF(OR(J25=\"Construção\",J25=\"Start-up\",J25=\"Operação\"),(J70)/((1+'Parâmetros de Fluxo de Caixa'!$B$32)^'Fluxo de Caixa Descontado'!J65),\"\")","v":-1619.8921786076214},{"$f":"IF(OR(K25=\"Construção\",K25=\"Start-up\",K25=\"Operação\"),(K70)/((1+'Parâmetros de Fluxo de Caixa'!$B$32)^'Fluxo de Caixa Descontado'!K65),\"\")","v":-1460.7499038795245},{"$f":"IF(OR(L25=\"Construção\",L25=\"Start-up\",L25=\"Operação\"),(L70)/((1+'Parâmetros de Fluxo de Caixa'!$B$32)^'Fluxo de Caixa Descontado'!L65),\"\")","v":-1317.2421657829962},{"$f":"IF(OR(M25=\"Construção\",M25=\"Start-up\",M25=\"Operação\"),(M70)/((1+'Parâmetros de Fluxo de Caixa'!$B$32)^'Fluxo de Caixa Descontado'!M65),\"\")","v":-1187.8329881853504},{"$f":"IF(OR(N25=\"Construção\",N25=\"Start-up\",N25=\"Operação\"),(N70)/((1+'Parâmetros de Fluxo de Caixa'!$B$32)^'Fluxo de Caixa Descontado'!N65),\"\")","v":-1071.1372931055864},{"$f":"IF(OR(O25=\"Construção\",O25=\"Start-up\",O25=\"Operação\"),(O70)/((1+'Parâmetros de Fluxo de Caixa'!$B$32)^'Fluxo de Caixa Descontado'!O65),\"\")","v":-965.90607610110578},{"$f":"IF(OR(P25=\"Construção\",P25=\"Start-up\",P25=\"Operação\"),(P70)/((1+'Parâmetros de Fluxo de Caixa'!$B$32)^'Fluxo de Caixa Descontado'!P65),\"\")","v":-871.01303806165583},{"$f":"IF(OR(Q25=\"Construção\",Q25=\"Start-up\",Q25=\"Operação\"),(Q70)/((1+'Parâmetros de Fluxo de Caixa'!$B$32)^'Fluxo de Caixa Descontado'!Q65),\"\")","v":-785.44253032940105},{"$f":"IF(OR(R25=\"Construção\",R25=\"Start-up\",R25=\"Operação\"),(R70)/((1+'Parâmetros de Fluxo de Caixa'!$B$32)^'Fluxo de Caixa Descontado'!R65),\"\")","v":-708.27868412066471},{"$f":"IF(OR(S25=\"Construção\",S25=\"Start-up\",S25=\"Operação\"),(S70)/((1+'Parâmetros de Fluxo de Caixa'!$B$32)^'Fluxo de Caixa Descontado'!S65),\"\")","v":-638.69560790057221},{"$f":"IF(OR(T25=\"Construção\",T25=\"Start-up\",T25=\"Operação\"),(T70)/((1+'Parâmetros de Fluxo de Caixa'!$B$32)^'Fluxo de Caixa Descontado'!T65),\"\")","v":-575.94854779221998},{"$f":"IF(OR(U25=\"Construção\",U25=\"Start-up\",U25=\"Operação\"),(U70)/((1+'Parâmetros de Fluxo de Caixa'!$B$32)^'Fluxo de Caixa Descontado'!U65),\"\")","v":-519.36591640944334},{"$f":"IF(OR(V25=\"Construção\",V25=\"Start-up\",V25=\"Operação\"),(V70)/((1+'Parâmetros de Fluxo de Caixa'!$B$32)^'Fluxo de Caixa Descontado'!V65),\"\")","v":-468.34210479706428},{"$f":"IF(OR(W25=\"Construção\",W25=\"Start-up\",W25=\"Operação\"),(W70)/((1+'Parâmetros de Fluxo de Caixa'!$B$32)^'Fluxo de Caixa Descontado'!W65),\"\")","v":-422.33100054417844},{"$f":"IF(OR(X25=\"Construção\",X25=\"Start-up\",X25=\"Operação\"),(X70)/((1+'Parâmetros de Fluxo de Caixa'!$B$32)^'Fluxo de Caixa Descontado'!X65),\"\")","v":-380.84014269426598},{"$f":"IF(OR(Y25=\"Construção\",Y25=\"Start-up\",Y25=\"Operação\"),(Y70)/((1+'Parâmetros de Fluxo de Caixa'!$B$32)^'Fluxo de Caixa Descontado'!Y65),\"\")","v":""},{"$f":"IF(OR(Z25=\"Construção\",Z25=\"Start-up\",Z25=\"Operação\"),(Z70)/((1+'Parâmetros de Fluxo de Caixa'!$B$32)^'Fluxo de Caixa Descontado'!Z65),\"\")","v":""},{"$f":"IF(OR(AA25=\"Construção\",AA25=\"Start-up\",AA25=\"Operação\"),(AA70)/((1+'Parâmetros de Fluxo de Caixa'!$B$32)^'Fluxo de Caixa Descontado'!AA65),\"\")","v":""},{"$f":"IF(OR(AB25=\"Construção\",AB25=\"Start-up\",AB25=\"Operação\"),(AB70)/((1+'Parâmetros de Fluxo de Caixa'!$B$32)^'Fluxo de Caixa Descontado'!AB65),\"\")","v":""},{"$f":"IF(OR(AC25=\"Construção\",AC25=\"Start-up\",AC25=\"Operação\"),(AC70)/((1+'Parâmetros de Fluxo de Caixa'!$B$32)^'Fluxo de Caixa Descontado'!AC65),\"\")","v":""},{"$f":"IF(OR(AD25=\"Construção\",AD25=\"Start-up\",AD25=\"Operação\"),(AD70)/((1+'Parâmetros de Fluxo de Caixa'!$B$32)^'Fluxo de Caixa Descontado'!AD65),\"\")","v":""},{"$f":"IF(OR(AE25=\"Construção\",AE25=\"Start-up\",AE25=\"Operação\"),(AE70)/((1+'Parâmetros de Fluxo de Caixa'!$B$32)^'Fluxo de Caixa Descontado'!AE65),\"\")","v":""},{"$f":"IF(OR(AF25=\"Construção\",AF25=\"Start-up\",AF25=\"Operação\"),(AF70)/((1+'Parâmetros de Fluxo de Caixa'!$B$32)^'Fluxo de Caixa Descontado'!AF65),\"\")","v":""},{"$f":"IF(OR(AG25=\"Construção\",AG25=\"Start-up\",AG25=\"Operação\"),(AG70)/((1+'Parâmetros de Fluxo de Caixa'!$B$32)^'Fluxo de Caixa Descontado'!AG65),\"\")","v":""},{"$f":"IF(OR(AH25=\"Construção\",AH25=\"Start-up\",AH25=\"Operação\"),(AH70)/((1+'Parâmetros de Fluxo de Caixa'!$B$32)^'Fluxo de Caixa Descontado'!AH65),\"\")","v":""},{"$f":"IF(OR(AI25=\"Construção\",AI25=\"Start-up\",AI25=\"Operação\"),(AI70)/((1+'Parâmetros de Fluxo de Caixa'!$B$32)^'Fluxo de Caixa Descontado'!AI65),\"\")","v":""},{"$f":"IF(OR(AJ25=\"Construção\",AJ25=\"Start-up\",AJ25=\"Operação\"),(AJ70)/((1+'Parâmetros de Fluxo de Caixa'!$B$32)^'Fluxo de Caixa Descontado'!AJ65),\"\")","v":""},{"$f":"IF(OR(AK25=\"Construção\",AK25=\"Start-up\",AK25=\"Operação\"),(AK70)/((1+'Parâmetros de Fluxo de Caixa'!$B$32)^'Fluxo de Caixa Descontado'!AK65),\"\")","v":""},{"$f":"IF(OR(AL25=\"Construção\",AL25=\"Start-up\",AL25=\"Operação\"),(AL70)/((1+'Parâmetros de Fluxo de Caixa'!$B$32)^'Fluxo de Caixa Descontado'!AL65),\"\")","v":""},{"$f":"IF(OR(AM25=\"Construção\",AM25=\"Start-up\",AM25=\"Operação\"),(AM70)/((1+'Parâmetros de Fluxo de Caixa'!$B$32)^'Fluxo de Caixa Descontado'!AM65),\"\")","v":""},{"$f":"IF(OR(AN25=\"Construção\",AN25=\"Start-up\",AN25=\"Operação\"),(AN70)/((1+'Parâmetros de Fluxo de Caixa'!$B$32)^'Fluxo de Caixa Descontado'!AN65),\"\")","v":""},{"$f":"IF(OR(AO25=\"Construção\",AO25=\"Start-up\",AO25=\"Operação\"),(AO70)/((1+'Parâmetros de Fluxo de Caixa'!$B$32)^'Fluxo de Caixa Descontado'!AO65),\"\")","v":""},{"$f":"IF(OR(AP25=\"Construção\",AP25=\"Start-up\",AP25=\"Operação\"),(AP70)/((1+'Parâmetros de Fluxo de Caixa'!$B$32)^'Fluxo de Caixa Descontado'!AP65),\"\")","v":""},{"$f":"IF(OR(AQ25=\"Construção\",AQ25=\"Start-up\",AQ25=\"Operação\"),(AQ70)/((1+'Parâmetros de Fluxo de Caixa'!$B$32)^'Fluxo de Caixa Descontado'!AQ65),\"\")","v":""},{"$f":"IF(OR(AR25=\"Construção\",AR25=\"Start-up\",AR25=\"Operação\"),(AR70)/((1+'Parâmetros de Fluxo de Caixa'!$B$32)^'Fluxo de Caixa Descontado'!AR65),\"\")","v":""},{"$f":"IF(OR(AS25=\"Construção\",AS25=\"Start-up\",AS25=\"Operação\"),(AS70)/((1+'Parâmetros de Fluxo de Caixa'!$B$32)^'Fluxo de Caixa Descontado'!AS65),\"\")","v":""},{"$f":"IF(OR(AT25=\"Construção\",AT25=\"Start-up\",AT25=\"Operação\"),(AT70)/((1+'Parâmetros de Fluxo de Caixa'!$B$32)^'Fluxo de Caixa Descontado'!AT65),\"\")","v":""},{"$f":"IF(OR(AU25=\"Construção\",AU25=\"Start-up\",AU25=\"Operação\"),(AU70)/((1+'Parâmetros de Fluxo de Caixa'!$B$32)^'Fluxo de Caixa Descontado'!AU65),\"\")","v":""},{"$f":"IF(OR(AV25=\"Construção\",AV25=\"Start-up\",AV25=\"Operação\"),(AV70)/((1+'Parâmetros de Fluxo de Caixa'!$B$32)^'Fluxo de Caixa Descontado'!AV65),\"\")","v":""}]
["Custo OPEX fixo descontado",{"$f":"IF(OR(B25=\"Construção\",B25=\"Start-up\",B25=\"Operação\"),(B71)/((1+'Parâmetros de Fluxo de Caixa'!$B$32)^'Fluxo de Caixa Descontado'!B65),\"\")","v":0},{"$f":"IF(OR(C25=\"Construção\",C25=\"Start-up\",C25=\"Operação\"),(C71)/((1+'Parâmetros de Fluxo de Caixa'!$B$32)^'Fluxo de Caixa Descontado'!C65),\"\")","v":0},{"$f":"IF(OR(D25=\"Construção\",D25=\"Start-up\",D25=\"Operação\"),(D71)/((1+'Parâmetros de Fluxo de Caixa'!$B$32)^'Fluxo de Caixa Descontado'!D65),\"\")","v":0},{"$f":"IF(OR(E25=\"Construção\",E25=\"Start-up\",E25=\"Operação\"),(E71)/((1+'Parâmetros de Fluxo de Caixa'!$B$32)^'Fluxo de Caixa Descontado'!E65),\"\")","v":-267.13484024498723},{"$f":"IF(OR(F25=\"Construção\",F25=\"Start-up\",F25=\"Operação\"),(F71)/((1+'Parâmetros de Fluxo de Caixa'!$B$32)^'Fluxo de Caixa Descontado'!F65),\"\")","v":-240.89084283754516},{"$f":"IF(OR(G25=\"Construção\",G25=\"Start-up\",G25=\"Operação\"),(G71)/((1+'Parâmetros de Fluxo de Caixa'!$B$32)^'Fluxo de Caixa Descontado'!G65),\"\")","v":-217.22512162683651},{"$f":"IF(OR(H25=\"Construção\",H25=\"Start-up\",H25=\"Operação\"),(H71)/((1+'Parâmetros de Fluxo de Caixa'!$B$32)^'Fluxo de Caixa Descontado'!H65),\"\")","v":-195.88438028595496},{"$f":"IF(OR(I25=\"Construção\",I25=\"Start-up\",I25=\"Operação\"),(I71)/((1+'Parâmetros de Fluxo de Caixa'!$B$32)^'Fluxo de Caixa Descontado'!I65),\"\")","v":-176.64020695510669},{"$f":"IF(OR(J25=\"Construção\",J25=\"Start-up\",J25=\"Operação\"),(J71)/((1+'Parâmetros de Fluxo de Caixa'!$B$32)^'Fluxo de Caixa Descontado'!J65),\"\")","v":-159.28662952908303},{"$f":"IF(OR(K25=\"Construção\",K25=\"Start-up\",K25=\"Operação\"),(K71)/((1+'Parâmetros de Fluxo de Caixa'!$B$32)^'Fluxo de Caixa Descontado'!K65),\"\")","v":-143.63791111943004},{"$f":"IF(OR(L25=\"Construção\",L25=\"Start-up\",L25=\"Operação\"),(L71)/((1+'Parâmetros de Fluxo de Caixa'!$B$32)^'Fluxo de Caixa Descontado'!L65),\"\")","v":-129.52656209594954},{"$f":"IF(OR(M25=\"Construção\",M25=\"Start-up\",M25=\"Operação\"),(M71)/((1+'Parâmetros de Fluxo de Caixa'!$B$32)^'Fluxo de Caixa Descontado'!M65),\"\")","v":-116.80154743023424},{"$f":"IF(OR(N25=\"Construção\",N25=\"Start-up\",N25=\"Operação\"),(N71)/((1+'Parâmetros de Fluxo de Caixa'!$B$32)^'Fluxo de Caixa Descontado'!N65),\"\")","v":-105.32667015427468},{"$f":"IF(OR(O25=\"Construção\",O25=\"Start-up\",O25=\"Operação\"),(O71)/((1+'Parâmetros de Fluxo de Caixa'!$B$32)^'Fluxo de Caixa Descontado'!O65),\"\")","v":-94.979113632151723},{"$f":"IF(OR(P25=\"Construção\",P25=\"Start-up\",P25=\"Operação\"),(P71)/((1+'Parâmetros de Fluxo de Caixa'!$B$32)^'Fluxo de Caixa Descontado'!P65),\"\")","v":-85.648127042617531},{"$f":"IF(OR(Q25=\"Construção\",Q25=\"Start-up\",Q25=\"Operação\"),(Q71)/((1+'Parâmetros de Fluxo de Caixa'!$B$32)^'Fluxo de Caixa Descontado'!Q65),\"\")","v":-77.233840003168353},{"$f":"IF(OR(R25=\"Construção\",R25=\"Start-up\",R25=\"Operação\"),(R71)/((1+'Parâmetros de Fluxo de Caixa'!$B$32)^'Fluxo de Caixa Descontado'!R65),\"\")","v":-69.646193648424543},{"$f":"IF(OR(S25=\"Construção\",S25=\"Start-up\",S25=\"Operação\"),(S71)/((1+'Parâmetros de Fluxo de Caixa'!$B$32)^'Fluxo de Caixa Descontado'!S65),\"\")","v":-62.803976722054308},{"$f":"IF(OR(T25=\"Construção\",T25=\"Start-up\",T25=\"Operação\"),(T71)/((1+'Parâmetros de Fluxo de Caixa'!$B$32)^'Fluxo de Caixa Descontado'!T65),\"\")","v":-56.633956365446878},{"$f":"IF(OR(U25=\"Construção\",U25=\"Start-up\",U25=\"Operação\"),(U71)/((1+'Parâmetros de Fluxo de Caixa'!$B$32)^'Fluxo de Caixa Descontado'!U65),\"\")","v":-51.0700942998889},{"$f":"IF(OR(V25=\"Construção\",V25=\"Start-up\",V25=\"Operação\"),(V71)/((1+'Parâmetros de Fluxo de Caixa'!$B$32)^'Fluxo de Caixa Descontado'!V65),\"\")","v":-46.052840012971693},{"$f":"IF(OR(W25=\"Construção\",W25=\"Start-up\",W25=\"Operação\"),(W71)/((1+'Parâmetros de Fluxo de Caixa'!$B$32)^'Fluxo de Caixa Descontado'!W65),\"\")","v":-41.528493384140475},{"$f":"IF(OR(X25=\"Construção\",X25=\"Start-up\",X25=\"Operação\"),(X71)/((1+'Parâmetros de Fluxo de Caixa'!$B$32)^'Fluxo de Caixa Descontado'!X65),\"\")","v":-37.448629927509948},{"$f":"IF(OR(Y25=\"Construção\",Y25=\"Start-up\",Y25=\"Operação\"),(Y71)/((1+'Parâmetros de Fluxo de Caixa'!$B$32)^'Fluxo de Caixa Descontado'!Y65),\"\")","v":""},{"$f":"IF(OR(Z25=\"Construção\",Z25=\"Start-up\",Z25=\"Operação\"),(Z71)/((1+'Parâmetros de Fluxo de Caixa'!$B$32)^'Fluxo de Caixa Descontado'!Z65),\"\")","v":""},{"$f":"IF(OR(AA25=\"Construção\",AA25=\"Start-up\",AA25=\"Operação\"),(AA71)/((1+'Parâmetros de Fluxo de Caixa'!$B$32)^'Fluxo de Caixa Descontado'!AA65),\"\")","v":""},{"$f":"IF(OR(AB25=\"Construção\",AB25=\"Start-up\",AB25=\"Operação\"),(AB71)/((1+'Parâmetros de Fluxo de Caixa'!$B$32)^'Fluxo de Caixa Descontado'!AB65),\"\")","v":""},{"$f":"IF(OR(AC25=\"Construção\",AC25=\"Start-up\",AC25=\"Operação\"),(AC71)/((1+'Parâmetros de Fluxo de Caixa'!$B$32)^'Fluxo de Caixa Descontado'!AC65),\"\")","v":""},{"$f":"IF(OR(AD25=\"Construção\",AD25=\"Start-up\",AD25=\"Operação\"),(AD71)/((1+'Parâmetros de Fluxo de Caixa'!$B$32)^'Fluxo de Caixa Descontado'!AD65),\"\")","v":""},{"$f":"IF(OR(AE25=\"Construção\",AE25=\"Start-up\",AE25=\"Operação\"),(AE71)/((1+'Parâmetros de Fluxo de Caixa'!$B$32)^'Fluxo de Caixa Descontado'!AE65),\"\")","v":""},{"$f":"IF(OR(AF25=\"Construção\",AF25=\"Start-up\",AF25=\"Operação\"),(AF71)/((1+'Parâmetros de Fluxo de Caixa'!$B$32)^'Fluxo de Caixa Descontado'!AF65),\"\")","v":""},{"$f":"IF(OR(AG25=\"Construção\",AG25=\"Start-up\",AG25=\"Operação\"),(AG71)/((1+'Parâmetros de Fluxo de Caixa'!$B$32)^'Fluxo de Caixa Descontado'!AG65),\"\")","v":""},{"$f":"IF(OR(AH25=\"Construção\",AH25=\"Start-up\",AH25=\"Operação\"),(AH71)/((1+'Parâmetros de Fluxo de Caixa'!$B$32)^'Fluxo de Caixa Descontado'!AH65),\"\")","v":""},{"$f":"IF(OR(AI25=\"Construção\",AI25=\"Start-up\",AI25=\"Operação\"),(AI71)/((1+'Parâmetros de Fluxo de Caixa'!$B$32)^'Fluxo de Caixa Descontado'!AI65),\"\")","v":""},{"$f":"IF(OR(AJ25=\"Construção\",AJ25=\"Start-up\",AJ25=\"Operação\"),(AJ71)/((1+'Parâmetros de Fluxo de Caixa'!$B$32)^'Fluxo de Caixa Descontado'!AJ65),\"\")","v":""},{"$f":"IF(OR(AK25=\"Construção\",AK25=\"Start-up\",AK25=\"Operação\"),(AK71)/((1+'Parâmetros de Fluxo de Caixa'!$B$32)^'Fluxo de Caixa Descontado'!AK65),\"\")","v":""},{"$f":"IF(OR(AL25=\"Construção\",AL25=\"Start-up\",AL25=\"Operação\"),(AL71)/((1+'Parâmetros de Fluxo de Caixa'!$B$32)^'Fluxo de Caixa Descontado'!AL65),\"\")","v":""},{"$f":"IF(OR(AM25=\"Construção\",AM25=\"Start-up\",AM25=\"Operação\"),(AM71)/((1+'Parâmetros de Fluxo de Caixa'!$B$32)^'Fluxo de Caixa Descontado'!AM65),\"\")","v":""},{"$f":"IF(OR(AN25=\"Construção\",AN25=\"Start-up\",AN25=\"Operação\"),(AN71)/((1+'Parâmetros de Fluxo de Caixa'!$B$32)^'Fluxo de Caixa Descontado'!AN65),\"\")","v":""},{"$f":"IF(OR(AO25=\"Construção\",AO25=\"Start-up\",AO25=\"Operação\"),(AO71)/((1+'Parâmetros de Fluxo de Caixa'!$B$32)^'Fluxo de Caixa Descontado'!AO65),\"\")","v":""},{"$f":"IF(OR(AP25=\"Construção\",AP25=\"Start-up\",AP25=\"Operação\"),(AP71)/((1+'Parâmetros de Fluxo de Caixa'!$B$32)^'Fluxo de Caixa Descontado'!AP65),\"\")","v":""},{"$f":"IF(OR(AQ25=\"Construção\",AQ25=\"Start-up\",AQ25=\"Operação\"),(AQ71)/((1+'Parâmetros de Fluxo de Caixa'!$B$32)^'Fluxo de Caixa Descontado'!AQ65),\"\")","v":""},{"$f":"IF(OR(AR25=\"Construção\",AR25=\"Start-up\",AR25=\"Operação\"),(AR71)/((1+'Parâmetros de Fluxo de Caixa'!$B$32)^'Fluxo de Caixa Descontado'!AR65),\"\")","v":""},{"$f":"IF(OR(AS25=\"Construção\",AS25=\"Start-up\",AS25=\"Operação\"),(AS71)/((1+'Parâmetros de Fluxo de Caixa'!$B$32)^'Fluxo de Caixa Descontado'!AS65),\"\")","v":""},{"$f":"IF(OR(AT25=\"Construção\",AT25=\"Start-up\",AT25=\"Operação\"),(AT71)/((1+'Parâmetros de Fluxo de Caixa'!$B$32)^'Fluxo de Caixa Descontado'!AT65),\"\")","v":""},{"$f":"IF(OR(AU25=\"Construção\",AU25=\"Start-up\",AU25=\"Operação\"),(AU71)/((1+'Parâmetros de Fluxo de Caixa'!$B$32)^'Fluxo de Caixa Descontado'!AU65),\"\")","v":""},{"$f":"IF(OR(AV25=\"Construção\",AV25=\"Start-up\",AV25=\"Operação\"),(AV71)/((1+'Parâmetros de Fluxo de Caixa'!$B$32)^'Fluxo de Caixa Descontado'!AV65),\"\")","v":""}]
["Tributos descontado",{"$f":"IF(OR(B25=\"Construção\",B25=\"Start-up\",B25=\"Operação\"),(B77+B75)/((1+'Parâmetros de Fluxo de Caixa'!$B$32)^'Fluxo de Caixa Descontado'!B65),\"\")","v":0},{"$f":"IF(OR(C25=\"Construção\",C25=\"Start-up\",C25=\"Operação\"),(C77+C75)/((1+'Parâmetros de Fluxo de Caixa'!$B$32)^'Fluxo de Caixa Descontado'!C65),\"\")","v":0},{"$f":"IF(OR(D25=\"Construção\",D25=\"Start-up\",D25=\"Operação\"),(D77+D75)/((1+'Parâmetros de Fluxo de Caixa'!$B$32)^'Fluxo de Caixa Descontado'!D65),\"\")","v":0},{"$f":"IF(OR(E25=\"Construção\",E25=\"Start-up\",E25=\"Operação\"),(E77+E75)/((1+'Parâmetros de Fluxo de Caixa'!$B$32)^'Fluxo de Caixa Descontado'!E65),\"\")","v":-641.64105792994951},{"$f":"IF(OR(F25=\"Construção\",F25=\"Start-up\",F25=\"Operação\"),(F77+F75)/((1+'Parâmetros de Fluxo de Caixa'!$B$32)^'Fluxo de Caixa Descontado'!F65),\"\")","v":-690.9634803939482},{"$f":"IF(OR(G25=\"Construção\",G25=\"Start-up\",G25=\"Operação\"),(G77+G75)/((1+'Parâmetros de Fluxo de Caixa'!$B$32)^'Fluxo de Caixa Descontado'!G65),\"\")","v":-623.08149326166063},{"$f":"IF(OR(H25=\"Construção\",H25=\"Start-up\",H25=\"Operação\"),(H77+H75)/((1+'Parâmetros de Fluxo de Caixa'!$B$32)^'Fluxo de Caixa Descontado'!H65),\"\")","v":-561.86840297816286},{"$f":"IF(OR(I25=\"Construção\",I25=\"Start-up\",I25=\"Operação\"),(I77+I75)/((1+'Parâmetros de Fluxo de Caixa'!$B$32)^'Fluxo de Caixa Descontado'!I65),\"\")","v":-506.66904037327248},{"$f":"IF(OR(J25=\"Construção\",J25=\"Start-up\",J25=\"Operação\"),(J77+J75)/((1+'Parâmetros de Fluxo de Caixa'!$B$32)^'Fluxo de Caixa Descontado'!J65),\"\")","v":-456.89260174103447},{"$f":"IF(OR(K25=\"Construção\",K25=\"Start-up\",K25=\"Operação\"),(K77+K75)/((1+'Parâmetros de Fluxo de Caixa'!$B$32)^'Fluxo de Caixa Descontado'!K65),\"\")","v":-412.00632541491166},{"$f":"IF(OR(L25=\"Construção\",L25=\"Start-up\",L25=\"Operação\"),(L77+L75)/((1+'Parâmetros de Fluxo de Caixa'!$B$32)^'Fluxo de Caixa Descontado'!L65),\"\")","v":-371.5297895721049},{"$f":"IF(OR(M25=\"Construção\",M25=\"Start-up\",M25=\"Operação\"),(M77+M75)/((1+'Parâmetros de Fluxo de Caixa'!$B$32)^'Fluxo de Caixa Descontado'!M65),\"\")","v":-335.02977023589341},{"$f":"IF(OR(N25=\"Construção\",N25=\"Start-up\",N25=\"Operação\"),(N77+N75)/((1+'Parâmetros de Fluxo de Caixa'!$B$32)^'Fluxo de Caixa Descontado'!N65),\"\")","v":-302.11560444073484},{"$f":"IF(OR(O25=\"Construção\",O25=\"Start-up\",O25=\"Operação\"),(O77+O75)/((1+'Parâmetros de Fluxo de Caixa'!$B$32)^'Fluxo de Caixa Descontado'!O65),\"\")","v":-322.11639144694817},{"$f":"IF(OR(P25=\"Construção\",P25=\"Start-up\",P25=\"Operação\"),(P77+P75)/((1+'Parâmetros de Fluxo de Caixa'!$B$32)^'Fluxo de Caixa Descontado'!P65),\"\")","v":-290.47086840594181},{"$f":"IF(OR(Q25=\"Construção\",Q25=\"Start-up\",Q25=\"Operação\"),(Q77+Q75)/((1+'Parâmetros de Fluxo de Caixa'!$B$32)^'Fluxo de Caixa Descontado'!Q65),\"\")","v":-261.93428100164863},{"$f":"IF(OR(R25=\"Construção\",R25=\"Start-up\",R25=\"Operação\"),(R77+R75)/((1+'Parâmetros de Fluxo de Caixa'!$B$32)^'Fluxo de Caixa Descontado'!R65),\"\")","v":-236.20119959143946},{"$f":"IF(OR(S25=\"Construção\",S25=\"Start-up\",S25=\"Operação\"),(S77+S75)/((1+'Parâmetros de Fluxo de Caixa'!$B$32)^'Fluxo de Caixa Descontado'!S65),\"\")","v":-212.99620070762666},{"$f":"IF(OR(T25=\"Construção\",T25=\"Start-up\",T25=\"Operação\"),(T77+T75)/((1+'Parâmetros de Fluxo de Caixa'!$B$32)^'Fluxo de Caixa Descontado'!T65),\"\")","v":-192.07091917550025},{"$f":"IF(OR(U25=\"Construção\",U25=\"Start-up\",U25=\"Operação\"),(U77+U75)/((1+'Parâmetros de Fluxo de Caixa'!$B$32)^'Fluxo de Caixa Descontado'!U65),\"\")","v":-173.20138983869023},{"$f":"IF(OR(V25=\"Construção\",V25=\"Start-up\",V25=\"Operação\"),(V77+V75)/((1+'Parâmetros de Fluxo de Caixa'!$B$32)^'Fluxo de Caixa Descontado'!V65),\"\")","v":-156.18565044010296},{"$f":"IF(OR(W25=\"Construção\",W25=\"Start-up\",W25=\"Operação\"),(W77+W75)/((1+'Parâmetros de Fluxo de Caixa'!$B$32)^'Fluxo de Caixa Descontado'!W65),\"\")","v":-140.84158000185306},{"$f":"IF(OR(X25=\"Construção\",X25=\"Start-up\",X25=\"Operação\"),(X77+X75)/((1+'Parâmetros de Fluxo de Caixa'!$B$32)^'Fluxo de Caixa Descontado'!X65),\"\")","v":-127.00494956817816},{"$f":"IF(OR(Y25=\"Construção\",Y25=\"Start-up\",Y25=\"Operação\"),(Y77+Y75)/((1+'Parâmetros de Fluxo de Caixa'!$B$32)^'Fluxo de Caixa Descontado'!Y65),\"\")","v":""},{"$f":"IF(OR(Z25=\"Construção\",Z25=\"Start-up\",Z25=\"Operação\"),(Z77+Z75)/((1+'Parâmetros de Fluxo de Caixa'!$B$32)^'Fluxo de Caixa Descontado'!Z65),\"\")","v":""},{"$f":"IF(OR(AA25=\"Construção\",AA25=\"Start-up\",AA25=\"Operação\"),(AA77+AA75)/((1+'Parâmetros de Fluxo de Caixa'!$B$32)^'Fluxo de Caixa Descontado'!AA65),\"\")","v":""},{"$f":"IF(OR(AB25=\"Construção\",AB25=\"Start-up\",AB25=\"Operação\"),(AB77+AB75)/((1+'Parâmetros de Fluxo de Caixa'!$B$32)^'Fluxo de Caixa Descontado'!AB65),\"\")","v":""},{"$f":"IF(OR(AC25=\"Construção\",AC25=\"Start-up\",AC25=\"Operação\"),(AC77+AC75)/((1+'Parâmetros de Fluxo de Caixa'!$B$32)^'Fluxo de Caixa Descontado'!AC65),\"\")","v":""},{"$f":"IF(OR(AD25=\"Construção\",AD25=\"Start-up\",AD25=\"Operação\"),(AD77+AD75)/((1+'Parâmetros de Fluxo de Caixa'!$B$32)^'Fluxo de Caixa Descontado'!AD65),\"\")","v":""},{"$f":"IF(OR(AE25=\"Construção\",AE25=\"Start-up\",AE25=\"Operação\"),(AE77+AE75)/((1+'Parâmetros de Fluxo de Caixa'!$B$32)^'Fluxo de Caixa Descontado'!AE65),\"\")","v":""},{"$f":"IF(OR(AF25=\"Construção\",AF25=\"Start-up\",AF25=\"Operação\"),(AF77+AF75)/((1+'Parâmetros de Fluxo de Caixa'!$B$32)^'Fluxo de Caixa Descontado'!AF65),\"\")","v":""},{"$f":"IF(OR(AG25=\"Construção\",AG25=\"Start-up\",AG25=\"Operação\"),(AG77+AG75)/((1+'Parâmetros de Fluxo de Caixa'!$B$32)^'Fluxo de Caixa Descontado'!AG65),\"\")","v":""},{"$f":"IF(OR(AH25=\"Construção\",AH25=\"Start-up\",AH25=\"Operação\"),(AH77+AH75)/((1+'Parâmetros de Fluxo de Caixa'!$B$32)^'Fluxo de Caixa Descontado'!AH65),\"\")","v":""},{"$f":"IF(OR(AI25=\"Construção\",AI25=\"Start-up\",AI25=\"Operação\"),(AI77+AI75)/((1+'Parâmetros de Fluxo de Caixa'!$B$32)^'Fluxo de Caixa Descontado'!AI65),\"\")","v":""},{"$f":"IF(OR(AJ25=\"Construção\",AJ25=\"Start-up\",AJ25=\"Operação\"),(AJ77+AJ75)/((1+'Parâmetros de Fluxo de Caixa'!$B$32)^'Fluxo de Caixa Descontado'!AJ65),\"\")","v":""},{"$f":"IF(OR(AK25=\"Construção\",AK25=\"Start-up\",AK25=\"Operação\"),(AK77+AK75)/((1+'Parâmetros de Fluxo de Caixa'!$B$32)^'Fluxo de Caixa Descontado'!AK65),\"\")","v":""},{"$f":"IF(OR(AL25=\"Construção\",AL25=\"Start-up\",AL25=\"Operação\"),(AL77+AL75)/((1+'Parâmetros de Fluxo de Caixa'!$B$32)^'Fluxo de Caixa Descontado'!AL65),\"\")","v":""},{"$f":"IF(OR(AM25=\"Construção\",AM25=\"Start-up\",AM25=\"Operação\"),(AM77+AM75)/((1+'Parâmetros de Fluxo de Caixa'!$B$32)^'Fluxo de Caixa Descontado'!AM65),\"\")","v":""},{"$f":"IF(OR(AN25=\"Construção\",AN25=\"Start-up\",AN25=\"Operação\"),(AN77+AN75)/((1+'Parâmetros de Fluxo de Caixa'!$B$32)^'Fluxo de Caixa Descontado'!AN65),\"\")","v":""},{"$f":"IF(OR(AO25=\"Construção\",AO25=\"Start-up\",AO25=\"Operação\"),(AO77+AO75)/((1+'Parâmetros de Fluxo de Caixa'!$B$32)^'Fluxo de Caixa Descontado'!AO65),\"\")","v":""},{"$f":"IF(OR(AP25=\"Construção\",AP25=\"Start-up\",AP25=\"Operação\"),(AP77+AP75)/((1+'Parâmetros de Fluxo de Caixa'!$B$32)^'Fluxo de Caixa Descontado'!AP65),\"\")","v":""},{"$f":"IF(OR(AQ25=\"Construção\",AQ25=\"Start-up\",AQ25=\"Operação\"),(AQ77+AQ75)/((1+'Parâmetros de Fluxo de Caixa'!$B$32)^'Fluxo de Caixa Descontado'!AQ65),\"\")","v":""},{"$f":"IF(OR(AR25=\"Construção\",AR25=\"Start-up\",AR25=\"Operação\"),(AR77+AR75)/((1+'Parâmetros de Fluxo de Caixa'!$B$32)^'Fluxo de Caixa Descontado'!AR65),\"\")","v":""},{"$f":"IF(OR(AS25=\"Construção\",AS25=\"Start-up\",AS25=\"Operação\"),(AS77+AS75)/((1+'Parâmetros de Fluxo de Caixa'!$B$32)^'Fluxo de Caixa Descontado'!AS65),\"\")","v":""},{"$f":"IF(OR(AT25=\"Construção\",AT25=\"Start-up\",AT25=\"Operação\"),(AT77+AT75)/((1+'Parâmetros de Fluxo de Caixa'!$B$32)^'Fluxo de Caixa Descontado'!AT65),\"\")","v":""},{"$f":"IF(OR(AU25=\"Construção\",AU25=\"Start-up\",AU25=\"Operação\"),(AU77+AU75)/((1+'Parâmetros de Fluxo de Caixa'!$B$32)^'Fluxo de Caixa Descontado'!AU65),\"\")","v":""},{"$f":"IF(OR(AV25=\"Construção\",AV25=\"Start-up\",AV25=\"Operação\"),(AV77+AV75)/((1+'Parâmetros de Fluxo de Caixa'!$B$32)^'Fluxo de Caixa Descontado'!AV65),\"\")","v":""}]
["Receitas decontadas",{"$f":"IF(OR(B25=\"Construção\",B25=\"Start-up\",B25=\"Operação\"),(B69)/((1+'Parâmetros de Fluxo de Caixa'!$B$32)^'Fluxo de Caixa Descontado'!B65),\"\")","v":0},{"$f":"IF(OR(C25=\"Construção\",C25=\"Start-up\",C25=\"Operação\"),(C69)/((1+'Parâmetros de Fluxo de Caixa'!$B$32)^'Fluxo de Caixa Descontado'!C65),\"\")","v":0},{"$f":"IF(OR(D25=\"Construção\",D25=\"Start-up\",D25=\"Operação\"),(D69)/((1+'Parâmetros de Fluxo de Caixa'!$B$32)^'Fluxo de Caixa Descontado'!D65),\"\")","v":0},{"$f":"IF(OR(E25=\"Construção\",E25=\"Start-up\",E25=\"Operação\"),(E69)/((1+'Parâmetros de Fluxo de Caixa'!$B$32)^'Fluxo de Caixa Descontado'!E65),\"\")","v":4190.0239445154848},{"$f":"IF(OR(F25=\"Construção\",F25=\"Start-up\",F25=\"Operação\"),(F69)/((1+'Parâmetros de Fluxo de Caixa'!$B$32)^'Fluxo de Caixa Descontado'!F65),\"\")","v":4318.1548253872716},{"$f":"IF(OR(G25=\"Construção\",G25=\"Start-up\",G25=\"Operação\"),(G69)/((1+'Parâmetros de Fluxo de Caixa'!$B$32)^'Fluxo de Caixa Descontado'!G65),\"\")","v":3893.9284536475657},{"$f":"IF(OR(H25=\"Construção\",H25=\"Start-up\",H25=\"Operação\"),(H69)/((1+'Parâmetros de Fluxo de Caixa'!$B$32)^'Fluxo de Caixa Descontado'!H65),\"\")","v":3511.3791457827733},{"$f":"IF(OR(I25=\"Construção\",I25=\"Start-up\",I25=\"Operação\"),(I69)/((1+'Parâmetros de Fluxo de Caixa'!$B$32)^'Fluxo de Caixa Descontado'!I65),\"\")","v":3166.4124423982325},{"$f":"IF(OR(J25=\"Construção\",J25=\"Start-up\",J25=\"Operação\"),(J69)/((1+'Parâmetros de Fluxo de Caixa'!$B$32)^'Fluxo de Caixa Descontado'!J65),\"\")","v":2855.3361340702668},{"$f":"IF(OR(K25=\"Construção\",K25=\"Start-up\",K25=\"Operação\"),(K69)/((1+'Parâmetros de Fluxo de Caixa'!$B$32)^'Fluxo de Caixa Descontado'!K65),\"\")","v":2574.8207432991003},{"$f":"IF(OR(L25=\"Construção\",L25=\"Start-up\",L25=\"Operação\"),(L69)/((1+'Parâmetros de Fluxo de Caixa'!$B$32)^'Fluxo de Caixa Descontado'!L65),\"\")","v":2321.863888813933},{"$f":"IF(OR(M25=\"Construção\",M25=\"Start-up\",M25=\"Operação\"),(M69)/((1+'Parâmetros de Fluxo de Caixa'!$B$32)^'Fluxo de Caixa Descontado'!M65),\"\")","v":2093.7581508181584},{"$f":"IF(OR(N25=\"Construção\",N25=\"Start-up\",N25=\"Operação\"),(N69)/((1+'Parâmetros de Fluxo de Caixa'!$B$32)^'Fluxo de Caixa Descontado'!N65),\"\")","v":1888.062093233571},{"$f":"IF(OR(O25=\"Construção\",O25=\"Start-up\",O25=\"Operação\"),(O69)/((1+'Parâmetros de Fluxo de Caixa'!$B$32)^'Fluxo de Caixa Descontado'!O65),\"\")","v":1702.5741327920603},{"$f":"IF(OR(P25=\"Construção\",P25=\"Start-up\",P25=\"Operação\"),(P69)/((1+'Parâmetros de Fluxo de Caixa'!$B$32)^'Fluxo de Caixa Descontado'!P65),\"\")","v":1535.308975293342},{"$f":"IF(OR(Q25=\"Construção\",Q25=\"Start-up\",Q25=\"Operação\"),(Q69)/((1+'Parâmetros de Fluxo de Caixa'!$B$32)^'Fluxo de Caixa Descontado'!Q65),\"\")","v":1384.4763668238929},{"$f":"IF(OR(R25=\"Construção\",R25=\"Start-up\",R25=\"Operação\"),(R69)/((1+'Parâmetros de Fluxo de Caixa'!$B$32)^'Fluxo de Caixa Descontado'!R65),\"\")","v":1248.461932509487},{"$f":"IF(OR(S25=\"Construção\",S25=\"Start-up\",S25=\"Operação\"),(S69)/((1+'Parâmetros de Fluxo de Caixa'!$B$32)^'Fluxo de Caixa Descontado'!S65),\"\")","v":1125.8098977167926},{"$f":"IF(OR(T25=\"Construção\",T25=\"Start-up\",T25=\"Operação\"),(T69)/((1+'Parâmetros de Fluxo de Caixa'!$B$32)^'Fluxo de Caixa Descontado'!T65),\"\")","v":1015.2075067675029},{"$f":"IF(OR(U25=\"Construção\",U25=\"Start-up\",U25=\"Operação\"),(U69)/((1+'Parâmetros de Fluxo de Caixa'!$B$32)^'Fluxo de Caixa Descontado'!U65),\"\")","v":915.4709723971157},{"$f":"IF(OR(V25=\"Construção\",V25=\"Start-up\",V25=\"Operação\"),(V69)/((1+'Parâmetros de Fluxo de Caixa'!$B$32)^'Fluxo de Caixa Descontado'!V65),\"\")","v":825.53280557415587},{"$f":"IF(OR(W25=\"Construção\",W25=\"Start-up\",W25=\"Operação\"),(W69)/((1+'Parâmetros de Fluxo de Caixa'!$B$32)^'Fluxo de Caixa Descontado'!W65),\"\")","v":744.43039006977062},{"$f":"IF(OR(X25=\"Construção\",X25=\"Start-up\",X25=\"Operação\"),(X69)/((1+'Parâmetros de Fluxo de Caixa'!$B$32)^'Fluxo de Caixa Descontado'!X65),\"\")","v":671.29567949029297},{"$f":"IF(OR(Y25=\"Construção\",Y25=\"Start-up\",Y25=\"Operação\"),(Y69)/((1+'Parâmetros de Fluxo de Caixa'!$B$32)^'Fluxo de Caixa Descontado'!Y65),\"\")","v":""},{"$f":"IF(OR(Z25=\"Construção\",Z25=\"Start-up\",Z25=\"Operação\"),(Z69)/((1+'Parâmetros de Fluxo de Caixa'!$B$32)^'Fluxo de Caixa Descontado'!Z65),\"\")","v":""},{"$f":"IF(OR(AA25=\"Construção\",AA25=\"Start-up\",AA25=\"Operação\"),(AA69)/((1+'Parâmetros de Fluxo de Caixa'!$B$32)^'Fluxo de Caixa Descontado'!AA65),\"\")","v":""},{"$f":"IF(OR(AB25=\"Construção\",AB25=\"Start-up\",AB25=\"Operação\"),(AB69)/((1+'Parâmetros de Fluxo de Caixa'!$B$32)^'Fluxo de Caixa Descontado'!AB65),\"\")","v":""},{"$f":"IF(OR(AC25=\"Construção\",AC25=\"Start-up\",AC25=\"Operação\"),(AC69)/((1+'Parâmetros de Fluxo de Caixa'!$B$32)^'Fluxo de Caixa Descontado'!AC65),\"\")","v":""},{"$f":"IF(OR(AD25=\"Construção\",AD25=\"Start-up\",AD25=\"Operação\"),(AD69)/((1+'Parâmetros de Fluxo de Caixa'!$B$32)^'Fluxo de Caixa Descontado'!AD65),\"\")","v":""},{"$f":"IF(OR(AE25=\"Construção\",AE25=\"Start-up\",AE25=\"Operação\"),(AE69)/((1+'Parâmetros de Fluxo de Caixa'!$B$32)^'Fluxo de Caixa Descontado'!AE65),\"\")","v":""},{"$f":"IF(OR(AF25=\"Construção\",AF25=\"Start-up\",AF25=\"Operação\"),(AF69)/((1+'Parâmetros de Fluxo de Caixa'!$B$32)^'Fluxo de Caixa Descontado'!AF65),\"\")","v":""},{"$f":"IF(OR(AG25=\"Construção\",AG25=\"Start-up\",AG25=\"Operação\"),(AG69)/((1+'Parâmetros de Fluxo de Caixa'!$B$32)^'Fluxo de Caixa Descontado'!AG65),\"\")","v":""},{"$f":"IF(OR(AH25=\"Construção\",AH25=\"Start-up\",AH25=\"Operação\"),(AH69)/((1+'Parâmetros de Fluxo de Caixa'!$B$32)^'Fluxo de Caixa Descontado'!AH65),\"\")","v":""},{"$f":"IF(OR(AI25=\"Construção\",AI25=\"Start-up\",AI25=\"Operação\"),(AI69)/((1+'Parâmetros de Fluxo de Caixa'!$B$32)^'Fluxo de Caixa Descontado'!AI65),\"\")","v":""},{"$f":"IF(OR(AJ25=\"Construção\",AJ25=\"Start-up\",AJ25=\"Operação\"),(AJ69)/((1+'Parâmetros de Fluxo de Caixa'!$B$32)^'Fluxo de Caixa Descontado'!AJ65),\"\")","v":""},{"$f":"IF(OR(AK25=\"Construção\",AK25=\"Start-up\",AK25=\"Operação\"),(AK69)/((1+'Parâmetros de Fluxo de Caixa'!$B$32)^'Fluxo de Caixa Descontado'!AK65),\"\")","v":""},{"$f":"IF(OR(AL25=\"Construção\",AL25=\"Start-up\",AL25=\"Operação\"),(AL69)/((1+'Parâmetros de Fluxo de Caixa'!$B$32)^'Fluxo de Caixa Descontado'!AL65),\"\")","v":""},{"$f":"IF(OR(AM25=\"Construção\",AM25=\"Start-up\",AM25=\"Operação\"),(AM69)/((1+'Parâmetros de Fluxo de Caixa'!$B$32)^'Fluxo de Caixa Descontado'!AM65),\"\")","v":""},{"$f":"IF(OR(AN25=\"Construção\",AN25=\"Start-up\",AN25=\"Operação\"),(AN69)/((1+'Parâmetros de Fluxo de Caixa'!$B$32)^'Fluxo de Caixa Descontado'!AN65),\"\")","v":""},{"$f":"IF(OR(AO25=\"Construção\",AO25=\"Start-up\",AO25=\"Operação\"),(AO69)/((1+'Parâmetros de Fluxo de Caixa'!$B$32)^'Fluxo de Caixa Descontado'!AO65),\"\")","v":""},{"$f":"IF(OR(AP25=\"Construção\",AP25=\"Start-up\",AP25=\"Operação\"),(AP69)/((1+'Parâmetros de Fluxo de Caixa'!$B$32)^'Fluxo de Caixa Descontado'!AP65),\"\")","v":""},{"$f":"IF(OR(AQ25=\"Construção\",AQ25=\"Start-up\",AQ25=\"Operação\"),(AQ69)/((1+'Parâmetros de Fluxo de Caixa'!$B$32)^'Fluxo de Caixa Descontado'!AQ65),\"\")","v":""},{"$f":"IF(OR(AR25=\"Construção\",AR25=\"Start-up\",AR25=\"Operação\"),(AR69)/((1+'Parâmetros de Fluxo de Caixa'!$B$32)^'Fluxo de Caixa Descontado'!AR65),\"\")","v":""},{"$f":"IF(OR(AS25=\"Construção\",AS25=\"Start-up\",AS25=\"Operação\"),(AS69)/((1+'Parâmetros de Fluxo de Caixa'!$B$32)^'Fluxo de Caixa Descontado'!AS65),\"\")","v":""},{"$f":"IF(OR(AT25=\"Construção\",AT25=\"Start-up\",AT25=\"Operação\"),(AT69)/((1+'Parâmetros de Fluxo de Caixa'!$B$32)^'Fluxo de Caixa Descontado'!AT65),\"\")","v":""},{"$f":"IF(OR(AU25=\"Construção\",AU25=\"Start-up\",AU25=\"Operação\"),(AU69)/((1+'Parâmetros de Fluxo de Caixa'!$B$32)^'Fluxo de Caixa Descontado'!AU65),\"\")","v":""},{"$f":"IF(OR(AV25=\"Construção\",AV25=\"Start-up\",AV25=\"Operação\"),(AV69)/((1+'Parâmetros de Fluxo de Caixa'!$B$32)^'Fluxo de Caixa Descontado'!AV65),\"\")","v":""}]
[]
["CAPEX (% LCOF)",{"$f":"SUM(B83:AV83)/(SUM($B$83:AV$86))","v":0.12947831438220303}]
["OPEX Variável (% LCOF)",{"$f":"SUM(B84:AV84)/(SUM($B$83:AV$86))","v":0.62436193322579803}]
["OPEX Fixo (% LCOF)",{"$f":"SUM(B85:AV85)/(SUM($B$83:AV$86))","v":6.2269873294531299E-2}]
["Tributos (% LCOF)",{"$f":"SUM(B86:AV86)/(SUM($B$83:AV$86))","v":0.18388987909746765}]
[]
["% OPEX Variável - Etanol",{"$f":"'CAPEX e OPEX'!C41*'CAPEX e OPEX'!D21/'CAPEX e OPEX'!D52","v":0.86644496204508303},{"$f":"B94*$B$90","v":0.54097525153622128},"Discriminação preço "]
["% OPEX Variável - Hidrogênio",{"$f":"'CAPEX e OPEX'!D18*'CAPEX e OPEX'!C38/'CAPEX e OPEX'!D52","v":3.225463563162663E-2},{"$f":"B95*$B$90","v":2.0138566658456113E-2},"CAPEX","Etanol","H2","Catalisadores","Utilidades","OPEX fixo","Tributos","Diesel Verde","Nafta","GLP"]
["% OPEX Variável - Catalisadores",{"$f":"'CAPEX e OPEX'!D20*'CAPEX e OPEX'!C40/'CAPEX e OPEX'!D52","v":4.1145809946599998E-2},2.5689877442400446E-2,{"$f":"$B$4/B99*B89","v":1.5559743830971173},{"$f":"$B$4/B99*B90*B94","v":6.5010394775078915},{"$f":"$B$4/B99*B90*B95","v":0.24201036275738291},{"$f":"$B$4/B99*B90*B96","v":0.30872189984868925},{"$f":"$B$4/B99*B90*B97","v":0.45134705252508678},{"$f":"$B$4/B99*B91","v":0.74831316848152996},{"$f":"$B$4/B99*B92","v":2.2098522254612729},{"$f":"-$B$4/B99*B100","v":-0.29658468895616585},{"$f":"-$B$4/B99*B101","v":-0.71836500007576731},{"$f":"-$B$4/B99*B102","v":0}]
["% OPEX Variável - Utilidades",{"$f":"1-SUM(B94:B96)","v":6.0154592376690297E-2},3.7558237588720206E-2]
[]
["% Receita - SAF",{"$f":"'CAPEX e OPEX'!C47*'CAPEX e OPEX'!D29/'CAPEX e OPEX'!D53","v":0.91554232746620134}]
["% Receita - Diesel ",{"$f":"'CAPEX e OPEX'!C48*'CAPEX e OPEX'!D30/'CAPEX e OPEX'!D53","v":2.4679895771277296E-2}]
["% Receita - Nafta",{"$f":"'CAPEX e OPEX'!C49*'CAPEX e OPEX'!D31/'CAPEX e OPEX'!D53","v":5.9777776762521447E-2}]
["% Receita - GLP",{"$f":"'CAPEX e OPEX'!C50*'CAPEX e OPEX'!D32/'CAPEX e OPEX'!D53","v":0}]

{"sheet":"Fluxo de Caixa Desc._premio","index":7,"n_rows":96,"n_cols":48,"rows_kept":96,"cut":false,"hidden":true,"merged":[[51,3,51,4],[93,3,93,4]]}
["Capacidade nominal da Planta (Ml comb. / ano)",{"$f":"'Fluxo de Caixa Descontado'!B1","v":800},"Correlações para CAPEX entre 50 e 1000, inclui todas as frações líquidas (SAF, Diesel, Nafta/Gasolina)"]
["Fator de utilização",{"$f":"'Fluxo de Caixa Descontado'!B2","v":0.9}]
["Capacidade Operacional da Planta (Ml comb. / ano)",{"$f":"B1*B2","v":720}]
["Preço de venda SAF",{"$f":"'Interface Básica'!D14*'Interface Básica'!AD24+'Interface Básica'!D15*'Interface Básica'!AD25+'Interface Básica'!D16*'Interface Básica'!AD26","v":11.002308880647039},"por litro"]
[]
["VPL HEFA",{"$f":"SUM(B39:AV39)","v":2.9913849175500218E-12}]
["TCMC HEFA",{"$f":"IRR(B37:X37,'Parâmetros de Fluxo de Caixa'!$B$32)","v":0.10894559999999998}]
[]
[]
[]
[]
["VPL ATJ",{"$f":"SUM(B81:AV81)","v":3458.6467311033716}]
["TCMC HEFA",{"$f":"IRR(B79:X79,'Parâmetros de Fluxo de Caixa'!$B$24)","v":0.20417043831539461}]
[]
[]
[]
[]
[]
[]
[]
["HEFA - Fluxo de Caixa"]
["Referencia ano",0,{"$f":"B22+1","v":1},{"$f":"C22+1","v":2},3,4,5,6,7,8,9,10,11,12,13,14,15,16,17,18,19,20,21,22,23,24,25,26,27,28,29,30,31,32,33,34,35,36,37,38,39,40,41,42,43,44,45,46]
["Ano VPL",{"$f":"IF(B22+1<='Parâmetros de Fluxo de Caixa'!$B$3,'Fluxo de Caixa Desc._premio'!B22,'Fluxo de Caixa Desc._premio'!B22+'Parâmetros de Fluxo de Caixa'!$B$4/12)","v":0},{"$f":"IF(C22+1<='Parâmetros de Fluxo de Caixa'!$B$3,'Fluxo de Caixa Desc._premio'!C22,'Fluxo de Caixa Desc._premio'!C22+'Parâmetros de Fluxo de Caixa'!$B$4/12)","v":1},{"$f":"IF(D22+1<='Parâmetros de Fluxo de Caixa'!$B$3,'Fluxo de Caixa Desc._premio'!D22,'Fluxo de Caixa Desc._premio'!D22+'Parâmetros de Fluxo de Caixa'!$B$4/12)","v":2},{"$f":"IF(E22+1<='Parâmetros de Fluxo de Caixa'!$B$3,'Fluxo de Caixa Desc._premio'!E22,'Fluxo de Caixa Desc._premio'!E22+'Parâmetros de Fluxo de Caixa'!$B$4/12)","v":3},{"$f":"IF(F22+1<='Parâmetros de Fluxo de Caixa'!$B$3,'Fluxo de Caixa Desc._premio'!F22,'Fluxo de Caixa Desc._premio'!F22+'Parâmetros de Fluxo de Caixa'!$B$4/12)","v":4},{"$f":"IF(G22+1<='Parâmetros de Fluxo de Caixa'!$B$3,'Fluxo de Caixa Desc._premio'!G22,'Fluxo de Caixa Desc._premio'!G22+'Parâmetros de Fluxo de Caixa'!$B$4/12)","v":5},{"$f":"IF(H22+1<='Parâmetros de Fluxo de Caixa'!$B$3,'Fluxo de Caixa Desc._premio'!H22,'Fluxo de Caixa Desc._premio'!H22+'Parâmetros de Fluxo de Caixa'!$B$4/12)","v":6},{"$f":"IF(I22+1<='Parâmetros de Fluxo de Caixa'!$B$3,'Fluxo de Caixa Desc._premio'!I22,'Fluxo de Caixa Desc._premio'!I22+'Parâmetros de Fluxo de Caixa'!$B$4/12)","v":7},{"$f":"IF(J22+1<='Parâmetros de Fluxo de Caixa'!$B$3,'Fluxo de Caixa Desc._premio'!J22,'Fluxo de Caixa Desc._premio'!J22+'Parâmetros de Fluxo de Caixa'!$B$4/12)","v":8},{"$f":"IF(K22+1<='Parâmetros de Fluxo de Caixa'!$B$3,'Fluxo de Caixa Desc._premio'!K22,'Fluxo de Caixa Desc._premio'!K22+'Parâmetros de Fluxo de Caixa'!$B$4/12)","v":9},{"$f":"IF(L22+1<='Parâmetros de Fluxo de Caixa'!$B$3,'Fluxo de Caixa Desc._premio'!L22,'Fluxo de Caixa Desc._premio'!L22+'Parâmetros de Fluxo de Caixa'!$B$4/12)","v":10},{"$f":"IF(M22+1<='Parâmetros de Fluxo de Caixa'!$B$3,'Fluxo de Caixa Desc._premio'!M22,'Fluxo de Caixa Desc._premio'!M22+'Parâmetros de Fluxo de Caixa'!$B$4/12)","v":11},{"$f":"IF(N22+1<='Parâmetros de Fluxo de Caixa'!$B$3,'Fluxo de Caixa Desc._premio'!N22,'Fluxo de Caixa Desc._premio'!N22+'Parâmetros de Fluxo de Caixa'!$B$4/12)","v":12},{"$f":"IF(O22+1<='Parâmetros de Fluxo de Caixa'!$B$3,'Fluxo de Caixa Desc._premio'!O22,'Fluxo de Caixa Desc._premio'!O22+'Parâmetros de Fluxo de Caixa'!$B$4/12)","v":13},{"$f":"IF(P22+1<='Parâmetros de Fluxo de Caixa'!$B$3,'Fluxo de Caixa Desc._premio'!P22,'Fluxo de Caixa Desc._premio'!P22+'Parâmetros de Fluxo de Caixa'!$B$4/12)","v":14},{"$f":"IF(Q22+1<='Parâmetros de Fluxo de Caixa'!$B$3,'Fluxo de Caixa Desc._premio'!Q22,'Fluxo de Caixa Desc._premio'!Q22+'Parâmetros de Fluxo de Caixa'!$B$4/12)","v":15},{"$f":"IF(R22+1<='Parâmetros de Fluxo de Caixa'!$B$3,'Fluxo de Caixa Desc._premio'!R22,'Fluxo de Caixa Desc._premio'!R22+'Parâmetros de Fluxo de Caixa'!$B$4/12)","v":16},{"$f":"IF(S22+1<='Parâmetros de Fluxo de Caixa'!$B$3,'Fluxo de Caixa Desc._premio'!S22,'Fluxo de Caixa Desc._premio'!S22+'Parâmetros de Fluxo de Caixa'!$B$4/12)","v":17},{"$f":"IF(T22+1<='Parâmetros de Fluxo de Caixa'!$B$3,'Fluxo de Caixa Desc._premio'!T22,'Fluxo de Caixa Desc._premio'!T22+'Parâmetros de Fluxo de Caixa'!$B$4/12)","v":18},{"$f":"IF(U22+1<='Parâmetros de Fluxo de Caixa'!$B$3,'Fluxo de Caixa Desc._premio'!U22,'Fluxo de Caixa Desc._premio'!U22+'Parâmetros de Fluxo de Caixa'!$B$4/12)","v":19},{"$f":"IF(V22+1<='Parâmetros de Fluxo de Caixa'!$B$3,'Fluxo de Caixa Desc._premio'!V22,'Fluxo de Caixa Desc._premio'!V22+'Parâmetros de Fluxo de Caixa'!$B$4/12)","v":20},{"$f":"IF(W22+1<='Parâmetros de Fluxo de Caixa'!$B$3,'Fluxo de Caixa Desc._premio'!W22,'Fluxo de Caixa Desc._premio'!W22+'Parâmetros de Fluxo de Caixa'!$B$4/12)","v":21},{"$f":"IF(X22+1<='Parâmetros de Fluxo de Caixa'!$B$3,'Fluxo de Caixa Desc._premio'!X22,'Fluxo de Caixa Desc._premio'!X22+'Parâmetros de Fluxo de Caixa'!$B$4/12)","v":22},{"$f":"IF(Y22+1<='Parâmetros de Fluxo de Caixa'!$B$3,'Fluxo de Caixa Desc._premio'!Y22,'Fluxo de Caixa Desc._premio'!Y22+'Parâmetros de Fluxo de Caixa'!$B$4/12)","v":23},{"$f":"IF(Z22+1<='Parâmetros de Fluxo de Caixa'!$B$3,'Fluxo de Caixa Desc._premio'!Z22,'Fluxo de Caixa Desc._premio'!Z22+'Parâmetros de Fluxo de Caixa'!$B$4/12)","v":24},{"$f":"IF(AA22+1<='Parâmetros de Fluxo de Caixa'!$B$3,'Fluxo de Caixa Desc._premio'!AA22,'Fluxo de Caixa Desc._premio'!AA22+'Parâmetros de Fluxo de Caixa'!$B$4/12)","v":25},{"$f":"IF(AB22+1<='Parâmetros de Fluxo de Caixa'!$B$3,'Fluxo de Caixa Desc._premio'!AB22,'Fluxo de Caixa Desc._premio'!AB22+'Parâmetros de Fluxo de Caixa'!$B$4/12)","v":26},{"$f":"IF(AC22+1<='Parâmetros de Fluxo de Caixa'!$B$3,'Fluxo de Caixa Desc._premio'!AC22,'Fluxo de Caixa Desc._premio'!AC22+'Parâmetros de Fluxo de Caixa'!$B$4/12)","v":27},{"$f":"IF(AD22+1<='Parâmetros de Fluxo de Caixa'!$B$3,'Fluxo de Caixa Desc._premio'!AD22,'Fluxo de Caixa Desc._premio'!AD22+'Parâmetros de Fluxo de Caixa'!$B$4/12)","v":28},{"$f":"IF(AE22+1<='Parâmetros de Fluxo de Caixa'!$B$3,'Fluxo de Caixa Desc._premio'!AE22,'Fluxo de Caixa Desc._premio'!AE22+'Parâmetros de Fluxo de Caixa'!$B$4/12)","v":29},{"$f":"IF(AF22+1<='Parâmetros de Fluxo de Caixa'!$B$3,'Fluxo de Caixa Desc._premio'!AF22,'Fluxo de Caixa Desc._premio'!AF22+'Parâmetros de Fluxo de Caixa'!$B$4/12)","v":30},{"$f":"IF(AG22+1<='Parâmetros de Fluxo de Caixa'!$B$3,'Fluxo de Caixa Desc._premio'!AG22,'Fluxo de Caixa Desc._premio'!AG22+'Parâmetros de Fluxo de Caixa'!$B$4/12)","v":31},{"$f":"IF(AH22+1<='Parâmetros de Fluxo de Caixa'!$B$3,'Fluxo de Caixa Desc._premio'!AH22,'Fluxo de Caixa Desc._premio'!AH22+'Parâmetros de Fluxo de Caixa'!$B$4/12)","v":32},{"$f":"IF(AI22+1<='Parâmetros de Fluxo de Caixa'!$B$3,'Fluxo de Caixa Desc._premio'!AI22,'Fluxo de Caixa Desc._premio'!AI22+'Parâmetros de Fluxo de Caixa'!$B$4/12)","v":33},{"$f":"IF(AJ22+1<='Parâmetros de Fluxo de Caixa'!$B$3,'Fluxo de Caixa Desc._premio'!AJ22,'Fluxo de Caixa Desc._premio'!AJ22+'Parâmetros de Fluxo de Caixa'!$B$4/12)","v":34},{"$f":"IF(AK22+1<='Parâmetros de Fluxo de Caixa'!$B$3,'Fluxo de Caixa Desc._premio'!AK22,'Fluxo de Caixa Desc._premio'!AK22+'Parâmetros de Fluxo de Caixa'!$B$4/12)","v":35},{"$f":"IF(AL22+1<='Parâmetros de Fluxo de Caixa'!$B$3,'Fluxo de Caixa Desc._premio'!AL22,'Fluxo de Caixa Desc._premio'!AL22+'Parâmetros de Fluxo de Caixa'!$B$4/12)","v":36},{"$f":"IF(AM22+1<='Parâmetros de Fluxo de Caixa'!$B$3,'Fluxo de Caixa Desc._premio'!AM22,'Fluxo de Caixa Desc._premio'!AM22+'Parâmetros de Fluxo de Caixa'!$B$4/12)","v":37},{"$f":"IF(AN22+1<='Parâmetros de Fluxo de Caixa'!$B$3,'Fluxo de Caixa Desc._premio'!AN22,'Fluxo de Caixa Desc._premio'!AN22+'Parâmetros de Fluxo de Caixa'!$B$4/12)","v":38},{"$f":"IF(AO22+1<='Parâmetros de Fluxo de Caixa'!$B$3,'Fluxo de Caixa Desc._premio'!AO22,'Fluxo de Caixa Desc._premio'!AO22+'Parâmetros de Fluxo de Caixa'!$B$4/12)","v":39},{"$f":"IF(AP22+1<='Parâmetros de Fluxo de Caixa'!$B$3,'Fluxo de Caixa Desc._premio'!AP22,'Fluxo de Caixa Desc._premio'!AP22+'Parâmetros de Fluxo de Caixa'!$B$4/12)","v":40},{"$f":"IF(AQ22+1<='Parâmetros de Fluxo de Caixa'!$B$3,'Fluxo de Caixa Desc._premio'!AQ22,'Fluxo de Caixa Desc._premio'!AQ22+'Parâmetros de Fluxo de Caixa'!$B$4/12)","v":41},{"$f":"IF(AR22+1<='Parâmetros de Fluxo de Caixa'!$B$3,'Fluxo de Caixa Desc._premio'!AR22,'Fluxo de Caixa Desc._premio'!AR22+'Parâmetros de Fluxo de Caixa'!$B$4/12)","v":42},{"$f":"IF(AS22+1<='Parâmetros de Fluxo de Caixa'!$B$3,'Fluxo de Caixa Desc._premio'!AS22,'Fluxo de Caixa Desc._premio'!AS22+'Parâmetros de Fluxo de Caixa'!$B$4/12)","v":43},{"$f":"IF(AT22+1<='Parâmetros de Fluxo de Caixa'!$B$3,'Fluxo de Caixa Desc._premio'!AT22,'Fluxo de Caixa Desc._premio'!AT22+'Parâmetros de Fluxo de Caixa'!$B$4/12)","v":44},{"$f":"IF(AU22+1<='Parâmetros de Fluxo de Caixa'!$B$3,'Fluxo de Caixa Desc._premio'!AU22,'Fluxo de Caixa Desc._premio'!AU22+'Parâmetros de Fluxo de Caixa'!$B$4/12)","v":45},{"$f":"IF(AV22+1<='Parâmetros de Fluxo de Caixa'!$B$3,'Fluxo de Caixa Desc._premio'!AV22,'Fluxo de Caixa Desc._premio'!AV22+'Parâmetros de Fluxo de Caixa'!$B$4/12)","v":46}]
["Ano Projeto",{"$f":"IF(B23+1<='Parâmetros de Fluxo de Caixa'!$B$12,B23+1,\"\")","v":1},{"$f":"IF(C23+1<='Parâmetros de Fluxo de Caixa'!$B$12,C23+1,\"\")","v":2},{"$f":"IF(D23+1<='Parâmetros de Fluxo de Caixa'!$B$12,D23+1,\"\")","v":3},{"$f":"IF(E23+1<='Parâmetros de Fluxo de Caixa'!$B$12,E23+1,\"\")","v":4},{"$f":"IF(F23+1<='Parâmetros de Fluxo de Caixa'!$B$12,F23+1,\"\")","v":5},{"$f":"IF(G23+1<='Parâmetros de Fluxo de Caixa'!$B$12,G23+1,\"\")","v":6},{"$f":"IF(H23+1<='Parâmetros de Fluxo de Caixa'!$B$12,H23+1,\"\")","v":7},{"$f":"IF(I23+1<='Parâmetros de Fluxo de Caixa'!$B$12,I23+1,\"\")","v":8},{"$f":"IF(J23+1<='Parâmetros de Fluxo de Caixa'!$B$12,J23+1,\"\")","v":9},{"$f":"IF(K23+1<='Parâmetros de Fluxo de Caixa'!$B$12,K23+1,\"\")","v":10},{"$f":"IF(L23+1<='Parâmetros de Fluxo de Caixa'!$B$12,L23+1,\"\")","v":11},{"$f":"IF(M23+1<='Parâmetros de Fluxo de Caixa'!$B$12,M23+1,\"\")","v":12},{"$f":"IF(N23+1<='Parâmetros de Fluxo de Caixa'!$B$12,N23+1,\"\")","v":13},{"$f":"IF(O23+1<='Parâmetros de Fluxo de Caixa'!$B$12,O23+1,\"\")","v":14},{"$f":"IF(P23+1<='Parâmetros de Fluxo de Caixa'!$B$12,P23+1,\"\")","v":15},{"$f":"IF(Q23+1<='Parâmetros de Fluxo de Caixa'!$B$12,Q23+1,\"\")","v":16},{"$f":"IF(R23+1<='Parâmetros de Fluxo de Caixa'!$B$12,R23+1,\"\")","v":17},{"$f":"IF(S23+1<='Parâmetros de Fluxo de Caixa'!$B$12,S23+1,\"\")","v":18},{"$f":"IF(T23+1<='Parâmetros de Fluxo de Caixa'!$B$12,T23+1,\"\")","v":19},{"$f":"IF(U23+1<='Parâmetros de Fluxo de Caixa'!$B$12,U23+1,\"\")","v":20},{"$f":"IF(V23+1<='Parâmetros de Fluxo de Caixa'!$B$12,V23+1,\"\")","v":21},{"$f":"IF(W23+1<='Parâmetros de Fluxo de Caixa'!$B$12,W23+1,\"\")","v":22},{"$f":"IF(X23+1<='Parâmetros de Fluxo de Caixa'!$B$12,X23+1,\"\")","v":23},{"$f":"IF(Y23+1<='Parâmetros de Fluxo de Caixa'!$B$12,Y23+1,\"\")","v":""},{"$f":"IF(Z23+1<='Parâmetros de Fluxo de Caixa'!$B$12,Z23+1,\"\")","v":""},{"$f":"IF(AA23+1<='Parâmetros de Fluxo de Caixa'!$B$12,AA23+1,\"\")","v":""},{"$f":"IF(AB23+1<='Parâmetros de Fluxo de Caixa'!$B$12,AB23+1,\"\")","v":""},{"$f":"IF(AC23+1<='Parâmetros de Fluxo de Caixa'!$B$12,AC23+1,\"\")","v":""},{"$f":"IF(AD23+1<='Parâmetros de Fluxo de Caixa'!$B$12,AD23+1,\"\")","v":""},{"$f":"IF(AE23+1<='Parâmetros de Fluxo de Caixa'!$B$12,AE23+1,\"\")","v":""},{"$f":"IF(AF23+1<='Parâmetros de Fluxo de Caixa'!$B$12,AF23+1,\"\")","v":""},{"$f":"IF(AG23+1<='Parâmetros de Fluxo de Caixa'!$B$12,AG23+1,\"\")","v":""},{"$f":"IF(AH23+1<='Parâmetros de Fluxo de Caixa'!$B$12,AH23+1,\"\")","v":""},{"$f":"IF(AI23+1<='Parâmetros de Fluxo de Caixa'!$B$12,AI23+1,\"\")","v":""},{"$f":"IF(AJ23+1<='Parâmetros de Fluxo de Caixa'!$B$12,AJ23+1,\"\")","v":""},{"$f":"IF(AK23+1<='Parâmetros de Fluxo de Caixa'!$B$12,AK23+1,\"\")","v":""},{"$f":"IF(AL23+1<='Parâmetros de Fluxo de Caixa'!$B$12,AL23+1,\"\")","v":""},{"$f":"IF(AM23+1<='Parâmetros de Fluxo de Caixa'!$B$12,AM23+1,\"\")","v":""},{"$f":"IF(AN23+1<='Parâmetros de Fluxo de Caixa'!$B$12,AN23+1,\"\")","v":""},{"$f":"IF(AO23+1<='Parâmetros de Fluxo de Caixa'!$B$12,AO23+1,\"\")","v":""},{"$f":"IF(AP23+1<='Parâmetros de Fluxo de Caixa'!$B$12,AP23+1,\"\")","v":""},{"$f":"IF(AQ23+1<='Parâmetros de Fluxo de Caixa'!$B$12,AQ23+1,\"\")","v":""},{"$f":"IF(AR23+1<='Parâmetros de Fluxo de Caixa'!$B$12,AR23+1,\"\")","v":""},{"$f":"IF(AS23+1<='Parâmetros de Fluxo de Caixa'!$B$12,AS23+1,\"\")","v":""},{"$f":"IF(AT23+1<='Parâmetros de Fluxo de Caixa'!$B$12,AT23+1,\"\")","v":""},{"$f":"IF(AU23+1<='Parâmetros de Fluxo de Caixa'!$B$12,AU23+1,\"\")","v":""},{"$f":"IF(AV23+1<='Parâmetros de Fluxo de Caixa'!$B$12,AV23+1,\"\")","v":""}]
["Cronograma",{"$f":"IF(B24<='Parâmetros de Fluxo de Caixa'!$B$3,\"Construção\",IF(B24='Parâmetros de Fluxo de Caixa'!$B$3+1+'Parâmetros de Fluxo de Caixa'!$B$4/12,\"Start-up\",IF(B24<='Parâmetros de Fluxo de Caixa'!$B$12,\"Operação\",\"\")))","v":"Construção"},{"$f":"IF(C24<='Parâmetros de Fluxo de Caixa'!$B$3,\"Construção\",IF(C24='Parâmetros de Fluxo de Caixa'!$B$3+1+'Parâmetros de Fluxo de Caixa'!$B$4/12,\"Start-up\",IF(C24<='Parâmetros de Fluxo de Caixa'!$B$12,\"Operação\",\"\")))","v":"Construção"},{"$f":"IF(D24<='Parâmetros de Fluxo de Caixa'!$B$3,\"Construção\",IF(D24='Parâmetros de Fluxo de Caixa'!$B$3+1+'Parâmetros de Fluxo de Caixa'!$B$4/12,\"Start-up\",IF(D24<='Parâmetros de Fluxo de Caixa'!$B$12,\"Operação\",\"\")))","v":"Construção"},{"$f":"IF(E24<='Parâmetros de Fluxo de Caixa'!$B$3,\"Construção\",IF(E24='Parâmetros de Fluxo de Caixa'!$B$3+1+'Parâmetros de Fluxo de Caixa'!$B$4/12,\"Start-up\",IF(E24<='Parâmetros de Fluxo de Caixa'!$B$12,\"Operação\",\"\")))","v":"Start-up"},{"$f":"IF(F24<='Parâmetros de Fluxo de Caixa'!$B$3,\"Construção\",IF(F24='Parâmetros de Fluxo de Caixa'!$B$3+1+'Parâmetros de Fluxo de Caixa'!$B$4/12,\"Start-up\",IF(F24<='Parâmetros de Fluxo de Caixa'!$B$12,\"Operação\",\"\")))","v":"Operação"},{"$f":"IF(G24<='Parâmetros de Fluxo de Caixa'!$B$3,\"Construção\",IF(G24='Parâmetros de Fluxo de Caixa'!$B$3+1+'Parâmetros de Fluxo de Caixa'!$B$4/12,\"Start-up\",IF(G24<='Parâmetros de Fluxo de Caixa'!$B$12,\"Operação\",\"\")))","v":"Operação"},{"$f":"IF(H24<='Parâmetros de Fluxo de Caixa'!$B$3,\"Construção\",IF(H24='Parâmetros de Fluxo de Caixa'!$B$3+1+'Parâmetros de Fluxo de Caixa'!$B$4/12,\"Start-up\",IF(H24<='Parâmetros de Fluxo de Caixa'!$B$12,\"Operação\",\"\")))","v":"Operação"},{"$f":"IF(I24<='Parâmetros de Fluxo de Caixa'!$B$3,\"Construção\",IF(I24='Parâmetros de Fluxo de Caixa'!$B$3+1+'Parâmetros de Fluxo de Caixa'!$B$4/12,\"Start-up\",IF(I24<='Parâmetros de Fluxo de Caixa'!$B$12,\"Operação\",\"\")))","v":"Operação"},{"$f":"IF(J24<='Parâmetros de Fluxo de Caixa'!$B$3,\"Construção\",IF(J24='Parâmetros de Fluxo de Caixa'!$B$3+1+'Parâmetros de Fluxo de Caixa'!$B$4/12,\"Start-up\",IF(J24<='Parâmetros de Fluxo de Caixa'!$B$12,\"Operação\",\"\")))","v":"Operação"},{"$f":"IF(K24<='Parâmetros de Fluxo de Caixa'!$B$3,\"Construção\",IF(K24='Parâmetros de Fluxo de Caixa'!$B$3+1+'Parâmetros de Fluxo de Caixa'!$B$4/12,\"Start-up\",IF(K24<='Parâmetros de Fluxo de Caixa'!$B$12,\"Operação\",\"\")))","v":"Operação"},{"$f":"IF(L24<='Parâmetros de Fluxo de Caixa'!$B$3,\"Construção\",IF(L24='Parâmetros de Fluxo de Caixa'!$B$3+1+'Parâmetros de Fluxo de Caixa'!$B$4/12,\"Start-up\",IF(L24<='Parâmetros de Fluxo de Caixa'!$B$12,\"Operação\",\"\")))","v":"Operação"},{"$f":"IF(M24<='Parâmetros de Fluxo de Caixa'!$B$3,\"Construção\",IF(M24='Parâmetros de Fluxo de Caixa'!$B$3+1+'Parâmetros de Fluxo de Caixa'!$B$4/12,\"Start-up\",IF(M24<='Parâmetros de Fluxo de Caixa'!$B$12,\"Operação\",\"\")))","v":"Operação"},{"$f":"IF(N24<='Parâmetros de Fluxo de Caixa'!$B$3,\"Construção\",IF(N24='Parâmetros de Fluxo de Caixa'!$B$3+1+'Parâmetros de Fluxo de Caixa'!$B$4/12,\"Start-up\",IF(N24<='Parâmetros de Fluxo de Caixa'!$B$12,\"Operação\",\"\")))","v":"Operação"},{"$f":"IF(O24<='Parâmetros de Fluxo de Caixa'!$B$3,\"Construção\",IF(O24='Parâmetros de Fluxo de Caixa'!$B$3+1+'Parâmetros de Fluxo de Caixa'!$B$4/12,\"Start-up\",IF(O24<='Parâmetros de Fluxo de Caixa'!$B$12,\"Operação\",\"\")))","v":"Operação"},{"$f":"IF(P24<='Parâmetros de Fluxo de Caixa'!$B$3,\"Construção\",IF(P24='Parâmetros de Fluxo de Caixa'!$B$3+1+'Parâmetros de Fluxo de Caixa'!$B$4/12,\"Start-up\",IF(P24<='Parâmetros de Fluxo de Caixa'!$B$12,\"Operação\",\"\")))","v":"Operação"},{"$f":"IF(Q24<='Parâmetros de Fluxo de Caixa'!$B$3,\"Construção\",IF(Q24='Parâmetros de Fluxo de Caixa'!$B$3+1+'Parâmetros de Fluxo de Caixa'!$B$4/12,\"Start-up\",IF(Q24<='Parâmetros de Fluxo de Caixa'!$B$12,\"Operação\",\"\")))","v":"Operação"},{"$f":"IF(R24<='Parâmetros de Fluxo de Caixa'!$B$3,\"Construção\",IF(R24='Parâmetros de Fluxo de Caixa'!$B$3+1+'Parâmetros de Fluxo de Caixa'!$B$4/12,\"Start-up\",IF(R24<='Parâmetros de Fluxo de Caixa'!$B$12,\"Operação\",\"\")))","v":"Operação"},{"$f":"IF(S24<='Parâmetros de Fluxo de Caixa'!$B$3,\"Construção\",IF(S24='Parâmetros de Fluxo de Caixa'!$B$3+1+'Parâmetros de Fluxo de Caixa'!$B$4/12,\"Start-up\",IF(S24<='Parâmetros de Fluxo de Caixa'!$B$12,\"Operação\",\"\")))","v":"Operação"},{"$f":"IF(T24<='Parâmetros de Fluxo de Caixa'!$B$3,\"Construção\",IF(T24='Parâmetros de Fluxo de Caixa'!$B$3+1+'Parâmetros de Fluxo de Caixa'!$B$4/12,\"Start-up\",IF(T24<='Parâmetros de Fluxo de Caixa'!$B$12,\"Operação\",\"\")))","v":"Operação"},{"$f":"IF(U24<='Parâmetros de Fluxo de Caixa'!$B$3,\"Construção\",IF(U24='Parâmetros de Fluxo de Caixa'!$B$3+1+'Parâmetros de Fluxo de Caixa'!$B$4/12,\"Start-up\",IF(U24<='Parâmetros de Fluxo de Caixa'!$B$12,\"Operação\",\"\")))","v":"Operação"},{"$f":"IF(V24<='Parâmetros de Fluxo de Caixa'!$B$3,\"Construção\",IF(V24='Parâmetros de Fluxo de Caixa'!$B$3+1+'Parâmetros de Fluxo de Caixa'!$B$4/12,\"Start-up\",IF(V24<='Parâmetros de Fluxo de Caixa'!$B$12,\"Operação\",\"\")))","v":"Operação"},{"$f":"IF(W24<='Parâmetros de Fluxo de Caixa'!$B$3,\"Construção\",IF(W24='Parâmetros de Fluxo de Caixa'!$B$3+1+'Parâmetros de Fluxo de Caixa'!$B$4/12,\"Start-up\",IF(W24<='Parâmetros de Fluxo de Caixa'!$B$12,\"Operação\",\"\")))","v":"Operação"},{"$f":"IF(X24<='Parâmetros de Fluxo de Caixa'!$B$3,\"Construção\",IF(X24='Parâmetros de Fluxo de Caixa'!$B$3+1+'Parâmetros de Fluxo de Caixa'!$B$4/12,\"Start-up\",IF(X24<='Parâmetros de Fluxo de Caixa'!$B$12,\"Operação\",\"\")))","v":"Operação"},{"$f":"IF(Y24<='Parâmetros de Fluxo de Caixa'!$B$3,\"Construção\",IF(Y24='Parâmetros de Fluxo de Caixa'!$B$3+1+'Parâmetros de Fluxo de Caixa'!$B$4/12,\"Start-up\",IF(Y24<='Parâmetros de Fluxo de Caixa'!$B$12,\"Operação\",\"\")))","v":""},{"$f":"IF(Z24<='Parâmetros de Fluxo de Caixa'!$B$3,\"Construção\",IF(Z24='Parâmetros de Fluxo de Caixa'!$B$3+1+'Parâmetros de Fluxo de Caixa'!$B$4/12,\"Start-up\",IF(Z24<='Parâmetros de Fluxo de Caixa'!$B$12,\"Operação\",\"\")))","v":""},{"$f":"IF(AA24<='Parâmetros de Fluxo de Caixa'!$B$3,\"Construção\",IF(AA24='Parâmetros de Fluxo de Caixa'!$B$3+1+'Parâmetros de Fluxo de Caixa'!$B$4/12,\"Start-up\",IF(AA24<='Parâmetros de Fluxo de Caixa'!$B$12,\"Operação\",\"\")))","v":""},{"$f":"IF(AB24<='Parâmetros de Fluxo de Caixa'!$B$3,\"Construção\",IF(AB24='Parâmetros de Fluxo de Caixa'!$B$3+1+'Parâmetros de Fluxo de Caixa'!$B$4/12,\"Start-up\",IF(AB24<='Parâmetros de Fluxo de Caixa'!$B$12,\"Operação\",\"\")))","v":""},{"$f":"IF(AC24<='Parâmetros de Fluxo de Caixa'!$B$3,\"Construção\",IF(AC24='Parâmetros de Fluxo de Caixa'!$B$3+1+'Parâmetros de Fluxo de Caixa'!$B$4/12,\"Start-up\",IF(AC24<='Parâmetros de Fluxo de Caixa'!$B$12,\"Operação\",\"\")))","v":""},{"$f":"IF(AD24<='Parâmetros de Fluxo de Caixa'!$B$3,\"Construção\",IF(AD24='Parâmetros de Fluxo de Caixa'!$B$3+1+'Parâmetros de Fluxo de Caixa'!$B$4/12,\"Start-up\",IF(AD24<='Parâmetros de Fluxo de Caixa'!$B$12,\"Operação\",\"\")))","v":""},{"$f":"IF(AE24<='Parâmetros de Fluxo de Caixa'!$B$3,\"Construção\",IF(AE24='Parâmetros de Fluxo de Caixa'!$B$3+1+'Parâmetros de Fluxo de Caixa'!$B$4/12,\"Start-up\",IF(AE24<='Parâmetros de Fluxo de Caixa'!$B$12,\"Operação\",\"\")))","v":""},{"$f":"IF(AF24<='Parâmetros de Fluxo de Caixa'!$B$3,\"Construção\",IF(AF24='Parâmetros de Fluxo de Caixa'!$B$3+1+'Parâmetros de Fluxo de Caixa'!$B$4/12,\"Start-up\",IF(AF24<='Parâmetros de Fluxo de Caixa'!$B$12,\"Operação\",\"\")))","v":""},{"$f":"IF(AG24<='Parâmetros de Fluxo de Caixa'!$B$3,\"Construção\",IF(AG24='Parâmetros de Fluxo de Caixa'!$B$3+1+'Parâmetros de Fluxo de Caixa'!$B$4/12,\"Start-up\",IF(AG24<='Parâmetros de Fluxo de Caixa'!$B$12,\"Operação\",\"\")))","v":""},{"$f":"IF(AH24<='Parâmetros de Fluxo de Caixa'!$B$3,\"Construção\",IF(AH24='Parâmetros de Fluxo de Caixa'!$B$3+1+'Parâmetros de Fluxo de Caixa'!$B$4/12,\"Start-up\",IF(AH24<='Parâmetros de Fluxo de Caixa'!$B$12,\"Operação\",\"\")))","v":""},{"$f":"IF(AI24<='Parâmetros de Fluxo de Caixa'!$B$3,\"Construção\",IF(AI24='Parâmetros de Fluxo de Caixa'!$B$3+1+'Parâmetros de Fluxo de Caixa'!$B$4/12,\"Start-up\",IF(AI24<='Parâmetros de Fluxo de Caixa'!$B$12,\"Operação\",\"\")))","v":""},{"$f":"IF(AJ24<='Parâmetros de Fluxo de Caixa'!$B$3,\"Construção\",IF(AJ24='Parâmetros de Fluxo de Caixa'!$B$3+1+'Parâmetros de Fluxo de Caixa'!$B$4/12,\"Start-up\",IF(AJ24<='Parâmetros de Fluxo de Caixa'!$B$12,\"Operação\",\"\")))","v":""},{"$f":"IF(AK24<='Parâmetros de Fluxo de Caixa'!$B$3,\"Construção\",IF(AK24='Parâmetros de Fluxo de Caixa'!$B$3+1+'Parâmetros de Fluxo de Caixa'!$B$4/12,\"Start-up\",IF(AK24<='Parâmetros de Fluxo de Caixa'!$B$12,\"Operação\",\"\")))","v":""},{"$f":"IF(AL24<='Parâmetros de Fluxo de Caixa'!$B$3,\"Construção\",IF(AL24='Parâmetros de Fluxo de Caixa'!$B$3+1+'Parâmetros de Fluxo de Caixa'!$B$4/12,\"Start-up\",IF(AL24<='Parâmetros de Fluxo de Caixa'!$B$12,\"Operação\",\"\")))","v":""},{"$f":"IF(AM24<='Parâmetros de Fluxo de Caixa'!$B$3,\"Construção\",IF(AM24='Parâmetros de Fluxo de Caixa'!$B$3+1+'Parâmetros de Fluxo de Caixa'!$B$4/12,\"Start-up\",IF(AM24<='Parâmetros de Fluxo de Caixa'!$B$12,\"Operação\",\"\")))","v":""},{"$f":"IF(AN24<='Parâmetros de Fluxo de Caixa'!$B$3,\"Construção\",IF(AN24='Parâmetros de Fluxo de Caixa'!$B$3+1+'Parâmetros de Fluxo de Caixa'!$B$4/12,\"Start-up\",IF(AN24<='Parâmetros de Fluxo de Caixa'!$B$12,\"Operação\",\"\")))","v":""},{"$f":"IF(AO24<='Parâmetros de Fluxo de Caixa'!$B$3,\"Construção\",IF(AO24='Parâmetros de Fluxo de Caixa'!$B$3+1+'Parâmetros de Fluxo de Caixa'!$B$4/12,\"Start-up\",IF(AO24<='Parâmetros de Fluxo de Caixa'!$B$12,\"Operação\",\"\")))","v":""},{"$f":"IF(AP24<='Parâmetros de Fluxo de Caixa'!$B$3,\"Construção\",IF(AP24='Parâmetros de Fluxo de Caixa'!$B$3+1+'Parâmetros de Fluxo de Caixa'!$B$4/12,\"Start-up\",IF(AP24<='Parâmetros de Fluxo de Caixa'!$B$12,\"Operação\",\"\")))","v":""},{"$f":"IF(AQ24<='Parâmetros de Fluxo de Caixa'!$B$3,\"Construção\",IF(AQ24='Parâmetros de Fluxo de Caixa'!$B$3+1+'Parâmetros de Fluxo de Caixa'!$B$4/12,\"Start-up\",IF(AQ24<='Parâmetros de Fluxo de Caixa'!$B$12,\"Operação\",\"\")))","v":""},{"$f":"IF(AR24<='Parâmetros de Fluxo de Caixa'!$B$3,\"Construção\",IF(AR24='Parâmetros de Fluxo de Caixa'!$B$3+1+'Parâmetros de Fluxo de Caixa'!$B$4/12,\"Start-up\",IF(AR24<='Parâmetros de Fluxo de Caixa'!$B$12,\"Operação\",\"\")))","v":""},{"$f":"IF(AS24<='Parâmetros de Fluxo de Caixa'!$B$3,\"Construção\",IF(AS24='Parâmetros de Fluxo de Caixa'!$B$3+1+'Parâmetros de Fluxo de Caixa'!$B$4/12,\"Start-up\",IF(AS24<='Parâmetros de Fluxo de Caixa'!$B$12,\"Operação\",\"\")))","v":""},{"$f":"IF(AT24<='Parâmetros de Fluxo de Caixa'!$B$3,\"Construção\",IF(AT24='Parâmetros de Fluxo de Caixa'!$B$3+1+'Parâmetros de Fluxo de Caixa'!$B$4/12,\"Start-up\",IF(AT24<='Parâmetros de Fluxo de Caixa'!$B$12,\"Operação\",\"\")))","v":""},{"$f":"IF(AU24<='Parâmetros de Fluxo de Caixa'!$B$3,\"Construção\",IF(AU24='Parâmetros de Fluxo de Caixa'!$B$3+1+'Parâmetros de Fluxo de Caixa'!$B$4/12,\"Start-up\",IF(AU24<='Parâmetros de Fluxo de Caixa'!$B$12,\"Operação\",\"\")))","v":""},{"$f":"IF(AV24<='Parâmetros de Fluxo de Caixa'!$B$3,\"Construção\",IF(AV24='Parâmetros de Fluxo de Caixa'!$B$3+1+'Parâmetros de Fluxo de Caixa'!$B$4/12,\"Start-up\",IF(AV24<='Parâmetros de Fluxo de Caixa'!$B$12,\"Operação\",\"\")))","v":""}]
[]
["Receitas (milhões R$ / ano)",{"$f":"IF(B25=\"Construção\",0,IF(B25=\"Start-up\",('CAPEX e OPEX'!$G$53*'Fluxo de Caixa Desc._premio'!$B$3)*(1-'Parâmetros de Fluxo de Caixa'!$B$14)+'Parâmetros de Fluxo de Caixa'!$B$14*'Parâmetros de Fluxo de Caixa'!$B$15*'Fluxo de Caixa Desc._premio'!C27,IF(B25=\"Operação\",'CAPEX e OPEX'!$G$53*'Fluxo de Caixa Desc._premio'!$B$3,\"\")))","v":0},{"$f":"IF(C25=\"Construção\",0,IF(C25=\"Start-up\",('CAPEX e OPEX'!$G$53*'Fluxo de Caixa Desc._premio'!$B$3)*(1-'Parâmetros de Fluxo de Caixa'!$B$14)+'Parâmetros de Fluxo de Caixa'!$B$14*'Parâmetros de Fluxo de Caixa'!$B$15*'Fluxo de Caixa Desc._premio'!D27,IF(C25=\"Operação\",'CAPEX e OPEX'!$G$53*'Fluxo de Caixa Desc._premio'!$B$3,\"\")))","v":0},{"$f":"IF(D25=\"Construção\",0,IF(D25=\"Start-up\",('CAPEX e OPEX'!$G$53*'Fluxo de Caixa Desc._premio'!$B$3)*(1-'Parâmetros de Fluxo de Caixa'!$B$14)+'Parâmetros de Fluxo de Caixa'!$B$14*'Parâmetros de Fluxo de Caixa'!$B$15*'Fluxo de Caixa Desc._premio'!E27,IF(D25=\"Operação\",'CAPEX e OPEX'!$G$53*'Fluxo de Caixa Desc._premio'!$B$3,\"\")))","v":0},{"$f":"IF(E25=\"Construção\",0,IF(E25=\"Start-up\",('CAPEX e OPEX'!$G$53*'Fluxo de Caixa Desc._premio'!$B$3)*(1-'Parâmetros de Fluxo de Caixa'!$B$14)+'Parâmetros de Fluxo de Caixa'!$B$14*'Parâmetros de Fluxo de Caixa'!$B$15*'Fluxo de Caixa Desc._premio'!F27,IF(E25=\"Operação\",'CAPEX e OPEX'!$G$53*'Fluxo de Caixa Desc._premio'!$B$3,\"\")))","v":5233.0915534060214},{"$f":"IF(F25=\"Construção\",0,IF(F25=\"Start-up\",('CAPEX e OPEX'!$G$53*'Fluxo de Caixa Desc._premio'!$B$3)*(1-'Parâmetros de Fluxo de Caixa'!$B$14)+'Parâmetros de Fluxo de Caixa'!$B$14*'Parâmetros de Fluxo de Caixa'!$B$15*'Fluxo de Caixa Desc._premio'!G27,IF(F25=\"Operação\",'CAPEX e OPEX'!$G$53*'Fluxo de Caixa Desc._premio'!$B$3,\"\")))","v":5980.6760610354531},{"$f":"IF(G25=\"Construção\",0,IF(G25=\"Start-up\",('CAPEX e OPEX'!$G$53*'Fluxo de Caixa Desc._premio'!$B$3)*(1-'Parâmetros de Fluxo de Caixa'!$B$14)+'Parâmetros de Fluxo de Caixa'!$B$14*'Parâmetros de Fluxo de Caixa'!$B$15*'Fluxo de Caixa Desc._premio'!H27,IF(G25=\"Operação\",'CAPEX e OPEX'!$G$53*'Fluxo de Caixa Desc._premio'!$B$3,\"\")))","v":5980.6760610354531},{"$f":"IF(H25=\"Construção\",0,IF(H25=\"Start-up\",('CAPEX e OPEX'!$G$53*'Fluxo de Caixa Desc._premio'!$B$3)*(1-'Parâmetros de Fluxo de Caixa'!$B$14)+'Parâmetros de Fluxo de Caixa'!$B$14*'Parâmetros de Fluxo de Caixa'!$B$15*'Fluxo de Caixa Desc._premio'!I27,IF(H25=\"Operação\",'CAPEX e OPEX'!$G$53*'Fluxo de Caixa Desc._premio'!$B$3,\"\")))","v":5980.6760610354531},{"$f":"IF(I25=\"Construção\",0,IF(I25=\"Start-up\",('CAPEX e OPEX'!$G$53*'Fluxo de Caixa Desc._premio'!$B$3)*(1-'Parâmetros de Fluxo de Caixa'!$B$14)+'Parâmetros de Fluxo de Caixa'!$B$14*'Parâmetros de Fluxo de Caixa'!$B$15*'Fluxo de Caixa Desc._premio'!J27,IF(I25=\"Operação\",'CAPEX e OPEX'!$G$53*'Fluxo de Caixa Desc._premio'!$B$3,\"\")))","v":5980.6760610354531},{"$f":"IF(J25=\"Construção\",0,IF(J25=\"Start-up\",('CAPEX e OPEX'!$G$53*'Fluxo de Caixa Desc._premio'!$B$3)*(1-'Parâmetros de Fluxo de Caixa'!$B$14)+'Parâmetros de Fluxo de Caixa'!$B$14*'Parâmetros de Fluxo de Caixa'!$B$15*'Fluxo de Caixa Desc._premio'!K27,IF(J25=\"Operação\",'CAPEX e OPEX'!$G$53*'Fluxo de Caixa Desc._premio'!$B$3,\"\")))","v":5980.6760610354531},{"$f":"IF(K25=\"Construção\",0,IF(K25=\"Start-up\",('CAPEX e OPEX'!$G$53*'Fluxo de Caixa Desc._premio'!$B$3)*(1-'Parâmetros de Fluxo de Caixa'!$B$14)+'Parâmetros de Fluxo de Caixa'!$B$14*'Parâmetros de Fluxo de Caixa'!$B$15*'Fluxo de Caixa Desc._premio'!L27,IF(K25=\"Operação\",'CAPEX e OPEX'!$G$53*'Fluxo de Caixa Desc._premio'!$B$3,\"\")))","v":5980.6760610354531},{"$f":"IF(L25=\"Construção\",0,IF(L25=\"Start-up\",('CAPEX e OPEX'!$G$53*'Fluxo de Caixa Desc._premio'!$B$3)*(1-'Parâmetros de Fluxo de Caixa'!$B$14)+'Parâmetros de Fluxo de Caixa'!$B$14*'Parâmetros de Fluxo de Caixa'!$B$15*'Fluxo de Caixa Desc._premio'!M27,IF(L25=\"Operação\",'CAPEX e OPEX'!$G$53*'Fluxo de Caixa Desc._premio'!$B$3,\"\")))","v":5980.6760610354531},{"$f":"IF(M25=\"Construção\",0,IF(M25=\"Start-up\",('CAPEX e OPEX'!$G$53*'Fluxo de Caixa Desc._premio'!$B$3)*(1-'Parâmetros de Fluxo de Caixa'!$B$14)+'Parâmetros de Fluxo de Caixa'!$B$14*'Parâmetros de Fluxo de Caixa'!$B$15*'Fluxo de Caixa Desc._premio'!N27,IF(M25=\"Operação\",'CAPEX e OPEX'!$G$53*'Fluxo de Caixa Desc._premio'!$B$3,\"\")))","v":5980.6760610354531},{"$f":"IF(N25=\"Construção\",0,IF(N25=\"Start-up\",('CAPEX e OPEX'!$G$53*'Fluxo de Caixa Desc._premio'!$B$3)*(1-'Parâmetros de Fluxo de Caixa'!$B$14)+'Parâmetros de Fluxo de Caixa'!$B$14*'Parâmetros de Fluxo de Caixa'!$B$15*'Fluxo de Caixa Desc._premio'!O27,IF(N25=\"Operação\",'CAPEX e OPEX'!$G$53*'Fluxo de Caixa Desc._premio'!$B$3,\"\")))","v":5980.6760610354531},{"$f":"IF(O25=\"Construção\",0,IF(O25=\"Start-up\",('CAPEX e OPEX'!$G$53*'Fluxo de Caixa Desc._premio'!$B$3)*(1-'Parâmetros de Fluxo de Caixa'!$B$14)+'Parâmetros de Fluxo de Caixa'!$B$14*'Parâmetros de Fluxo de Caixa'!$B$15*'Fluxo de Caixa Desc._premio'!P27,IF(O25=\"Operação\",'CAPEX e OPEX'!$G$53*'Fluxo de Caixa Desc._premio'!$B$3,\"\")))","v":5980.6760610354531},{"$f":"IF(P25=\"Construção\",0,IF(P25=\"Start-up\",('CAPEX e OPEX'!$G$53*'Fluxo de Caixa Desc._premio'!$B$3)*(1-'Parâmetros de Fluxo de Caixa'!$B$14)+'Parâmetros de Fluxo de Caixa'!$B$14*'Parâmetros de Fluxo de Caixa'!$B$15*'Fluxo de Caixa Desc._premio'!Q27,IF(P25=\"Operação\",'CAPEX e OPEX'!$G$53*'Fluxo de Caixa Desc._premio'!$B$3,\"\")))","v":5980.6760610354531},{"$f":"IF(Q25=\"Construção\",0,IF(Q25=\"Start-up\",('CAPEX e OPEX'!$G$53*'Fluxo de Caixa Desc._premio'!$B$3)*(1-'Parâmetros de Fluxo de Caixa'!$B$14)+'Parâmetros de Fluxo de Caixa'!$B$14*'Parâmetros de Fluxo de Caixa'!$B$15*'Fluxo de Caixa Desc._premio'!R27,IF(Q25=\"Operação\",'CAPEX e OPEX'!$G$53*'Fluxo de Caixa Desc._premio'!$B$3,\"\")))","v":5980.6760610354531},{"$f":"IF(R25=\"Construção\",0,IF(R25=\"Start-up\",('CAPEX e OPEX'!$G$53*'Fluxo de Caixa Desc._premio'!$B$3)*(1-'Parâmetros de Fluxo de Caixa'!$B$14)+'Parâmetros de Fluxo de Caixa'!$B$14*'Parâmetros de Fluxo de Caixa'!$B$15*'Fluxo de Caixa Desc._premio'!S27,IF(R25=\"Operação\",'CAPEX e OPEX'!$G$53*'Fluxo de Caixa Desc._premio'!$B$3,\"\")))","v":5980.6760610354531},{"$f":"IF(S25=\"Construção\",0,IF(S25=\"Start-up\",('CAPEX e OPEX'!$G$53*'Fluxo de Caixa Desc._premio'!$B$3)*(1-'Parâmetros de Fluxo de Caixa'!$B$14)+'Parâmetros de Fluxo de Caixa'!$B$14*'Parâmetros de Fluxo de Caixa'!$B$15*'Fluxo de Caixa Desc._premio'!T27,IF(S25=\"Operação\",'CAPEX e OPEX'!$G$53*'Fluxo de Caixa Desc._premio'!$B$3,\"\")))","v":5980.6760610354531},{"$f":"IF(T25=\"Construção\",0,IF(T25=\"Start-up\",('CAPEX e OPEX'!$G$53*'Fluxo de Caixa Desc._premio'!$B$3)*(1-'Parâmetros de Fluxo de Caixa'!$B$14)+'Parâmetros de Fluxo de Caixa'!$B$14*'Parâmetros de Fluxo de Caixa'!$B$15*'Fluxo de Caixa Desc._premio'!U27,IF(T25=\"Operação\",'CAPEX e OPEX'!$G$53*'Fluxo de Caixa Desc._premio'!$B$3,\"\")))","v":5980.6760610354531},{"$f":"IF(U25=\"Construção\",0,IF(U25=\"Start-up\",('CAPEX e OPEX'!$G$53*'Fluxo de Caixa Desc._premio'!$B$3)*(1-'Parâmetros de Fluxo de Caixa'!$B$14)+'Parâmetros de Fluxo de Caixa'!$B$14*'Parâmetros de Fluxo de Caixa'!$B$15*'Fluxo de Caixa Desc._premio'!V27,IF(U25=\"Operação\",'CAPEX e OPEX'!$G$53*'Fluxo de Caixa Desc._premio'!$B$3,\"\")))","v":5980.6760610354531},{"$f":"IF(V25=\"Construção\",0,IF(V25=\"Start-up\",('CAPEX e OPEX'!$G$53*'Fluxo de Caixa Desc._premio'!$B$3)*(1-'Parâmetros de Fluxo de Caixa'!$B$14)+'Parâmetros de Fluxo de Caixa'!$B$14*'Parâmetros de Fluxo de Caixa'!$B$15*'Fluxo de Caixa Desc._premio'!W27,IF(V25=\"Operação\",'CAPEX e OPEX'!$G$53*'Fluxo de Caixa Desc._premio'!$B$3,\"\")))","v":5980.6760610354531},{"$f":"IF(W25=\"Construção\",0,IF(W25=\"Start-up\",('CAPEX e OPEX'!$G$53*'Fluxo de Caixa Desc._premio'!$B$3)*(1-'Parâmetros de Fluxo de Caixa'!$B$14)+'Parâmetros de Fluxo de Caixa'!$B$14*'Parâmetros de Fluxo de Caixa'!$B$15*'Fluxo de Caixa Desc._premio'!X27,IF(W25=\"Operação\",'CAPEX e OPEX'!$G$53*'Fluxo de Caixa Desc._premio'!$B$3,\"\")))","v":5980.6760610354531},{"$f":"IF(X25=\"Construção\",0,IF(X25=\"Start-up\",('CAPEX e OPEX'!$G$53*'Fluxo de Caixa Desc._premio'!$B$3)*(1-'Parâmetros de Fluxo de Caixa'!$B$14)+'Parâmetros de Fluxo de Caixa'!$B$14*'Parâmetros de Fluxo de Caixa'!$B$15*'Fluxo de Caixa Desc._premio'!Y27,IF(X25=\"Operação\",'CAPEX e OPEX'!$G$53*'Fluxo de Caixa Desc._premio'!$B$3,\"\")))","v":5980.6760610354531},{"$f":"IF(Y25=\"Construção\",0,IF(Y25=\"Start-up\",('CAPEX e OPEX'!$G$53*'Fluxo de Caixa Desc._premio'!$B$3)*(1-'Parâmetros de Fluxo de Caixa'!$B$14)+'Parâmetros de Fluxo de Caixa'!$B$14*'Parâmetros de Fluxo de Caixa'!$B$15*'Fluxo de Caixa Desc._premio'!Z27,IF(Y25=\"Operação\",'CAPEX e OPEX'!$G$53*'Fluxo de Caixa Desc._premio'!$B$3,\"\")))","v":""},{"$f":"IF(Z25=\"Construção\",0,IF(Z25=\"Start-up\",('CAPEX e OPEX'!$G$53*'Fluxo de Caixa Desc._premio'!$B$3)*(1-'Parâmetros de Fluxo de Caixa'!$B$14)+'Parâmetros de Fluxo de Caixa'!$B$14*'Parâmetros de Fluxo de Caixa'!$B$15*'Fluxo de Caixa Desc._premio'!AA27,IF(Z25=\"Operação\",'CAPEX e OPEX'!$G$53*'Fluxo de Caixa Desc._premio'!$B$3,\"\")))","v":""},{"$f":"IF(AA25=\"Construção\",0,IF(AA25=\"Start-up\",('CAPEX e OPEX'!$G$53*'Fluxo de Caixa Desc._premio'!$B$3)*(1-'Parâmetros de Fluxo de Caixa'!$B$14)+'Parâmetros de Fluxo de Caixa'!$B$14*'Parâmetros de Fluxo de Caixa'!$B$15*'Fluxo de Caixa Desc._premio'!AB27,IF(AA25=\"Operação\",'CAPEX e OPEX'!$G$53*'Fluxo de Caixa Desc._premio'!$B$3,\"\")))","v":""},{"$f":"IF(AB25=\"Construção\",0,IF(AB25=\"Start-up\",('CAPEX e OPEX'!$G$53*'Fluxo de Caixa Desc._premio'!$B$3)*(1-'Parâmetros de Fluxo de Caixa'!$B$14)+'Parâmetros de Fluxo de Caixa'!$B$14*'Parâmetros de Fluxo de Caixa'!$B$15*'Fluxo de Caixa Desc._premio'!AC27,IF(AB25=\"Operação\",'CAPEX e OPEX'!$G$53*'Fluxo de Caixa Desc._premio'!$B$3,\"\")))","v":""},{"$f":"IF(AC25=\"Construção\",0,IF(AC25=\"Start-up\",('CAPEX e OPEX'!$G$53*'Fluxo de Caixa Desc._premio'!$B$3)*(1-'Parâmetros de Fluxo de Caixa'!$B$14)+'Parâmetros de Fluxo de Caixa'!$B$14*'Parâmetros de Fluxo de Caixa'!$B$15*'Fluxo de Caixa Desc._premio'!AD27,IF(AC25=\"Operação\",'CAPEX e OPEX'!$G$53*'Fluxo de Caixa Desc._premio'!$B$3,\"\")))","v":""},{"$f":"IF(AD25=\"Construção\",0,IF(AD25=\"Start-up\",('CAPEX e OPEX'!$G$53*'Fluxo de Caixa Desc._premio'!$B$3)*(1-'Parâmetros de Fluxo de Caixa'!$B$14)+'Parâmetros de Fluxo de Caixa'!$B$14*'Parâmetros de Fluxo de Caixa'!$B$15*'Fluxo de Caixa Desc._premio'!AE27,IF(AD25=\"Operação\",'CAPEX e OPEX'!$G$53*'Fluxo de Caixa Desc._premio'!$B$3,\"\")))","v":""},{"$f":"IF(AE25=\"Construção\",0,IF(AE25=\"Start-up\",('CAPEX e OPEX'!$G$53*'Fluxo de Caixa Desc._premio'!$B$3)*(1-'Parâmetros de Fluxo de Caixa'!$B$14)+'Parâmetros de Fluxo de Caixa'!$B$14*'Parâmetros de Fluxo de Caixa'!$B$15*'Fluxo de Caixa Desc._premio'!AF27,IF(AE25=\"Operação\",'CAPEX e OPEX'!$G$53*'Fluxo de Caixa Desc._premio'!$B$3,\"\")))","v":""},{"$f":"IF(AF25=\"Construção\",0,IF(AF25=\"Start-up\",('CAPEX e OPEX'!$G$53*'Fluxo de Caixa Desc._premio'!$B$3)*(1-'Parâmetros de Fluxo de Caixa'!$B$14)+'Parâmetros de Fluxo de Caixa'!$B$14*'Parâmetros de Fluxo de Caixa'!$B$15*'Fluxo de Caixa Desc._premio'!AG27,IF(AF25=\"Operação\",'CAPEX e OPEX'!$G$53*'Fluxo de Caixa Desc._premio'!$B$3,\"\")))","v":""},{"$f":"IF(AG25=\"Construção\",0,IF(AG25=\"Start-up\",('CAPEX e OPEX'!$G$53*'Fluxo de Caixa Desc._premio'!$B$3)*(1-'Parâmetros de Fluxo de Caixa'!$B$14)+'Parâmetros de Fluxo de Caixa'!$B$14*'Parâmetros de Fluxo de Caixa'!$B$15*'Fluxo de Caixa Desc._premio'!AH27,IF(AG25=\"Operação\",'CAPEX e OPEX'!$G$53*'Fluxo de Caixa Desc._premio'!$B$3,\"\")))","v":""},{"$f":"IF(AH25=\"Construção\",0,IF(AH25=\"Start-up\",('CAPEX e OPEX'!$G$53*'Fluxo de Caixa Desc._premio'!$B$3)*(1-'Parâmetros de Fluxo de Caixa'!$B$14)+'Parâmetros de Fluxo de Caixa'!$B$14*'Parâmetros de Fluxo de Caixa'!$B$15*'Fluxo de Caixa Desc._premio'!AI27,IF(AH25=\"Operação\",'CAPEX e OPEX'!$G$53*'Fluxo de Caixa Desc._premio'!$B$3,\"\")))","v":""},{"$f":"IF(AI25=\"Construção\",0,IF(AI25=\"Start-up\",('CAPEX e OPEX'!$G$53*'Fluxo de Caixa Desc._premio'!$B$3)*(1-'Parâmetros de Fluxo de Caixa'!$B$14)+'Parâmetros de Fluxo de Caixa'!$B$14*'Parâmetros de Fluxo de Caixa'!$B$15*'Fluxo de Caixa Desc._premio'!AJ27,IF(AI25=\"Operação\",'CAPEX e OPEX'!$G$53*'Fluxo de Caixa Desc._premio'!$B$3,\"\")))","v":""},{"$f":"IF(AJ25=\"Construção\",0,IF(AJ25=\"Start-up\",('CAPEX e OPEX'!$G$53*'Fluxo de Caixa Desc._premio'!$B$3)*(1-'Parâmetros de Fluxo de Caixa'!$B$14)+'Parâmetros de Fluxo de Caixa'!$B$14*'Parâmetros de Fluxo de Caixa'!$B$15*'Fluxo de Caixa Desc._premio'!AK27,IF(AJ25=\"Operação\",'CAPEX e OPEX'!$G$53*'Fluxo de Caixa Desc._premio'!$B$3,\"\")))","v":""},{"$f":"IF(AK25=\"Construção\",0,IF(AK25=\"Start-up\",('CAPEX e OPEX'!$G$53*'Fluxo de Caixa Desc._premio'!$B$3)*(1-'Parâmetros de Fluxo de Caixa'!$B$14)+'Parâmetros de Fluxo de Caixa'!$B$14*'Parâmetros de Fluxo de Caixa'!$B$15*'Fluxo de Caixa Desc._premio'!AL27,IF(AK25=\"Operação\",'CAPEX e OPEX'!$G$53*'Fluxo de Caixa Desc._premio'!$B$3,\"\")))","v":""},{"$f":"IF(AL25=\"Construção\",0,IF(AL25=\"Start-up\",('CAPEX e OPEX'!$G$53*'Fluxo de Caixa Desc._premio'!$B$3)*(1-'Parâmetros de Fluxo de Caixa'!$B$14)+'Parâmetros de Fluxo de Caixa'!$B$14*'Parâmetros de Fluxo de Caixa'!$B$15*'Fluxo de Caixa Desc._premio'!AM27,IF(AL25=\"Operação\",'CAPEX e OPEX'!$G$53*'Fluxo de Caixa Desc._premio'!$B$3,\"\")))","v":""},{"$f":"IF(AM25=\"Construção\",0,IF(AM25=\"Start-up\",('CAPEX e OPEX'!$G$53*'Fluxo de Caixa Desc._premio'!$B$3)*(1-'Parâmetros de Fluxo de Caixa'!$B$14)+'Parâmetros de Fluxo de Caixa'!$B$14*'Parâmetros de Fluxo de Caixa'!$B$15*'Fluxo de Caixa Desc._premio'!AN27,IF(AM25=\"Operação\",'CAPEX e OPEX'!$G$53*'Fluxo de Caixa Desc._premio'!$B$3,\"\")))","v":""},{"$f":"IF(AN25=\"Construção\",0,IF(AN25=\"Start-up\",('CAPEX e OPEX'!$G$53*'Fluxo de Caixa Desc._premio'!$B$3)*(1-'Parâmetros de Fluxo de Caixa'!$B$14)+'Parâmetros de Fluxo de Caixa'!$B$14*'Parâmetros de Fluxo de Caixa'!$B$15*'Fluxo de Caixa Desc._premio'!AO27,IF(AN25=\"Operação\",'CAPEX e OPEX'!$G$53*'Fluxo de Caixa Desc._premio'!$B$3,\"\")))","v":""},{"$f":"IF(AO25=\"Construção\",0,IF(AO25=\"Start-up\",('CAPEX e OPEX'!$G$53*'Fluxo de Caixa Desc._premio'!$B$3)*(1-'Parâmetros de Fluxo de Caixa'!$B$14)+'Parâmetros de Fluxo de Caixa'!$B$14*'Parâmetros de Fluxo de Caixa'!$B$15*'Fluxo de Caixa Desc._premio'!AP27,IF(AO25=\"Operação\",'CAPEX e OPEX'!$G$53*'Fluxo de Caixa Desc._premio'!$B$3,\"\")))","v":""},{"$f":"IF(AP25=\"Construção\",0,IF(AP25=\"Start-up\",('CAPEX e OPEX'!$G$53*'Fluxo de Caixa Desc._premio'!$B$3)*(1-'Parâmetros de Fluxo de Caixa'!$B$14)+'Parâmetros de Fluxo de Caixa'!$B$14*'Parâmetros de Fluxo de Caixa'!$B$15*'Fluxo de Caixa Desc._premio'!AQ27,IF(AP25=\"Operação\",'CAPEX e OPEX'!$G$53*'Fluxo de Caixa Desc._premio'!$B$3,\"\")))","v":""},{"$f":"IF(AQ25=\"Construção\",0,IF(AQ25=\"Start-up\",('CAPEX e OPEX'!$G$53*'Fluxo de Caixa Desc._premio'!$B$3)*(1-'Parâmetros de Fluxo de Caixa'!$B$14)+'Parâmetros de Fluxo de Caixa'!$B$14*'Parâmetros de Fluxo de Caixa'!$B$15*'Fluxo de Caixa Desc._premio'!AR27,IF(AQ25=\"Operação\",'CAPEX e OPEX'!$G$53*'Fluxo de Caixa Desc._premio'!$B$3,\"\")))","v":""},{"$f":"IF(AR25=\"Construção\",0,IF(AR25=\"Start-up\",('CAPEX e OPEX'!$G$53*'Fluxo de Caixa Desc._premio'!$B$3)*(1-'Parâmetros de Fluxo de Caixa'!$B$14)+'Parâmetros de Fluxo de Caixa'!$B$14*'Parâmetros de Fluxo de Caixa'!$B$15*'Fluxo de Caixa Desc._premio'!AS27,IF(AR25=\"Operação\",'CAPEX e OPEX'!$G$53*'Fluxo de Caixa Desc._premio'!$B$3,\"\")))","v":""},{"$f":"IF(AS25=\"Construção\",0,IF(AS25=\"Start-up\",('CAPEX e OPEX'!$G$53*'Fluxo de Caixa Desc._premio'!$B$3)*(1-'Parâmetros de Fluxo de Caixa'!$B$14)+'Parâmetros de Fluxo de Caixa'!$B$14*'Parâmetros de Fluxo de Caixa'!$B$15*'Fluxo de Caixa Desc._premio'!AT27,IF(AS25=\"Operação\",'CAPEX e OPEX'!$G$53*'Fluxo de Caixa Desc._premio'!$B$3,\"\")))","v":""},{"$f":"IF(AT25=\"Construção\",0,IF(AT25=\"Start-up\",('CAPEX e OPEX'!$G$53*'Fluxo de Caixa Desc._premio'!$B$3)*(1-'Parâmetros de Fluxo de Caixa'!$B$14)+'Parâmetros de Fluxo de Caixa'!$B$14*'Parâmetros de Fluxo de Caixa'!$B$15*'Fluxo de Caixa Desc._premio'!AU27,IF(AT25=\"Operação\",'CAPEX e OPEX'!$G$53*'Fluxo de Caixa Desc._premio'!$B$3,\"\")))","v":""},{"$f":"IF(AU25=\"Construção\",0,IF(AU25=\"Start-up\",('CAPEX e OPEX'!$G$53*'Fluxo de Caixa Desc._premio'!$B$3)*(1-'Parâmetros de Fluxo de Caixa'!$B$14)+'Parâmetros de Fluxo de Caixa'!$B$14*'Parâmetros de Fluxo de Caixa'!$B$15*'Fluxo de Caixa Desc._premio'!AV27,IF(AU25=\"Operação\",'CAPEX e OPEX'!$G$53*'Fluxo de Caixa Desc._premio'!$B$3,\"\")))","v":""},{"$f":"IF(AV25=\"Construção\",0,IF(AV25=\"Start-up\",('CAPEX e OPEX'!$G$53*'Fluxo de Caixa Desc._premio'!$B$3)*(1-'Parâmetros de Fluxo de Caixa'!$B$14)+'Parâmetros de Fluxo de Caixa'!$B$14*'Parâmetros de Fluxo de Caixa'!$B$15*'Fluxo de Caixa Desc._premio'!AW27,IF(AV25=\"Operação\",'CAPEX e OPEX'!$G$53*'Fluxo de Caixa Desc._premio'!$B$3,\"\")))","v":""}]
["OPEX variável (milhões R$ / ano)",{"$f":"IF(B25=\"Construção\",0,IF(B25=\"Start-up\",-('CAPEX e OPEX'!$C$52*'Fluxo de Caixa Desc._premio'!$B$3*(1-'Parâmetros de Fluxo de Caixa'!$B$14)+'Parâmetros de Fluxo de Caixa'!$B$14*'Parâmetros de Fluxo de Caixa'!$B$16*-'Fluxo de Caixa Desc._premio'!C28),IF(B25=\"Operação\",-('CAPEX e OPEX'!$C$52*'Fluxo de Caixa Desc._premio'!$B$3),\"\")))","v":0},{"$f":"IF(C25=\"Construção\",0,IF(C25=\"Start-up\",-('CAPEX e OPEX'!$C$52*'Fluxo de Caixa Desc._premio'!$B$3*(1-'Parâmetros de Fluxo de Caixa'!$B$14)+'Parâmetros de Fluxo de Caixa'!$B$14*'Parâmetros de Fluxo de Caixa'!$B$16*-'Fluxo de Caixa Desc._premio'!D28),IF(C25=\"Operação\",-('CAPEX e OPEX'!$C$52*'Fluxo de Caixa Desc._premio'!$B$3),\"\")))","v":0},{"$f":"IF(D25=\"Construção\",0,IF(D25=\"Start-up\",-('CAPEX e OPEX'!$C$52*'Fluxo de Caixa Desc._premio'!$B$3*(1-'Parâmetros de Fluxo de Caixa'!$B$14)+'Parâmetros de Fluxo de Caixa'!$B$14*'Parâmetros de Fluxo de Caixa'!$B$16*-'Fluxo de Caixa Desc._premio'!E28),IF(D25=\"Operação\",-('CAPEX e OPEX'!$C$52*'Fluxo de Caixa Desc._premio'!$B$3),\"\")))","v":0},{"$f":"IF(E25=\"Construção\",0,IF(E25=\"Start-up\",-('CAPEX e OPEX'!$C$52*'Fluxo de Caixa Desc._premio'!$B$3*(1-'Parâmetros de Fluxo de Caixa'!$B$14)+'Parâmetros de Fluxo de Caixa'!$B$14*'Parâmetros de Fluxo de Caixa'!$B$16*-'Fluxo de Caixa Desc._premio'!F28),IF(E25=\"Operação\",-('CAPEX e OPEX'!$C$52*'Fluxo de Caixa Desc._premio'!$B$3),\"\")))","v":-3790.6237697616061},{"$f":"IF(F25=\"Construção\",0,IF(F25=\"Start-up\",-('CAPEX e OPEX'!$C$52*'Fluxo de Caixa Desc._premio'!$B$3*(1-'Parâmetros de Fluxo de Caixa'!$B$14)+'Parâmetros de Fluxo de Caixa'!$B$14*'Parâmetros de Fluxo de Caixa'!$B$16*-'Fluxo de Caixa Desc._premio'!G28),IF(F25=\"Operação\",-('CAPEX e OPEX'!$C$52*'Fluxo de Caixa Desc._premio'!$B$3),\"\")))","v":-4332.1414511561215},{"$f":"IF(G25=\"Construção\",0,IF(G25=\"Start-up\",-('CAPEX e OPEX'!$C$52*'Fluxo de Caixa Desc._premio'!$B$3*(1-'Parâmetros de Fluxo de Caixa'!$B$14)+'Parâmetros de Fluxo de Caixa'!$B$14*'Parâmetros de Fluxo de Caixa'!$B$16*-'Fluxo de Caixa Desc._premio'!H28),IF(G25=\"Operação\",-('CAPEX e OPEX'!$C$52*'Fluxo de Caixa Desc._premio'!$B$3),\"\")))","v":-4332.1414511561215},{"$f":"IF(H25=\"Construção\",0,IF(H25=\"Start-up\",-('CAPEX e OPEX'!$C$52*'Fluxo de Caixa Desc._premio'!$B$3*(1-'Parâmetros de Fluxo de Caixa'!$B$14)+'Parâmetros de Fluxo de Caixa'!$B$14*'Parâmetros de Fluxo de Caixa'!$B$16*-'Fluxo de Caixa Desc._premio'!I28),IF(H25=\"Operação\",-('CAPEX e OPEX'!$C$52*'Fluxo de Caixa Desc._premio'!$B$3),\"\")))","v":-4332.1414511561215},{"$f":"IF(I25=\"Construção\",0,IF(I25=\"Start-up\",-('CAPEX e OPEX'!$C$52*'Fluxo de Caixa Desc._premio'!$B$3*(1-'Parâmetros de Fluxo de Caixa'!$B$14)+'Parâmetros de Fluxo de Caixa'!$B$14*'Parâmetros de Fluxo de Caixa'!$B$16*-'Fluxo de Caixa Desc._premio'!J28),IF(I25=\"Operação\",-('CAPEX e OPEX'!$C$52*'Fluxo de Caixa Desc._premio'!$B$3),\"\")))","v":-4332.1414511561215},{"$f":"IF(J25=\"Construção\",0,IF(J25=\"Start-up\",-('CAPEX e OPEX'!$C$52*'Fluxo de Caixa Desc._premio'!$B$3*(1-'Parâmetros de Fluxo de Caixa'!$B$14)+'Parâmetros de Fluxo de Caixa'!$B$14*'Parâmetros de Fluxo de Caixa'!$B$16*-'Fluxo de Caixa Desc._premio'!K28),IF(J25=\"Operação\",-('CAPEX e OPEX'!$C$52*'Fluxo de Caixa Desc._premio'!$B$3),\"\")))","v":-4332.1414511561215},{"$f":"IF(K25=\"Construção\",0,IF(K25=\"Start-up\",-('CAPEX e OPEX'!$C$52*'Fluxo de Caixa Desc._premio'!$B$3*(1-'Parâmetros de Fluxo de Caixa'!$B$14)+'Parâmetros de Fluxo de Caixa'!$B$14*'Parâmetros de Fluxo de Caixa'!$B$16*-'Fluxo de Caixa Desc._premio'!L28),IF(K25=\"Operação\",-('CAPEX e OPEX'!$C$52*'Fluxo de Caixa Desc._premio'!$B$3),\"\")))","v":-4332.1414511561215},{"$f":"IF(L25=\"Construção\",0,IF(L25=\"Start-up\",-('CAPEX e OPEX'!$C$52*'Fluxo de Caixa Desc._premio'!$B$3*(1-'Parâmetros de Fluxo de Caixa'!$B$14)+'Parâmetros de Fluxo de Caixa'!$B$14*'Parâmetros de Fluxo de Caixa'!$B$16*-'Fluxo de Caixa Desc._premio'!M28),IF(L25=\"Operação\",-('CAPEX e OPEX'!$C$52*'Fluxo de Caixa Desc._premio'!$B$3),\"\")))","v":-4332.1414511561215},{"$f":"IF(M25=\"Construção\",0,IF(M25=\"Start-up\",-('CAPEX e OPEX'!$C$52*'Fluxo de Caixa Desc._premio'!$B$3*(1-'Parâmetros de Fluxo de Caixa'!$B$14)+'Parâmetros de Fluxo de Caixa'!$B$14*'Parâmetros de Fluxo de Caixa'!$B$16*-'Fluxo de Caixa Desc._premio'!N28),IF(M25=\"Operação\",-('CAPEX e OPEX'!$C$52*'Fluxo de Caixa Desc._premio'!$B$3),\"\")))","v":-4332.1414511561215},{"$f":"IF(N25=\"Construção\",0,IF(N25=\"Start-up\",-('CAPEX e OPEX'!$C$52*'Fluxo de Caixa Desc._premio'!$B$3*(1-'Parâmetros de Fluxo de Caixa'!$B$14)+'Parâmetros de Fluxo de Caixa'!$B$14*'Parâmetros de Fluxo de Caixa'!$B$16*-'Fluxo de Caixa Desc._premio'!O28),IF(N25=\"Operação\",-('CAPEX e OPEX'!$C$52*'Fluxo de Caixa Desc._premio'!$B$3),\"\")))","v":-4332.1414511561215},{"$f":"IF(O25=\"Construção\",0,IF(O25=\"Start-up\",-('CAPEX e OPEX'!$C$52*'Fluxo de Caixa Desc._premio'!$B$3*(1-'Parâmetros de Fluxo de Caixa'!$B$14)+'Parâmetros de Fluxo de Caixa'!$B$14*'Parâmetros de Fluxo de Caixa'!$B$16*-'Fluxo de Caixa Desc._premio'!P28),IF(O25=\"Operação\",-('CAPEX e OPEX'!$C$52*'Fluxo de Caixa Desc._premio'!$B$3),\"\")))","v":-4332.1414511561215},{"$f":"IF(P25=\"Construção\",0,IF(P25=\"Start-up\",-('CAPEX e OPEX'!$C$52*'Fluxo de Caixa Desc._premio'!$B$3*(1-'Parâmetros de Fluxo de Caixa'!$B$14)+'Parâmetros de Fluxo de Caixa'!$B$14*'Parâmetros de Fluxo de Caixa'!$B$16*-'Fluxo de Caixa Desc._premio'!Q28),IF(P25=\"Operação\",-('CAPEX e OPEX'!$C$52*'Fluxo de Caixa Desc._premio'!$B$3),\"\")))","v":-4332.1414511561215},{"$f":"IF(Q25=\"Construção\",0,IF(Q25=\"Start-up\",-('CAPEX e OPEX'!$C$52*'Fluxo de Caixa Desc._premio'!$B$3*(1-'Parâmetros de Fluxo de Caixa'!$B$14)+'Parâmetros de Fluxo de Caixa'!$B$14*'Parâmetros de Fluxo de Caixa'!$B$16*-'Fluxo de Caixa Desc._premio'!R28),IF(Q25=\"Operação\",-('CAPEX e OPEX'!$C$52*'Fluxo de Caixa Desc._premio'!$B$3),\"\")))","v":-4332.1414511561215},{"$f":"IF(R25=\"Construção\",0,IF(R25=\"Start-up\",-('CAPEX e OPEX'!$C$52*'Fluxo de Caixa Desc._premio'!$B$3*(1-'Parâmetros de Fluxo de Caixa'!$B$14)+'Parâmetros de Fluxo de Caixa'!$B$14*'Parâmetros de Fluxo de Caixa'!$B$16*-'Fluxo de Caixa Desc._premio'!S28),IF(R25=\"Operação\",-('CAPEX e OPEX'!$C$52*'Fluxo de Caixa Desc._premio'!$B$3),\"\")))","v":-4332.1414511561215},{"$f":"IF(S25=\"Construção\",0,IF(S25=\"Start-up\",-('CAPEX e OPEX'!$C$52*'Fluxo de Caixa Desc._premio'!$B$3*(1-'Parâmetros de Fluxo de Caixa'!$B$14)+'Parâmetros de Fluxo de Caixa'!$B$14*'Parâmetros de Fluxo de Caixa'!$B$16*-'Fluxo de Caixa Desc._premio'!T28),IF(S25=\"Operação\",-('CAPEX e OPEX'!$C$52*'Fluxo de Caixa Desc._premio'!$B$3),\"\")))","v":-4332.1414511561215},{"$f":"IF(T25=\"Construção\",0,IF(T25=\"Start-up\",-('CAPEX e OPEX'!$C$52*'Fluxo de Caixa Desc._premio'!$B$3*(1-'Parâmetros de Fluxo de Caixa'!$B$14)+'Parâmetros de Fluxo de Caixa'!$B$14*'Parâmetros de Fluxo de Caixa'!$B$16*-'Fluxo de Caixa Desc._premio'!U28),IF(T25=\"Operação\",-('CAPEX e OPEX'!$C$52*'Fluxo de Caixa Desc._premio'!$B$3),\"\")))","v":-4332.1414511561215},{"$f":"IF(U25=\"Construção\",0,IF(U25=\"Start-up\",-('CAPEX e OPEX'!$C$52*'Fluxo de Caixa Desc._premio'!$B$3*(1-'Parâmetros de Fluxo de Caixa'!$B$14)+'Parâmetros de Fluxo de Caixa'!$B$14*'Parâmetros de Fluxo de Caixa'!$B$16*-'Fluxo de Caixa Desc._premio'!V28),IF(U25=\"Operação\",-('CAPEX e OPEX'!$C$52*'Fluxo de Caixa Desc._premio'!$B$3),\"\")))","v":-4332.1414511561215},{"$f":"IF(V25=\"Construção\",0,IF(V25=\"Start-up\",-('CAPEX e OPEX'!$C$52*'Fluxo de Caixa Desc._premio'!$B$3*(1-'Parâmetros de Fluxo de Caixa'!$B$14)+'Parâmetros de Fluxo de Caixa'!$B$14*'Parâmetros de Fluxo de Caixa'!$B$16*-'Fluxo de Caixa Desc._premio'!W28),IF(V25=\"Operação\",-('CAPEX e OPEX'!$C$52*'Fluxo de Caixa Desc._premio'!$B$3),\"\")))","v":-4332.1414511561215},{"$f":"IF(W25=\"Construção\",0,IF(W25=\"Start-up\",-('CAPEX e OPEX'!$C$52*'Fluxo de Caixa Desc._premio'!$B$3*(1-'Parâmetros de Fluxo de Caixa'!$B$14)+'Parâmetros de Fluxo de Caixa'!$B$14*'Parâmetros de Fluxo de Caixa'!$B$16*-'Fluxo de Caixa Desc._premio'!X28),IF(W25=\"Operação\",-('CAPEX e OPEX'!$C$52*'Fluxo de Caixa Desc._premio'!$B$3),\"\")))","v":-4332.1414511561215},{"$f":"IF(X25=\"Construção\",0,IF(X25=\"Start-up\",-('CAPEX e OPEX'!$C$52*'Fluxo de Caixa Desc._premio'!$B$3*(1-'Parâmetros de Fluxo de Caixa'!$B$14)+'Parâmetros de Fluxo de Caixa'!$B$14*'Parâmetros de Fluxo de Caixa'!$B$16*-'Fluxo de Caixa Desc._premio'!Y28),IF(X25=\"Operação\",-('CAPEX e OPEX'!$C$52*'Fluxo de Caixa Desc._premio'!$B$3),\"\")))","v":-4332.1414511561215},{"$f":"IF(Y25=\"Construção\",0,IF(Y25=\"Start-up\",-('CAPEX e OPEX'!$C$52*'Fluxo de Caixa Desc._premio'!$B$3*(1-'Parâmetros de Fluxo de Caixa'!$B$14)+'Parâmetros de Fluxo de Caixa'!$B$14*'Parâmetros de Fluxo de Caixa'!$B$16*-'Fluxo de Caixa Desc._premio'!Z28),IF(Y25=\"Operação\",-('CAPEX e OPEX'!$C$52*'Fluxo de Caixa Desc._premio'!$B$3),\"\")))","v":""},{"$f":"IF(Z25=\"Construção\",0,IF(Z25=\"Start-up\",-('CAPEX e OPEX'!$C$52*'Fluxo de Caixa Desc._premio'!$B$3*(1-'Parâmetros de Fluxo de Caixa'!$B$14)+'Parâmetros de Fluxo de Caixa'!$B$14*'Parâmetros de Fluxo de Caixa'!$B$16*-'Fluxo de Caixa Desc._premio'!AA28),IF(Z25=\"Operação\",-('CAPEX e OPEX'!$C$52*'Fluxo de Caixa Desc._premio'!$B$3),\"\")))","v":""},{"$f":"IF(AA25=\"Construção\",0,IF(AA25=\"Start-up\",-('CAPEX e OPEX'!$C$52*'Fluxo de Caixa Desc._premio'!$B$3*(1-'Parâmetros de Fluxo de Caixa'!$B$14)+'Parâmetros de Fluxo de Caixa'!$B$14*'Parâmetros de Fluxo de Caixa'!$B$16*-'Fluxo de Caixa Desc._premio'!AB28),IF(AA25=\"Operação\",-('CAPEX e OPEX'!$C$52*'Fluxo de Caixa Desc._premio'!$B$3),\"\")))","v":""},{"$f":"IF(AB25=\"Construção\",0,IF(AB25=\"Start-up\",-('CAPEX e OPEX'!$C$52*'Fluxo de Caixa Desc._premio'!$B$3*(1-'Parâmetros de Fluxo de Caixa'!$B$14)+'Parâmetros de Fluxo de Caixa'!$B$14*'Parâmetros de Fluxo de Caixa'!$B$16*-'Fluxo de Caixa Desc._premio'!AC28),IF(AB25=\"Operação\",-('CAPEX e OPEX'!$C$52*'Fluxo de Caixa Desc._premio'!$B$3),\"\")))","v":""},{"$f":"IF(AC25=\"Construção\",0,IF(AC25=\"Start-up\",-('CAPEX e OPEX'!$C$52*'Fluxo de Caixa Desc._premio'!$B$3*(1-'Parâmetros de Fluxo de Caixa'!$B$14)+'Parâmetros de Fluxo de Caixa'!$B$14*'Parâmetros de Fluxo de Caixa'!$B$16*-'Fluxo de Caixa Desc._premio'!AD28),IF(AC25=\"Operação\",-('CAPEX e OPEX'!$C$52*'Fluxo de Caixa Desc._premio'!$B$3),\"\")))","v":""},{"$f":"IF(AD25=\"Construção\",0,IF(AD25=\"Start-up\",-('CAPEX e OPEX'!$C$52*'Fluxo de Caixa Desc._premio'!$B$3*(1-'Parâmetros de Fluxo de Caixa'!$B$14)+'Parâmetros de Fluxo de Caixa'!$B$14*'Parâmetros de Fluxo de Caixa'!$B$16*-'Fluxo de Caixa Desc._premio'!AE28),IF(AD25=\"Operação\",-('CAPEX e OPEX'!$C$52*'Fluxo de Caixa Desc._premio'!$B$3),\"\")))","v":""},{"$f":"IF(AE25=\"Construção\",0,IF(AE25=\"Start-up\",-('CAPEX e OPEX'!$C$52*'Fluxo de Caixa Desc._premio'!$B$3*(1-'Parâmetros de Fluxo de Caixa'!$B$14)+'Parâmetros de Fluxo de Caixa'!$B$14*'Parâmetros de Fluxo de Caixa'!$B$16*-'Fluxo de Caixa Desc._premio'!AF28),IF(AE25=\"Operação\",-('CAPEX e OPEX'!$C$52*'Fluxo de Caixa Desc._premio'!$B$3),\"\")))","v":""},{"$f":"IF(AF25=\"Construção\",0,IF(AF25=\"Start-up\",-('CAPEX e OPEX'!$C$52*'Fluxo de Caixa Desc._premio'!$B$3*(1-'Parâmetros de Fluxo de Caixa'!$B$14)+'Parâmetros de Fluxo de Caixa'!$B$14*'Parâmetros de Fluxo de Caixa'!$B$16*-'Fluxo de Caixa Desc._premio'!AG28),IF(AF25=\"Operação\",-('CAPEX e OPEX'!$C$52*'Fluxo de Caixa Desc._premio'!$B$3),\"\")))","v":""},{"$f":"IF(AG25=\"Construção\",0,IF(AG25=\"Start-up\",-('CAPEX e OPEX'!$C$52*'Fluxo de Caixa Desc._premio'!$B$3*(1-'Parâmetros de Fluxo de Caixa'!$B$14)+'Parâmetros de Fluxo de Caixa'!$B$14*'Parâmetros de Fluxo de Caixa'!$B$16*-'Fluxo de Caixa Desc._premio'!AH28),IF(AG25=\"Operação\",-('CAPEX e OPEX'!$C$52*'Fluxo de Caixa Desc._premio'!$B$3),\"\")))","v":""},{"$f":"IF(AH25=\"Construção\",0,IF(AH25=\"Start-up\",-('CAPEX e OPEX'!$C$52*'Fluxo de Caixa Desc._premio'!$B$3*(1-'Parâmetros de Fluxo de Caixa'!$B$14)+'Parâmetros de Fluxo de Caixa'!$B$14*'Parâmetros de Fluxo de Caixa'!$B$16*-'Fluxo de Caixa Desc._premio'!AI28),IF(AH25=\"Operação\",-('CAPEX e OPEX'!$C$52*'Fluxo de Caixa Desc._premio'!$B$3),\"\")))","v":""},{"$f":"IF(AI25=\"Construção\",0,IF(AI25=\"Start-up\",-('CAPEX e OPEX'!$C$52*'Fluxo de Caixa Desc._premio'!$B$3*(1-'Parâmetros de Fluxo de Caixa'!$B$14)+'Parâmetros de Fluxo de Caixa'!$B$14*'Parâmetros de Fluxo de Caixa'!$B$16*-'Fluxo de Caixa Desc._premio'!AJ28),IF(AI25=\"Operação\",-('CAPEX e OPEX'!$C$52*'Fluxo de Caixa Desc._premio'!$B$3),\"\")))","v":""},{"$f":"IF(AJ25=\"Construção\",0,IF(AJ25=\"Start-up\",-('CAPEX e OPEX'!$C$52*'Fluxo de Caixa Desc._premio'!$B$3*(1-'Parâmetros de Fluxo de Caixa'!$B$14)+'Parâmetros de Fluxo de Caixa'!$B$14*'Parâmetros de Fluxo de Caixa'!$B$16*-'Fluxo de Caixa Desc._premio'!AK28),IF(AJ25=\"Operação\",-('CAPEX e OPEX'!$C$52*'Fluxo de Caixa Desc._premio'!$B$3),\"\")))","v":""},{"$f":"IF(AK25=\"Construção\",0,IF(AK25=\"Start-up\",-('CAPEX e OPEX'!$C$52*'Fluxo de Caixa Desc._premio'!$B$3*(1-'Parâmetros de Fluxo de Caixa'!$B$14)+'Parâmetros de Fluxo de Caixa'!$B$14*'Parâmetros de Fluxo de Caixa'!$B$16*-'Fluxo de Caixa Desc._premio'!AL28),IF(AK25=\"Operação\",-('CAPEX e OPEX'!$C$52*'Fluxo de Caixa Desc._premio'!$B$3),\"\")))","v":""},{"$f":"IF(AL25=\"Construção\",0,IF(AL25=\"Start-up\",-('CAPEX e OPEX'!$C$52*'Fluxo de Caixa Desc._premio'!$B$3*(1-'Parâmetros de Fluxo de Caixa'!$B$14)+'Parâmetros de Fluxo de Caixa'!$B$14*'Parâmetros de Fluxo de Caixa'!$B$16*-'Fluxo de Caixa Desc._premio'!AM28),IF(AL25=\"Operação\",-('CAPEX e OPEX'!$C$52*'Fluxo de Caixa Desc._premio'!$B$3),\"\")))","v":""},{"$f":"IF(AM25=\"Construção\",0,IF(AM25=\"Start-up\",-('CAPEX e OPEX'!$C$52*'Fluxo de Caixa Desc._premio'!$B$3*(1-'Parâmetros de Fluxo de Caixa'!$B$14)+'Parâmetros de Fluxo de Caixa'!$B$14*'Parâmetros de Fluxo de Caixa'!$B$16*-'Fluxo de Caixa Desc._premio'!AN28),IF(AM25=\"Operação\",-('CAPEX e OPEX'!$C$52*'Fluxo de Caixa Desc._premio'!$B$3),\"\")))","v":""},{"$f":"IF(AN25=\"Construção\",0,IF(AN25=\"Start-up\",-('CAPEX e OPEX'!$C$52*'Fluxo de Caixa Desc._premio'!$B$3*(1-'Parâmetros de Fluxo de Caixa'!$B$14)+'Parâmetros de Fluxo de Caixa'!$B$14*'Parâmetros de Fluxo de Caixa'!$B$16*-'Fluxo de Caixa Desc._premio'!AO28),IF(AN25=\"Operação\",-('CAPEX e OPEX'!$C$52*'Fluxo de Caixa Desc._premio'!$B$3),\"\")))","v":""},{"$f":"IF(AO25=\"Construção\",0,IF(AO25=\"Start-up\",-('CAPEX e OPEX'!$C$52*'Fluxo de Caixa Desc._premio'!$B$3*(1-'Parâmetros de Fluxo de Caixa'!$B$14)+'Parâmetros de Fluxo de Caixa'!$B$14*'Parâmetros de Fluxo de Caixa'!$B$16*-'Fluxo de Caixa Desc._premio'!AP28),IF(AO25=\"Operação\",-('CAPEX e OPEX'!$C$52*'Fluxo de Caixa Desc._premio'!$B$3),\"\")))","v":""},{"$f":"IF(AP25=\"Construção\",0,IF(AP25=\"Start-up\",-('CAPEX e OPEX'!$C$52*'Fluxo de Caixa Desc._premio'!$B$3*(1-'Parâmetros de Fluxo de Caixa'!$B$14)+'Parâmetros de Fluxo de Caixa'!$B$14*'Parâmetros de Fluxo de Caixa'!$B$16*-'Fluxo de Caixa Desc._premio'!AQ28),IF(AP25=\"Operação\",-('CAPEX e OPEX'!$C$52*'Fluxo de Caixa Desc._premio'!$B$3),\"\")))","v":""},{"$f":"IF(AQ25=\"Construção\",0,IF(AQ25=\"Start-up\",-('CAPEX e OPEX'!$C$52*'Fluxo de Caixa Desc._premio'!$B$3*(1-'Parâmetros de Fluxo de Caixa'!$B$14)+'Parâmetros de Fluxo de Caixa'!$B$14*'Parâmetros de Fluxo de Caixa'!$B$16*-'Fluxo de Caixa Desc._premio'!AR28),IF(AQ25=\"Operação\",-('CAPEX e OPEX'!$C$52*'Fluxo de Caixa Desc._premio'!$B$3),\"\")))","v":""},{"$f":"IF(AR25=\"Construção\",0,IF(AR25=\"Start-up\",-('CAPEX e OPEX'!$C$52*'Fluxo de Caixa Desc._premio'!$B$3*(1-'Parâmetros de Fluxo de Caixa'!$B$14)+'Parâmetros de Fluxo de Caixa'!$B$14*'Parâmetros de Fluxo de Caixa'!$B$16*-'Fluxo de Caixa Desc._premio'!AV28),IF(AR25=\"Operação\",-('CAPEX e OPEX'!$C$52*'Fluxo de Caixa Desc._premio'!$B$3),\"\")))","v":""},{"$f":"IF(AS25=\"Construção\",0,IF(AS25=\"Start-up\",-('CAPEX e OPEX'!$C$52*'Fluxo de Caixa Desc._premio'!$B$3*(1-'Parâmetros de Fluxo de Caixa'!$B$14)+'Parâmetros de Fluxo de Caixa'!$B$14*'Parâmetros de Fluxo de Caixa'!$B$16*-'Fluxo de Caixa Desc._premio'!AW28),IF(AS25=\"Operação\",-('CAPEX e OPEX'!$C$52*'Fluxo de Caixa Desc._premio'!$B$3),\"\")))","v":""},{"$f":"IF(AT25=\"Construção\",0,IF(AT25=\"Start-up\",-('CAPEX e OPEX'!$C$52*'Fluxo de Caixa Desc._premio'!$B$3*(1-'Parâmetros de Fluxo de Caixa'!$B$14)+'Parâmetros de Fluxo de Caixa'!$B$14*'Parâmetros de Fluxo de Caixa'!$B$16*-'Fluxo de Caixa Desc._premio'!AX28),IF(AT25=\"Operação\",-('CAPEX e OPEX'!$C$52*'Fluxo de Caixa Desc._premio'!$B$3),\"\")))","v":""},{"$f":"IF(AU25=\"Construção\",0,IF(AU25=\"Start-up\",-('CAPEX e OPEX'!$C$52*'Fluxo de Caixa Desc._premio'!$B$3*(1-'Parâmetros de Fluxo de Caixa'!$B$14)+'Parâmetros de Fluxo de Caixa'!$B$14*'Parâmetros de Fluxo de Caixa'!$B$16*-'Fluxo de Caixa Desc._premio'!AY28),IF(AU25=\"Operação\",-('CAPEX e OPEX'!$C$52*'Fluxo de Caixa Desc._premio'!$B$3),\"\")))","v":""},{"$f":"IF(AV25=\"Construção\",0,IF(AV25=\"Start-up\",-('CAPEX e OPEX'!$C$52*'Fluxo de Caixa Desc._premio'!$B$3*(1-'Parâmetros de Fluxo de Caixa'!$B$14)+'Parâmetros de Fluxo de Caixa'!$B$14*'Parâmetros de Fluxo de Caixa'!$B$16*-'Fluxo de Caixa Desc._premio'!AZ28),IF(AV25=\"Operação\",-('CAPEX e OPEX'!$C$52*'Fluxo de Caixa Desc._premio'!$B$3),\"\")))","v":""}]
["OPEX fixo (milhões R$ / ano)",{"$f":"IF(B25=\"Construção\",0,IF(B25=\"Start-up\",-('CAPEX e OPEX'!$C$58*'Fluxo de Caixa Desc._premio'!$B$3*(1-'Parâmetros de Fluxo de Caixa'!$B$14)+'Parâmetros de Fluxo de Caixa'!$B$14*'Parâmetros de Fluxo de Caixa'!$B$17*(-'Fluxo de Caixa Desc._premio'!C29)),IF(B25=\"Operação\",-'CAPEX e OPEX'!$C$58*'Fluxo de Caixa Desc._premio'!$B$3,\"\")))","v":0},{"$f":"IF(C25=\"Construção\",0,IF(C25=\"Start-up\",-('CAPEX e OPEX'!$C$58*'Fluxo de Caixa Desc._premio'!$B$3*(1-'Parâmetros de Fluxo de Caixa'!$B$14)+'Parâmetros de Fluxo de Caixa'!$B$14*'Parâmetros de Fluxo de Caixa'!$B$17*(-'Fluxo de Caixa Desc._premio'!D29)),IF(C25=\"Operação\",-'CAPEX e OPEX'!$C$58*'Fluxo de Caixa Desc._premio'!$B$3,\"\")))","v":0},{"$f":"IF(D25=\"Construção\",0,IF(D25=\"Start-up\",-('CAPEX e OPEX'!$C$58*'Fluxo de Caixa Desc._premio'!$B$3*(1-'Parâmetros de Fluxo de Caixa'!$B$14)+'Parâmetros de Fluxo de Caixa'!$B$14*'Parâmetros de Fluxo de Caixa'!$B$17*(-'Fluxo de Caixa Desc._premio'!E29)),IF(D25=\"Operação\",-'CAPEX e OPEX'!$C$58*'Fluxo de Caixa Desc._premio'!$B$3,\"\")))","v":0},{"$f":"IF(E25=\"Construção\",0,IF(E25=\"Start-up\",-('CAPEX e OPEX'!$C$58*'Fluxo de Caixa Desc._premio'!$B$3*(1-'Parâmetros de Fluxo de Caixa'!$B$14)+'Parâmetros de Fluxo de Caixa'!$B$14*'Parâmetros de Fluxo de Caixa'!$B$17*(-'Fluxo de Caixa Desc._premio'!F29)),IF(E25=\"Operação\",-'CAPEX e OPEX'!$C$58*'Fluxo de Caixa Desc._premio'!$B$3,\"\")))","v":-302.85592140179114},{"$f":"IF(F25=\"Construção\",0,IF(F25=\"Start-up\",-('CAPEX e OPEX'!$C$58*'Fluxo de Caixa Desc._premio'!$B$3*(1-'Parâmetros de Fluxo de Caixa'!$B$14)+'Parâmetros de Fluxo de Caixa'!$B$14*'Parâmetros de Fluxo de Caixa'!$B$17*(-'Fluxo de Caixa Desc._premio'!G29)),IF(F25=\"Operação\",-'CAPEX e OPEX'!$C$58*'Fluxo de Caixa Desc._premio'!$B$3,\"\")))","v":-302.85592140179114},{"$f":"IF(G25=\"Construção\",0,IF(G25=\"Start-up\",-('CAPEX e OPEX'!$C$58*'Fluxo de Caixa Desc._premio'!$B$3*(1-'Parâmetros de Fluxo de Caixa'!$B$14)+'Parâmetros de Fluxo de Caixa'!$B$14*'Parâmetros de Fluxo de Caixa'!$B$17*(-'Fluxo de Caixa Desc._premio'!H29)),IF(G25=\"Operação\",-'CAPEX e OPEX'!$C$58*'Fluxo de Caixa Desc._premio'!$B$3,\"\")))","v":-302.85592140179114},{"$f":"IF(H25=\"Construção\",0,IF(H25=\"Start-up\",-('CAPEX e OPEX'!$C$58*'Fluxo de Caixa Desc._premio'!$B$3*(1-'Parâmetros de Fluxo de Caixa'!$B$14)+'Parâmetros de Fluxo de Caixa'!$B$14*'Parâmetros de Fluxo de Caixa'!$B$17*(-'Fluxo de Caixa Desc._premio'!I29)),IF(H25=\"Operação\",-'CAPEX e OPEX'!$C$58*'Fluxo de Caixa Desc._premio'!$B$3,\"\")))","v":-302.85592140179114},{"$f":"IF(I25=\"Construção\",0,IF(I25=\"Start-up\",-('CAPEX e OPEX'!$C$58*'Fluxo de Caixa Desc._premio'!$B$3*(1-'Parâmetros de Fluxo de Caixa'!$B$14)+'Parâmetros de Fluxo de Caixa'!$B$14*'Parâmetros de Fluxo de Caixa'!$B$17*(-'Fluxo de Caixa Desc._premio'!J29)),IF(I25=\"Operação\",-'CAPEX e OPEX'!$C$58*'Fluxo de Caixa Desc._premio'!$B$3,\"\")))","v":-302.85592140179114},{"$f":"IF(J25=\"Construção\",0,IF(J25=\"Start-up\",-('CAPEX e OPEX'!$C$58*'Fluxo de Caixa Desc._premio'!$B$3*(1-'Parâmetros de Fluxo de Caixa'!$B$14)+'Parâmetros de Fluxo de Caixa'!$B$14*'Parâmetros de Fluxo de Caixa'!$B$17*(-'Fluxo de Caixa Desc._premio'!K29)),IF(J25=\"Operação\",-'CAPEX e OPEX'!$C$58*'Fluxo de Caixa Desc._premio'!$B$3,\"\")))","v":-302.85592140179114},{"$f":"IF(K25=\"Construção\",0,IF(K25=\"Start-up\",-('CAPEX e OPEX'!$C$58*'Fluxo de Caixa Desc._premio'!$B$3*(1-'Parâmetros de Fluxo de Caixa'!$B$14)+'Parâmetros de Fluxo de Caixa'!$B$14*'Parâmetros de Fluxo de Caixa'!$B$17*(-'Fluxo de Caixa Desc._premio'!L29)),IF(K25=\"Operação\",-'CAPEX e OPEX'!$C$58*'Fluxo de Caixa Desc._premio'!$B$3,\"\")))","v":-302.85592140179114},{"$f":"IF(L25=\"Construção\",0,IF(L25=\"Start-up\",-('CAPEX e OPEX'!$C$58*'Fluxo de Caixa Desc._premio'!$B$3*(1-'Parâmetros de Fluxo de Caixa'!$B$14)+'Parâmetros de Fluxo de Caixa'!$B$14*'Parâmetros de Fluxo de Caixa'!$B$17*(-'Fluxo de Caixa Desc._premio'!M29)),IF(L25=\"Operação\",-'CAPEX e OPEX'!$C$58*'Fluxo de Caixa Desc._premio'!$B$3,\"\")))","v":-302.85592140179114},{"$f":"IF(M25=\"Construção\",0,IF(M25=\"Start-up\",-('CAPEX e OPEX'!$C$58*'Fluxo de Caixa Desc._premio'!$B$3*(1-'Parâmetros de Fluxo de Caixa'!$B$14)+'Parâmetros de Fluxo de Caixa'!$B$14*'Parâmetros de Fluxo de Caixa'!$B$17*(-'Fluxo de Caixa Desc._premio'!N29)),IF(M25=\"Operação\",-'CAPEX e OPEX'!$C$58*'Fluxo de Caixa Desc._premio'!$B$3,\"\")))","v":-302.85592140179114},{"$f":"IF(N25=\"Construção\",0,IF(N25=\"Start-up\",-('CAPEX e OPEX'!$C$58*'Fluxo de Caixa Desc._premio'!$B$3*(1-'Parâmetros de Fluxo de Caixa'!$B$14)+'Parâmetros de Fluxo de Caixa'!$B$14*'Parâmetros de Fluxo de Caixa'!$B$17*(-'Fluxo de Caixa Desc._premio'!O29)),IF(N25=\"Operação\",-'CAPEX e OPEX'!$C$58*'Fluxo de Caixa Desc._premio'!$B$3,\"\")))","v":-302.85592140179114},{"$f":"IF(O25=\"Construção\",0,IF(O25=\"Start-up\",-('CAPEX e OPEX'!$C$58*'Fluxo de Caixa Desc._premio'!$B$3*(1-'Parâmetros de Fluxo de Caixa'!$B$14)+'Parâmetros de Fluxo de Caixa'!$B$14*'Parâmetros de Fluxo de Caixa'!$B$17*(-'Fluxo de Caixa Desc._premio'!P29)),IF(O25=\"Operação\",-'CAPEX e OPEX'!$C$58*'Fluxo de Caixa Desc._premio'!$B$3,\"\")))","v":-302.85592140179114},{"$f":"IF(P25=\"Construção\",0,IF(P25=\"Start-up\",-('CAPEX e OPEX'!$C$58*'Fluxo de Caixa Desc._premio'!$B$3*(1-'Parâmetros de Fluxo de Caixa'!$B$14)+'Parâmetros de Fluxo de Caixa'!$B$14*'Parâmetros de Fluxo de Caixa'!$B$17*(-'Fluxo de Caixa Desc._premio'!Q29)),IF(P25=\"Operação\",-'CAPEX e OPEX'!$C$58*'Fluxo de Caixa Desc._premio'!$B$3,\"\")))","v":-302.85592140179114},{"$f":"IF(Q25=\"Construção\",0,IF(Q25=\"Start-up\",-('CAPEX e OPEX'!$C$58*'Fluxo de Caixa Desc._premio'!$B$3*(1-'Parâmetros de Fluxo de Caixa'!$B$14)+'Parâmetros de Fluxo de Caixa'!$B$14*'Parâmetros de Fluxo de Caixa'!$B$17*(-'Fluxo de Caixa Desc._premio'!R29)),IF(Q25=\"Operação\",-'CAPEX e OPEX'!$C$58*'Fluxo de Caixa Desc._premio'!$B$3,\"\")))","v":-302.85592140179114},{"$f":"IF(R25=\"Construção\",0,IF(R25=\"Start-up\",-('CAPEX e OPEX'!$C$58*'Fluxo de Caixa Desc._premio'!$B$3*(1-'Parâmetros de Fluxo de Caixa'!$B$14)+'Parâmetros de Fluxo de Caixa'!$B$14*'Parâmetros de Fluxo de Caixa'!$B$17*(-'Fluxo de Caixa Desc._premio'!S29)),IF(R25=\"Operação\",-'CAPEX e OPEX'!$C$58*'Fluxo de Caixa Desc._premio'!$B$3,\"\")))","v":-302.85592140179114},{"$f":"IF(S25=\"Construção\",0,IF(S25=\"Start-up\",-('CAPEX e OPEX'!$C$58*'Fluxo de Caixa Desc._premio'!$B$3*(1-'Parâmetros de Fluxo de Caixa'!$B$14)+'Parâmetros de Fluxo de Caixa'!$B$14*'Parâmetros de Fluxo de Caixa'!$B$17*(-'Fluxo de Caixa Desc._premio'!T29)),IF(S25=\"Operação\",-'CAPEX e OPEX'!$C$58*'Fluxo de Caixa Desc._premio'!$B$3,\"\")))","v":-302.85592140179114},{"$f":"IF(T25=\"Construção\",0,IF(T25=\"Start-up\",-('CAPEX e OPEX'!$C$58*'Fluxo de Caixa Desc._premio'!$B$3*(1-'Parâmetros de Fluxo de Caixa'!$B$14)+'Parâmetros de Fluxo de Caixa'!$B$14*'Parâmetros de Fluxo de Caixa'!$B$17*(-'Fluxo de Caixa Desc._premio'!U29)),IF(T25=\"Operação\",-'CAPEX e OPEX'!$C$58*'Fluxo de Caixa Desc._premio'!$B$3,\"\")))","v":-302.85592140179114},{"$f":"IF(U25=\"Construção\",0,IF(U25=\"Start-up\",-('CAPEX e OPEX'!$C$58*'Fluxo de Caixa Desc._premio'!$B$3*(1-'Parâmetros de Fluxo de Caixa'!$B$14)+'Parâmetros de Fluxo de Caixa'!$B$14*'Parâmetros de Fluxo de Caixa'!$B$17*(-'Fluxo de Caixa Desc._premio'!V29)),IF(U25=\"Operação\",-'CAPEX e OPEX'!$C$58*'Fluxo de Caixa Desc._premio'!$B$3,\"\")))","v":-302.85592140179114},{"$f":"IF(V25=\"Construção\",0,IF(V25=\"Start-up\",-('CAPEX e OPEX'!$C$58*'Fluxo de Caixa Desc._premio'!$B$3*(1-'Parâmetros de Fluxo de Caixa'!$B$14)+'Parâmetros de Fluxo de Caixa'!$B$14*'Parâmetros de Fluxo de Caixa'!$B$17*(-'Fluxo de Caixa Desc._premio'!W29)),IF(V25=\"Operação\",-'CAPEX e OPEX'!$C$58*'Fluxo de Caixa Desc._premio'!$B$3,\"\")))","v":-302.85592140179114},{"$f":"IF(W25=\"Construção\",0,IF(W25=\"Start-up\",-('CAPEX e OPEX'!$C$58*'Fluxo de Caixa Desc._premio'!$B$3*(1-'Parâmetros de Fluxo de Caixa'!$B$14)+'Parâmetros de Fluxo de Caixa'!$B$14*'Parâmetros de Fluxo de Caixa'!$B$17*(-'Fluxo de Caixa Desc._premio'!X29)),IF(W25=\"Operação\",-'CAPEX e OPEX'!$C$58*'Fluxo de Caixa Desc._premio'!$B$3,\"\")))","v":-302.85592140179114},{"$f":"IF(X25=\"Construção\",0,IF(X25=\"Start-up\",-('CAPEX e OPEX'!$C$58*'Fluxo de Caixa Desc._premio'!$B$3*(1-'Parâmetros de Fluxo de Caixa'!$B$14)+'Parâmetros de Fluxo de Caixa'!$B$14*'Parâmetros de Fluxo de Caixa'!$B$17*(-'Fluxo de Caixa Desc._premio'!Y29)),IF(X25=\"Operação\",-'CAPEX e OPEX'!$C$58*'Fluxo de Caixa Desc._premio'!$B$3,\"\")))","v":-302.85592140179114},{"$f":"IF(Y25=\"Construção\",0,IF(Y25=\"Start-up\",-('CAPEX e OPEX'!$C$58*'Fluxo de Caixa Desc._premio'!$B$3*(1-'Parâmetros de Fluxo de Caixa'!$B$14)+'Parâmetros de Fluxo de Caixa'!$B$14*'Parâmetros de Fluxo de Caixa'!$B$17*(-'Fluxo de Caixa Desc._premio'!Z29)),IF(Y25=\"Operação\",-'CAPEX e OPEX'!$C$58*'Fluxo de Caixa Desc._premio'!$B$3,\"\")))","v":""},{"$f":"IF(Z25=\"Construção\",0,IF(Z25=\"Start-up\",-('CAPEX e OPEX'!$C$58*'Fluxo de Caixa Desc._premio'!$B$3*(1-'Parâmetros de Fluxo de Caixa'!$B$14)+'Parâmetros de Fluxo de Caixa'!$B$14*'Parâmetros de Fluxo de Caixa'!$B$17*(-'Fluxo de Caixa Desc._premio'!AA29)),IF(Z25=\"Operação\",-'CAPEX e OPEX'!$C$58*'Fluxo de Caixa Desc._premio'!$B$3,\"\")))","v":""},{"$f":"IF(AA25=\"Construção\",0,IF(AA25=\"Start-up\",-('CAPEX e OPEX'!$C$58*'Fluxo de Caixa Desc._premio'!$B$3*(1-'Parâmetros de Fluxo de Caixa'!$B$14)+'Parâmetros de Fluxo de Caixa'!$B$14*'Parâmetros de Fluxo de Caixa'!$B$17*(-'Fluxo de Caixa Desc._premio'!AB29)),IF(AA25=\"Operação\",-'CAPEX e OPEX'!$C$58*'Fluxo de Caixa Desc._premio'!$B$3,\"\")))","v":""},{"$f":"IF(AB25=\"Construção\",0,IF(AB25=\"Start-up\",-('CAPEX e OPEX'!$C$58*'Fluxo de Caixa Desc._premio'!$B$3*(1-'Parâmetros de Fluxo de Caixa'!$B$14)+'Parâmetros de Fluxo de Caixa'!$B$14*'Parâmetros de Fluxo de Caixa'!$B$17*(-'Fluxo de Caixa Desc._premio'!AC29)),IF(AB25=\"Operação\",-'CAPEX e OPEX'!$C$58*'Fluxo de Caixa Desc._premio'!$B$3,\"\")))","v":""},{"$f":"IF(AC25=\"Construção\",0,IF(AC25=\"Start-up\",-('CAPEX e OPEX'!$C$58*'Fluxo de Caixa Desc._premio'!$B$3*(1-'Parâmetros de Fluxo de Caixa'!$B$14)+'Parâmetros de Fluxo de Caixa'!$B$14*'Parâmetros de Fluxo de Caixa'!$B$17*(-'Fluxo de Caixa Desc._premio'!AD29)),IF(AC25=\"Operação\",-'CAPEX e OPEX'!$C$58*'Fluxo de Caixa Desc._premio'!$B$3,\"\")))","v":""},{"$f":"IF(AD25=\"Construção\",0,IF(AD25=\"Start-up\",-('CAPEX e OPEX'!$C$58*'Fluxo de Caixa Desc._premio'!$B$3*(1-'Parâmetros de Fluxo de Caixa'!$B$14)+'Parâmetros de Fluxo de Caixa'!$B$14*'Parâmetros de Fluxo de Caixa'!$B$17*(-'Fluxo de Caixa Desc._premio'!AE29)),IF(AD25=\"Operação\",-'CAPEX e OPEX'!$C$58*'Fluxo de Caixa Desc._premio'!$B$3,\"\")))","v":""},{"$f":"IF(AE25=\"Construção\",0,IF(AE25=\"Start-up\",-('CAPEX e OPEX'!$C$58*'Fluxo de Caixa Desc._premio'!$B$3*(1-'Parâmetros de Fluxo de Caixa'!$B$14)+'Parâmetros de Fluxo de Caixa'!$B$14*'Parâmetros de Fluxo de Caixa'!$B$17*(-'Fluxo de Caixa Desc._premio'!AF29)),IF(AE25=\"Operação\",-'CAPEX e OPEX'!$C$58*'Fluxo de Caixa Desc._premio'!$B$3,\"\")))","v":""},{"$f":"IF(AF25=\"Construção\",0,IF(AF25=\"Start-up\",-('CAPEX e OPEX'!$C$58*'Fluxo de Caixa Desc._premio'!$B$3*(1-'Parâmetros de Fluxo de Caixa'!$B$14)+'Parâmetros de Fluxo de Caixa'!$B$14*'Parâmetros de Fluxo de Caixa'!$B$17*(-'Fluxo de Caixa Desc._premio'!AG29)),IF(AF25=\"Operação\",-'CAPEX e OPEX'!$C$58*'Fluxo de Caixa Desc._premio'!$B$3,\"\")))","v":""},{"$f":"IF(AG25=\"Construção\",0,IF(AG25=\"Start-up\",-('CAPEX e OPEX'!$C$58*'Fluxo de Caixa Desc._premio'!$B$3*(1-'Parâmetros de Fluxo de Caixa'!$B$14)+'Parâmetros de Fluxo de Caixa'!$B$14*'Parâmetros de Fluxo de Caixa'!$B$17*(-'Fluxo de Caixa Desc._premio'!AH29)),IF(AG25=\"Operação\",-'CAPEX e OPEX'!$C$58*'Fluxo de Caixa Desc._premio'!$B$3,\"\")))","v":""},{"$f":"IF(AH25=\"Construção\",0,IF(AH25=\"Start-up\",-('CAPEX e OPEX'!$C$58*'Fluxo de Caixa Desc._premio'!$B$3*(1-'Parâmetros de Fluxo de Caixa'!$B$14)+'Parâmetros de Fluxo de Caixa'!$B$14*'Parâmetros de Fluxo de Caixa'!$B$17*(-'Fluxo de Caixa Desc._premio'!AI29)),IF(AH25=\"Operação\",-'CAPEX e OPEX'!$C$58*'Fluxo de Caixa Desc._premio'!$B$3,\"\")))","v":""},{"$f":"IF(AI25=\"Construção\",0,IF(AI25=\"Start-up\",-('CAPEX e OPEX'!$C$58*'Fluxo de Caixa Desc._premio'!$B$3*(1-'Parâmetros de Fluxo de Caixa'!$B$14)+'Parâmetros de Fluxo de Caixa'!$B$14*'Parâmetros de Fluxo de Caixa'!$B$17*(-'Fluxo de Caixa Desc._premio'!AJ29)),IF(AI25=\"Operação\",-'CAPEX e OPEX'!$C$58*'Fluxo de Caixa Desc._premio'!$B$3,\"\")))","v":""},{"$f":"IF(AJ25=\"Construção\",0,IF(AJ25=\"Start-up\",-('CAPEX e OPEX'!$C$58*'Fluxo de Caixa Desc._premio'!$B$3*(1-'Parâmetros de Fluxo de Caixa'!$B$14)+'Parâmetros de Fluxo de Caixa'!$B$14*'Parâmetros de Fluxo de Caixa'!$B$17*(-'Fluxo de Caixa Desc._premio'!AK29)),IF(AJ25=\"Operação\",-'CAPEX e OPEX'!$C$58*'Fluxo de Caixa Desc._premio'!$B$3,\"\")))","v":""},{"$f":"IF(AK25=\"Construção\",0,IF(AK25=\"Start-up\",-('CAPEX e OPEX'!$C$58*'Fluxo de Caixa Desc._premio'!$B$3*(1-'Parâmetros de Fluxo de Caixa'!$B$14)+'Parâmetros de Fluxo de Caixa'!$B$14*'Parâmetros de Fluxo de Caixa'!$B$17*(-'Fluxo de Caixa Desc._premio'!AL29)),IF(AK25=\"Operação\",-'CAPEX e OPEX'!$C$58*'Fluxo de Caixa Desc._premio'!$B$3,\"\")))","v":""},{"$f":"IF(AL25=\"Construção\",0,IF(AL25=\"Start-up\",-('CAPEX e OPEX'!$C$58*'Fluxo de Caixa Desc._premio'!$B$3*(1-'Parâmetros de Fluxo de Caixa'!$B$14)+'Parâmetros de Fluxo de Caixa'!$B$14*'Parâmetros de Fluxo de Caixa'!$B$17*(-'Fluxo de Caixa Desc._premio'!AM29)),IF(AL25=\"Operação\",-'CAPEX e OPEX'!$C$58*'Fluxo de Caixa Desc._premio'!$B$3,\"\")))","v":""},{"$f":"IF(AM25=\"Construção\",0,IF(AM25=\"Start-up\",-('CAPEX e OPEX'!$C$58*'Fluxo de Caixa Desc._premio'!$B$3*(1-'Parâmetros de Fluxo de Caixa'!$B$14)+'Parâmetros de Fluxo de Caixa'!$B$14*'Parâmetros de Fluxo de Caixa'!$B$17*(-'Fluxo de Caixa Desc._premio'!AN29)),IF(AM25=\"Operação\",-'CAPEX e OPEX'!$C$58*'Fluxo de Caixa Desc._premio'!$B$3,\"\")))","v":""},{"$f":"IF(AN25=\"Construção\",0,IF(AN25=\"Start-up\",-('CAPEX e OPEX'!$C$58*'Fluxo de Caixa Desc._premio'!$B$3*(1-'Parâmetros de Fluxo de Caixa'!$B$14)+'Parâmetros de Fluxo de Caixa'!$B$14*'Parâmetros de Fluxo de Caixa'!$B$17*(-'Fluxo de Caixa Desc._premio'!AO29)),IF(AN25=\"Operação\",-'CAPEX e OPEX'!$C$58*'Fluxo de Caixa Desc._premio'!$B$3,\"\")))","v":""},{"$f":"IF(AO25=\"Construção\",0,IF(AO25=\"Start-up\",-('CAPEX e OPEX'!$C$58*'Fluxo de Caixa Desc._premio'!$B$3*(1-'Parâmetros de Fluxo de Caixa'!$B$14)+'Parâmetros de Fluxo de Caixa'!$B$14*'Parâmetros de Fluxo de Caixa'!$B$17*(-'Fluxo de Caixa Desc._premio'!AP29)),IF(AO25=\"Operação\",-'CAPEX e OPEX'!$C$58*'Fluxo de Caixa Desc._premio'!$B$3,\"\")))","v":""},{"$f":"IF(AP25=\"Construção\",0,IF(AP25=\"Start-up\",-('CAPEX e OPEX'!$C$58*'Fluxo de Caixa Desc._premio'!$B$3*(1-'Parâmetros de Fluxo de Caixa'!$B$14)+'Parâmetros de Fluxo de Caixa'!$B$14*'Parâmetros de Fluxo de Caixa'!$B$17*(-'Fluxo de Caixa Desc._premio'!AQ29)),IF(AP25=\"Operação\",-'CAPEX e OPEX'!$C$58*'Fluxo de Caixa Desc._premio'!$B$3,\"\")))","v":""},{"$f":"IF(AQ25=\"Construção\",0,IF(AQ25=\"Start-up\",-('CAPEX e OPEX'!$C$58*'Fluxo de Caixa Desc._premio'!$B$3*(1-'Parâmetros de Fluxo de Caixa'!$B$14)+'Parâmetros de Fluxo de Caixa'!$B$14*'Parâmetros de Fluxo de Caixa'!$B$17*(-'Fluxo de Caixa Desc._premio'!AR29)),IF(AQ25=\"Operação\",-'CAPEX e OPEX'!$C$58*'Fluxo de Caixa Desc._premio'!$B$3,\"\")))","v":""},{"$f":"IF(AR25=\"Construção\",0,IF(AR25=\"Start-up\",-('CAPEX e OPEX'!$C$58*'Fluxo de Caixa Desc._premio'!$B$3*(1-'Parâmetros de Fluxo de Caixa'!$B$14)+'Parâmetros de Fluxo de Caixa'!$B$14*'Parâmetros de Fluxo de Caixa'!$B$17*(-'Fluxo de Caixa Desc._premio'!AV29)),IF(AR25=\"Operação\",-'CAPEX e OPEX'!$C$58*'Fluxo de Caixa Desc._premio'!$B$3,\"\")))","v":""},{"$f":"IF(AS25=\"Construção\",0,IF(AS25=\"Start-up\",-('CAPEX e OPEX'!$C$58*'Fluxo de Caixa Desc._premio'!$B$3*(1-'Parâmetros de Fluxo de Caixa'!$B$14)+'Parâmetros de Fluxo de Caixa'!$B$14*'Parâmetros de Fluxo de Caixa'!$B$17*(-'Fluxo de Caixa Desc._premio'!AW29)),IF(AS25=\"Operação\",-'CAPEX e OPEX'!$C$58*'Fluxo de Caixa Desc._premio'!$B$3,\"\")))","v":""},{"$f":"IF(AT25=\"Construção\",0,IF(AT25=\"Start-up\",-('CAPEX e OPEX'!$C$58*'Fluxo de Caixa Desc._premio'!$B$3*(1-'Parâmetros de Fluxo de Caixa'!$B$14)+'Parâmetros de Fluxo de Caixa'!$B$14*'Parâmetros de Fluxo de Caixa'!$B$17*(-'Fluxo de Caixa Desc._premio'!AX29)),IF(AT25=\"Operação\",-'CAPEX e OPEX'!$C$58*'Fluxo de Caixa Desc._premio'!$B$3,\"\")))","v":""},{"$f":"IF(AU25=\"Construção\",0,IF(AU25=\"Start-up\",-('CAPEX e OPEX'!$C$58*'Fluxo de Caixa Desc._premio'!$B$3*(1-'Parâmetros de Fluxo de Caixa'!$B$14)+'Parâmetros de Fluxo de Caixa'!$B$14*'Parâmetros de Fluxo de Caixa'!$B$17*(-'Fluxo de Caixa Desc._premio'!AY29)),IF(AU25=\"Operação\",-'CAPEX e OPEX'!$C$58*'Fluxo de Caixa Desc._premio'!$B$3,\"\")))","v":""},{"$f":"IF(AV25=\"Construção\",0,IF(AV25=\"Start-up\",-('CAPEX e OPEX'!$C$58*'Fluxo de Caixa Desc._premio'!$B$3*(1-'Parâmetros de Fluxo de Caixa'!$B$14)+'Parâmetros de Fluxo de Caixa'!$B$14*'Parâmetros de Fluxo de Caixa'!$B$17*(-'Fluxo de Caixa Desc._premio'!AZ29)),IF(AV25=\"Operação\",-'CAPEX e OPEX'!$C$58*'Fluxo de Caixa Desc._premio'!$B$3,\"\")))","v":""}]
["Custo de Capital Equity (milhões R$ / ano)",{"$f":"IF(B25=\"Construção\",-('Parâmetros de Fluxo de Caixa'!$B$6*'Parâmetros de Fluxo de Caixa'!$B$23*'CAPEX e OPEX'!C3/10^6),0)","v":-149.09829976703563},{"$f":"IF(C25=\"Construção\",-('Parâmetros de Fluxo de Caixa'!$B$7*'Parâmetros de Fluxo de Caixa'!$B$23*'CAPEX e OPEX'!C3/10^6),0)","v":-1118.2372482527674},{"$f":"IF(D25=\"Construção\",-('Parâmetros de Fluxo de Caixa'!$B$8*'Parâmetros de Fluxo de Caixa'!$B$23*'CAPEX e OPEX'!C3/10^6),0)","v":-596.39319906814251},{"$f":"IF(E25=\"Construção\",-('Parâmetros de Fluxo de Caixa'!$B$9*'Parâmetros de Fluxo de Caixa'!$B$23*'CAPEX e OPEX'!C3/10^6),0)","v":0},{"$f":"IF(F25=\"Construção\",-('Parâmetros de Fluxo de Caixa'!$B$10*'Parâmetros de Fluxo de Caixa'!$B$23*'CAPEX e OPEX'!C3/10^6),0)","v":0},{"$f":"IF(G25=\"Start-up\",0,IF(G25=\"Operação\",0,\"\"))","v":0},0,0,0,0,0,0,0,0,0,0,0,0,0,0,0,0,0,"","","","","","","","","","","","","","","","","","","","","","","",""]
["Custo de Capital Financiado (milhões R$ / ano)",{"$f":"IF(B25=\"Construção\",-('Parâmetros de Fluxo de Caixa'!$B$6*'Parâmetros de Fluxo de Caixa'!$B$18*'CAPEX e OPEX'!C3/10^6),0)","v":-223.64744965055345},{"$f":"IF(C25=\"Construção\",-('Parâmetros de Fluxo de Caixa'!$B$7*'Parâmetros de Fluxo de Caixa'!$B$18*'CAPEX e OPEX'!C3/10^6),0)","v":-1677.3558723791509},{"$f":"IF(D25=\"Construção\",-('Parâmetros de Fluxo de Caixa'!$B$8*'Parâmetros de Fluxo de Caixa'!$B$18*'CAPEX e OPEX'!C3/10^6),0)","v":-894.58979860221382},{"$f":"IF(E25=\"Construção\",-('Parâmetros de Fluxo de Caixa'!$B$9*'Parâmetros de Fluxo de Caixa'!$B$18*'CAPEX e OPEX'!C3/10^6),0)","v":0},{"$f":"IF(F25=\"Construção\",-('Parâmetros de Fluxo de Caixa'!$B$10*'Parâmetros de Fluxo de Caixa'!$B$18*'CAPEX e OPEX'!C3/10^6),0)","v":0},{"$f":"IF(G25=\"Start-up\",0,IF(G25=\"Operação\",0,\"\"))","v":0},0,0,0,0,0,0,0,0,0,0,0,0,0,0,0,0,0,"","","","","","","","","","","","","","","","","","","","","","","",""]
["Depreciação",{"$f":"IF(B25=\"Construção\",0,IF(B24>'Parâmetros de Fluxo de Caixa'!$B$12,\"\",IF(B24<='Parâmetros de Fluxo de Caixa'!$B$26+'Parâmetros de Fluxo de Caixa'!$B$3+'Parâmetros de Fluxo de Caixa'!$B$4/12,-(SUM($B$30:$D$31)-SUM($B$30:$D$31)*'Parâmetros de Fluxo de Caixa'!$B$27)/'Parâmetros de Fluxo de Caixa'!$B$26,0)))","v":0},{"$f":"IF(C25=\"Construção\",0,IF(C24>'Parâmetros de Fluxo de Caixa'!$B$12,\"\",IF(C24<='Parâmetros de Fluxo de Caixa'!$B$26+'Parâmetros de Fluxo de Caixa'!$B$3+'Parâmetros de Fluxo de Caixa'!$B$4/12,-(SUM($B$30:$D$31)-SUM($B$30:$D$31)*'Parâmetros de Fluxo de Caixa'!$B$27)/'Parâmetros de Fluxo de Caixa'!$B$26,0)))","v":0},{"$f":"IF(D25=\"Construção\",0,IF(D24>'Parâmetros de Fluxo de Caixa'!$B$12,\"\",IF(D24<='Parâmetros de Fluxo de Caixa'!$B$26+'Parâmetros de Fluxo de Caixa'!$B$3+'Parâmetros de Fluxo de Caixa'!$B$4/12,-(SUM($B$30:$D$31)-SUM($B$30:$D$31)*'Parâmetros de Fluxo de Caixa'!$B$27)/'Parâmetros de Fluxo de Caixa'!$B$26,0)))","v":0},{"$f":"IF(E25=\"Construção\",0,IF(E24>'Parâmetros de Fluxo de Caixa'!$B$12,\"\",IF(E24<='Parâmetros de Fluxo de Caixa'!$B$26+'Parâmetros de Fluxo de Caixa'!$B$3+'Parâmetros de Fluxo de Caixa'!$B$4/12,-(SUM($B$30:$D$31)-SUM($B$30:$D$31)*'Parâmetros de Fluxo de Caixa'!$B$27)/'Parâmetros de Fluxo de Caixa'!$B$26,0)))","v":465.93218677198638},{"$f":"IF(F25=\"Construção\",0,IF(F24>'Parâmetros de Fluxo de Caixa'!$B$12,\"\",IF(F24<='Parâmetros de Fluxo de Caixa'!$B$26+'Parâmetros de Fluxo de Caixa'!$B$3+'Parâmetros de Fluxo de Caixa'!$B$4/12,-(SUM($B$30:$D$31)-SUM($B$30:$D$31)*'Parâmetros de Fluxo de Caixa'!$B$27)/'Parâmetros de Fluxo de Caixa'!$B$26,0)))","v":465.93218677198638},{"$f":"IF(G25=\"Construção\",0,IF(G24>'Parâmetros de Fluxo de Caixa'!$B$12,\"\",IF(G24<='Parâmetros de Fluxo de Caixa'!$B$26+'Parâmetros de Fluxo de Caixa'!$B$3+'Parâmetros de Fluxo de Caixa'!$B$4/12,-(SUM($B$30:$D$31)-SUM($B$30:$D$31)*'Parâmetros de Fluxo de Caixa'!$B$27)/'Parâmetros de Fluxo de Caixa'!$B$26,0)))","v":465.93218677198638},{"$f":"IF(H25=\"Construção\",0,IF(H24>'Parâmetros de Fluxo de Caixa'!$B$12,\"\",IF(H24<='Parâmetros de Fluxo de Caixa'!$B$26+'Parâmetros de Fluxo de Caixa'!$B$3+'Parâmetros de Fluxo de Caixa'!$B$4/12,-(SUM($B$30:$D$31)-SUM($B$30:$D$31)*'Parâmetros de Fluxo de Caixa'!$B$27)/'Parâmetros de Fluxo de Caixa'!$B$26,0)))","v":465.93218677198638},{"$f":"IF(I25=\"Construção\",0,IF(I24>'Parâmetros de Fluxo de Caixa'!$B$12,\"\",IF(I24<='Parâmetros de Fluxo de Caixa'!$B$26+'Parâmetros de Fluxo de Caixa'!$B$3+'Parâmetros de Fluxo de Caixa'!$B$4/12,-(SUM($B$30:$D$31)-SUM($B$30:$D$31)*'Parâmetros de Fluxo de Caixa'!$B$27)/'Parâmetros de Fluxo de Caixa'!$B$26,0)))","v":465.93218677198638},{"$f":"IF(J25=\"Construção\",0,IF(J24>'Parâmetros de Fluxo de Caixa'!$B$12,\"\",IF(J24<='Parâmetros de Fluxo de Caixa'!$B$26+'Parâmetros de Fluxo de Caixa'!$B$3+'Parâmetros de Fluxo de Caixa'!$B$4/12,-(SUM($B$30:$D$31)-SUM($B$30:$D$31)*'Parâmetros de Fluxo de Caixa'!$B$27)/'Parâmetros de Fluxo de Caixa'!$B$26,0)))","v":465.93218677198638},{"$f":"IF(K25=\"Construção\",0,IF(K24>'Parâmetros de Fluxo de Caixa'!$B$12,\"\",IF(K24<='Parâmetros de Fluxo de Caixa'!$B$26+'Parâmetros de Fluxo de Caixa'!$B$3+'Parâmetros de Fluxo de Caixa'!$B$4/12,-(SUM($B$30:$D$31)-SUM($B$30:$D$31)*'Parâmetros de Fluxo de Caixa'!$B$27)/'Parâmetros de Fluxo de Caixa'!$B$26,0)))","v":465.93218677198638},{"$f":"IF(L25=\"Construção\",0,IF(L24>'Parâmetros de Fluxo de Caixa'!$B$12,\"\",IF(L24<='Parâmetros de Fluxo de Caixa'!$B$26+'Parâmetros de Fluxo de Caixa'!$B$3+'Parâmetros de Fluxo de Caixa'!$B$4/12,-(SUM($B$30:$D$31)-SUM($B$30:$D$31)*'Parâmetros de Fluxo de Caixa'!$B$27)/'Parâmetros de Fluxo de Caixa'!$B$26,0)))","v":465.93218677198638},{"$f":"IF(M25=\"Construção\",0,IF(M24>'Parâmetros de Fluxo de Caixa'!$B$12,\"\",IF(M24<='Parâmetros de Fluxo de Caixa'!$B$26+'Parâmetros de Fluxo de Caixa'!$B$3+'Parâmetros de Fluxo de Caixa'!$B$4/12,-(SUM($B$30:$D$31)-SUM($B$30:$D$31)*'Parâmetros de Fluxo de Caixa'!$B$27)/'Parâmetros de Fluxo de Caixa'!$B$26,0)))","v":465.93218677198638},{"$f":"IF(N25=\"Construção\",0,IF(N24>'Parâmetros de Fluxo de Caixa'!$B$12,\"\",IF(N24<='Parâmetros de Fluxo de Caixa'!$B$26+'Parâmetros de Fluxo de Caixa'!$B$3+'Parâmetros de Fluxo de Caixa'!$B$4/12,-(SUM($B$30:$D$31)-SUM($B$30:$D$31)*'Parâmetros de Fluxo de Caixa'!$B$27)/'Parâmetros de Fluxo de Caixa'!$B$26,0)))","v":465.93218677198638},{"$f":"IF(O25=\"Construção\",0,IF(O24>'Parâmetros de Fluxo de Caixa'!$B$12,\"\",IF(O24<='Parâmetros de Fluxo de Caixa'!$B$26+'Parâmetros de Fluxo de Caixa'!$B$3+'Parâmetros de Fluxo de Caixa'!$B$4/12,-(SUM($B$30:$D$31)-SUM($B$30:$D$31)*'Parâmetros de Fluxo de Caixa'!$B$27)/'Parâmetros de Fluxo de Caixa'!$B$26,0)))","v":0},{"$f":"IF(P25=\"Construção\",0,IF(P24>'Parâmetros de Fluxo de Caixa'!$B$12,\"\",IF(P24<='Parâmetros de Fluxo de Caixa'!$B$26+'Parâmetros de Fluxo de Caixa'!$B$3+'Parâmetros de Fluxo de Caixa'!$B$4/12,-(SUM($B$30:$D$31)-SUM($B$30:$D$31)*'Parâmetros de Fluxo de Caixa'!$B$27)/'Parâmetros de Fluxo de Caixa'!$B$26,0)))","v":0},{"$f":"IF(Q25=\"Construção\",0,IF(Q24>'Parâmetros de Fluxo de Caixa'!$B$12,\"\",IF(Q24<='Parâmetros de Fluxo de Caixa'!$B$26+'Parâmetros de Fluxo de Caixa'!$B$3+'Parâmetros de Fluxo de Caixa'!$B$4/12,-(SUM($B$30:$D$31)-SUM($B$30:$D$31)*'Parâmetros de Fluxo de Caixa'!$B$27)/'Parâmetros de Fluxo de Caixa'!$B$26,0)))","v":0},{"$f":"IF(R25=\"Construção\",0,IF(R24>'Parâmetros de Fluxo de Caixa'!$B$12,\"\",IF(R24<='Parâmetros de Fluxo de Caixa'!$B$26+'Parâmetros de Fluxo de Caixa'!$B$3+'Parâmetros de Fluxo de Caixa'!$B$4/12,-(SUM($B$30:$D$31)-SUM($B$30:$D$31)*'Parâmetros de Fluxo de Caixa'!$B$27)/'Parâmetros de Fluxo de Caixa'!$B$26,0)))","v":0},{"$f":"IF(S25=\"Construção\",0,IF(S24>'Parâmetros de Fluxo de Caixa'!$B$12,\"\",IF(S24<='Parâmetros de Fluxo de Caixa'!$B$26+'Parâmetros de Fluxo de Caixa'!$B$3+'Parâmetros de Fluxo de Caixa'!$B$4/12,-(SUM($B$30:$D$31)-SUM($B$30:$D$31)*'Parâmetros de Fluxo de Caixa'!$B$27)/'Parâmetros de Fluxo de Caixa'!$B$26,0)))","v":0},{"$f":"IF(T25=\"Construção\",0,IF(T24>'Parâmetros de Fluxo de Caixa'!$B$12,\"\",IF(T24<='Parâmetros de Fluxo de Caixa'!$B$26+'Parâmetros de Fluxo de Caixa'!$B$3+'Parâmetros de Fluxo de Caixa'!$B$4/12,-(SUM($B$30:$D$31)-SUM($B$30:$D$31)*'Parâmetros de Fluxo de Caixa'!$B$27)/'Parâmetros de Fluxo de Caixa'!$B$26,0)))","v":0},{"$f":"IF(U25=\"Construção\",0,IF(U24>'Parâmetros de Fluxo de Caixa'!$B$12,\"\",IF(U24<='Parâmetros de Fluxo de Caixa'!$B$26+'Parâmetros de Fluxo de Caixa'!$B$3+'Parâmetros de Fluxo de Caixa'!$B$4/12,-(SUM($B$30:$D$31)-SUM($B$30:$D$31)*'Parâmetros de Fluxo de Caixa'!$B$27)/'Parâmetros de Fluxo de Caixa'!$B$26,0)))","v":0},{"$f":"IF(V25=\"Construção\",0,IF(V24>'Parâmetros de Fluxo de Caixa'!$B$12,\"\",IF(V24<='Parâmetros de Fluxo de Caixa'!$B$26+'Parâmetros de Fluxo de Caixa'!$B$3+'Parâmetros de Fluxo de Caixa'!$B$4/12,-(SUM($B$30:$D$31)-SUM($B$30:$D$31)*'Parâmetros de Fluxo de Caixa'!$B$27)/'Parâmetros de Fluxo de Caixa'!$B$26,0)))","v":0},{"$f":"IF(W25=\"Construção\",0,IF(W24>'Parâmetros de Fluxo de Caixa'!$B$12,\"\",IF(W24<='Parâmetros de Fluxo de Caixa'!$B$26+'Parâmetros de Fluxo de Caixa'!$B$3+'Parâmetros de Fluxo de Caixa'!$B$4/12,-(SUM($B$30:$D$31)-SUM($B$30:$D$31)*'Parâmetros de Fluxo de Caixa'!$B$27)/'Parâmetros de Fluxo de Caixa'!$B$26,0)))","v":0},{"$f":"IF(X25=\"Construção\",0,IF(X24>'Parâmetros de Fluxo de Caixa'!$B$12,\"\",IF(X24<='Parâmetros de Fluxo de Caixa'!$B$26+'Parâmetros de Fluxo de Caixa'!$B$3+'Parâmetros de Fluxo de Caixa'!$B$4/12,-(SUM($B$30:$D$31)-SUM($B$30:$D$31)*'Parâmetros de Fluxo de Caixa'!$B$27)/'Parâmetros de Fluxo de Caixa'!$B$26,0)))","v":0},{"$f":"IF(Y25=\"Construção\",0,IF(Y24>'Parâmetros de Fluxo de Caixa'!$B$12,\"\",IF(Y24<='Parâmetros de Fluxo de Caixa'!$B$26+'Parâmetros de Fluxo de Caixa'!$B$3+'Parâmetros de Fluxo de Caixa'!$B$4/12,-(SUM($B$30:$D$31)-SUM($B$30:$D$31)*'Parâmetros de Fluxo de Caixa'!$B$27)/'Parâmetros de Fluxo de Caixa'!$B$26,0)))","v":""},{"$f":"IF(Z25=\"Construção\",0,IF(Z24>'Parâmetros de Fluxo de Caixa'!$B$12,\"\",IF(Z24<='Parâmetros de Fluxo de Caixa'!$B$26+'Parâmetros de Fluxo de Caixa'!$B$3+'Parâmetros de Fluxo de Caixa'!$B$4/12,-(SUM($B$30:$D$31)-SUM($B$30:$D$31)*'Parâmetros de Fluxo de Caixa'!$B$27)/'Parâmetros de Fluxo de Caixa'!$B$26,0)))","v":""},{"$f":"IF(AA25=\"Construção\",0,IF(AA24>'Parâmetros de Fluxo de Caixa'!$B$12,\"\",IF(AA24<='Parâmetros de Fluxo de Caixa'!$B$26+'Parâmetros de Fluxo de Caixa'!$B$3+'Parâmetros de Fluxo de Caixa'!$B$4/12,-(SUM($B$30:$D$31)-SUM($B$30:$D$31)*'Parâmetros de Fluxo de Caixa'!$B$27)/'Parâmetros de Fluxo de Caixa'!$B$26,0)))","v":""},{"$f":"IF(AB25=\"Construção\",0,IF(AB24>'Parâmetros de Fluxo de Caixa'!$B$12,\"\",IF(AB24<='Parâmetros de Fluxo de Caixa'!$B$26+'Parâmetros de Fluxo de Caixa'!$B$3+'Parâmetros de Fluxo de Caixa'!$B$4/12,-(SUM($B$30:$D$31)-SUM($B$30:$D$31)*'Parâmetros de Fluxo de Caixa'!$B$27)/'Parâmetros de Fluxo de Caixa'!$B$26,0)))","v":""},{"$f":"IF(AC25=\"Construção\",0,IF(AC24>'Parâmetros de Fluxo de Caixa'!$B$12,\"\",IF(AC24<='Parâmetros de Fluxo de Caixa'!$B$26+'Parâmetros de Fluxo de Caixa'!$B$3+'Parâmetros de Fluxo de Caixa'!$B$4/12,-(SUM($B$30:$D$31)-SUM($B$30:$D$31)*'Parâmetros de Fluxo de Caixa'!$B$27)/'Parâmetros de Fluxo de Caixa'!$B$26,0)))","v":""},{"$f":"IF(AD25=\"Construção\",0,IF(AD24>'Parâmetros de Fluxo de Caixa'!$B$12,\"\",IF(AD24<='Parâmetros de Fluxo de Caixa'!$B$26+'Parâmetros de Fluxo de Caixa'!$B$3+'Parâmetros de Fluxo de Caixa'!$B$4/12,-(SUM($B$30:$D$31)-SUM($B$30:$D$31)*'Parâmetros de Fluxo de Caixa'!$B$27)/'Parâmetros de Fluxo de Caixa'!$B$26,0)))","v":""},{"$f":"IF(AE25=\"Construção\",0,IF(AE24>'Parâmetros de Fluxo de Caixa'!$B$12,\"\",IF(AE24<='Parâmetros de Fluxo de Caixa'!$B$26+'Parâmetros de Fluxo de Caixa'!$B$3+'Parâmetros de Fluxo de Caixa'!$B$4/12,-(SUM($B$30:$D$31)-SUM($B$30:$D$31)*'Parâmetros de Fluxo de Caixa'!$B$27)/'Parâmetros de Fluxo de Caixa'!$B$26,0)))","v":""},{"$f":"IF(AF25=\"Construção\",0,IF(AF24>'Parâmetros de Fluxo de Caixa'!$B$12,\"\",IF(AF24<='Parâmetros de Fluxo de Caixa'!$B$26+'Parâmetros de Fluxo de Caixa'!$B$3+'Parâmetros de Fluxo de Caixa'!$B$4/12,-(SUM($B$30:$D$31)-SUM($B$30:$D$31)*'Parâmetros de Fluxo de Caixa'!$B$27)/'Parâmetros de Fluxo de Caixa'!$B$26,0)))","v":""},{"$f":"IF(AG25=\"Construção\",0,IF(AG24>'Parâmetros de Fluxo de Caixa'!$B$12,\"\",IF(AG24<='Parâmetros de Fluxo de Caixa'!$B$26+'Parâmetros de Fluxo de Caixa'!$B$3+'Parâmetros de Fluxo de Caixa'!$B$4/12,-(SUM($B$30:$D$31)-SUM($B$30:$D$31)*'Parâmetros de Fluxo de Caixa'!$B$27)/'Parâmetros de Fluxo de Caixa'!$B$26,0)))","v":""},{"$f":"IF(AH25=\"Construção\",0,IF(AH24>'Parâmetros de Fluxo de Caixa'!$B$12,\"\",IF(AH24<='Parâmetros de Fluxo de Caixa'!$B$26+'Parâmetros de Fluxo de Caixa'!$B$3+'Parâmetros de Fluxo de Caixa'!$B$4/12,-(SUM($B$30:$D$31)-SUM($B$30:$D$31)*'Parâmetros de Fluxo de Caixa'!$B$27)/'Parâmetros de Fluxo de Caixa'!$B$26,0)))","v":""},{"$f":"IF(AI25=\"Construção\",0,IF(AI24>'Parâmetros de Fluxo de Caixa'!$B$12,\"\",IF(AI24<='Parâmetros de Fluxo de Caixa'!$B$26+'Parâmetros de Fluxo de Caixa'!$B$3+'Parâmetros de Fluxo de Caixa'!$B$4/12,-(SUM($B$30:$D$31)-SUM($B$30:$D$31)*'Parâmetros de Fluxo de Caixa'!$B$27)/'Parâmetros de Fluxo de Caixa'!$B$26,0)))","v":""},{"$f":"IF(AJ25=\"Construção\",0,IF(AJ24>'Parâmetros de Fluxo de Caixa'!$B$12,\"\",IF(AJ24<='Parâmetros de Fluxo de Caixa'!$B$26+'Parâmetros de Fluxo de Caixa'!$B$3+'Parâmetros de Fluxo de Caixa'!$B$4/12,-(SUM($B$30:$D$31)-SUM($B$30:$D$31)*'Parâmetros de Fluxo de Caixa'!$B$27)/'Parâmetros de Fluxo de Caixa'!$B$26,0)))","v":""},{"$f":"IF(AK25=\"Construção\",0,IF(AK24>'Parâmetros de Fluxo de Caixa'!$B$12,\"\",IF(AK24<='Parâmetros de Fluxo de Caixa'!$B$26+'Parâmetros de Fluxo de Caixa'!$B$3+'Parâmetros de Fluxo de Caixa'!$B$4/12,-(SUM($B$30:$D$31)-SUM($B$30:$D$31)*'Parâmetros de Fluxo de Caixa'!$B$27)/'Parâmetros de Fluxo de Caixa'!$B$26,0)))","v":""},{"$f":"IF(AL25=\"Construção\",0,IF(AL24>'Parâmetros de Fluxo de Caixa'!$B$12,\"\",IF(AL24<='Parâmetros de Fluxo de Caixa'!$B$26+'Parâmetros de Fluxo de Caixa'!$B$3+'Parâmetros de Fluxo de Caixa'!$B$4/12,-(SUM($B$30:$D$31)-SUM($B$30:$D$31)*'Parâmetros de Fluxo de Caixa'!$B$27)/'Parâmetros de Fluxo de Caixa'!$B$26,0)))","v":""},{"$f":"IF(AM25=\"Construção\",0,IF(AM24>'Parâmetros de Fluxo de Caixa'!$B$12,\"\",IF(AM24<='Parâmetros de Fluxo de Caixa'!$B$26+'Parâmetros de Fluxo de Caixa'!$B$3+'Parâmetros de Fluxo de Caixa'!$B$4/12,-(SUM($B$30:$D$31)-SUM($B$30:$D$31)*'Parâmetros de Fluxo de Caixa'!$B$27)/'Parâmetros de Fluxo de Caixa'!$B$26,0)))","v":""},{"$f":"IF(AN25=\"Construção\",0,IF(AN24>'Parâmetros de Fluxo de Caixa'!$B$12,\"\",IF(AN24<='Parâmetros de Fluxo de Caixa'!$B$26+'Parâmetros de Fluxo de Caixa'!$B$3+'Parâmetros de Fluxo de Caixa'!$B$4/12,-(SUM($B$30:$D$31)-SUM($B$30:$D$31)*'Parâmetros de Fluxo de Caixa'!$B$27)/'Parâmetros de Fluxo de Caixa'!$B$26,0)))","v":""},{"$f":"IF(AO25=\"Construção\",0,IF(AO24>'Parâmetros de Fluxo de Caixa'!$B$12,\"\",IF(AO24<='Parâmetros de Fluxo de Caixa'!$B$26+'Parâmetros de Fluxo de Caixa'!$B$3+'Parâmetros de Fluxo de Caixa'!$B$4/12,-(SUM($B$30:$D$31)-SUM($B$30:$D$31)*'Parâmetros de Fluxo de Caixa'!$B$27)/'Parâmetros de Fluxo de Caixa'!$B$26,0)))","v":""},{"$f":"IF(AP25=\"Construção\",0,IF(AP24>'Parâmetros de Fluxo de Caixa'!$B$12,\"\",IF(AP24<='Parâmetros de Fluxo de Caixa'!$B$26+'Parâmetros de Fluxo de Caixa'!$B$3+'Parâmetros de Fluxo de Caixa'!$B$4/12,-(SUM($B$30:$D$31)-SUM($B$30:$D$31)*'Parâmetros de Fluxo de Caixa'!$B$27)/'Parâmetros de Fluxo de Caixa'!$B$26,0)))","v":""},{"$f":"IF(AQ25=\"Construção\",0,IF(AQ24>'Parâmetros de Fluxo de Caixa'!$B$12,\"\",IF(AQ24<='Parâmetros de Fluxo de Caixa'!$B$26+'Parâmetros de Fluxo de Caixa'!$B$3+'Parâmetros de Fluxo de Caixa'!$B$4/12,-(SUM($B$30:$D$31)-SUM($B$30:$D$31)*'Parâmetros de Fluxo de Caixa'!$B$27)/'Parâmetros de Fluxo de Caixa'!$B$26,0)))","v":""},{"$f":"IF(AR25=\"Construção\",0,IF(AR24>'Parâmetros de Fluxo de Caixa'!$B$12,\"\",IF(AR24<='Parâmetros de Fluxo de Caixa'!$B$26+'Parâmetros de Fluxo de Caixa'!$B$3+'Parâmetros de Fluxo de Caixa'!$B$4/12,-(SUM($B$30:$D$31)-SUM($B$30:$D$31)*'Parâmetros de Fluxo de Caixa'!$B$27)/'Parâmetros de Fluxo de Caixa'!$B$26,0)))","v":""},{"$f":"IF(AS25=\"Construção\",0,IF(AS24>'Parâmetros de Fluxo de Caixa'!$B$12,\"\",IF(AS24<='Parâmetros de Fluxo de Caixa'!$B$26+'Parâmetros de Fluxo de Caixa'!$B$3+'Parâmetros de Fluxo de Caixa'!$B$4/12,-(SUM($B$30:$D$31)-SUM($B$30:$D$31)*'Parâmetros de Fluxo de Caixa'!$B$27)/'Parâmetros de Fluxo de Caixa'!$B$26,0)))","v":""},{"$f":"IF(AT25=\"Construção\",0,IF(AT24>'Parâmetros de Fluxo de Caixa'!$B$12,\"\",IF(AT24<='Parâmetros de Fluxo de Caixa'!$B$26+'Parâmetros de Fluxo de Caixa'!$B$3+'Parâmetros de Fluxo de Caixa'!$B$4/12,-(SUM($B$30:$D$31)-SUM($B$30:$D$31)*'Parâmetros de Fluxo de Caixa'!$B$27)/'Parâmetros de Fluxo de Caixa'!$B$26,0)))","v":""},{"$f":"IF(AU25=\"Construção\",0,IF(AU24>'Parâmetros de Fluxo de Caixa'!$B$12,\"\",IF(AU24<='Parâmetros de Fluxo de Caixa'!$B$26+'Parâmetros de Fluxo de Caixa'!$B$3+'Parâmetros de Fluxo de Caixa'!$B$4/12,-(SUM($B$30:$D$31)-SUM($B$30:$D$31)*'Parâmetros de Fluxo de Caixa'!$B$27)/'Parâmetros de Fluxo de Caixa'!$B$26,0)))","v":""},{"$f":"IF(AV25=\"Construção\",0,IF(AV24>'Parâmetros de Fluxo de Caixa'!$B$12,\"\",IF(AV24<='Parâmetros de Fluxo de Caixa'!$B$26+'Parâmetros de Fluxo de Caixa'!$B$3+'Parâmetros de Fluxo de Caixa'!$B$4/12,-(SUM($B$30:$D$31)-SUM($B$30:$D$31)*'Parâmetros de Fluxo de Caixa'!$B$27)/'Parâmetros de Fluxo de Caixa'!$B$26,0)))","v":""}]
["PIS e COFINS",{"$f":"IF(B25=\"Construção\",0,IF(OR(B25=\"Start-up\",B25=\"Operação\"),IF(B27>0,-B27*'Parâmetros de Fluxo de Caixa'!$B$29,0),\"\"))","v":0},{"$f":"IF(C25=\"Construção\",0,IF(OR(C25=\"Start-up\",C25=\"Operação\"),IF(C27>0,-C27*'Parâmetros de Fluxo de Caixa'!$B$29,0),\"\"))","v":0},{"$f":"IF(D25=\"Construção\",0,IF(OR(D25=\"Start-up\",D25=\"Operação\"),IF(D27>0,-D27*'Parâmetros de Fluxo de Caixa'!$B$29,0),\"\"))","v":0},{"$f":"IF(E25=\"Construção\",0,IF(OR(E25=\"Start-up\",E25=\"Operação\"),IF(E27>0,-E27*'Parâmetros de Fluxo de Caixa'!$B$29,0),\"\"))","v":-484.060968690057},{"$f":"IF(F25=\"Construção\",0,IF(OR(F25=\"Start-up\",F25=\"Operação\"),IF(F27>0,-F27*'Parâmetros de Fluxo de Caixa'!$B$29,0),\"\"))","v":-553.21253564577944},{"$f":"IF(G25=\"Construção\",0,IF(OR(G25=\"Start-up\",G25=\"Operação\"),IF(G27>0,-G27*'Parâmetros de Fluxo de Caixa'!$B$29,0),\"\"))","v":-553.21253564577944},{"$f":"IF(H25=\"Construção\",0,IF(OR(H25=\"Start-up\",H25=\"Operação\"),IF(H27>0,-H27*'Parâmetros de Fluxo de Caixa'!$B$29,0),\"\"))","v":-553.21253564577944},{"$f":"IF(I25=\"Construção\",0,IF(OR(I25=\"Start-up\",I25=\"Operação\"),IF(I27>0,-I27*'Parâmetros de Fluxo de Caixa'!$B$29,0),\"\"))","v":-553.21253564577944},{"$f":"IF(J25=\"Construção\",0,IF(OR(J25=\"Start-up\",J25=\"Operação\"),IF(J27>0,-J27*'Parâmetros de Fluxo de Caixa'!$B$29,0),\"\"))","v":-553.21253564577944},{"$f":"IF(K25=\"Construção\",0,IF(OR(K25=\"Start-up\",K25=\"Operação\"),IF(K27>0,-K27*'Parâmetros de Fluxo de Caixa'!$B$29,0),\"\"))","v":-553.21253564577944},{"$f":"IF(L25=\"Construção\",0,IF(OR(L25=\"Start-up\",L25=\"Operação\"),IF(L27>0,-L27*'Parâmetros de Fluxo de Caixa'!$B$29,0),\"\"))","v":-553.21253564577944},{"$f":"IF(M25=\"Construção\",0,IF(OR(M25=\"Start-up\",M25=\"Operação\"),IF(M27>0,-M27*'Parâmetros de Fluxo de Caixa'!$B$29,0),\"\"))","v":-553.21253564577944},{"$f":"IF(N25=\"Construção\",0,IF(OR(N25=\"Start-up\",N25=\"Operação\"),IF(N27>0,-N27*'Parâmetros de Fluxo de Caixa'!$B$29,0),\"\"))","v":-553.21253564577944},{"$f":"IF(O25=\"Construção\",0,IF(OR(O25=\"Start-up\",O25=\"Operação\"),IF(O27>0,-O27*'Parâmetros de Fluxo de Caixa'!$B$29,0),\"\"))","v":-553.21253564577944},{"$f":"IF(P25=\"Construção\",0,IF(OR(P25=\"Start-up\",P25=\"Operação\"),IF(P27>0,-P27*'Parâmetros de Fluxo de Caixa'!$B$29,0),\"\"))","v":-553.21253564577944},{"$f":"IF(Q25=\"Construção\",0,IF(OR(Q25=\"Start-up\",Q25=\"Operação\"),IF(Q27>0,-Q27*'Parâmetros de Fluxo de Caixa'!$B$29,0),\"\"))","v":-553.21253564577944},{"$f":"IF(R25=\"Construção\",0,IF(OR(R25=\"Start-up\",R25=\"Operação\"),IF(R27>0,-R27*'Parâmetros de Fluxo de Caixa'!$B$29,0),\"\"))","v":-553.21253564577944},{"$f":"IF(S25=\"Construção\",0,IF(OR(S25=\"Start-up\",S25=\"Operação\"),IF(S27>0,-S27*'Parâmetros de Fluxo de Caixa'!$B$29,0),\"\"))","v":-553.21253564577944},{"$f":"IF(T25=\"Construção\",0,IF(OR(T25=\"Start-up\",T25=\"Operação\"),IF(T27>0,-T27*'Parâmetros de Fluxo de Caixa'!$B$29,0),\"\"))","v":-553.21253564577944},{"$f":"IF(U25=\"Construção\",0,IF(OR(U25=\"Start-up\",U25=\"Operação\"),IF(U27>0,-U27*'Parâmetros de Fluxo de Caixa'!$B$29,0),\"\"))","v":-553.21253564577944},{"$f":"IF(V25=\"Construção\",0,IF(OR(V25=\"Start-up\",V25=\"Operação\"),IF(V27>0,-V27*'Parâmetros de Fluxo de Caixa'!$B$29,0),\"\"))","v":-553.21253564577944},{"$f":"IF(W25=\"Construção\",0,IF(OR(W25=\"Start-up\",W25=\"Operação\"),IF(W27>0,-W27*'Parâmetros de Fluxo de Caixa'!$B$29,0),\"\"))","v":-553.21253564577944},{"$f":"IF(X25=\"Construção\",0,IF(OR(X25=\"Start-up\",X25=\"Operação\"),IF(X27>0,-X27*'Parâmetros de Fluxo de Caixa'!$B$29,0),\"\"))","v":-553.21253564577944},{"$f":"IF(Y25=\"Construção\",0,IF(OR(Y25=\"Start-up\",Y25=\"Operação\"),IF(Y27>0,-Y27*'Parâmetros de Fluxo de Caixa'!$B$29,0),\"\"))","v":""},{"$f":"IF(Z25=\"Construção\",0,IF(OR(Z25=\"Start-up\",Z25=\"Operação\"),IF(Z27>0,-Z27*'Parâmetros de Fluxo de Caixa'!$B$29,0),\"\"))","v":""},{"$f":"IF(AA25=\"Construção\",0,IF(OR(AA25=\"Start-up\",AA25=\"Operação\"),IF(AA27>0,-AA27*'Parâmetros de Fluxo de Caixa'!$B$29,0),\"\"))","v":""},{"$f":"IF(AB25=\"Construção\",0,IF(OR(AB25=\"Start-up\",AB25=\"Operação\"),IF(AB27>0,-AB27*'Parâmetros de Fluxo de Caixa'!$B$29,0),\"\"))","v":""},{"$f":"IF(AC25=\"Construção\",0,IF(OR(AC25=\"Start-up\",AC25=\"Operação\"),IF(AC27>0,-AC27*'Parâmetros de Fluxo de Caixa'!$B$29,0),\"\"))","v":""},{"$f":"IF(AD25=\"Construção\",0,IF(OR(AD25=\"Start-up\",AD25=\"Operação\"),IF(AD27>0,-AD27*'Parâmetros de Fluxo de Caixa'!$B$29,0),\"\"))","v":""},{"$f":"IF(AE25=\"Construção\",0,IF(OR(AE25=\"Start-up\",AE25=\"Operação\"),IF(AE27>0,-AE27*'Parâmetros de Fluxo de Caixa'!$B$29,0),\"\"))","v":""},{"$f":"IF(AF25=\"Construção\",0,IF(OR(AF25=\"Start-up\",AF25=\"Operação\"),IF(AF27>0,-AF27*'Parâmetros de Fluxo de Caixa'!$B$29,0),\"\"))","v":""},{"$f":"IF(AG25=\"Construção\",0,IF(OR(AG25=\"Start-up\",AG25=\"Operação\"),IF(AG27>0,-AG27*'Parâmetros de Fluxo de Caixa'!$B$29,0),\"\"))","v":""},{"$f":"IF(AH25=\"Construção\",0,IF(OR(AH25=\"Start-up\",AH25=\"Operação\"),IF(AH27>0,-AH27*'Parâmetros de Fluxo de Caixa'!$B$29,0),\"\"))","v":""},{"$f":"IF(AI25=\"Construção\",0,IF(OR(AI25=\"Start-up\",AI25=\"Operação\"),IF(AI27>0,-AI27*'Parâmetros de Fluxo de Caixa'!$B$29,0),\"\"))","v":""},{"$f":"IF(AJ25=\"Construção\",0,IF(OR(AJ25=\"Start-up\",AJ25=\"Operação\"),IF(AJ27>0,-AJ27*'Parâmetros de Fluxo de Caixa'!$B$29,0),\"\"))","v":""},{"$f":"IF(AK25=\"Construção\",0,IF(OR(AK25=\"Start-up\",AK25=\"Operação\"),IF(AK27>0,-AK27*'Parâmetros de Fluxo de Caixa'!$B$29,0),\"\"))","v":""},{"$f":"IF(AL25=\"Construção\",0,IF(OR(AL25=\"Start-up\",AL25=\"Operação\"),IF(AL27>0,-AL27*'Parâmetros de Fluxo de Caixa'!$B$29,0),\"\"))","v":""},{"$f":"IF(AM25=\"Construção\",0,IF(OR(AM25=\"Start-up\",AM25=\"Operação\"),IF(AM27>0,-AM27*'Parâmetros de Fluxo de Caixa'!$B$29,0),\"\"))","v":""},{"$f":"IF(AN25=\"Construção\",0,IF(OR(AN25=\"Start-up\",AN25=\"Operação\"),IF(AN27>0,-AN27*'Parâmetros de Fluxo de Caixa'!$B$29,0),\"\"))","v":""},{"$f":"IF(AO25=\"Construção\",0,IF(OR(AO25=\"Start-up\",AO25=\"Operação\"),IF(AO27>0,-AO27*'Parâmetros de Fluxo de Caixa'!$B$29,0),\"\"))","v":""},{"$f":"IF(AP25=\"Construção\",0,IF(OR(AP25=\"Start-up\",AP25=\"Operação\"),IF(AP27>0,-AP27*'Parâmetros de Fluxo de Caixa'!$B$29,0),\"\"))","v":""},{"$f":"IF(AQ25=\"Construção\",0,IF(OR(AQ25=\"Start-up\",AQ25=\"Operação\"),IF(AQ27>0,-AQ27*'Parâmetros de Fluxo de Caixa'!$B$29,0),\"\"))","v":""},{"$f":"IF(AR25=\"Construção\",0,IF(OR(AR25=\"Start-up\",AR25=\"Operação\"),IF(AR27>0,-AR27*'Parâmetros de Fluxo de Caixa'!$B$29,0),\"\"))","v":""},{"$f":"IF(AS25=\"Construção\",0,IF(OR(AS25=\"Start-up\",AS25=\"Operação\"),IF(AS27>0,-AS27*'Parâmetros de Fluxo de Caixa'!$B$29,0),\"\"))","v":""},{"$f":"IF(AT25=\"Construção\",0,IF(OR(AT25=\"Start-up\",AT25=\"Operação\"),IF(AT27>0,-AT27*'Parâmetros de Fluxo de Caixa'!$B$29,0),\"\"))","v":""},{"$f":"IF(AU25=\"Construção\",0,IF(OR(AU25=\"Start-up\",AU25=\"Operação\"),IF(AU27>0,-AU27*'Parâmetros de Fluxo de Caixa'!$B$29,0),\"\"))","v":""},{"$f":"IF(AV25=\"Construção\",0,IF(OR(AV25=\"Start-up\",AV25=\"Operação\"),IF(AV27>0,-AV27*'Parâmetros de Fluxo de Caixa'!$B$29,0),\"\"))","v":""}]
["EBITDA",{"$f":"IF(B25=\"Construção\",0,IF(OR(B25=\"Start-up\",B25=\"Operação\"),B27+B28+B29,\"\"))","v":0},{"$f":"IF(C25=\"Construção\",0,IF(OR(C25=\"Start-up\",C25=\"Operação\"),C27+C28+C29,\"\"))","v":0},0,1139.6118622426241,1345.6786884775404,1345.6786884775404,1345.6786884775404,1345.6786884775404,1345.6786884775404,1345.6786884775404,1345.6786884775404,1345.6786884775404,1345.6786884775404,1345.6786884775404,1345.6786884775404,1345.6786884775404,1345.6786884775404,1345.6786884775404,1345.6786884775404,1345.6786884775404,1345.6786884775404,1345.6786884775404,1345.6786884775404,"","","","","","","","","","","","","","","","","","","","","","","",""]
["IR e CSLL",{"$f":"IF(B25=\"Construção\",0,IF(OR(B25=\"Start-up\",B25=\"Operação\"),IF((B34-B32+B33)>0,-(B34-B32+B33)*'Parâmetros de Fluxo de Caixa'!$B$28,0),\"\"))","v":0},{"$f":"IF(C25=\"Construção\",0,IF(OR(C25=\"Start-up\",C25=\"Operação\"),IF((C34-C32+C33)>0,-(C34-C32+C33)*'Parâmetros de Fluxo de Caixa'!$B$28,0),\"\"))","v":0},{"$f":"IF(D25=\"Construção\",0,IF(OR(D25=\"Start-up\",D25=\"Operação\"),IF((D34-D32+D33)>0,-(D34-D32+D33)*'Parâmetros de Fluxo de Caixa'!$B$28,0),\"\"))","v":0},{"$f":"IF(E25=\"Construção\",0,IF(OR(E25=\"Start-up\",E25=\"Operação\"),IF((E34-E32+E33)>0,-(E34-E32+E33)*'Parâmetros de Fluxo de Caixa'!$B$28,0),\"\"))","v":-64.470360305397435},{"$f":"IF(F25=\"Construção\",0,IF(OR(F25=\"Start-up\",F25=\"Operação\"),IF((F34-F32+F33)>0,-(F34-F32+F33)*'Parâmetros de Fluxo de Caixa'!$B$28,0),\"\"))","v":-111.02154846032336},{"$f":"IF(G25=\"Construção\",0,IF(OR(G25=\"Start-up\",G25=\"Operação\"),IF((G34-G32+G33)>0,-(G34-G32+G33)*'Parâmetros de Fluxo de Caixa'!$B$28,0),\"\"))","v":-111.02154846032336},{"$f":"IF(H25=\"Construção\",0,IF(OR(H25=\"Start-up\",H25=\"Operação\"),IF((H34-H32+H33)>0,-(H34-H32+H33)*'Parâmetros de Fluxo de Caixa'!$B$28,0),\"\"))","v":-111.02154846032336},{"$f":"IF(I25=\"Construção\",0,IF(OR(I25=\"Start-up\",I25=\"Operação\"),IF((I34-I32+I33)>0,-(I34-I32+I33)*'Parâmetros de Fluxo de Caixa'!$B$28,0),\"\"))","v":-111.02154846032336},{"$f":"IF(J25=\"Construção\",0,IF(OR(J25=\"Start-up\",J25=\"Operação\"),IF((J34-J32+J33)>0,-(J34-J32+J33)*'Parâmetros de Fluxo de Caixa'!$B$28,0),\"\"))","v":-111.02154846032336},{"$f":"IF(K25=\"Construção\",0,IF(OR(K25=\"Start-up\",K25=\"Operação\"),IF((K34-K32+K33)>0,-(K34-K32+K33)*'Parâmetros de Fluxo de Caixa'!$B$28,0),\"\"))","v":-111.02154846032336},{"$f":"IF(L25=\"Construção\",0,IF(OR(L25=\"Start-up\",L25=\"Operação\"),IF((L34-L32+L33)>0,-(L34-L32+L33)*'Parâmetros de Fluxo de Caixa'!$B$28,0),\"\"))","v":-111.02154846032336},{"$f":"IF(M25=\"Construção\",0,IF(OR(M25=\"Start-up\",M25=\"Operação\"),IF((M34-M32+M33)>0,-(M34-M32+M33)*'Parâmetros de Fluxo de Caixa'!$B$28,0),\"\"))","v":-111.02154846032336},{"$f":"IF(N25=\"Construção\",0,IF(OR(N25=\"Start-up\",N25=\"Operação\"),IF((N34-N32+N33)>0,-(N34-N32+N33)*'Parâmetros de Fluxo de Caixa'!$B$28,0),\"\"))","v":-111.02154846032336},{"$f":"IF(O25=\"Construção\",0,IF(OR(O25=\"Start-up\",O25=\"Operação\"),IF((O34-O32+O33)>0,-(O34-O32+O33)*'Parâmetros de Fluxo de Caixa'!$B$28,0),\"\"))","v":-269.43849196279876},{"$f":"IF(P25=\"Construção\",0,IF(OR(P25=\"Start-up\",P25=\"Operação\"),IF((P34-P32+P33)>0,-(P34-P32+P33)*'Parâmetros de Fluxo de Caixa'!$B$28,0),\"\"))","v":-269.43849196279876},{"$f":"IF(Q25=\"Construção\",0,IF(OR(Q25=\"Start-up\",Q25=\"Operação\"),IF((Q34-Q32+Q33)>0,-(Q34-Q32+Q33)*'Parâmetros de Fluxo de Caixa'!$B$28,0),\"\"))","v":-269.43849196279876},{"$f":"IF(R25=\"Construção\",0,IF(OR(R25=\"Start-up\",R25=\"Operação\"),IF((R34-R32+R33)>0,-(R34-R32+R33)*'Parâmetros de Fluxo de Caixa'!$B$28,0),\"\"))","v":-269.43849196279876},{"$f":"IF(S25=\"Construção\",0,IF(OR(S25=\"Start-up\",S25=\"Operação\"),IF((S34-S32+S33)>0,-(S34-S32+S33)*'Parâmetros de Fluxo de Caixa'!$B$28,0),\"\"))","v":-269.43849196279876},{"$f":"IF(T25=\"Construção\",0,IF(OR(T25=\"Start-up\",T25=\"Operação\"),IF((T34-T32+T33)>0,-(T34-T32+T33)*'Parâmetros de Fluxo de Caixa'!$B$28,0),\"\"))","v":-269.43849196279876},{"$f":"IF(U25=\"Construção\",0,IF(OR(U25=\"Start-up\",U25=\"Operação\"),IF((U34-U32+U33)>0,-(U34-U32+U33)*'Parâmetros de Fluxo de Caixa'!$B$28,0),\"\"))","v":-269.43849196279876},{"$f":"IF(V25=\"Construção\",0,IF(OR(V25=\"Start-up\",V25=\"Operação\"),IF((V34-V32+V33)>0,-(V34-V32+V33)*'Parâmetros de Fluxo de Caixa'!$B$28,0),\"\"))","v":-269.43849196279876},{"$f":"IF(W25=\"Construção\",0,IF(OR(W25=\"Start-up\",W25=\"Operação\"),IF((W34-W32+W33)>0,-(W34-W32+W33)*'Parâmetros de Fluxo de Caixa'!$B$28,0),\"\"))","v":-269.43849196279876},{"$f":"IF(X25=\"Construção\",0,IF(OR(X25=\"Start-up\",X25=\"Operação\"),IF((X34-X32+X33)>0,-(X34-X32+X33)*'Parâmetros de Fluxo de Caixa'!$B$28,0),\"\"))","v":-269.43849196279876},{"$f":"IF(Y25=\"Construção\",0,IF(OR(Y25=\"Start-up\",Y25=\"Operação\"),IF((Y34-Y32+Y33)>0,-(Y34-Y32+Y33)*'Parâmetros de Fluxo de Caixa'!$B$28,0),\"\"))","v":""},{"$f":"IF(Z25=\"Construção\",0,IF(OR(Z25=\"Start-up\",Z25=\"Operação\"),IF((Z34-Z32+Z33)>0,-(Z34-Z32+Z33)*'Parâmetros de Fluxo de Caixa'!$B$28,0),\"\"))","v":""},{"$f":"IF(AA25=\"Construção\",0,IF(OR(AA25=\"Start-up\",AA25=\"Operação\"),IF((AA34-AA32+AA33)>0,-(AA34-AA32+AA33)*'Parâmetros de Fluxo de Caixa'!$B$28,0),\"\"))","v":""},{"$f":"IF(AB25=\"Construção\",0,IF(OR(AB25=\"Start-up\",AB25=\"Operação\"),IF((AB34-AB32+AB33)>0,-(AB34-AB32+AB33)*'Parâmetros de Fluxo de Caixa'!$B$28,0),\"\"))","v":""},{"$f":"IF(AC25=\"Construção\",0,IF(OR(AC25=\"Start-up\",AC25=\"Operação\"),IF((AC34-AC32+AC33)>0,-(AC34-AC32+AC33)*'Parâmetros de Fluxo de Caixa'!$B$28,0),\"\"))","v":""},{"$f":"IF(AD25=\"Construção\",0,IF(OR(AD25=\"Start-up\",AD25=\"Operação\"),IF((AD34-AD32+AD33)>0,-(AD34-AD32+AD33)*'Parâmetros de Fluxo de Caixa'!$B$28,0),\"\"))","v":""},{"$f":"IF(AE25=\"Construção\",0,IF(OR(AE25=\"Start-up\",AE25=\"Operação\"),IF((AE34-AE32+AE33)>0,-(AE34-AE32+AE33)*'Parâmetros de Fluxo de Caixa'!$B$28,0),\"\"))","v":""},{"$f":"IF(AF25=\"Construção\",0,IF(OR(AF25=\"Start-up\",AF25=\"Operação\"),IF((AF34-AF32+AF33)>0,-(AF34-AF32+AF33)*'Parâmetros de Fluxo de Caixa'!$B$28,0),\"\"))","v":""},{"$f":"IF(AG25=\"Construção\",0,IF(OR(AG25=\"Start-up\",AG25=\"Operação\"),IF((AG34-AG32+AG33)>0,-(AG34-AG32+AG33)*'Parâmetros de Fluxo de Caixa'!$B$28,0),\"\"))","v":""},{"$f":"IF(AH25=\"Construção\",0,IF(OR(AH25=\"Start-up\",AH25=\"Operação\"),IF((AH34-AH32+AH33)>0,-(AH34-AH32+AH33)*'Parâmetros de Fluxo de Caixa'!$B$28,0),\"\"))","v":""},{"$f":"IF(AI25=\"Construção\",0,IF(OR(AI25=\"Start-up\",AI25=\"Operação\"),IF((AI34-AI32+AI33)>0,-(AI34-AI32+AI33)*'Parâmetros de Fluxo de Caixa'!$B$28,0),\"\"))","v":""},{"$f":"IF(AJ25=\"Construção\",0,IF(OR(AJ25=\"Start-up\",AJ25=\"Operação\"),IF((AJ34-AJ32+AJ33)>0,-(AJ34-AJ32+AJ33)*'Parâmetros de Fluxo de Caixa'!$B$28,0),\"\"))","v":""},{"$f":"IF(AK25=\"Construção\",0,IF(OR(AK25=\"Start-up\",AK25=\"Operação\"),IF((AK34-AK32+AK33)>0,-(AK34-AK32+AK33)*'Parâmetros de Fluxo de Caixa'!$B$28,0),\"\"))","v":""},{"$f":"IF(AL25=\"Construção\",0,IF(OR(AL25=\"Start-up\",AL25=\"Operação\"),IF((AL34-AL32+AL33)>0,-(AL34-AL32+AL33)*'Parâmetros de Fluxo de Caixa'!$B$28,0),\"\"))","v":""},{"$f":"IF(AM25=\"Construção\",0,IF(OR(AM25=\"Start-up\",AM25=\"Operação\"),IF((AM34-AM32+AM33)>0,-(AM34-AM32+AM33)*'Parâmetros de Fluxo de Caixa'!$B$28,0),\"\"))","v":""},{"$f":"IF(AN25=\"Construção\",0,IF(OR(AN25=\"Start-up\",AN25=\"Operação\"),IF((AN34-AN32+AN33)>0,-(AN34-AN32+AN33)*'Parâmetros de Fluxo de Caixa'!$B$28,0),\"\"))","v":""},{"$f":"IF(AO25=\"Construção\",0,IF(OR(AO25=\"Start-up\",AO25=\"Operação\"),IF((AO34-AO32+AO33)>0,-(AO34-AO32+AO33)*'Parâmetros de Fluxo de Caixa'!$B$28,0),\"\"))","v":""},{"$f":"IF(AP25=\"Construção\",0,IF(OR(AP25=\"Start-up\",AP25=\"Operação\"),IF((AP34-AP32+AP33)>0,-(AP34-AP32+AP33)*'Parâmetros de Fluxo de Caixa'!$B$28,0),\"\"))","v":""},{"$f":"IF(AQ25=\"Construção\",0,IF(OR(AQ25=\"Start-up\",AQ25=\"Operação\"),IF((AQ34-AQ32+AQ33)>0,-(AQ34-AQ32+AQ33)*'Parâmetros de Fluxo de Caixa'!$B$28,0),\"\"))","v":""},{"$f":"IF(AR25=\"Construção\",0,IF(OR(AR25=\"Start-up\",AR25=\"Operação\"),IF((AR34-AR32+AR33)>0,-(AR34-AR32+AR33)*'Parâmetros de Fluxo de Caixa'!$B$28,0),\"\"))","v":""},{"$f":"IF(AS25=\"Construção\",0,IF(OR(AS25=\"Start-up\",AS25=\"Operação\"),IF((AS34-AS32+AS33)>0,-(AS34-AS32+AS33)*'Parâmetros de Fluxo de Caixa'!$B$28,0),\"\"))","v":""},{"$f":"IF(AT25=\"Construção\",0,IF(OR(AT25=\"Start-up\",AT25=\"Operação\"),IF((AT34-AT32+AT33)>0,-(AT34-AT32+AT33)*'Parâmetros de Fluxo de Caixa'!$B$28,0),\"\"))","v":""},{"$f":"IF(AU25=\"Construção\",0,IF(OR(AU25=\"Start-up\",AU25=\"Operação\"),IF((AU34-AU32+AU33)>0,-(AU34-AU32+AU33)*'Parâmetros de Fluxo de Caixa'!$B$28,0),\"\"))","v":""},{"$f":"IF(AV25=\"Construção\",0,IF(OR(AV25=\"Start-up\",AV25=\"Operação\"),IF((AV34-AV32+AV33)>0,-(AV34-AV32+AV33)*'Parâmetros de Fluxo de Caixa'!$B$28,0),\"\"))","v":""}]
["Venda de infraestrutura residual",{"$f":"IF('Fluxo de Caixa Desc._premio'!B25<>\"\",IF(AND(B25=\"Operação\",C25=\"\"),'Parâmetros de Fluxo de Caixa'!$B$27*'CAPEX e OPEX'!$C$3/10^6,0),\"\")","v":0},{"$f":"IF('Fluxo de Caixa Desc._premio'!C25<>\"\",IF(AND(C25=\"Operação\",D25=\"\"),'Parâmetros de Fluxo de Caixa'!$B$27*'CAPEX e OPEX'!$C$3/10^6,0),\"\")","v":0},{"$f":"IF('Fluxo de Caixa Desc._premio'!D25<>\"\",IF(AND(D25=\"Operação\",E25=\"\"),'Parâmetros de Fluxo de Caixa'!$B$27*'CAPEX e OPEX'!$C$3/10^6,0),\"\")","v":0},{"$f":"IF('Fluxo de Caixa Desc._premio'!E25<>\"\",IF(AND(E25=\"Operação\",F25=\"\"),'Parâmetros de Fluxo de Caixa'!$B$27*'CAPEX e OPEX'!$C$3/10^6,0),\"\")","v":0},{"$f":"IF('Fluxo de Caixa Desc._premio'!F25<>\"\",IF(AND(F25=\"Operação\",G25=\"\"),'Parâmetros de Fluxo de Caixa'!$B$27*'CAPEX e OPEX'!$C$3/10^6,0),\"\")","v":0},{"$f":"IF('Fluxo de Caixa Desc._premio'!G25<>\"\",IF(AND(G25=\"Operação\",H25=\"\"),'Parâmetros de Fluxo de Caixa'!$B$27*'CAPEX e OPEX'!$C$3/10^6,0),\"\")","v":0},{"$f":"IF('Fluxo de Caixa Desc._premio'!H25<>\"\",IF(AND(H25=\"Operação\",I25=\"\"),'Parâmetros de Fluxo de Caixa'!$B$27*'CAPEX e OPEX'!$C$3/10^6,0),\"\")","v":0},{"$f":"IF('Fluxo de Caixa Desc._premio'!I25<>\"\",IF(AND(I25=\"Operação\",J25=\"\"),'Parâmetros de Fluxo de Caixa'!$B$27*'CAPEX e OPEX'!$C$3/10^6,0),\"\")","v":0},{"$f":"IF('Fluxo de Caixa Desc._premio'!J25<>\"\",IF(AND(J25=\"Operação\",K25=\"\"),'Parâmetros de Fluxo de Caixa'!$B$27*'CAPEX e OPEX'!$C$3/10^6,0),\"\")","v":0},{"$f":"IF('Fluxo de Caixa Desc._premio'!K25<>\"\",IF(AND(K25=\"Operação\",L25=\"\"),'Parâmetros de Fluxo de Caixa'!$B$27*'CAPEX e OPEX'!$C$3/10^6,0),\"\")","v":0},{"$f":"IF('Fluxo de Caixa Desc._premio'!L25<>\"\",IF(AND(L25=\"Operação\",M25=\"\"),'Parâmetros de Fluxo de Caixa'!$B$27*'CAPEX e OPEX'!$C$3/10^6,0),\"\")","v":0},{"$f":"IF('Fluxo de Caixa Desc._premio'!M25<>\"\",IF(AND(M25=\"Operação\",N25=\"\"),'Parâmetros de Fluxo de Caixa'!$B$27*'CAPEX e OPEX'!$C$3/10^6,0),\"\")","v":0},{"$f":"IF('Fluxo de Caixa Desc._premio'!N25<>\"\",IF(AND(N25=\"Operação\",O25=\"\"),'Parâmetros de Fluxo de Caixa'!$B$27*'CAPEX e OPEX'!$C$3/10^6,0),\"\")","v":0},{"$f":"IF('Fluxo de Caixa Desc._premio'!O25<>\"\",IF(AND(O25=\"Operação\",P25=\"\"),'Parâmetros de Fluxo de Caixa'!$B$27*'CAPEX e OPEX'!$C$3/10^6,0),\"\")","v":0},{"$f":"IF('Fluxo de Caixa Desc._premio'!P25<>\"\",IF(AND(P25=\"Operação\",Q25=\"\"),'Parâmetros de Fluxo de Caixa'!$B$27*'CAPEX e OPEX'!$C$3/10^6,0),\"\")","v":0},{"$f":"IF('Fluxo de Caixa Desc._premio'!Q25<>\"\",IF(AND(Q25=\"Operação\",R25=\"\"),'Parâmetros de Fluxo de Caixa'!$B$27*'CAPEX e OPEX'!$C$3/10^6,0),\"\")","v":0},{"$f":"IF('Fluxo de Caixa Desc._premio'!R25<>\"\",IF(AND(R25=\"Operação\",S25=\"\"),'Parâmetros de Fluxo de Caixa'!$B$27*'CAPEX e OPEX'!$C$3/10^6,0),\"\")","v":0},{"$f":"IF('Fluxo de Caixa Desc._premio'!S25<>\"\",IF(AND(S25=\"Operação\",T25=\"\"),'Parâmetros de Fluxo de Caixa'!$B$27*'CAPEX e OPEX'!$C$3/10^6,0),\"\")","v":0},{"$f":"IF('Fluxo de Caixa Desc._premio'!T25<>\"\",IF(AND(T25=\"Operação\",U25=\"\"),'Parâmetros de Fluxo de Caixa'!$B$27*'CAPEX e OPEX'!$C$3/10^6,0),\"\")","v":0},{"$f":"IF('Fluxo de Caixa Desc._premio'!U25<>\"\",IF(AND(U25=\"Operação\",V25=\"\"),'Parâmetros de Fluxo de Caixa'!$B$27*'CAPEX e OPEX'!$C$3/10^6,0),\"\")","v":0},{"$f":"IF('Fluxo de Caixa Desc._premio'!V25<>\"\",IF(AND(V25=\"Operação\",W25=\"\"),'Parâmetros de Fluxo de Caixa'!$B$27*'CAPEX e OPEX'!$C$3/10^6,0),\"\")","v":0},{"$f":"IF('Fluxo de Caixa Desc._premio'!W25<>\"\",IF(AND(W25=\"Operação\",X25=\"\"),'Parâmetros de Fluxo de Caixa'!$B$27*'CAPEX e OPEX'!$C$3/10^6,0),\"\")","v":0},{"$f":"IF('Fluxo de Caixa Desc._premio'!X25<>\"\",IF(AND(X25=\"Operação\",Y25=\"\"),'Parâmetros de Fluxo de Caixa'!$B$27*'CAPEX e OPEX'!$C$3/10^6,0),\"\")","v":0},{"$f":"IF('Fluxo de Caixa Desc._premio'!Y25<>\"\",IF(AND(Y25=\"Operação\",Z25=\"\"),'Parâmetros de Fluxo de Caixa'!$B$27*'CAPEX e OPEX'!$C$3/10^6,0),\"\")","v":""},{"$f":"IF('Fluxo de Caixa Desc._premio'!Z25<>\"\",IF(AND(Z25=\"Operação\",AA25=\"\"),'Parâmetros de Fluxo de Caixa'!$B$27*'CAPEX e OPEX'!$C$3/10^6,0),\"\")","v":""},{"$f":"IF('Fluxo de Caixa Desc._premio'!AA25<>\"\",IF(AND(AA25=\"Operação\",AB25=\"\"),'Parâmetros de Fluxo de Caixa'!$B$27*'CAPEX e OPEX'!$C$3/10^6,0),\"\")","v":""},{"$f":"IF('Fluxo de Caixa Desc._premio'!AB25<>\"\",IF(AND(AB25=\"Operação\",AC25=\"\"),'Parâmetros de Fluxo de Caixa'!$B$27*'CAPEX e OPEX'!$C$3/10^6,0),\"\")","v":""},{"$f":"IF('Fluxo de Caixa Desc._premio'!AC25<>\"\",IF(AND(AC25=\"Operação\",AD25=\"\"),'Parâmetros de Fluxo de Caixa'!$B$27*'CAPEX e OPEX'!$C$3/10^6,0),\"\")","v":""},{"$f":"IF('Fluxo de Caixa Desc._premio'!AD25<>\"\",IF(AND(AD25=\"Operação\",AE25=\"\"),'Parâmetros de Fluxo de Caixa'!$B$27*'CAPEX e OPEX'!$C$3/10^6,0),\"\")","v":""},{"$f":"IF('Fluxo de Caixa Desc._premio'!AE25<>\"\",IF(AND(AE25=\"Operação\",AF25=\"\"),'Parâmetros de Fluxo de Caixa'!$B$27*'CAPEX e OPEX'!$C$3/10^6,0),\"\")","v":""},{"$f":"IF('Fluxo de Caixa Desc._premio'!AF25<>\"\",IF(AND(AF25=\"Operação\",AG25=\"\"),'Parâmetros de Fluxo de Caixa'!$B$27*'CAPEX e OPEX'!$C$3/10^6,0),\"\")","v":""},{"$f":"IF('Fluxo de Caixa Desc._premio'!AG25<>\"\",IF(AND(AG25=\"Operação\",AH25=\"\"),'Parâmetros de Fluxo de Caixa'!$B$27*'CAPEX e OPEX'!$C$3/10^6,0),\"\")","v":""},{"$f":"IF('Fluxo de Caixa Desc._premio'!AH25<>\"\",IF(AND(AH25=\"Operação\",AI25=\"\"),'Parâmetros de Fluxo de Caixa'!$B$27*'CAPEX e OPEX'!$C$3/10^6,0),\"\")","v":""},{"$f":"IF('Fluxo de Caixa Desc._premio'!AI25<>\"\",IF(AND(AI25=\"Operação\",AJ25=\"\"),'Parâmetros de Fluxo de Caixa'!$B$27*'CAPEX e OPEX'!$C$3/10^6,0),\"\")","v":""},{"$f":"IF('Fluxo de Caixa Desc._premio'!AJ25<>\"\",IF(AND(AJ25=\"Operação\",AK25=\"\"),'Parâmetros de Fluxo de Caixa'!$B$27*'CAPEX e OPEX'!$C$3/10^6,0),\"\")","v":""},{"$f":"IF('Fluxo de Caixa Desc._premio'!AK25<>\"\",IF(AND(AK25=\"Operação\",AL25=\"\"),'Parâmetros de Fluxo de Caixa'!$B$27*'CAPEX e OPEX'!$C$3/10^6,0),\"\")","v":""},{"$f":"IF('Fluxo de Caixa Desc._premio'!AL25<>\"\",IF(AND(AL25=\"Operação\",AM25=\"\"),'Parâmetros de Fluxo de Caixa'!$B$27*'CAPEX e OPEX'!$C$3/10^6,0),\"\")","v":""},{"$f":"IF('Fluxo de Caixa Desc._premio'!AM25<>\"\",IF(AND(AM25=\"Operação\",AN25=\"\"),'Parâmetros de Fluxo de Caixa'!$B$27*'CAPEX e OPEX'!$C$3/10^6,0),\"\")","v":""},{"$f":"IF('Fluxo de Caixa Desc._premio'!AN25<>\"\",IF(AND(AN25=\"Operação\",AO25=\"\"),'Parâmetros de Fluxo de Caixa'!$B$27*'CAPEX e OPEX'!$C$3/10^6,0),\"\")","v":""},{"$f":"IF('Fluxo de Caixa Desc._premio'!AO25<>\"\",IF(AND(AO25=\"Operação\",AP25=\"\"),'Parâmetros de Fluxo de Caixa'!$B$27*'CAPEX e OPEX'!$C$3/10^6,0),\"\")","v":""},{"$f":"IF('Fluxo de Caixa Desc._premio'!AP25<>\"\",IF(AND(AP25=\"Operação\",AQ25=\"\"),'Parâmetros de Fluxo de Caixa'!$B$27*'CAPEX e OPEX'!$C$3/10^6,0),\"\")","v":""},{"$f":"IF('Fluxo de Caixa Desc._premio'!AQ25<>\"\",IF(AND(AQ25=\"Operação\",AR25=\"\"),'Parâmetros de Fluxo de Caixa'!$B$27*'CAPEX e OPEX'!$C$3/10^6,0),\"\")","v":""},{"$f":"IF('Fluxo de Caixa Desc._premio'!AR25<>\"\",IF(AND(AR25=\"Operação\",AS25=\"\"),'Parâmetros de Fluxo de Caixa'!$B$27*'CAPEX e OPEX'!$C$3/10^6,0),\"\")","v":""},{"$f":"IF('Fluxo de Caixa Desc._premio'!AS25<>\"\",IF(AND(AS25=\"Operação\",AT25=\"\"),'Parâmetros de Fluxo de Caixa'!$B$27*'CAPEX e OPEX'!$C$3/10^6,0),\"\")","v":""},{"$f":"IF('Fluxo de Caixa Desc._premio'!AT25<>\"\",IF(AND(AT25=\"Operação\",AU25=\"\"),'Parâmetros de Fluxo de Caixa'!$B$27*'CAPEX e OPEX'!$C$3/10^6,0),\"\")","v":""},{"$f":"IF('Fluxo de Caixa Desc._premio'!AU25<>\"\",IF(AND(AU25=\"Operação\",AV25=\"\"),'Parâmetros de Fluxo de Caixa'!$B$27*'CAPEX e OPEX'!$C$3/10^6,0),\"\")","v":""},{"$f":"IF('Fluxo de Caixa Desc._premio'!AV25<>\"\",IF(AND(AV25=\"Operação\",AW25=\"\"),'Parâmetros de Fluxo de Caixa'!$B$27*'CAPEX e OPEX'!$C$3/10^6,0),\"\")","v":""}]
["Fluxo de Caixa Livre",{"$f":"IF(OR(B25=\"Construção\",B25=\"Start-up\",B25=\"Operação\"),B27+B28+B29+B30+B31+B35+B36+B33,\"\")","v":-372.74574941758908},-2795.5931206319183,-1490.9829976703563,{"$f":"IF(OR(E25=\"Construção\",E25=\"Start-up\",E25=\"Operação\"),E27+E28+E29+E30+E31+E35+E36+E33,\"\")","v":591.08053324716957},681.44460437143755,681.44460437143755,681.44460437143755,681.44460437143755,681.44460437143755,681.44460437143755,681.44460437143755,681.44460437143755,681.44460437143755,523.02766086896224,523.02766086896224,523.02766086896224,523.02766086896224,523.02766086896224,523.02766086896224,523.02766086896224,523.02766086896224,523.02766086896224,523.02766086896224,"","","","","","","","","","","","","","","","","","","","","","","",""]
["Fluxo de Caixa Livre Acumulado",{"$f":"IF(OR(B25=\"Construção\",B25=\"Start-up\",B25=\"Operação\"),SUM($B$37:B37),\"\")","v":-372.74574941758908},{"$f":"IF(OR(C25=\"Construção\",C25=\"Start-up\",C25=\"Operação\"),SUM($B$37:C37),\"\")","v":-3168.3388700495075},{"$f":"IF(OR(D25=\"Construção\",D25=\"Start-up\",D25=\"Operação\"),SUM($B$37:D37),\"\")","v":-4659.3218677198638},{"$f":"IF(OR(E25=\"Construção\",E25=\"Start-up\",E25=\"Operação\"),SUM($B$37:E37),\"\")","v":-4068.2413344726942},{"$f":"IF(OR(F25=\"Construção\",F25=\"Start-up\",F25=\"Operação\"),SUM($B$37:F37),\"\")","v":-3386.7967301012568},{"$f":"IF(OR(G25=\"Construção\",G25=\"Start-up\",G25=\"Operação\"),SUM($B$37:G37),\"\")","v":-2705.3521257298194},{"$f":"IF(OR(H25=\"Construção\",H25=\"Start-up\",H25=\"Operação\"),SUM($B$37:H37),\"\")","v":-2023.9075213583819},{"$f":"IF(OR(I25=\"Construção\",I25=\"Start-up\",I25=\"Operação\"),SUM($B$37:I37),\"\")","v":-1342.4629169869445},{"$f":"IF(OR(J25=\"Construção\",J25=\"Start-up\",J25=\"Operação\"),SUM($B$37:J37),\"\")","v":-661.01831261550694},{"$f":"IF(OR(K25=\"Construção\",K25=\"Start-up\",K25=\"Operação\"),SUM($B$37:K37),\"\")","v":20.426291755930606},{"$f":"IF(OR(L25=\"Construção\",L25=\"Start-up\",L25=\"Operação\"),SUM($B$37:L37),\"\")","v":701.87089612736816},{"$f":"IF(OR(M25=\"Construção\",M25=\"Start-up\",M25=\"Operação\"),SUM($B$37:M37),\"\")","v":1383.3155004988057},{"$f":"IF(OR(N25=\"Construção\",N25=\"Start-up\",N25=\"Operação\"),SUM($B$37:N37),\"\")","v":2064.7601048702431},{"$f":"IF(OR(O25=\"Construção\",O25=\"Start-up\",O25=\"Operação\"),SUM($B$37:O37),\"\")","v":2587.7877657392055},{"$f":"IF(OR(P25=\"Construção\",P25=\"Start-up\",P25=\"Operação\"),SUM($B$37:P37),\"\")","v":3110.8154266081679},{"$f":"IF(OR(Q25=\"Construção\",Q25=\"Start-up\",Q25=\"Operação\"),SUM($B$37:Q37),\"\")","v":3633.8430874771302},{"$f":"IF(OR(R25=\"Construção\",R25=\"Start-up\",R25=\"Operação\"),SUM($B$37:R37),\"\")","v":4156.8707483460921},{"$f":"IF(OR(S25=\"Construção\",S25=\"Start-up\",S25=\"Operação\"),SUM($B$37:S37),\"\")","v":4679.898409215054},{"$f":"IF(OR(T25=\"Construção\",T25=\"Start-up\",T25=\"Operação\"),SUM($B$37:T37),\"\")","v":5202.9260700840159},{"$f":"IF(OR(U25=\"Construção\",U25=\"Start-up\",U25=\"Operação\"),SUM($B$37:U37),\"\")","v":5725.9537309529778},{"$f":"IF(OR(V25=\"Construção\",V25=\"Start-up\",V25=\"Operação\"),SUM($B$37:V37),\"\")","v":6248.9813918219397},{"$f":"IF(OR(W25=\"Construção\",W25=\"Start-up\",W25=\"Operação\"),SUM($B$37:W37),\"\")","v":6772.0090526909016},{"$f":"IF(OR(X25=\"Construção\",X25=\"Start-up\",X25=\"Operação\"),SUM($B$37:X37),\"\")","v":7295.0367135598635},{"$f":"IF(OR(Y25=\"Construção\",Y25=\"Start-up\",Y25=\"Operação\"),SUM($B$37:Y37),\"\")","v":""},{"$f":"IF(OR(Z25=\"Construção\",Z25=\"Start-up\",Z25=\"Operação\"),SUM($B$37:Z37),\"\")","v":""},{"$f":"IF(OR(AA25=\"Construção\",AA25=\"Start-up\",AA25=\"Operação\"),SUM($B$37:AA37),\"\")","v":""},{"$f":"IF(OR(AB25=\"Construção\",AB25=\"Start-up\",AB25=\"Operação\"),SUM($B$37:AB37),\"\")","v":""},{"$f":"IF(OR(AC25=\"Construção\",AC25=\"Start-up\",AC25=\"Operação\"),SUM($B$37:AC37),\"\")","v":""},{"$f":"IF(OR(AD25=\"Construção\",AD25=\"Start-up\",AD25=\"Operação\"),SUM($B$37:AD37),\"\")","v":""},{"$f":"IF(OR(AE25=\"Construção\",AE25=\"Start-up\",AE25=\"Operação\"),SUM($B$37:AE37),\"\")","v":""},{"$f":"IF(OR(AF25=\"Construção\",AF25=\"Start-up\",AF25=\"Operação\"),SUM($B$37:AF37),\"\")","v":""},{"$f":"IF(OR(AG25=\"Construção\",AG25=\"Start-up\",AG25=\"Operação\"),SUM($B$37:AG37),\"\")","v":""},{"$f":"IF(OR(AH25=\"Construção\",AH25=\"Start-up\",AH25=\"Operação\"),SUM($B$37:AH37),\"\")","v":""},{"$f":"IF(OR(AI25=\"Construção\",AI25=\"Start-up\",AI25=\"Operação\"),SUM($B$37:AI37),\"\")","v":""},{"$f":"IF(OR(AJ25=\"Construção\",AJ25=\"Start-up\",AJ25=\"Operação\"),SUM($B$37:AJ37),\"\")","v":""},{"$f":"IF(OR(AK25=\"Construção\",AK25=\"Start-up\",AK25=\"Operação\"),SUM($B$37:AK37),\"\")","v":""},{"$f":"IF(OR(AL25=\"Construção\",AL25=\"Start-up\",AL25=\"Operação\"),SUM($B$37:AL37),\"\")","v":""},{"$f":"IF(OR(AM25=\"Construção\",AM25=\"Start-up\",AM25=\"Operação\"),SUM($B$37:AM37),\"\")","v":""},{"$f":"IF(OR(AN25=\"Construção\",AN25=\"Start-up\",AN25=\"Operação\"),SUM($B$37:AN37),\"\")","v":""},{"$f":"IF(OR(AO25=\"Construção\",AO25=\"Start-up\",AO25=\"Operação\"),SUM($B$37:AO37),\"\")","v":""},{"$f":"IF(OR(AP25=\"Construção\",AP25=\"Start-up\",AP25=\"Operação\"),SUM($B$37:AP37),\"\")","v":""},{"$f":"IF(OR(AQ25=\"Construção\",AQ25=\"Start-up\",AQ25=\"Operação\"),SUM($B$37:AQ37),\"\")","v":""},{"$f":"IF(OR(AR25=\"Construção\",AR25=\"Start-up\",AR25=\"Operação\"),SUM($B$37:AR37),\"\")","v":""},{"$f":"IF(OR(AS25=\"Construção\",AS25=\"Start-up\",AS25=\"Operação\"),SUM($B$37:AS37),\"\")","v":""},{"$f":"IF(OR(AT25=\"Construção\",AT25=\"Start-up\",AT25=\"Operação\"),SUM($B$37:AT37),\"\")","v":""},{"$f":"IF(OR(AU25=\"Construção\",AU25=\"Start-up\",AU25=\"Operação\"),SUM($B$37:AU37),\"\")","v":""},{"$f":"IF(OR(AV25=\"Construção\",AV25=\"Start-up\",AV25=\"Operação\"),SUM($B$37:AV37),\"\")","v":""}]
["Fluxo de Caixa Descontado",{"$f":"IF(OR(B25=\"Construção\",B25=\"Start-up\",B25=\"Operação\"),B37/(1+'Parâmetros de Fluxo de Caixa'!$B$32)^B24,\"\")","v":-336.12627113321798},{"$f":"IF(OR(C25=\"Construção\",C25=\"Start-up\",C25=\"Operação\"),C37/(1+'Parâmetros de Fluxo de Caixa'!$B$32)^C24,\"\")","v":-2273.282867526716},{"$f":"IF(OR(D25=\"Construção\",D25=\"Start-up\",D25=\"Operação\"),D37/(1+'Parâmetros de Fluxo de Caixa'!$B$32)^D24,\"\")","v":-1093.3065872190502},{"$f":"IF(OR(E25=\"Construção\",E25=\"Start-up\",E25=\"Operação\"),E37/(1+'Parâmetros de Fluxo de Caixa'!$B$32)^E24,\"\")","v":390.84601478475275},{"$f":"IF(OR(F25=\"Construção\",F25=\"Start-up\",F25=\"Operação\"),F37/(1+'Parâmetros de Fluxo de Caixa'!$B$32)^F24,\"\")","v":406.33042901315287},{"$f":"IF(OR(G25=\"Construção\",G25=\"Start-up\",G25=\"Operação\"),G37/(1+'Parâmetros de Fluxo de Caixa'!$B$32)^G24,\"\")","v":366.41150748346251},{"$f":"IF(OR(H25=\"Construção\",H25=\"Start-up\",H25=\"Operação\"),H37/(1+'Parâmetros de Fluxo de Caixa'!$B$32)^H24,\"\")","v":330.41432103023135},{"$f":"IF(OR(I25=\"Construção\",I25=\"Start-up\",I25=\"Operação\"),I37/(1+'Parâmetros de Fluxo de Caixa'!$B$32)^I24,\"\")","v":297.95358855315476},{"$f":"IF(OR(J25=\"Construção\",J25=\"Start-up\",J25=\"Operação\"),J37/(1+'Parâmetros de Fluxo de Caixa'!$B$32)^J24,\"\")","v":268.68187993455655},{"$f":"IF(OR(K25=\"Construção\",K25=\"Start-up\",K25=\"Operação\"),K37/(1+'Parâmetros de Fluxo de Caixa'!$B$32)^K24,\"\")","v":242.28589746382195},{"$f":"IF(OR(L25=\"Construção\",L25=\"Start-up\",L25=\"Operação\"),L37/(1+'Parâmetros de Fluxo de Caixa'!$B$32)^L24,\"\")","v":218.48312258403115},{"$f":"IF(OR(M25=\"Construção\",M25=\"Start-up\",M25=\"Operação\"),M37/(1+'Parâmetros de Fluxo de Caixa'!$B$32)^M24,\"\")","v":197.018792070622},{"$f":"IF(OR(N25=\"Construção\",N25=\"Start-up\",N25=\"Operação\"),N37/(1+'Parâmetros de Fluxo de Caixa'!$B$32)^N24,\"\")","v":177.66317127785348},{"$f":"IF(OR(O25=\"Construção\",O25=\"Start-up\",O25=\"Operação\"),O37/(1+'Parâmetros de Fluxo de Caixa'!$B$32)^O24,\"\")","v":122.96493040024275},{"$f":"IF(OR(P25=\"Construção\",P25=\"Start-up\",P25=\"Operação\"),P37/(1+'Parâmetros de Fluxo de Caixa'!$B$32)^P24,\"\")","v":110.88454690675786},{"$f":"IF(OR(Q25=\"Construção\",Q25=\"Start-up\",Q25=\"Operação\"),Q37/(1+'Parâmetros de Fluxo de Caixa'!$B$32)^Q24,\"\")","v":99.990970618178068},{"$f":"IF(OR(R25=\"Construção\",R25=\"Start-up\",R25=\"Operação\"),R37/(1+'Parâmetros de Fluxo de Caixa'!$B$32)^R24,\"\")","v":90.167606614948539},{"$f":"IF(OR(S25=\"Construção\",S25=\"Start-up\",S25=\"Operação\"),S37/(1+'Parâmetros de Fluxo de Caixa'!$B$32)^S24,\"\")","v":81.309314555149086},{"$f":"IF(OR(T25=\"Construção\",T25=\"Start-up\",T25=\"Operação\"),T37/(1+'Parâmetros de Fluxo de Caixa'!$B$32)^T24,\"\")","v":73.321283348028146},{"$f":"IF(OR(U25=\"Construção\",U25=\"Start-up\",U25=\"Operação\"),U37/(1+'Parâmetros de Fluxo de Caixa'!$B$32)^U24,\"\")","v":66.118016382434035},{"$f":"IF(OR(V25=\"Construção\",V25=\"Start-up\",V25=\"Operação\"),V37/(1+'Parâmetros de Fluxo de Caixa'!$B$32)^V24,\"\")","v":59.622416448952983},{"$f":"IF(OR(W25=\"Construção\",W25=\"Start-up\",W25=\"Operação\"),W37/(1+'Parâmetros de Fluxo de Caixa'!$B$32)^W24,\"\")","v":53.76496056159381},{"$f":"IF(OR(X25=\"Construção\",X25=\"Start-up\",X25=\"Operação\"),X37/(1+'Parâmetros de Fluxo de Caixa'!$B$32)^X24,\"\")","v":48.482955847062122},{"$f":"IF(OR(Y25=\"Construção\",Y25=\"Start-up\",Y25=\"Operação\"),Y37/(1+'Parâmetros de Fluxo de Caixa'!$B$32)^Y24,\"\")","v":""},{"$f":"IF(OR(Z25=\"Construção\",Z25=\"Start-up\",Z25=\"Operação\"),Z37/(1+'Parâmetros de Fluxo de Caixa'!$B$32)^Z24,\"\")","v":""},{"$f":"IF(OR(AA25=\"Construção\",AA25=\"Start-up\",AA25=\"Operação\"),AA37/(1+'Parâmetros de Fluxo de Caixa'!$B$32)^AA24,\"\")","v":""},{"$f":"IF(OR(AB25=\"Construção\",AB25=\"Start-up\",AB25=\"Operação\"),AB37/(1+'Parâmetros de Fluxo de Caixa'!$B$32)^AB24,\"\")","v":""},{"$f":"IF(OR(AC25=\"Construção\",AC25=\"Start-up\",AC25=\"Operação\"),AC37/(1+'Parâmetros de Fluxo de Caixa'!$B$32)^AC24,\"\")","v":""},{"$f":"IF(OR(AD25=\"Construção\",AD25=\"Start-up\",AD25=\"Operação\"),AD37/(1+'Parâmetros de Fluxo de Caixa'!$B$32)^AD24,\"\")","v":""},{"$f":"IF(OR(AE25=\"Construção\",AE25=\"Start-up\",AE25=\"Operação\"),AE37/(1+'Parâmetros de Fluxo de Caixa'!$B$32)^AE24,\"\")","v":""},{"$f":"IF(OR(AF25=\"Construção\",AF25=\"Start-up\",AF25=\"Operação\"),AF37/(1+'Parâmetros de Fluxo de Caixa'!$B$32)^AF24,\"\")","v":""},{"$f":"IF(OR(AG25=\"Construção\",AG25=\"Start-up\",AG25=\"Operação\"),AG37/(1+'Parâmetros de Fluxo de Caixa'!$B$32)^AG24,\"\")","v":""},{"$f":"IF(OR(AH25=\"Construção\",AH25=\"Start-up\",AH25=\"Operação\"),AH37/(1+'Parâmetros de Fluxo de Caixa'!$B$32)^AH24,\"\")","v":""},{"$f":"IF(OR(AI25=\"Construção\",AI25=\"Start-up\",AI25=\"Operação\"),AI37/(1+'Parâmetros de Fluxo de Caixa'!$B$32)^AI24,\"\")","v":""},{"$f":"IF(OR(AJ25=\"Construção\",AJ25=\"Start-up\",AJ25=\"Operação\"),AJ37/(1+'Parâmetros de Fluxo de Caixa'!$B$32)^AJ24,\"\")","v":""},{"$f":"IF(OR(AK25=\"Construção\",AK25=\"Start-up\",AK25=\"Operação\"),AK37/(1+'Parâmetros de Fluxo de Caixa'!$B$32)^AK24,\"\")","v":""},{"$f":"IF(OR(AL25=\"Construção\",AL25=\"Start-up\",AL25=\"Operação\"),AL37/(1+'Parâmetros de Fluxo de Caixa'!$B$32)^AL24,\"\")","v":""},{"$f":"IF(OR(AM25=\"Construção\",AM25=\"Start-up\",AM25=\"Operação\"),AM37/(1+'Parâmetros de Fluxo de Caixa'!$B$32)^AM24,\"\")","v":""},{"$f":"IF(OR(AN25=\"Construção\",AN25=\"Start-up\",AN25=\"Operação\"),AN37/(1+'Parâmetros de Fluxo de Caixa'!$B$32)^AN24,\"\")","v":""},{"$f":"IF(OR(AO25=\"Construção\",AO25=\"Start-up\",AO25=\"Operação\"),AO37/(1+'Parâmetros de Fluxo de Caixa'!$B$32)^AO24,\"\")","v":""},{"$f":"IF(OR(AP25=\"Construção\",AP25=\"Start-up\",AP25=\"Operação\"),AP37/(1+'Parâmetros de Fluxo de Caixa'!$B$32)^AP24,\"\")","v":""},{"$f":"IF(OR(AQ25=\"Construção\",AQ25=\"Start-up\",AQ25=\"Operação\"),AQ37/(1+'Parâmetros de Fluxo de Caixa'!$B$32)^AQ24,\"\")","v":""},{"$f":"IF(OR(AR25=\"Construção\",AR25=\"Start-up\",AR25=\"Operação\"),AR37/(1+'Parâmetros de Fluxo de Caixa'!$B$32)^AR24,\"\")","v":""},{"$f":"IF(OR(AS25=\"Construção\",AS25=\"Start-up\",AS25=\"Operação\"),AS37/(1+'Parâmetros de Fluxo de Caixa'!$B$32)^AS24,\"\")","v":""},{"$f":"IF(OR(AT25=\"Construção\",AT25=\"Start-up\",AT25=\"Operação\"),AT37/(1+'Parâmetros de Fluxo de Caixa'!$B$32)^AT24,\"\")","v":""},{"$f":"IF(OR(AU25=\"Construção\",AU25=\"Start-up\",AU25=\"Operação\"),AU37/(1+'Parâmetros de Fluxo de Caixa'!$B$32)^AU24,\"\")","v":""},{"$f":"IF(OR(AV25=\"Construção\",AV25=\"Start-up\",AV25=\"Operação\"),AV37/(1+'Parâmetros de Fluxo de Caixa'!$B$32)^AV24,\"\")","v":""}]
["Fluxo de Caixa Descontado Acumulado",{"$f":"IF(OR(B25=\"Construção\",B25=\"Start-up\",B25=\"Operação\"),SUM($B$39:B39),\"\")","v":-336.12627113321798},{"$f":"IF(OR(C25=\"Construção\",C25=\"Start-up\",C25=\"Operação\"),SUM($B$39:C39),\"\")","v":-2609.4091386599339},{"$f":"IF(OR(D25=\"Construção\",D25=\"Start-up\",D25=\"Operação\"),SUM($B$39:D39),\"\")","v":-3702.7157258789839},{"$f":"IF(OR(E25=\"Construção\",E25=\"Start-up\",E25=\"Operação\"),SUM($B$39:E39),\"\")","v":-3311.8697110942312},{"$f":"IF(OR(F25=\"Construção\",F25=\"Start-up\",F25=\"Operação\"),SUM($B$39:F39),\"\")","v":-2905.5392820810785},{"$f":"IF(OR(G25=\"Construção\",G25=\"Start-up\",G25=\"Operação\"),SUM($B$39:G39),\"\")","v":-2539.1277745976158},{"$f":"IF(OR(H25=\"Construção\",H25=\"Start-up\",H25=\"Operação\"),SUM($B$39:H39),\"\")","v":-2208.7134535673845},{"$f":"IF(OR(I25=\"Construção\",I25=\"Start-up\",I25=\"Operação\"),SUM($B$39:I39),\"\")","v":-1910.7598650142297},{"$f":"IF(OR(J25=\"Construção\",J25=\"Start-up\",J25=\"Operação\"),SUM($B$39:J39),\"\")","v":-1642.0779850796732},{"$f":"IF(OR(K25=\"Construção\",K25=\"Start-up\",K25=\"Operação\"),SUM($B$39:K39),\"\")","v":-1399.7920876158512},{"$f":"IF(OR(L25=\"Construção\",L25=\"Start-up\",L25=\"Operação\"),SUM($B$39:L39),\"\")","v":-1181.30896503182},{"$f":"IF(OR(M25=\"Construção\",M25=\"Start-up\",M25=\"Operação\"),SUM($B$39:M39),\"\")","v":-984.29017296119798},{"$f":"IF(OR(N25=\"Construção\",N25=\"Start-up\",N25=\"Operação\"),SUM($B$39:N39),\"\")","v":-806.62700168334447},{"$f":"IF(OR(O25=\"Construção\",O25=\"Start-up\",O25=\"Operação\"),SUM($B$39:O39),\"\")","v":-683.66207128310168},{"$f":"IF(OR(P25=\"Construção\",P25=\"Start-up\",P25=\"Operação\"),SUM($B$39:P39),\"\")","v":-572.77752437634376},{"$f":"IF(OR(Q25=\"Construção\",Q25=\"Start-up\",Q25=\"Operação\"),SUM($B$39:Q39),\"\")","v":-472.78655375816572},{"$f":"IF(OR(R25=\"Construção\",R25=\"Start-up\",R25=\"Operação\"),SUM($B$39:R39),\"\")","v":-382.61894714321716},{"$f":"IF(OR(S25=\"Construção\",S25=\"Start-up\",S25=\"Operação\"),SUM($B$39:S39),\"\")","v":-301.3096325880681},{"$f":"IF(OR(T25=\"Construção\",T25=\"Start-up\",T25=\"Operação\"),SUM($B$39:T39),\"\")","v":-227.98834924003995},{"$f":"IF(OR(U25=\"Construção\",U25=\"Start-up\",U25=\"Operação\"),SUM($B$39:U39),\"\")","v":-161.87033285760592},{"$f":"IF(OR(V25=\"Construção\",V25=\"Start-up\",V25=\"Operação\"),SUM($B$39:V39),\"\")","v":-102.24791640865294},{"$f":"IF(OR(W25=\"Construção\",W25=\"Start-up\",W25=\"Operação\"),SUM($B$39:W39),\"\")","v":-48.482955847059131},{"$f":"IF(OR(X25=\"Construção\",X25=\"Start-up\",X25=\"Operação\"),SUM($B$39:X39),\"\")","v":2.9913849175500218E-12},{"$f":"IF(OR(Y25=\"Construção\",Y25=\"Start-up\",Y25=\"Operação\"),SUM($B$39:Y39),\"\")","v":""},{"$f":"IF(OR(Z25=\"Construção\",Z25=\"Start-up\",Z25=\"Operação\"),SUM($B$39:Z39),\"\")","v":""},{"$f":"IF(OR(AA25=\"Construção\",AA25=\"Start-up\",AA25=\"Operação\"),SUM($B$39:AA39),\"\")","v":""},{"$f":"IF(OR(AB25=\"Construção\",AB25=\"Start-up\",AB25=\"Operação\"),SUM($B$39:AB39),\"\")","v":""},{"$f":"IF(OR(AC25=\"Construção\",AC25=\"Start-up\",AC25=\"Operação\"),SUM($B$39:AC39),\"\")","v":""},{"$f":"IF(OR(AD25=\"Construção\",AD25=\"Start-up\",AD25=\"Operação\"),SUM($B$39:AD39),\"\")","v":""},{"$f":"IF(OR(AE25=\"Construção\",AE25=\"Start-up\",AE25=\"Operação\"),SUM($B$39:AE39),\"\")","v":""},{"$f":"IF(OR(AF25=\"Construção\",AF25=\"Start-up\",AF25=\"Operação\"),SUM($B$39:AF39),\"\")","v":""},{"$f":"IF(OR(AG25=\"Construção\",AG25=\"Start-up\",AG25=\"Operação\"),SUM($B$39:AG39),\"\")","v":""},{"$f":"IF(OR(AH25=\"Construção\",AH25=\"Start-up\",AH25=\"Operação\"),SUM($B$39:AH39),\"\")","v":""},{"$f":"IF(OR(AI25=\"Construção\",AI25=\"Start-up\",AI25=\"Operação\"),SUM($B$39:AI39),\"\")","v":""},{"$f":"IF(OR(AJ25=\"Construção\",AJ25=\"Start-up\",AJ25=\"Operação\"),SUM($B$39:AJ39),\"\")","v":""},{"$f":"IF(OR(AK25=\"Construção\",AK25=\"Start-up\",AK25=\"Operação\"),SUM($B$39:AK39),\"\")","v":""},{"$f":"IF(OR(AL25=\"Construção\",AL25=\"Start-up\",AL25=\"Operação\"),SUM($B$39:AL39),\"\")","v":""},{"$f":"IF(OR(AM25=\"Construção\",AM25=\"Start-up\",AM25=\"Operação\"),SUM($B$39:AM39),\"\")","v":""},{"$f":"IF(OR(AN25=\"Construção\",AN25=\"Start-up\",AN25=\"Operação\"),SUM($B$39:AN39),\"\")","v":""},{"$f":"IF(OR(AO25=\"Construção\",AO25=\"Start-up\",AO25=\"Operação\"),SUM($B$39:AO39),\"\")","v":""},{"$f":"IF(OR(AP25=\"Construção\",AP25=\"Start-up\",AP25=\"Operação\"),SUM($B$39:AP39),\"\")","v":""},{"$f":"IF(OR(AQ25=\"Construção\",AQ25=\"Start-up\",AQ25=\"Operação\"),SUM($B$39:AQ39),\"\")","v":""},{"$f":"IF(OR(AR25=\"Construção\",AR25=\"Start-up\",AR25=\"Operação\"),SUM($B$39:AR39),\"\")","v":""},{"$f":"IF(OR(AS25=\"Construção\",AS25=\"Start-up\",AS25=\"Operação\"),SUM($B$39:AS39),\"\")","v":""},{"$f":"IF(OR(AT25=\"Construção\",AT25=\"Start-up\",AT25=\"Operação\"),SUM($B$39:AT39),\"\")","v":""},{"$f":"IF(OR(AU25=\"Construção\",AU25=\"Start-up\",AU25=\"Operação\"),SUM($B$39:AU39),\"\")","v":""},{"$f":"IF(OR(AV25=\"Construção\",AV25=\"Start-up\",AV25=\"Operação\"),SUM($B$39:AV39),\"\")","v":""}]
["Custo CAPEX descontado",{"$f":"IF(OR(B25=\"Construção\",B25=\"Start-up\",B25=\"Operação\"),(B30+B31+B36)/((1+'Parâmetros de Fluxo de Caixa'!$B$32)^'Fluxo de Caixa Desc._premio'!B23),\"\")","v":-372.74574941758908},{"$f":"IF(OR(C25=\"Construção\",C25=\"Start-up\",C25=\"Operação\"),(C30+C31+C36)/((1+'Parâmetros de Fluxo de Caixa'!$B$32)^'Fluxo de Caixa Desc._premio'!C23),\"\")","v":-2520.9470334991352},{"$f":"IF(OR(D25=\"Construção\",D25=\"Start-up\",D25=\"Operação\"),(D30+D31+D36)/((1+'Parâmetros de Fluxo de Caixa'!$B$32)^'Fluxo de Caixa Desc._premio'!D23),\"\")","v":-1212.4175293475819},{"$f":"IF(OR(E25=\"Construção\",E25=\"Start-up\",E25=\"Operação\"),(E30+E31+E36)/((1+'Parâmetros de Fluxo de Caixa'!$B$32)^'Fluxo de Caixa Desc._premio'!E23),\"\")","v":0},{"$f":"IF(OR(F25=\"Construção\",F25=\"Start-up\",F25=\"Operação\"),(F30+F31+F36)/((1+'Parâmetros de Fluxo de Caixa'!$B$32)^'Fluxo de Caixa Desc._premio'!F23),\"\")","v":0},{"$f":"IF(OR(G25=\"Construção\",G25=\"Start-up\",G25=\"Operação\"),(G30+G31+G36)/((1+'Parâmetros de Fluxo de Caixa'!$B$32)^'Fluxo de Caixa Desc._premio'!G23),\"\")","v":0},{"$f":"IF(OR(H25=\"Construção\",H25=\"Start-up\",H25=\"Operação\"),(H30+H31+H36)/((1+'Parâmetros de Fluxo de Caixa'!$B$32)^'Fluxo de Caixa Desc._premio'!H23),\"\")","v":0},{"$f":"IF(OR(I25=\"Construção\",I25=\"Start-up\",I25=\"Operação\"),(I30+I31+I36)/((1+'Parâmetros de Fluxo de Caixa'!$B$32)^'Fluxo de Caixa Desc._premio'!I23),\"\")","v":0},{"$f":"IF(OR(J25=\"Construção\",J25=\"Start-up\",J25=\"Operação\"),(J30+J31+J36)/((1+'Parâmetros de Fluxo de Caixa'!$B$32)^'Fluxo de Caixa Desc._premio'!J23),\"\")","v":0},{"$f":"IF(OR(K25=\"Construção\",K25=\"Start-up\",K25=\"Operação\"),(K30+K31+K36)/((1+'Parâmetros de Fluxo de Caixa'!$B$32)^'Fluxo de Caixa Desc._premio'!K23),\"\")","v":0},{"$f":"IF(OR(L25=\"Construção\",L25=\"Start-up\",L25=\"Operação\"),(L30+L31+L36)/((1+'Parâmetros de Fluxo de Caixa'!$B$32)^'Fluxo de Caixa Desc._premio'!L23),\"\")","v":0},{"$f":"IF(OR(M25=\"Construção\",M25=\"Start-up\",M25=\"Operação\"),(M30+M31+M36)/((1+'Parâmetros de Fluxo de Caixa'!$B$32)^'Fluxo de Caixa Desc._premio'!M23),\"\")","v":0},{"$f":"IF(OR(N25=\"Construção\",N25=\"Start-up\",N25=\"Operação\"),(N30+N31+N36)/((1+'Parâmetros de Fluxo de Caixa'!$B$32)^'Fluxo de Caixa Desc._premio'!N23),\"\")","v":0},{"$f":"IF(OR(O25=\"Construção\",O25=\"Start-up\",O25=\"Operação\"),(O30+O31+O36)/((1+'Parâmetros de Fluxo de Caixa'!$B$32)^'Fluxo de Caixa Desc._premio'!O23),\"\")","v":0},{"$f":"IF(OR(P25=\"Construção\",P25=\"Start-up\",P25=\"Operação\"),(P30+P31+P36)/((1+'Parâmetros de Fluxo de Caixa'!$B$32)^'Fluxo de Caixa Desc._premio'!P23),\"\")","v":0},{"$f":"IF(OR(Q25=\"Construção\",Q25=\"Start-up\",Q25=\"Operação\"),(Q30+Q31+Q36)/((1+'Parâmetros de Fluxo de Caixa'!$B$32)^'Fluxo de Caixa Desc._premio'!Q23),\"\")","v":0},{"$f":"IF(OR(R25=\"Construção\",R25=\"Start-up\",R25=\"Operação\"),(R30+R31+R36)/((1+'Parâmetros de Fluxo de Caixa'!$B$32)^'Fluxo de Caixa Desc._premio'!R23),\"\")","v":0},{"$f":"IF(OR(S25=\"Construção\",S25=\"Start-up\",S25=\"Operação\"),(S30+S31+S36)/((1+'Parâmetros de Fluxo de Caixa'!$B$32)^'Fluxo de Caixa Desc._premio'!S23),\"\")","v":0},{"$f":"IF(OR(T25=\"Construção\",T25=\"Start-up\",T25=\"Operação\"),(T30+T31+T36)/((1+'Parâmetros de Fluxo de Caixa'!$B$32)^'Fluxo de Caixa Desc._premio'!T23),\"\")","v":0},{"$f":"IF(OR(U25=\"Construção\",U25=\"Start-up\",U25=\"Operação\"),(U30+U31+U36)/((1+'Parâmetros de Fluxo de Caixa'!$B$32)^'Fluxo de Caixa Desc._premio'!U23),\"\")","v":0},{"$f":"IF(OR(V25=\"Construção\",V25=\"Start-up\",V25=\"Operação\"),(V30+V31+V36)/((1+'Parâmetros de Fluxo de Caixa'!$B$32)^'Fluxo de Caixa Desc._premio'!V23),\"\")","v":0},{"$f":"IF(OR(W25=\"Construção\",W25=\"Start-up\",W25=\"Operação\"),(W30+W31+W36)/((1+'Parâmetros de Fluxo de Caixa'!$B$32)^'Fluxo de Caixa Desc._premio'!W23),\"\")","v":0},{"$f":"IF(OR(X25=\"Construção\",X25=\"Start-up\",X25=\"Operação\"),(X30+X31+X36)/((1+'Parâmetros de Fluxo de Caixa'!$B$32)^'Fluxo de Caixa Desc._premio'!X23),\"\")","v":0},{"$f":"IF(OR(Y25=\"Construção\",Y25=\"Start-up\",Y25=\"Operação\"),(Y30+Y31+Y36)/((1+'Parâmetros de Fluxo de Caixa'!$B$32)^'Fluxo de Caixa Desc._premio'!Y23),\"\")","v":""},{"$f":"IF(OR(Z25=\"Construção\",Z25=\"Start-up\",Z25=\"Operação\"),(Z30+Z31+Z36)/((1+'Parâmetros de Fluxo de Caixa'!$B$32)^'Fluxo de Caixa Desc._premio'!Z23),\"\")","v":""},{"$f":"IF(OR(AA25=\"Construção\",AA25=\"Start-up\",AA25=\"Operação\"),(AA30+AA31+AA36)/((1+'Parâmetros de Fluxo de Caixa'!$B$32)^'Fluxo de Caixa Desc._premio'!AA23),\"\")","v":""},{"$f":"IF(OR(AB25=\"Construção\",AB25=\"Start-up\",AB25=\"Operação\"),(AB30+AB31+AB36)/((1+'Parâmetros de Fluxo de Caixa'!$B$32)^'Fluxo de Caixa Desc._premio'!AB23),\"\")","v":""},{"$f":"IF(OR(AC25=\"Construção\",AC25=\"Start-up\",AC25=\"Operação\"),(AC30+AC31+AC36)/((1+'Parâmetros de Fluxo de Caixa'!$B$32)^'Fluxo de Caixa Desc._premio'!AC23),\"\")","v":""},{"$f":"IF(OR(AD25=\"Construção\",AD25=\"Start-up\",AD25=\"Operação\"),(AD30+AD31+AD36)/((1+'Parâmetros de Fluxo de Caixa'!$B$32)^'Fluxo de Caixa Desc._premio'!AD23),\"\")","v":""},{"$f":"IF(OR(AE25=\"Construção\",AE25=\"Start-up\",AE25=\"Operação\"),(AE30+AE31+AE36)/((1+'Parâmetros de Fluxo de Caixa'!$B$32)^'Fluxo de Caixa Desc._premio'!AE23),\"\")","v":""},{"$f":"IF(OR(AF25=\"Construção\",AF25=\"Start-up\",AF25=\"Operação\"),(AF30+AF31+AF36)/((1+'Parâmetros de Fluxo de Caixa'!$B$32)^'Fluxo de Caixa Desc._premio'!AF23),\"\")","v":""},{"$f":"IF(OR(AG25=\"Construção\",AG25=\"Start-up\",AG25=\"Operação\"),(AG30+AG31+AG36)/((1+'Parâmetros de Fluxo de Caixa'!$B$32)^'Fluxo de Caixa Desc._premio'!AG23),\"\")","v":""},{"$f":"IF(OR(AH25=\"Construção\",AH25=\"Start-up\",AH25=\"Operação\"),(AH30+AH31+AH36)/((1+'Parâmetros de Fluxo de Caixa'!$B$32)^'Fluxo de Caixa Desc._premio'!AH23),\"\")","v":""},{"$f":"IF(OR(AI25=\"Construção\",AI25=\"Start-up\",AI25=\"Operação\"),(AI30+AI31+AI36)/((1+'Parâmetros de Fluxo de Caixa'!$B$32)^'Fluxo de Caixa Desc._premio'!AI23),\"\")","v":""},{"$f":"IF(OR(AJ25=\"Construção\",AJ25=\"Start-up\",AJ25=\"Operação\"),(AJ30+AJ31+AJ36)/((1+'Parâmetros de Fluxo de Caixa'!$B$32)^'Fluxo de Caixa Desc._premio'!AJ23),\"\")","v":""},{"$f":"IF(OR(AK25=\"Construção\",AK25=\"Start-up\",AK25=\"Operação\"),(AK30+AK31+AK36)/((1+'Parâmetros de Fluxo de Caixa'!$B$32)^'Fluxo de Caixa Desc._premio'!AK23),\"\")","v":""},{"$f":"IF(OR(AL25=\"Construção\",AL25=\"Start-up\",AL25=\"Operação\"),(AL30+AL31+AL36)/((1+'Parâmetros de Fluxo de Caixa'!$B$32)^'Fluxo de Caixa Desc._premio'!AL23),\"\")","v":""},{"$f":"IF(OR(AM25=\"Construção\",AM25=\"Start-up\",AM25=\"Operação\"),(AM30+AM31+AM36)/((1+'Parâmetros de Fluxo de Caixa'!$B$32)^'Fluxo de Caixa Desc._premio'!AM23),\"\")","v":""},{"$f":"IF(OR(AN25=\"Construção\",AN25=\"Start-up\",AN25=\"Operação\"),(AN30+AN31+AN36)/((1+'Parâmetros de Fluxo de Caixa'!$B$32)^'Fluxo de Caixa Desc._premio'!AN23),\"\")","v":""},{"$f":"IF(OR(AO25=\"Construção\",AO25=\"Start-up\",AO25=\"Operação\"),(AO30+AO31+AO36)/((1+'Parâmetros de Fluxo de Caixa'!$B$32)^'Fluxo de Caixa Desc._premio'!AO23),\"\")","v":""},{"$f":"IF(OR(AP25=\"Construção\",AP25=\"Start-up\",AP25=\"Operação\"),(AP30+AP31+AP36)/((1+'Parâmetros de Fluxo de Caixa'!$B$32)^'Fluxo de Caixa Desc._premio'!AP23),\"\")","v":""},{"$f":"IF(OR(AQ25=\"Construção\",AQ25=\"Start-up\",AQ25=\"Operação\"),(AQ30+AQ31+AQ36)/((1+'Parâmetros de Fluxo de Caixa'!$B$32)^'Fluxo de Caixa Desc._premio'!AQ23),\"\")","v":""},{"$f":"IF(OR(AR25=\"Construção\",AR25=\"Start-up\",AR25=\"Operação\"),(AR30+AR31+AR36)/((1+'Parâmetros de Fluxo de Caixa'!$B$32)^'Fluxo de Caixa Desc._premio'!AR23),\"\")","v":""},{"$f":"IF(OR(AS25=\"Construção\",AS25=\"Start-up\",AS25=\"Operação\"),(AS30+AS31+AS36)/((1+'Parâmetros de Fluxo de Caixa'!$B$32)^'Fluxo de Caixa Desc._premio'!AS23),\"\")","v":""},{"$f":"IF(OR(AT25=\"Construção\",AT25=\"Start-up\",AT25=\"Operação\"),(AT30+AT31+AT36)/((1+'Parâmetros de Fluxo de Caixa'!$B$32)^'Fluxo de Caixa Desc._premio'!AT23),\"\")","v":""},{"$f":"IF(OR(AU25=\"Construção\",AU25=\"Start-up\",AU25=\"Operação\"),(AU30+AU31+AU36)/((1+'Parâmetros de Fluxo de Caixa'!$B$32)^'Fluxo de Caixa Desc._premio'!AU23),\"\")","v":""},{"$f":"IF(OR(AV25=\"Construção\",AV25=\"Start-up\",AV25=\"Operação\"),(AV30+AV31+AV36)/((1+'Parâmetros de Fluxo de Caixa'!$B$32)^'Fluxo de Caixa Desc._premio'!AV23),\"\")","v":""}]
["Custo OPEX variável descontado",{"$f":"IF(OR(B25=\"Construção\",B25=\"Start-up\",B25=\"Operação\"),(B28)/((1+'Parâmetros de Fluxo de Caixa'!$B$32)^'Fluxo de Caixa Desc._premio'!B23),\"\")","v":0},{"$f":"IF(OR(C25=\"Construção\",C25=\"Start-up\",C25=\"Operação\"),(C28)/((1+'Parâmetros de Fluxo de Caixa'!$B$32)^'Fluxo de Caixa Desc._premio'!C23),\"\")","v":0},{"$f":"IF(OR(D25=\"Construção\",D25=\"Start-up\",D25=\"Operação\"),(D28)/((1+'Parâmetros de Fluxo de Caixa'!$B$32)^'Fluxo de Caixa Desc._premio'!D23),\"\")","v":0},{"$f":"IF(OR(E25=\"Construção\",E25=\"Start-up\",E25=\"Operação\"),(E28)/((1+'Parâmetros de Fluxo de Caixa'!$B$32)^'Fluxo de Caixa Desc._premio'!E23),\"\")","v":-2779.5849742250011},{"$f":"IF(OR(F25=\"Construção\",F25=\"Start-up\",F25=\"Operação\"),(F28)/((1+'Parâmetros de Fluxo de Caixa'!$B$32)^'Fluxo de Caixa Desc._premio'!F23),\"\")","v":-2864.5846486711607},{"$f":"IF(OR(G25=\"Construção\",G25=\"Start-up\",G25=\"Operação\"),(G28)/((1+'Parâmetros de Fluxo de Caixa'!$B$32)^'Fluxo de Caixa Desc._premio'!G23),\"\")","v":-2583.1606606051378},{"$f":"IF(OR(H25=\"Construção\",H25=\"Start-up\",H25=\"Operação\"),(H28)/((1+'Parâmetros de Fluxo de Caixa'!$B$32)^'Fluxo de Caixa Desc._premio'!H23),\"\")","v":-2329.3844717045972},{"$f":"IF(OR(I25=\"Construção\",I25=\"Start-up\",I25=\"Operação\"),(I28)/((1+'Parâmetros de Fluxo de Caixa'!$B$32)^'Fluxo de Caixa Desc._premio'!I23),\"\")","v":-2100.5398927635379},{"$f":"IF(OR(J25=\"Construção\",J25=\"Start-up\",J25=\"Operação\"),(J28)/((1+'Parâmetros de Fluxo de Caixa'!$B$32)^'Fluxo de Caixa Desc._premio'!J23),\"\")","v":-1894.1775798231563},{"$f":"IF(OR(K25=\"Construção\",K25=\"Start-up\",K25=\"Operação\"),(K28)/((1+'Parâmetros de Fluxo de Caixa'!$B$32)^'Fluxo de Caixa Desc._premio'!K23),\"\")","v":-1708.0888186247878},{"$f":"IF(OR(L25=\"Construção\",L25=\"Start-up\",L25=\"Operação\"),(L28)/((1+'Parâmetros de Fluxo de Caixa'!$B$32)^'Fluxo de Caixa Desc._premio'!L23),\"\")","v":-1540.2818845440097},{"$f":"IF(OR(M25=\"Construção\",M25=\"Start-up\",M25=\"Operação\"),(M28)/((1+'Parâmetros de Fluxo de Caixa'!$B$32)^'Fluxo de Caixa Desc._premio'!M23),\"\")","v":-1388.960724984174},{"$f":"IF(OR(N25=\"Construção\",N25=\"Start-up\",N25=\"Operação\"),(N28)/((1+'Parâmetros de Fluxo de Caixa'!$B$32)^'Fluxo de Caixa Desc._premio'!N23),\"\")","v":-1252.5057360651181},{"$f":"IF(OR(O25=\"Construção\",O25=\"Start-up\",O25=\"Operação\"),(O28)/((1+'Parâmetros de Fluxo de Caixa'!$B$32)^'Fluxo de Caixa Desc._premio'!O23),\"\")","v":-1129.4564278582448},{"$f":"IF(OR(P25=\"Construção\",P25=\"Start-up\",P25=\"Operação\"),(P28)/((1+'Parâmetros de Fluxo de Caixa'!$B$32)^'Fluxo de Caixa Desc._premio'!P23),\"\")","v":-1018.4957926324292},{"$f":"IF(OR(Q25=\"Construção\",Q25=\"Start-up\",Q25=\"Operação\"),(Q28)/((1+'Parâmetros de Fluxo de Caixa'!$B$32)^'Fluxo de Caixa Desc._premio'!Q23),\"\")","v":-918.43620880269441},{"$f":"IF(OR(R25=\"Construção\",R25=\"Start-up\",R25=\"Operação\"),(R28)/((1+'Parâmetros de Fluxo de Caixa'!$B$32)^'Fluxo de Caixa Desc._premio'!R23),\"\")","v":-828.20672971036117},{"$f":"IF(OR(S25=\"Construção\",S25=\"Start-up\",S25=\"Operação\"),(S28)/((1+'Parâmetros de Fluxo de Caixa'!$B$32)^'Fluxo de Caixa Desc._premio'!S23),\"\")","v":-746.8416211853505},{"$f":"IF(OR(T25=\"Construção\",T25=\"Start-up\",T25=\"Operação\"),(T28)/((1+'Parâmetros de Fluxo de Caixa'!$B$32)^'Fluxo de Caixa Desc._premio'!T23),\"\")","v":-673.47002520714307},{"$f":"IF(OR(U25=\"Construção\",U25=\"Start-up\",U25=\"Operação\"),(U28)/((1+'Parâmetros de Fluxo de Caixa'!$B$32)^'Fluxo de Caixa Desc._premio'!U23),\"\")","v":-607.30663903363984},{"$f":"IF(OR(V25=\"Construção\",V25=\"Start-up\",V25=\"Operação\"),(V28)/((1+'Parâmetros de Fluxo de Caixa'!$B$32)^'Fluxo de Caixa Desc._premio'!V23),\"\")","v":-547.64331003580321},{"$f":"IF(OR(W25=\"Construção\",W25=\"Start-up\",W25=\"Operação\"),(W28)/((1+'Parâmetros de Fluxo de Caixa'!$B$32)^'Fluxo de Caixa Desc._premio'!W23),\"\")","v":-493.84145627684819},{"$f":"IF(OR(X25=\"Construção\",X25=\"Start-up\",X25=\"Operação\"),(X28)/((1+'Parâmetros de Fluxo de Caixa'!$B$32)^'Fluxo de Caixa Desc._premio'!X23),\"\")","v":-445.32523171276227},{"$f":"IF(OR(Y25=\"Construção\",Y25=\"Start-up\",Y25=\"Operação\"),(Y28)/((1+'Parâmetros de Fluxo de Caixa'!$B$32)^'Fluxo de Caixa Desc._premio'!Y23),\"\")","v":""},{"$f":"IF(OR(Z25=\"Construção\",Z25=\"Start-up\",Z25=\"Operação\"),(Z28)/((1+'Parâmetros de Fluxo de Caixa'!$B$32)^'Fluxo de Caixa Desc._premio'!Z23),\"\")","v":""},{"$f":"IF(OR(AA25=\"Construção\",AA25=\"Start-up\",AA25=\"Operação\"),(AA28)/((1+'Parâmetros de Fluxo de Caixa'!$B$32)^'Fluxo de Caixa Desc._premio'!AA23),\"\")","v":""},{"$f":"IF(OR(AB25=\"Construção\",AB25=\"Start-up\",AB25=\"Operação\"),(AB28)/((1+'Parâmetros de Fluxo de Caixa'!$B$32)^'Fluxo de Caixa Desc._premio'!AB23),\"\")","v":""},{"$f":"IF(OR(AC25=\"Construção\",AC25=\"Start-up\",AC25=\"Operação\"),(AC28)/((1+'Parâmetros de Fluxo de Caixa'!$B$32)^'Fluxo de Caixa Desc._premio'!AC23),\"\")","v":""},{"$f":"IF(OR(AD25=\"Construção\",AD25=\"Start-up\",AD25=\"Operação\"),(AD28)/((1+'Parâmetros de Fluxo de Caixa'!$B$32)^'Fluxo de Caixa Desc._premio'!AD23),\"\")","v":""},{"$f":"IF(OR(AE25=\"Construção\",AE25=\"Start-up\",AE25=\"Operação\"),(AE28)/((1+'Parâmetros de Fluxo de Caixa'!$B$32)^'Fluxo de Caixa Desc._premio'!AE23),\"\")","v":""},{"$f":"IF(OR(AF25=\"Construção\",AF25=\"Start-up\",AF25=\"Operação\"),(AF28)/((1+'Parâmetros de Fluxo de Caixa'!$B$32)^'Fluxo de Caixa Desc._premio'!AF23),\"\")","v":""},{"$f":"IF(OR(AG25=\"Construção\",AG25=\"Start-up\",AG25=\"Operação\"),(AG28)/((1+'Parâmetros de Fluxo de Caixa'!$B$32)^'Fluxo de Caixa Desc._premio'!AG23),\"\")","v":""},{"$f":"IF(OR(AH25=\"Construção\",AH25=\"Start-up\",AH25=\"Operação\"),(AH28)/((1+'Parâmetros de Fluxo de Caixa'!$B$32)^'Fluxo de Caixa Desc._premio'!AH23),\"\")","v":""},{"$f":"IF(OR(AI25=\"Construção\",AI25=\"Start-up\",AI25=\"Operação\"),(AI28)/((1+'Parâmetros de Fluxo de Caixa'!$B$32)^'Fluxo de Caixa Desc._premio'!AI23),\"\")","v":""},{"$f":"IF(OR(AJ25=\"Construção\",AJ25=\"Start-up\",AJ25=\"Operação\"),(AJ28)/((1+'Parâmetros de Fluxo de Caixa'!$B$32)^'Fluxo de Caixa Desc._premio'!AJ23),\"\")","v":""},{"$f":"IF(OR(AK25=\"Construção\",AK25=\"Start-up\",AK25=\"Operação\"),(AK28)/((1+'Parâmetros de Fluxo de Caixa'!$B$32)^'Fluxo de Caixa Desc._premio'!AK23),\"\")","v":""},{"$f":"IF(OR(AL25=\"Construção\",AL25=\"Start-up\",AL25=\"Operação\"),(AL28)/((1+'Parâmetros de Fluxo de Caixa'!$B$32)^'Fluxo de Caixa Desc._premio'!AL23),\"\")","v":""},{"$f":"IF(OR(AM25=\"Construção\",AM25=\"Start-up\",AM25=\"Operação\"),(AM28)/((1+'Parâmetros de Fluxo de Caixa'!$B$32)^'Fluxo de Caixa Desc._premio'!AM23),\"\")","v":""},{"$f":"IF(OR(AN25=\"Construção\",AN25=\"Start-up\",AN25=\"Operação\"),(AN28)/((1+'Parâmetros de Fluxo de Caixa'!$B$32)^'Fluxo de Caixa Desc._premio'!AN23),\"\")","v":""},{"$f":"IF(OR(AO25=\"Construção\",AO25=\"Start-up\",AO25=\"Operação\"),(AO28)/((1+'Parâmetros de Fluxo de Caixa'!$B$32)^'Fluxo de Caixa Desc._premio'!AO23),\"\")","v":""},{"$f":"IF(OR(AP25=\"Construção\",AP25=\"Start-up\",AP25=\"Operação\"),(AP28)/((1+'Parâmetros de Fluxo de Caixa'!$B$32)^'Fluxo de Caixa Desc._premio'!AP23),\"\")","v":""},{"$f":"IF(OR(AQ25=\"Construção\",AQ25=\"Start-up\",AQ25=\"Operação\"),(AQ28)/((1+'Parâmetros de Fluxo de Caixa'!$B$32)^'Fluxo de Caixa Desc._premio'!AQ23),\"\")","v":""},{"$f":"IF(OR(AR25=\"Construção\",AR25=\"Start-up\",AR25=\"Operação\"),(AR28)/((1+'Parâmetros de Fluxo de Caixa'!$B$32)^'Fluxo de Caixa Desc._premio'!AR23),\"\")","v":""},{"$f":"IF(OR(AS25=\"Construção\",AS25=\"Start-up\",AS25=\"Operação\"),(AS28)/((1+'Parâmetros de Fluxo de Caixa'!$B$32)^'Fluxo de Caixa Desc._premio'!AS23),\"\")","v":""},{"$f":"IF(OR(AT25=\"Construção\",AT25=\"Start-up\",AT25=\"Operação\"),(AT28)/((1+'Parâmetros de Fluxo de Caixa'!$B$32)^'Fluxo de Caixa Desc._premio'!AT23),\"\")","v":""},{"$f":"IF(OR(AU25=\"Construção\",AU25=\"Start-up\",AU25=\"Operação\"),(AU28)/((1+'Parâmetros de Fluxo de Caixa'!$B$32)^'Fluxo de Caixa Desc._premio'!AU23),\"\")","v":""},{"$f":"IF(OR(AV25=\"Construção\",AV25=\"Start-up\",AV25=\"Operação\"),(AV28)/((1+'Parâmetros de Fluxo de Caixa'!$B$32)^'Fluxo de Caixa Desc._premio'!AV23),\"\")","v":""}]
["Custo OPEX fixo descontado",{"$f":"IF(OR(B25=\"Construção\",B25=\"Start-up\",B25=\"Operação\"),(B29)/((1+'Parâmetros de Fluxo de Caixa'!$B$32)^'Fluxo de Caixa Desc._premio'!B23),\"\")","v":0},{"$f":"IF(OR(C25=\"Construção\",C25=\"Start-up\",C25=\"Operação\"),(C29)/((1+'Parâmetros de Fluxo de Caixa'!$B$32)^'Fluxo de Caixa Desc._premio'!C23),\"\")","v":0},{"$f":"IF(OR(D25=\"Construção\",D25=\"Start-up\",D25=\"Operação\"),(D29)/((1+'Parâmetros de Fluxo de Caixa'!$B$32)^'Fluxo de Caixa Desc._premio'!D23),\"\")","v":0},{"$f":"IF(OR(E25=\"Construção\",E25=\"Start-up\",E25=\"Operação\"),(E29)/((1+'Parâmetros de Fluxo de Caixa'!$B$32)^'Fluxo de Caixa Desc._premio'!E23),\"\")","v":-222.07790052886958},{"$f":"IF(OR(F25=\"Construção\",F25=\"Start-up\",F25=\"Operação\"),(F29)/((1+'Parâmetros de Fluxo de Caixa'!$B$32)^'Fluxo de Caixa Desc._premio'!F23),\"\")","v":-200.26041000466529},{"$f":"IF(OR(G25=\"Construção\",G25=\"Start-up\",G25=\"Operação\"),(G29)/((1+'Parâmetros de Fluxo de Caixa'!$B$32)^'Fluxo de Caixa Desc._premio'!G23),\"\")","v":-180.58632452724939},{"$f":"IF(OR(H25=\"Construção\",H25=\"Start-up\",H25=\"Operação\"),(H29)/((1+'Parâmetros de Fluxo de Caixa'!$B$32)^'Fluxo de Caixa Desc._premio'!H23),\"\")","v":-162.84507060332751},{"$f":"IF(OR(I25=\"Construção\",I25=\"Start-up\",I25=\"Operação\"),(I29)/((1+'Parâmetros de Fluxo de Caixa'!$B$32)^'Fluxo de Caixa Desc._premio'!I23),\"\")","v":-146.8467620082784},{"$f":"IF(OR(J25=\"Construção\",J25=\"Start-up\",J25=\"Operação\"),(J29)/((1+'Parâmetros de Fluxo de Caixa'!$B$32)^'Fluxo de Caixa Desc._premio'!J23),\"\")","v":-132.42016741693948},{"$f":"IF(OR(K25=\"Construção\",K25=\"Start-up\",K25=\"Operação\"),(K29)/((1+'Parâmetros de Fluxo de Caixa'!$B$32)^'Fluxo de Caixa Desc._premio'!K23),\"\")","v":-119.41087769944666},{"$f":"IF(OR(L25=\"Construção\",L25=\"Start-up\",L25=\"Operação\"),(L29)/((1+'Parâmetros de Fluxo de Caixa'!$B$32)^'Fluxo de Caixa Desc._premio'!L23),\"\")","v":-107.67965326653233},{"$f":"IF(OR(M25=\"Construção\",M25=\"Start-up\",M25=\"Operação\"),(M29)/((1+'Parâmetros de Fluxo de Caixa'!$B$32)^'Fluxo de Caixa Desc._premio'!M23),\"\")","v":-97.100933775770727},{"$f":"IF(OR(N25=\"Construção\",N25=\"Start-up\",N25=\"Operação\"),(N29)/((1+'Parâmetros de Fluxo de Caixa'!$B$32)^'Fluxo de Caixa Desc._premio'!N23),\"\")","v":-87.561494248023266},{"$f":"IF(OR(O25=\"Construção\",O25=\"Start-up\",O25=\"Operação\"),(O29)/((1+'Parâmetros de Fluxo de Caixa'!$B$32)^'Fluxo de Caixa Desc._premio'!O23),\"\")","v":-78.959233210378642},{"$f":"IF(OR(P25=\"Construção\",P25=\"Start-up\",P25=\"Operação\"),(P29)/((1+'Parâmetros de Fluxo de Caixa'!$B$32)^'Fluxo de Caixa Desc._premio'!P23),\"\")","v":-71.202079894972883},{"$f":"IF(OR(Q25=\"Construção\",Q25=\"Start-up\",Q25=\"Operação\"),(Q29)/((1+'Parâmetros de Fluxo de Caixa'!$B$32)^'Fluxo de Caixa Desc._premio'!Q23),\"\")","v":-64.20700879734126},{"$f":"IF(OR(R25=\"Construção\",R25=\"Start-up\",R25=\"Operação\"),(R29)/((1+'Parâmetros de Fluxo de Caixa'!$B$32)^'Fluxo de Caixa Desc._premio'!R23),\"\")","v":-57.899151047031751},{"$f":"IF(OR(S25=\"Construção\",S25=\"Start-up\",S25=\"Operação\"),(S29)/((1+'Parâmetros de Fluxo de Caixa'!$B$32)^'Fluxo de Caixa Desc._premio'!S23),\"\")","v":-52.210993079400609},{"$f":"IF(OR(T25=\"Construção\",T25=\"Start-up\",T25=\"Operação\"),(T29)/((1+'Parâmetros de Fluxo de Caixa'!$B$32)^'Fluxo de Caixa Desc._premio'!T23),\"\")","v":-47.081654031902559},{"$f":"IF(OR(U25=\"Construção\",U25=\"Start-up\",U25=\"Operação\"),(U29)/((1+'Parâmetros de Fluxo de Caixa'!$B$32)^'Fluxo de Caixa Desc._premio'!U23),\"\")","v":-42.456234130783841},{"$f":"IF(OR(V25=\"Construção\",V25=\"Start-up\",V25=\"Operação\"),(V29)/((1+'Parâmetros de Fluxo de Caixa'!$B$32)^'Fluxo de Caixa Desc._premio'!V23),\"\")","v":-38.285227093902385},{"$f":"IF(OR(W25=\"Construção\",W25=\"Start-up\",W25=\"Operação\"),(W29)/((1+'Parâmetros de Fluxo de Caixa'!$B$32)^'Fluxo de Caixa Desc._premio'!W23),\"\")","v":-34.523990260570386},{"$f":"IF(OR(X25=\"Construção\",X25=\"Start-up\",X25=\"Operação\"),(X29)/((1+'Parâmetros de Fluxo de Caixa'!$B$32)^'Fluxo de Caixa Desc._premio'!X23),\"\")","v":-31.132266777171385},{"$f":"IF(OR(Y25=\"Construção\",Y25=\"Start-up\",Y25=\"Operação\"),(Y29)/((1+'Parâmetros de Fluxo de Caixa'!$B$32)^'Fluxo de Caixa Desc._premio'!Y23),\"\")","v":""},{"$f":"IF(OR(Z25=\"Construção\",Z25=\"Start-up\",Z25=\"Operação\"),(Z29)/((1+'Parâmetros de Fluxo de Caixa'!$B$32)^'Fluxo de Caixa Desc._premio'!Z23),\"\")","v":""},{"$f":"IF(OR(AA25=\"Construção\",AA25=\"Start-up\",AA25=\"Operação\"),(AA29)/((1+'Parâmetros de Fluxo de Caixa'!$B$32)^'Fluxo de Caixa Desc._premio'!AA23),\"\")","v":""},{"$f":"IF(OR(AB25=\"Construção\",AB25=\"Start-up\",AB25=\"Operação\"),(AB29)/((1+'Parâmetros de Fluxo de Caixa'!$B$32)^'Fluxo de Caixa Desc._premio'!AB23),\"\")","v":""},{"$f":"IF(OR(AC25=\"Construção\",AC25=\"Start-up\",AC25=\"Operação\"),(AC29)/((1+'Parâmetros de Fluxo de Caixa'!$B$32)^'Fluxo de Caixa Desc._premio'!AC23),\"\")","v":""},{"$f":"IF(OR(AD25=\"Construção\",AD25=\"Start-up\",AD25=\"Operação\"),(AD29)/((1+'Parâmetros de Fluxo de Caixa'!$B$32)^'Fluxo de Caixa Desc._premio'!AD23),\"\")","v":""},{"$f":"IF(OR(AE25=\"Construção\",AE25=\"Start-up\",AE25=\"Operação\"),(AE29)/((1+'Parâmetros de Fluxo de Caixa'!$B$32)^'Fluxo de Caixa Desc._premio'!AE23),\"\")","v":""},{"$f":"IF(OR(AF25=\"Construção\",AF25=\"Start-up\",AF25=\"Operação\"),(AF29)/((1+'Parâmetros de Fluxo de Caixa'!$B$32)^'Fluxo de Caixa Desc._premio'!AF23),\"\")","v":""},{"$f":"IF(OR(AG25=\"Construção\",AG25=\"Start-up\",AG25=\"Operação\"),(AG29)/((1+'Parâmetros de Fluxo de Caixa'!$B$32)^'Fluxo de Caixa Desc._premio'!AG23),\"\")","v":""},{"$f":"IF(OR(AH25=\"Construção\",AH25=\"Start-up\",AH25=\"Operação\"),(AH29)/((1+'Parâmetros de Fluxo de Caixa'!$B$32)^'Fluxo de Caixa Desc._premio'!AH23),\"\")","v":""},{"$f":"IF(OR(AI25=\"Construção\",AI25=\"Start-up\",AI25=\"Operação\"),(AI29)/((1+'Parâmetros de Fluxo de Caixa'!$B$32)^'Fluxo de Caixa Desc._premio'!AI23),\"\")","v":""},{"$f":"IF(OR(AJ25=\"Construção\",AJ25=\"Start-up\",AJ25=\"Operação\"),(AJ29)/((1+'Parâmetros de Fluxo de Caixa'!$B$32)^'Fluxo de Caixa Desc._premio'!AJ23),\"\")","v":""},{"$f":"IF(OR(AK25=\"Construção\",AK25=\"Start-up\",AK25=\"Operação\"),(AK29)/((1+'Parâmetros de Fluxo de Caixa'!$B$32)^'Fluxo de Caixa Desc._premio'!AK23),\"\")","v":""},{"$f":"IF(OR(AL25=\"Construção\",AL25=\"Start-up\",AL25=\"Operação\"),(AL29)/((1+'Parâmetros de Fluxo de Caixa'!$B$32)^'Fluxo de Caixa Desc._premio'!AL23),\"\")","v":""},{"$f":"IF(OR(AM25=\"Construção\",AM25=\"Start-up\",AM25=\"Operação\"),(AM29)/((1+'Parâmetros de Fluxo de Caixa'!$B$32)^'Fluxo de Caixa Desc._premio'!AM23),\"\")","v":""},{"$f":"IF(OR(AN25=\"Construção\",AN25=\"Start-up\",AN25=\"Operação\"),(AN29)/((1+'Parâmetros de Fluxo de Caixa'!$B$32)^'Fluxo de Caixa Desc._premio'!AN23),\"\")","v":""},{"$f":"IF(OR(AO25=\"Construção\",AO25=\"Start-up\",AO25=\"Operação\"),(AO29)/((1+'Parâmetros de Fluxo de Caixa'!$B$32)^'Fluxo de Caixa Desc._premio'!AO23),\"\")","v":""},{"$f":"IF(OR(AP25=\"Construção\",AP25=\"Start-up\",AP25=\"Operação\"),(AP29)/((1+'Parâmetros de Fluxo de Caixa'!$B$32)^'Fluxo de Caixa Desc._premio'!AP23),\"\")","v":""},{"$f":"IF(OR(AQ25=\"Construção\",AQ25=\"Start-up\",AQ25=\"Operação\"),(AQ29)/((1+'Parâmetros de Fluxo de Caixa'!$B$32)^'Fluxo de Caixa Desc._premio'!AQ23),\"\")","v":""},{"$f":"IF(OR(AR25=\"Construção\",AR25=\"Start-up\",AR25=\"Operação\"),(AR29)/((1+'Parâmetros de Fluxo de Caixa'!$B$32)^'Fluxo de Caixa Desc._premio'!AR23),\"\")","v":""},{"$f":"IF(OR(AS25=\"Construção\",AS25=\"Start-up\",AS25=\"Operação\"),(AS29)/((1+'Parâmetros de Fluxo de Caixa'!$B$32)^'Fluxo de Caixa Desc._premio'!AS23),\"\")","v":""},{"$f":"IF(OR(AT25=\"Construção\",AT25=\"Start-up\",AT25=\"Operação\"),(AT29)/((1+'Parâmetros de Fluxo de Caixa'!$B$32)^'Fluxo de Caixa Desc._premio'!AT23),\"\")","v":""},{"$f":"IF(OR(AU25=\"Construção\",AU25=\"Start-up\",AU25=\"Operação\"),(AU29)/((1+'Parâmetros de Fluxo de Caixa'!$B$32)^'Fluxo de Caixa Desc._premio'!AU23),\"\")","v":""},{"$f":"IF(OR(AV25=\"Construção\",AV25=\"Start-up\",AV25=\"Operação\"),(AV29)/((1+'Parâmetros de Fluxo de Caixa'!$B$32)^'Fluxo de Caixa Desc._premio'!AV23),\"\")","v":""}]
["Tributos descontado",{"$f":"IF(OR(B25=\"Construção\",B25=\"Start-up\",B25=\"Operação\"),(B35+B33)/((1+'Parâmetros de Fluxo de Caixa'!$B$32)^'Fluxo de Caixa Desc._premio'!B23),\"\")","v":0},{"$f":"IF(OR(C25=\"Construção\",C25=\"Start-up\",C25=\"Operação\"),(C35+C33)/((1+'Parâmetros de Fluxo de Caixa'!$B$32)^'Fluxo de Caixa Desc._premio'!C23),\"\")","v":0},{"$f":"IF(OR(D25=\"Construção\",D25=\"Start-up\",D25=\"Operação\"),(D35+D33)/((1+'Parâmetros de Fluxo de Caixa'!$B$32)^'Fluxo de Caixa Desc._premio'!D23),\"\")","v":0},{"$f":"IF(OR(E25=\"Construção\",E25=\"Start-up\",E25=\"Operação\"),(E35+E33)/((1+'Parâmetros de Fluxo de Caixa'!$B$32)^'Fluxo de Caixa Desc._premio'!E23),\"\")","v":-402.22652855451395},{"$f":"IF(OR(F25=\"Construção\",F25=\"Start-up\",F25=\"Operação\"),(F35+F33)/((1+'Parâmetros de Fluxo de Caixa'!$B$32)^'Fluxo de Caixa Desc._premio'!F23),\"\")","v":-439.21805922258181},{"$f":"IF(OR(G25=\"Construção\",G25=\"Start-up\",G25=\"Operação\"),(G35+G33)/((1+'Parâmetros de Fluxo de Caixa'!$B$32)^'Fluxo de Caixa Desc._premio'!G23),\"\")","v":-396.06817432936464},{"$f":"IF(OR(H25=\"Construção\",H25=\"Start-up\",H25=\"Operação\"),(H35+H33)/((1+'Parâmetros de Fluxo de Caixa'!$B$32)^'Fluxo de Caixa Desc._premio'!H23),\"\")","v":-357.15744246549571},{"$f":"IF(OR(I25=\"Construção\",I25=\"Start-up\",I25=\"Operação\"),(I35+I33)/((1+'Parâmetros de Fluxo de Caixa'!$B$32)^'Fluxo de Caixa Desc._premio'!I23),\"\")","v":-322.06939859402996},{"$f":"IF(OR(J25=\"Construção\",J25=\"Start-up\",J25=\"Operação\"),(J35+J33)/((1+'Parâmetros de Fluxo de Caixa'!$B$32)^'Fluxo de Caixa Desc._premio'!J23),\"\")","v":-290.42849224888033},{"$f":"IF(OR(K25=\"Construção\",K25=\"Start-up\",K25=\"Operação\"),(K35+K33)/((1+'Parâmetros de Fluxo de Caixa'!$B$32)^'Fluxo de Caixa Desc._premio'!K23),\"\")","v":-261.89606798465167},{"$f":"IF(OR(L25=\"Construção\",L25=\"Start-up\",L25=\"Operação\"),(L35+L33)/((1+'Parâmetros de Fluxo de Caixa'!$B$32)^'Fluxo de Caixa Desc._premio'!L23),\"\")","v":-236.1667407171746},{"$f":"IF(OR(M25=\"Construção\",M25=\"Start-up\",M25=\"Operação\"),(M35+M33)/((1+'Parâmetros de Fluxo de Caixa'!$B$32)^'Fluxo de Caixa Desc._premio'!M23),\"\")","v":-212.96512715968632},{"$f":"IF(OR(N25=\"Construção\",N25=\"Start-up\",N25=\"Operação\"),(N35+N33)/((1+'Parâmetros de Fluxo de Caixa'!$B$32)^'Fluxo de Caixa Desc._premio'!N23),\"\")","v":-192.04289837092668},{"$f":"IF(OR(O25=\"Construção\",O25=\"Start-up\",O25=\"Operação\"),(O35+O33)/((1+'Parâmetros de Fluxo de Caixa'!$B$32)^'Fluxo de Caixa Desc._premio'!O23),\"\")","v":-214.47787462450853},{"$f":"IF(OR(P25=\"Construção\",P25=\"Start-up\",P25=\"Operação\"),(P35+P33)/((1+'Parâmetros de Fluxo de Caixa'!$B$32)^'Fluxo de Caixa Desc._premio'!P23),\"\")","v":-193.40702972671386},{"$f":"IF(OR(Q25=\"Construção\",Q25=\"Start-up\",Q25=\"Operação\"),(Q35+Q33)/((1+'Parâmetros de Fluxo de Caixa'!$B$32)^'Fluxo de Caixa Desc._premio'!Q23),\"\")","v":-174.40623753474819},{"$f":"IF(OR(R25=\"Construção\",R25=\"Start-up\",R25=\"Operação\"),(R35+R33)/((1+'Parâmetros de Fluxo de Caixa'!$B$32)^'Fluxo de Caixa Desc._premio'!R23),\"\")","v":-157.2721308734605},{"$f":"IF(OR(S25=\"Construção\",S25=\"Start-up\",S25=\"Operação\"),(S35+S33)/((1+'Parâmetros de Fluxo de Caixa'!$B$32)^'Fluxo de Caixa Desc._premio'!S23),\"\")","v":-141.8213218695854},{"$f":"IF(OR(T25=\"Construção\",T25=\"Start-up\",T25=\"Operação\"),(T35+T33)/((1+'Parâmetros de Fluxo de Caixa'!$B$32)^'Fluxo de Caixa Desc._premio'!T23),\"\")","v":-127.88843913496333},{"$f":"IF(OR(U25=\"Construção\",U25=\"Start-up\",U25=\"Operação\"),(U35+U33)/((1+'Parâmetros de Fluxo de Caixa'!$B$32)^'Fluxo de Caixa Desc._premio'!U23),\"\")","v":-115.32435778180944},{"$f":"IF(OR(V25=\"Construção\",V25=\"Start-up\",V25=\"Operação\"),(V35+V33)/((1+'Parâmetros de Fluxo de Caixa'!$B$32)^'Fluxo de Caixa Desc._premio'!V23),\"\")","v":-103.99460332572619},{"$f":"IF(OR(W25=\"Construção\",W25=\"Start-up\",W25=\"Operação\"),(W35+W33)/((1+'Parâmetros de Fluxo de Caixa'!$B$32)^'Fluxo de Caixa Desc._premio'!W23),\"\")","v":-93.777912393291601},{"$f":"IF(OR(X25=\"Construção\",X25=\"Start-up\",X25=\"Operação\"),(X35+X33)/((1+'Parâmetros de Fluxo de Caixa'!$B$32)^'Fluxo de Caixa Desc._premio'!X23),\"\")","v":-84.56493482934745},{"$f":"IF(OR(Y25=\"Construção\",Y25=\"Start-up\",Y25=\"Operação\"),(Y35+Y33)/((1+'Parâmetros de Fluxo de Caixa'!$B$32)^'Fluxo de Caixa Desc._premio'!Y23),\"\")","v":""},{"$f":"IF(OR(Z25=\"Construção\",Z25=\"Start-up\",Z25=\"Operação\"),(Z35+Z33)/((1+'Parâmetros de Fluxo de Caixa'!$B$32)^'Fluxo de Caixa Desc._premio'!Z23),\"\")","v":""},{"$f":"IF(OR(AA25=\"Construção\",AA25=\"Start-up\",AA25=\"Operação\"),(AA35+AA33)/((1+'Parâmetros de Fluxo de Caixa'!$B$32)^'Fluxo de Caixa Desc._premio'!AA23),\"\")","v":""},{"$f":"IF(OR(AB25=\"Construção\",AB25=\"Start-up\",AB25=\"Operação\"),(AB35+AB33)/((1+'Parâmetros de Fluxo de Caixa'!$B$32)^'Fluxo de Caixa Desc._premio'!AB23),\"\")","v":""},{"$f":"IF(OR(AC25=\"Construção\",AC25=\"Start-up\",AC25=\"Operação\"),(AC35+AC33)/((1+'Parâmetros de Fluxo de Caixa'!$B$32)^'Fluxo de Caixa Desc._premio'!AC23),\"\")","v":""},{"$f":"IF(OR(AD25=\"Construção\",AD25=\"Start-up\",AD25=\"Operação\"),(AD35+AD33)/((1+'Parâmetros de Fluxo de Caixa'!$B$32)^'Fluxo de Caixa Desc._premio'!AD23),\"\")","v":""},{"$f":"IF(OR(AE25=\"Construção\",AE25=\"Start-up\",AE25=\"Operação\"),(AE35+AE33)/((1+'Parâmetros de Fluxo de Caixa'!$B$32)^'Fluxo de Caixa Desc._premio'!AE23),\"\")","v":""},{"$f":"IF(OR(AF25=\"Construção\",AF25=\"Start-up\",AF25=\"Operação\"),(AF35+AF33)/((1+'Parâmetros de Fluxo de Caixa'!$B$32)^'Fluxo de Caixa Desc._premio'!AF23),\"\")","v":""},{"$f":"IF(OR(AG25=\"Construção\",AG25=\"Start-up\",AG25=\"Operação\"),(AG35+AG33)/((1+'Parâmetros de Fluxo de Caixa'!$B$32)^'Fluxo de Caixa Desc._premio'!AG23),\"\")","v":""},{"$f":"IF(OR(AH25=\"Construção\",AH25=\"Start-up\",AH25=\"Operação\"),(AH35+AH33)/((1+'Parâmetros de Fluxo de Caixa'!$B$32)^'Fluxo de Caixa Desc._premio'!AH23),\"\")","v":""},{"$f":"IF(OR(AI25=\"Construção\",AI25=\"Start-up\",AI25=\"Operação\"),(AI35+AI33)/((1+'Parâmetros de Fluxo de Caixa'!$B$32)^'Fluxo de Caixa Desc._premio'!AI23),\"\")","v":""},{"$f":"IF(OR(AJ25=\"Construção\",AJ25=\"Start-up\",AJ25=\"Operação\"),(AJ35+AJ33)/((1+'Parâmetros de Fluxo de Caixa'!$B$32)^'Fluxo de Caixa Desc._premio'!AJ23),\"\")","v":""},{"$f":"IF(OR(AK25=\"Construção\",AK25=\"Start-up\",AK25=\"Operação\"),(AK35+AK33)/((1+'Parâmetros de Fluxo de Caixa'!$B$32)^'Fluxo de Caixa Desc._premio'!AK23),\"\")","v":""},{"$f":"IF(OR(AL25=\"Construção\",AL25=\"Start-up\",AL25=\"Operação\"),(AL35+AL33)/((1+'Parâmetros de Fluxo de Caixa'!$B$32)^'Fluxo de Caixa Desc._premio'!AL23),\"\")","v":""},{"$f":"IF(OR(AM25=\"Construção\",AM25=\"Start-up\",AM25=\"Operação\"),(AM35+AM33)/((1+'Parâmetros de Fluxo de Caixa'!$B$32)^'Fluxo de Caixa Desc._premio'!AM23),\"\")","v":""},{"$f":"IF(OR(AN25=\"Construção\",AN25=\"Start-up\",AN25=\"Operação\"),(AN35+AN33)/((1+'Parâmetros de Fluxo de Caixa'!$B$32)^'Fluxo de Caixa Desc._premio'!AN23),\"\")","v":""},{"$f":"IF(OR(AO25=\"Construção\",AO25=\"Start-up\",AO25=\"Operação\"),(AO35+AO33)/((1+'Parâmetros de Fluxo de Caixa'!$B$32)^'Fluxo de Caixa Desc._premio'!AO23),\"\")","v":""},{"$f":"IF(OR(AP25=\"Construção\",AP25=\"Start-up\",AP25=\"Operação\"),(AP35+AP33)/((1+'Parâmetros de Fluxo de Caixa'!$B$32)^'Fluxo de Caixa Desc._premio'!AP23),\"\")","v":""},{"$f":"IF(OR(AQ25=\"Construção\",AQ25=\"Start-up\",AQ25=\"Operação\"),(AQ35+AQ33)/((1+'Parâmetros de Fluxo de Caixa'!$B$32)^'Fluxo de Caixa Desc._premio'!AQ23),\"\")","v":""},{"$f":"IF(OR(AR25=\"Construção\",AR25=\"Start-up\",AR25=\"Operação\"),(AR35+AR33)/((1+'Parâmetros de Fluxo de Caixa'!$B$32)^'Fluxo de Caixa Desc._premio'!AR23),\"\")","v":""},{"$f":"IF(OR(AS25=\"Construção\",AS25=\"Start-up\",AS25=\"Operação\"),(AS35+AS33)/((1+'Parâmetros de Fluxo de Caixa'!$B$32)^'Fluxo de Caixa Desc._premio'!AS23),\"\")","v":""},{"$f":"IF(OR(AT25=\"Construção\",AT25=\"Start-up\",AT25=\"Operação\"),(AT35+AT33)/((1+'Parâmetros de Fluxo de Caixa'!$B$32)^'Fluxo de Caixa Desc._premio'!AT23),\"\")","v":""},{"$f":"IF(OR(AU25=\"Construção\",AU25=\"Start-up\",AU25=\"Operação\"),(AU35+AU33)/((1+'Parâmetros de Fluxo de Caixa'!$B$32)^'Fluxo de Caixa Desc._premio'!AU23),\"\")","v":""},{"$f":"IF(OR(AV25=\"Construção\",AV25=\"Start-up\",AV25=\"Operação\"),(AV35+AV33)/((1+'Parâmetros de Fluxo de Caixa'!$B$32)^'Fluxo de Caixa Desc._premio'!AV23),\"\")","v":""}]
["Receitas decontadas",{"$f":"IF(OR(B25=\"Construção\",B25=\"Start-up\",B25=\"Operação\"),(B27)/((1+'Parâmetros de Fluxo de Caixa'!$B$32)^'Fluxo de Caixa Desc._premio'!B23),\"\")","v":0},{"$f":"IF(OR(C25=\"Construção\",C25=\"Start-up\",C25=\"Operação\"),(C27)/((1+'Parâmetros de Fluxo de Caixa'!$B$32)^'Fluxo de Caixa Desc._premio'!C23),\"\")","v":0},{"$f":"IF(OR(D25=\"Construção\",D25=\"Start-up\",D25=\"Operação\"),(D27)/((1+'Parâmetros de Fluxo de Caixa'!$B$32)^'Fluxo de Caixa Desc._premio'!D23),\"\")","v":0},{"$f":"IF(OR(E25=\"Construção\",E25=\"Start-up\",E25=\"Operação\"),(E27)/((1+'Parâmetros de Fluxo de Caixa'!$B$32)^'Fluxo de Caixa Desc._premio'!E23),\"\")","v":3837.3163716814711},{"$f":"IF(OR(F25=\"Construção\",F25=\"Start-up\",F25=\"Operação\"),(F27)/((1+'Parâmetros de Fluxo de Caixa'!$B$32)^'Fluxo de Caixa Desc._premio'!F23),\"\")","v":3954.6614592986562},{"$f":"IF(OR(G25=\"Construção\",G25=\"Start-up\",G25=\"Operação\"),(G27)/((1+'Parâmetros de Fluxo de Caixa'!$B$32)^'Fluxo de Caixa Desc._premio'!G23),\"\")","v":3566.1455884749048},{"$f":"IF(OR(H25=\"Construção\",H25=\"Start-up\",H25=\"Operação\"),(H27)/((1+'Parâmetros de Fluxo de Caixa'!$B$32)^'Fluxo de Caixa Desc._premio'!H23),\"\")","v":3215.798492256883},{"$f":"IF(OR(I25=\"Construção\",I25=\"Start-up\",I25=\"Operação\"),(I27)/((1+'Parâmetros de Fluxo de Caixa'!$B$32)^'Fluxo de Caixa Desc._premio'!I23),\"\")","v":2899.8703743960778},{"$f":"IF(OR(J25=\"Construção\",J25=\"Start-up\",J25=\"Operação\"),(J27)/((1+'Parâmetros de Fluxo de Caixa'!$B$32)^'Fluxo de Caixa Desc._premio'!J23),\"\")","v":2614.979828042131},{"$f":"IF(OR(K25=\"Construção\",K25=\"Start-up\",K25=\"Operação\"),(K27)/((1+'Parâmetros de Fluxo de Caixa'!$B$32)^'Fluxo de Caixa Desc._premio'!K23),\"\")","v":2358.0776442434426},{"$f":"IF(OR(L25=\"Construção\",L25=\"Start-up\",L25=\"Operação\"),(L27)/((1+'Parâmetros de Fluxo de Caixa'!$B$32)^'Fluxo de Caixa Desc._premio'!L23),\"\")","v":2126.4141759915387},{"$f":"IF(OR(M25=\"Construção\",M25=\"Start-up\",M25=\"Operação\"),(M27)/((1+'Parâmetros de Fluxo de Caixa'!$B$32)^'Fluxo de Caixa Desc._premio'!M23),\"\")","v":1917.5099085036622},{"$f":"IF(OR(N25=\"Construção\",N25=\"Start-up\",N25=\"Operação\"),(N27)/((1+'Parâmetros de Fluxo de Caixa'!$B$32)^'Fluxo de Caixa Desc._premio'!N23),\"\")","v":1729.1289207546899},{"$f":"IF(OR(O25=\"Construção\",O25=\"Start-up\",O25=\"Operação\"),(O27)/((1+'Parâmetros de Fluxo de Caixa'!$B$32)^'Fluxo de Caixa Desc._premio'!O23),\"\")","v":1559.2549542147874},{"$f":"IF(OR(P25=\"Construção\",P25=\"Start-up\",P25=\"Operação\"),(P27)/((1+'Parâmetros de Fluxo de Caixa'!$B$32)^'Fluxo de Caixa Desc._premio'!P23),\"\")","v":1406.0698326543588},{"$f":"IF(OR(Q25=\"Construção\",Q25=\"Start-up\",Q25=\"Operação\"),(Q27)/((1+'Parâmetros de Fluxo de Caixa'!$B$32)^'Fluxo de Caixa Desc._premio'!Q23),\"\")","v":1267.9340020415416},{"$f":"IF(OR(R25=\"Construção\",R25=\"Start-up\",R25=\"Operação\"),(R27)/((1+'Parâmetros de Fluxo de Caixa'!$B$32)^'Fluxo de Caixa Desc._premio'!R23),\"\")","v":1143.3689822490314},{"$f":"IF(OR(S25=\"Construção\",S25=\"Start-up\",S25=\"Operação\"),(S27)/((1+'Parâmetros de Fluxo de Caixa'!$B$32)^'Fluxo de Caixa Desc._premio'!S23),\"\")","v":1031.0415427492851},{"$f":"IF(OR(T25=\"Construção\",T25=\"Start-up\",T25=\"Operação\"),(T27)/((1+'Parâmetros de Fluxo de Caixa'!$B$32)^'Fluxo de Caixa Desc._premio'!T23),\"\")","v":929.74943292915805},{"$f":"IF(OR(U25=\"Construção\",U25=\"Start-up\",U25=\"Operação\"),(U27)/((1+'Parâmetros de Fluxo de Caixa'!$B$32)^'Fluxo de Caixa Desc._premio'!U23),\"\")","v":838.40851429426118},{"$f":"IF(OR(V25=\"Construção\",V25=\"Start-up\",V25=\"Operação\"),(V27)/((1+'Parâmetros de Fluxo de Caixa'!$B$32)^'Fluxo de Caixa Desc._premio'!V23),\"\")","v":756.04115683786574},{"$f":"IF(OR(W25=\"Construção\",W25=\"Start-up\",W25=\"Operação\"),(W27)/((1+'Parâmetros de Fluxo de Caixa'!$B$32)^'Fluxo de Caixa Desc._premio'!W23),\"\")","v":681.76577537966318},{"$f":"IF(OR(X25=\"Construção\",X25=\"Start-up\",X25=\"Operação\"),(X27)/((1+'Parâmetros de Fluxo de Caixa'!$B$32)^'Fluxo de Caixa Desc._premio'!X23),\"\")","v":614.7873938808749},{"$f":"IF(OR(Y25=\"Construção\",Y25=\"Start-up\",Y25=\"Operação\"),(Y27)/((1+'Parâmetros de Fluxo de Caixa'!$B$32)^'Fluxo de Caixa Desc._premio'!Y23),\"\")","v":""},{"$f":"IF(OR(Z25=\"Construção\",Z25=\"Start-up\",Z25=\"Operação\"),(Z27)/((1+'Parâmetros de Fluxo de Caixa'!$B$32)^'Fluxo de Caixa Desc._premio'!Z23),\"\")","v":""},{"$f":"IF(OR(AA25=\"Construção\",AA25=\"Start-up\",AA25=\"Operação\"),(AA27)/((1+'Parâmetros de Fluxo de Caixa'!$B$32)^'Fluxo de Caixa Desc._premio'!AA23),\"\")","v":""},{"$f":"IF(OR(AB25=\"Construção\",AB25=\"Start-up\",AB25=\"Operação\"),(AB27)/((1+'Parâmetros de Fluxo de Caixa'!$B$32)^'Fluxo de Caixa Desc._premio'!AB23),\"\")","v":""},{"$f":"IF(OR(AC25=\"Construção\",AC25=\"Start-up\",AC25=\"Operação\"),(AC27)/((1+'Parâmetros de Fluxo de Caixa'!$B$32)^'Fluxo de Caixa Desc._premio'!AC23),\"\")","v":""},{"$f":"IF(OR(AD25=\"Construção\",AD25=\"Start-up\",AD25=\"Operação\"),(AD27)/((1+'Parâmetros de Fluxo de Caixa'!$B$32)^'Fluxo de Caixa Desc._premio'!AD23),\"\")","v":""},{"$f":"IF(OR(AE25=\"Construção\",AE25=\"Start-up\",AE25=\"Operação\"),(AE27)/((1+'Parâmetros de Fluxo de Caixa'!$B$32)^'Fluxo de Caixa Desc._premio'!AE23),\"\")","v":""},{"$f":"IF(OR(AF25=\"Construção\",AF25=\"Start-up\",AF25=\"Operação\"),(AF27)/((1+'Parâmetros de Fluxo de Caixa'!$B$32)^'Fluxo de Caixa Desc._premio'!AF23),\"\")","v":""},{"$f":"IF(OR(AG25=\"Construção\",AG25=\"Start-up\",AG25=\"Operação\"),(AG27)/((1+'Parâmetros de Fluxo de Caixa'!$B$32)^'Fluxo de Caixa Desc._premio'!AG23),\"\")","v":""},{"$f":"IF(OR(AH25=\"Construção\",AH25=\"Start-up\",AH25=\"Operação\"),(AH27)/((1+'Parâmetros de Fluxo de Caixa'!$B$32)^'Fluxo de Caixa Desc._premio'!AH23),\"\")","v":""},{"$f":"IF(OR(AI25=\"Construção\",AI25=\"Start-up\",AI25=\"Operação\"),(AI27)/((1+'Parâmetros de Fluxo de Caixa'!$B$32)^'Fluxo de Caixa Desc._premio'!AI23),\"\")","v":""},{"$f":"IF(OR(AJ25=\"Construção\",AJ25=\"Start-up\",AJ25=\"Operação\"),(AJ27)/((1+'Parâmetros de Fluxo de Caixa'!$B$32)^'Fluxo de Caixa Desc._premio'!AJ23),\"\")","v":""},{"$f":"IF(OR(AK25=\"Construção\",AK25=\"Start-up\",AK25=\"Operação\"),(AK27)/((1+'Parâmetros de Fluxo de Caixa'!$B$32)^'Fluxo de Caixa Desc._premio'!AK23),\"\")","v":""},{"$f":"IF(OR(AL25=\"Construção\",AL25=\"Start-up\",AL25=\"Operação\"),(AL27)/((1+'Parâmetros de Fluxo de Caixa'!$B$32)^'Fluxo de Caixa Desc._premio'!AL23),\"\")","v":""},{"$f":"IF(OR(AM25=\"Construção\",AM25=\"Start-up\",AM25=\"Operação\"),(AM27)/((1+'Parâmetros de Fluxo de Caixa'!$B$32)^'Fluxo de Caixa Desc._premio'!AM23),\"\")","v":""},{"$f":"IF(OR(AN25=\"Construção\",AN25=\"Start-up\",AN25=\"Operação\"),(AN27)/((1+'Parâmetros de Fluxo de Caixa'!$B$32)^'Fluxo de Caixa Desc._premio'!AN23),\"\")","v":""},{"$f":"IF(OR(AO25=\"Construção\",AO25=\"Start-up\",AO25=\"Operação\"),(AO27)/((1+'Parâmetros de Fluxo de Caixa'!$B$32)^'Fluxo de Caixa Desc._premio'!AO23),\"\")","v":""},{"$f":"IF(OR(AP25=\"Construção\",AP25=\"Start-up\",AP25=\"Operação\"),(AP27)/((1+'Parâmetros de Fluxo de Caixa'!$B$32)^'Fluxo de Caixa Desc._premio'!AP23),\"\")","v":""},{"$f":"IF(OR(AQ25=\"Construção\",AQ25=\"Start-up\",AQ25=\"Operação\"),(AQ27)/((1+'Parâmetros de Fluxo de Caixa'!$B$32)^'Fluxo de Caixa Desc._premio'!AQ23),\"\")","v":""},{"$f":"IF(OR(AR25=\"Construção\",AR25=\"Start-up\",AR25=\"Operação\"),(AR27)/((1+'Parâmetros de Fluxo de Caixa'!$B$32)^'Fluxo de Caixa Desc._premio'!AR23),\"\")","v":""},{"$f":"IF(OR(AS25=\"Construção\",AS25=\"Start-up\",AS25=\"Operação\"),(AS27)/((1+'Parâmetros de Fluxo de Caixa'!$B$32)^'Fluxo de Caixa Desc._premio'!AS23),\"\")","v":""},{"$f":"IF(OR(AT25=\"Construção\",AT25=\"Start-up\",AT25=\"Operação\"),(AT27)/((1+'Parâmetros de Fluxo de Caixa'!$B$32)^'Fluxo de Caixa Desc._premio'!AT23),\"\")","v":""},{"$f":"IF(OR(AU25=\"Construção\",AU25=\"Start-up\",AU25=\"Operação\"),(AU27)/((1+'Parâmetros de Fluxo de Caixa'!$B$32)^'Fluxo de Caixa Desc._premio'!AU23),\"\")","v":""},{"$f":"IF(OR(AV25=\"Construção\",AV25=\"Start-up\",AV25=\"Operação\"),(AV27)/((1+'Parâmetros de Fluxo de Caixa'!$B$32)^'Fluxo de Caixa Desc._premio'!AV23),\"\")","v":""}]
[]
[]
[]
[]
[]
[]
[null,null,null,"Discriminação preço "]
[null,null,null,"CAPEX","Óleo","H2","Catalisadores","Utilidades","OPEX fixo","Tributos","Diesel Verde","Nafta","GLP",null,"Prêmio ao produtor"]
[null,null,null,{"$f":"'Fluxo de Caixa Descontado'!D54","v":1.3677300753033044},{"$f":"'Fluxo de Caixa Descontado'!E54","v":7.9592376204946191},{"$f":"'Fluxo de Caixa Descontado'!F54","v":0.5400336752530045},{"$f":"'Fluxo de Caixa Descontado'!G54","v":0.249840420461376},{"$f":"'Fluxo de Caixa Descontado'!H54","v":0.52771725790047108},{"$f":"'Fluxo de Caixa Descontado'!I54","v":0.65778102608635014},{"$f":"'Fluxo de Caixa Descontado'!J54","v":1.5046537850014707},{"$f":"'Fluxo de Caixa Descontado'!K54","v":-0.29448586146182443},{"$f":"'Fluxo de Caixa Descontado'!L54","v":-1.3488359962047189},{"$f":"'Fluxo de Caixa Descontado'!M54","v":-0.16136312218701554},null,{"$f":"B4-'Fluxo de Caixa Descontado'!B4","v":0}]
[]
[]
[]
[]
[]
[]
[]
[]
["ATJ - Fluxo de Caixa"]
["Referencia ano",0,{"$f":"B64+1","v":1},{"$f":"C64+1","v":2},3,{"$f":"E64+1","v":4},5,6,7,8,9,10,11,12,13,14,15,16,17,18,19,20,21,22,23,24,25,26,27,28,29,30,31,32,33,34,35,36,37,38,39,40,41,42,43,44,45,46]
["Ano VPL",{"$f":"IF(B64+1<='Parâmetros de Fluxo de Caixa'!$B$3,'Fluxo de Caixa Desc._premio'!B64,'Fluxo de Caixa Desc._premio'!B64+'Parâmetros de Fluxo de Caixa'!$B$4/12)","v":0},{"$f":"IF(C64+1<='Parâmetros de Fluxo de Caixa'!$B$3,'Fluxo de Caixa Desc._premio'!C64,'Fluxo de Caixa Desc._premio'!C64+'Parâmetros de Fluxo de Caixa'!$B$4/12)","v":1},{"$f":"IF(D64+1<='Parâmetros de Fluxo de Caixa'!$B$3,'Fluxo de Caixa Desc._premio'!D64,'Fluxo de Caixa Desc._premio'!D64+'Parâmetros de Fluxo de Caixa'!$B$4/12)","v":2},{"$f":"IF(E64+1<='Parâmetros de Fluxo de Caixa'!$B$3,'Fluxo de Caixa Desc._premio'!E64,'Fluxo de Caixa Desc._premio'!E64+'Parâmetros de Fluxo de Caixa'!$B$4/12)","v":3},{"$f":"IF(F64+1<='Parâmetros de Fluxo de Caixa'!$B$3,'Fluxo de Caixa Desc._premio'!F64,'Fluxo de Caixa Desc._premio'!F64+'Parâmetros de Fluxo de Caixa'!$B$4/12)","v":4},{"$f":"IF(G64+1<='Parâmetros de Fluxo de Caixa'!$B$3,'Fluxo de Caixa Desc._premio'!G64,'Fluxo de Caixa Desc._premio'!G64+'Parâmetros de Fluxo de Caixa'!$B$4/12)","v":5},{"$f":"IF(H64+1<='Parâmetros de Fluxo de Caixa'!$B$3,'Fluxo de Caixa Desc._premio'!H64,'Fluxo de Caixa Desc._premio'!H64+'Parâmetros de Fluxo de Caixa'!$B$4/12)","v":6},{"$f":"IF(I64+1<='Parâmetros de Fluxo de Caixa'!$B$3,'Fluxo de Caixa Desc._premio'!I64,'Fluxo de Caixa Desc._premio'!I64+'Parâmetros de Fluxo de Caixa'!$B$4/12)","v":7},{"$f":"IF(J64+1<='Parâmetros de Fluxo de Caixa'!$B$3,'Fluxo de Caixa Desc._premio'!J64,'Fluxo de Caixa Desc._premio'!J64+'Parâmetros de Fluxo de Caixa'!$B$4/12)","v":8},{"$f":"IF(K64+1<='Parâmetros de Fluxo de Caixa'!$B$3,'Fluxo de Caixa Desc._premio'!K64,'Fluxo de Caixa Desc._premio'!K64+'Parâmetros de Fluxo de Caixa'!$B$4/12)","v":9},{"$f":"IF(L64+1<='Parâmetros de Fluxo de Caixa'!$B$3,'Fluxo de Caixa Desc._premio'!L64,'Fluxo de Caixa Desc._premio'!L64+'Parâmetros de Fluxo de Caixa'!$B$4/12)","v":10},{"$f":"IF(M64+1<='Parâmetros de Fluxo de Caixa'!$B$3,'Fluxo de Caixa Desc._premio'!M64,'Fluxo de Caixa Desc._premio'!M64+'Parâmetros de Fluxo de Caixa'!$B$4/12)","v":11},{"$f":"IF(N64+1<='Parâmetros de Fluxo de Caixa'!$B$3,'Fluxo de Caixa Desc._premio'!N64,'Fluxo de Caixa Desc._premio'!N64+'Parâmetros de Fluxo de Caixa'!$B$4/12)","v":12},{"$f":"IF(O64+1<='Parâmetros de Fluxo de Caixa'!$B$3,'Fluxo de Caixa Desc._premio'!O64,'Fluxo de Caixa Desc._premio'!O64+'Parâmetros de Fluxo de Caixa'!$B$4/12)","v":13},{"$f":"IF(P64+1<='Parâmetros de Fluxo de Caixa'!$B$3,'Fluxo de Caixa Desc._premio'!P64,'Fluxo de Caixa Desc._premio'!P64+'Parâmetros de Fluxo de Caixa'!$B$4/12)","v":14},{"$f":"IF(Q64+1<='Parâmetros de Fluxo de Caixa'!$B$3,'Fluxo de Caixa Desc._premio'!Q64,'Fluxo de Caixa Desc._premio'!Q64+'Parâmetros de Fluxo de Caixa'!$B$4/12)","v":15},{"$f":"IF(R64+1<='Parâmetros de Fluxo de Caixa'!$B$3,'Fluxo de Caixa Desc._premio'!R64,'Fluxo de Caixa Desc._premio'!R64+'Parâmetros de Fluxo de Caixa'!$B$4/12)","v":16},{"$f":"IF(S64+1<='Parâmetros de Fluxo de Caixa'!$B$3,'Fluxo de Caixa Desc._premio'!S64,'Fluxo de Caixa Desc._premio'!S64+'Parâmetros de Fluxo de Caixa'!$B$4/12)","v":17},{"$f":"IF(T64+1<='Parâmetros de Fluxo de Caixa'!$B$3,'Fluxo de Caixa Desc._premio'!T64,'Fluxo de Caixa Desc._premio'!T64+'Parâmetros de Fluxo de Caixa'!$B$4/12)","v":18},{"$f":"IF(U64+1<='Parâmetros de Fluxo de Caixa'!$B$3,'Fluxo de Caixa Desc._premio'!U64,'Fluxo de Caixa Desc._premio'!U64+'Parâmetros de Fluxo de Caixa'!$B$4/12)","v":19},{"$f":"IF(V64+1<='Parâmetros de Fluxo de Caixa'!$B$3,'Fluxo de Caixa Desc._premio'!V64,'Fluxo de Caixa Desc._premio'!V64+'Parâmetros de Fluxo de Caixa'!$B$4/12)","v":20},{"$f":"IF(W64+1<='Parâmetros de Fluxo de Caixa'!$B$3,'Fluxo de Caixa Desc._premio'!W64,'Fluxo de Caixa Desc._premio'!W64+'Parâmetros de Fluxo de Caixa'!$B$4/12)","v":21},{"$f":"IF(X64+1<='Parâmetros de Fluxo de Caixa'!$B$3,'Fluxo de Caixa Desc._premio'!X64,'Fluxo de Caixa Desc._premio'!X64+'Parâmetros de Fluxo de Caixa'!$B$4/12)","v":22},{"$f":"IF(Y64+1<='Parâmetros de Fluxo de Caixa'!$B$3,'Fluxo de Caixa Desc._premio'!Y64,'Fluxo de Caixa Desc._premio'!Y64+'Parâmetros de Fluxo de Caixa'!$B$4/12)","v":23},{"$f":"IF(Z64+1<='Parâmetros de Fluxo de Caixa'!$B$3,'Fluxo de Caixa Desc._premio'!Z64,'Fluxo de Caixa Desc._premio'!Z64+'Parâmetros de Fluxo de Caixa'!$B$4/12)","v":24},{"$f":"IF(AA64+1<='Parâmetros de Fluxo de Caixa'!$B$3,'Fluxo de Caixa Desc._premio'!AA64,'Fluxo de Caixa Desc._premio'!AA64+'Parâmetros de Fluxo de Caixa'!$B$4/12)","v":25},{"$f":"IF(AB64+1<='Parâmetros de Fluxo de Caixa'!$B$3,'Fluxo de Caixa Desc._premio'!AB64,'Fluxo de Caixa Desc._premio'!AB64+'Parâmetros de Fluxo de Caixa'!$B$4/12)","v":26},{"$f":"IF(AC64+1<='Parâmetros de Fluxo de Caixa'!$B$3,'Fluxo de Caixa Desc._premio'!AC64,'Fluxo de Caixa Desc._premio'!AC64+'Parâmetros de Fluxo de Caixa'!$B$4/12)","v":27},{"$f":"IF(AD64+1<='Parâmetros de Fluxo de Caixa'!$B$3,'Fluxo de Caixa Desc._premio'!AD64,'Fluxo de Caixa Desc._premio'!AD64+'Parâmetros de Fluxo de Caixa'!$B$4/12)","v":28},{"$f":"IF(AE64+1<='Parâmetros de Fluxo de Caixa'!$B$3,'Fluxo de Caixa Desc._premio'!AE64,'Fluxo de Caixa Desc._premio'!AE64+'Parâmetros de Fluxo de Caixa'!$B$4/12)","v":29},{"$f":"IF(AF64+1<='Parâmetros de Fluxo de Caixa'!$B$3,'Fluxo de Caixa Desc._premio'!AF64,'Fluxo de Caixa Desc._premio'!AF64+'Parâmetros de Fluxo de Caixa'!$B$4/12)","v":30},{"$f":"IF(AG64+1<='Parâmetros de Fluxo de Caixa'!$B$3,'Fluxo de Caixa Desc._premio'!AG64,'Fluxo de Caixa Desc._premio'!AG64+'Parâmetros de Fluxo de Caixa'!$B$4/12)","v":31},{"$f":"IF(AH64+1<='Parâmetros de Fluxo de Caixa'!$B$3,'Fluxo de Caixa Desc._premio'!AH64,'Fluxo de Caixa Desc._premio'!AH64+'Parâmetros de Fluxo de Caixa'!$B$4/12)","v":32},{"$f":"IF(AI64+1<='Parâmetros de Fluxo de Caixa'!$B$3,'Fluxo de Caixa Desc._premio'!AI64,'Fluxo de Caixa Desc._premio'!AI64+'Parâmetros de Fluxo de Caixa'!$B$4/12)","v":33},{"$f":"IF(AJ64+1<='Parâmetros de Fluxo de Caixa'!$B$3,'Fluxo de Caixa Desc._premio'!AJ64,'Fluxo de Caixa Desc._premio'!AJ64+'Parâmetros de Fluxo de Caixa'!$B$4/12)","v":34},{"$f":"IF(AK64+1<='Parâmetros de Fluxo de Caixa'!$B$3,'Fluxo de Caixa Desc._premio'!AK64,'Fluxo de Caixa Desc._premio'!AK64+'Parâmetros de Fluxo de Caixa'!$B$4/12)","v":35},{"$f":"IF(AL64+1<='Parâmetros de Fluxo de Caixa'!$B$3,'Fluxo de Caixa Desc._premio'!AL64,'Fluxo de Caixa Desc._premio'!AL64+'Parâmetros de Fluxo de Caixa'!$B$4/12)","v":36},{"$f":"IF(AM64+1<='Parâmetros de Fluxo de Caixa'!$B$3,'Fluxo de Caixa Desc._premio'!AM64,'Fluxo de Caixa Desc._premio'!AM64+'Parâmetros de Fluxo de Caixa'!$B$4/12)","v":37},{"$f":"IF(AN64+1<='Parâmetros de Fluxo de Caixa'!$B$3,'Fluxo de Caixa Desc._premio'!AN64,'Fluxo de Caixa Desc._premio'!AN64+'Parâmetros de Fluxo de Caixa'!$B$4/12)","v":38},{"$f":"IF(AO64+1<='Parâmetros de Fluxo de Caixa'!$B$3,'Fluxo de Caixa Desc._premio'!AO64,'Fluxo de Caixa Desc._premio'!AO64+'Parâmetros de Fluxo de Caixa'!$B$4/12)","v":39},{"$f":"IF(AP64+1<='Parâmetros de Fluxo de Caixa'!$B$3,'Fluxo de Caixa Desc._premio'!AP64,'Fluxo de Caixa Desc._premio'!AP64+'Parâmetros de Fluxo de Caixa'!$B$4/12)","v":40},{"$f":"IF(AQ64+1<='Parâmetros de Fluxo de Caixa'!$B$3,'Fluxo de Caixa Desc._premio'!AQ64,'Fluxo de Caixa Desc._premio'!AQ64+'Parâmetros de Fluxo de Caixa'!$B$4/12)","v":41},{"$f":"IF(AR64+1<='Parâmetros de Fluxo de Caixa'!$B$3,'Fluxo de Caixa Desc._premio'!AR64,'Fluxo de Caixa Desc._premio'!AR64+'Parâmetros de Fluxo de Caixa'!$B$4/12)","v":42},{"$f":"IF(AS64+1<='Parâmetros de Fluxo de Caixa'!$B$3,'Fluxo de Caixa Desc._premio'!AS64,'Fluxo de Caixa Desc._premio'!AS64+'Parâmetros de Fluxo de Caixa'!$B$4/12)","v":43},{"$f":"IF(AT64+1<='Parâmetros de Fluxo de Caixa'!$B$3,'Fluxo de Caixa Desc._premio'!AT64,'Fluxo de Caixa Desc._premio'!AT64+'Parâmetros de Fluxo de Caixa'!$B$4/12)","v":44},{"$f":"IF(AU64+1<='Parâmetros de Fluxo de Caixa'!$B$3,'Fluxo de Caixa Desc._premio'!AU64,'Fluxo de Caixa Desc._premio'!AU64+'Parâmetros de Fluxo de Caixa'!$B$4/12)","v":45},{"$f":"IF(AV64+1<='Parâmetros de Fluxo de Caixa'!$B$3,'Fluxo de Caixa Desc._premio'!AV64,'Fluxo de Caixa Desc._premio'!AV64+'Parâmetros de Fluxo de Caixa'!$B$4/12)","v":46}]
["Ano Projeto",{"$f":"IF(B65+1<='Parâmetros de Fluxo de Caixa'!$B$12,B65+1,\"\")","v":1},{"$f":"IF(C65+1<='Parâmetros de Fluxo de Caixa'!$B$12,C65+1,\"\")","v":2},{"$f":"IF(D65+1<='Parâmetros de Fluxo de Caixa'!$B$12,D65+1,\"\")","v":3},{"$f":"IF(E65+1<='Parâmetros de Fluxo de Caixa'!$B$12,E65+1,\"\")","v":4},{"$f":"IF(F65+1<='Parâmetros de Fluxo de Caixa'!$B$12,F65+1,\"\")","v":5},{"$f":"IF(G65+1<='Parâmetros de Fluxo de Caixa'!$B$12,G65+1,\"\")","v":6},{"$f":"IF(H65+1<='Parâmetros de Fluxo de Caixa'!$B$12,H65+1,\"\")","v":7},{"$f":"IF(I65+1<='Parâmetros de Fluxo de Caixa'!$B$12,I65+1,\"\")","v":8},{"$f":"IF(J65+1<='Parâmetros de Fluxo de Caixa'!$B$12,J65+1,\"\")","v":9},{"$f":"IF(K65+1<='Parâmetros de Fluxo de Caixa'!$B$12,K65+1,\"\")","v":10},{"$f":"IF(L65+1<='Parâmetros de Fluxo de Caixa'!$B$12,L65+1,\"\")","v":11},{"$f":"IF(M65+1<='Parâmetros de Fluxo de Caixa'!$B$12,M65+1,\"\")","v":12},{"$f":"IF(N65+1<='Parâmetros de Fluxo de Caixa'!$B$12,N65+1,\"\")","v":13},{"$f":"IF(O65+1<='Parâmetros de Fluxo de Caixa'!$B$12,O65+1,\"\")","v":14},{"$f":"IF(P65+1<='Parâmetros de Fluxo de Caixa'!$B$12,P65+1,\"\")","v":15},{"$f":"IF(Q65+1<='Parâmetros de Fluxo de Caixa'!$B$12,Q65+1,\"\")","v":16},{"$f":"IF(R65+1<='Parâmetros de Fluxo de Caixa'!$B$12,R65+1,\"\")","v":17},{"$f":"IF(S65+1<='Parâmetros de Fluxo de Caixa'!$B$12,S65+1,\"\")","v":18},{"$f":"IF(T65+1<='Parâmetros de Fluxo de Caixa'!$B$12,T65+1,\"\")","v":19},{"$f":"IF(U65+1<='Parâmetros de Fluxo de Caixa'!$B$12,U65+1,\"\")","v":20},{"$f":"IF(V65+1<='Parâmetros de Fluxo de Caixa'!$B$12,V65+1,\"\")","v":21},{"$f":"IF(W65+1<='Parâmetros de Fluxo de Caixa'!$B$12,W65+1,\"\")","v":22},{"$f":"IF(X65+1<='Parâmetros de Fluxo de Caixa'!$B$12,X65+1,\"\")","v":23},{"$f":"IF(Y65+1<='Parâmetros de Fluxo de Caixa'!$B$12,Y65+1,\"\")","v":""},{"$f":"IF(Z65+1<='Parâmetros de Fluxo de Caixa'!$B$12,Z65+1,\"\")","v":""},{"$f":"IF(AA65+1<='Parâmetros de Fluxo de Caixa'!$B$12,AA65+1,\"\")","v":""},{"$f":"IF(AB65+1<='Parâmetros de Fluxo de Caixa'!$B$12,AB65+1,\"\")","v":""},{"$f":"IF(AC65+1<='Parâmetros de Fluxo de Caixa'!$B$12,AC65+1,\"\")","v":""},{"$f":"IF(AD65+1<='Parâmetros de Fluxo de Caixa'!$B$12,AD65+1,\"\")","v":""},{"$f":"IF(AE65+1<='Parâmetros de Fluxo de Caixa'!$B$12,AE65+1,\"\")","v":""},{"$f":"IF(AF65+1<='Parâmetros de Fluxo de Caixa'!$B$12,AF65+1,\"\")","v":""},{"$f":"IF(AG65+1<='Parâmetros de Fluxo de Caixa'!$B$12,AG65+1,\"\")","v":""},{"$f":"IF(AH65+1<='Parâmetros de Fluxo de Caixa'!$B$12,AH65+1,\"\")","v":""},{"$f":"IF(AI65+1<='Parâmetros de Fluxo de Caixa'!$B$12,AI65+1,\"\")","v":""},{"$f":"IF(AJ65+1<='Parâmetros de Fluxo de Caixa'!$B$12,AJ65+1,\"\")","v":""},{"$f":"IF(AK65+1<='Parâmetros de Fluxo de Caixa'!$B$12,AK65+1,\"\")","v":""},{"$f":"IF(AL65+1<='Parâmetros de Fluxo de Caixa'!$B$12,AL65+1,\"\")","v":""},{"$f":"IF(AM65+1<='Parâmetros de Fluxo de Caixa'!$B$12,AM65+1,\"\")","v":""},{"$f":"IF(AN65+1<='Parâmetros de Fluxo de Caixa'!$B$12,AN65+1,\"\")","v":""},{"$f":"IF(AO65+1<='Parâmetros de Fluxo de Caixa'!$B$12,AO65+1,\"\")","v":""},{"$f":"IF(AP65+1<='Parâmetros de Fluxo de Caixa'!$B$12,AP65+1,\"\")","v":""},{"$f":"IF(AQ65+1<='Parâmetros de Fluxo de Caixa'!$B$12,AQ65+1,\"\")","v":""},{"$f":"IF(AR65+1<='Parâmetros de Fluxo de Caixa'!$B$12,AR65+1,\"\")","v":""},{"$f":"IF(AS65+1<='Parâmetros de Fluxo de Caixa'!$B$12,AS65+1,\"\")","v":""},{"$f":"IF(AT65+1<='Parâmetros de Fluxo de Caixa'!$B$12,AT65+1,\"\")","v":""},{"$f":"IF(AU65+1<='Parâmetros de Fluxo de Caixa'!$B$12,AU65+1,\"\")","v":""},{"$f":"IF(AV65+1<='Parâmetros de Fluxo de Caixa'!$B$12,AV65+1,\"\")","v":""}]
["Cronograma",{"$f":"IF(B66<='Parâmetros de Fluxo de Caixa'!$B$3,\"Construção\",IF(B66='Parâmetros de Fluxo de Caixa'!$B$3+1+'Parâmetros de Fluxo de Caixa'!$B$4/12,\"Start-up\",IF(B66<='Parâmetros de Fluxo de Caixa'!$B$12,\"Operação\",\"\")))","v":"Construção"},{"$f":"IF(C66<='Parâmetros de Fluxo de Caixa'!$B$3,\"Construção\",IF(C66='Parâmetros de Fluxo de Caixa'!$B$3+1+'Parâmetros de Fluxo de Caixa'!$B$4/12,\"Start-up\",IF(C66<='Parâmetros de Fluxo de Caixa'!$B$12,\"Operação\",\"\")))","v":"Construção"},{"$f":"IF(D66<='Parâmetros de Fluxo de Caixa'!$B$3,\"Construção\",IF(D66='Parâmetros de Fluxo de Caixa'!$B$3+1+'Parâmetros de Fluxo de Caixa'!$B$4/12,\"Start-up\",IF(D66<='Parâmetros de Fluxo de Caixa'!$B$12,\"Operação\",\"\")))","v":"Construção"},{"$f":"IF(E66<='Parâmetros de Fluxo de Caixa'!$B$3,\"Construção\",IF(E66='Parâmetros de Fluxo de Caixa'!$B$3+1+'Parâmetros de Fluxo de Caixa'!$B$4/12,\"Start-up\",IF(E66<='Parâmetros de Fluxo de Caixa'!$B$12,\"Operação\",\"\")))","v":"Start-up"},{"$f":"IF(F66<='Parâmetros de Fluxo de Caixa'!$B$3,\"Construção\",IF(F66='Parâmetros de Fluxo de Caixa'!$B$3+1+'Parâmetros de Fluxo de Caixa'!$B$4/12,\"Start-up\",IF(F66<='Parâmetros de Fluxo de Caixa'!$B$12,\"Operação\",\"\")))","v":"Operação"},{"$f":"IF(G66<='Parâmetros de Fluxo de Caixa'!$B$3,\"Construção\",IF(G66='Parâmetros de Fluxo de Caixa'!$B$3+1+'Parâmetros de Fluxo de Caixa'!$B$4/12,\"Start-up\",IF(G66<='Parâmetros de Fluxo de Caixa'!$B$12,\"Operação\",\"\")))","v":"Operação"},{"$f":"IF(H66<='Parâmetros de Fluxo de Caixa'!$B$3,\"Construção\",IF(H66='Parâmetros de Fluxo de Caixa'!$B$3+1+'Parâmetros de Fluxo de Caixa'!$B$4/12,\"Start-up\",IF(H66<='Parâmetros de Fluxo de Caixa'!$B$12,\"Operação\",\"\")))","v":"Operação"},{"$f":"IF(I66<='Parâmetros de Fluxo de Caixa'!$B$3,\"Construção\",IF(I66='Parâmetros de Fluxo de Caixa'!$B$3+1+'Parâmetros de Fluxo de Caixa'!$B$4/12,\"Start-up\",IF(I66<='Parâmetros de Fluxo de Caixa'!$B$12,\"Operação\",\"\")))","v":"Operação"},{"$f":"IF(J66<='Parâmetros de Fluxo de Caixa'!$B$3,\"Construção\",IF(J66='Parâmetros de Fluxo de Caixa'!$B$3+1+'Parâmetros de Fluxo de Caixa'!$B$4/12,\"Start-up\",IF(J66<='Parâmetros de Fluxo de Caixa'!$B$12,\"Operação\",\"\")))","v":"Operação"},{"$f":"IF(K66<='Parâmetros de Fluxo de Caixa'!$B$3,\"Construção\",IF(K66='Parâmetros de Fluxo de Caixa'!$B$3+1+'Parâmetros de Fluxo de Caixa'!$B$4/12,\"Start-up\",IF(K66<='Parâmetros de Fluxo de Caixa'!$B$12,\"Operação\",\"\")))","v":"Operação"},{"$f":"IF(L66<='Parâmetros de Fluxo de Caixa'!$B$3,\"Construção\",IF(L66='Parâmetros de Fluxo de Caixa'!$B$3+1+'Parâmetros de Fluxo de Caixa'!$B$4/12,\"Start-up\",IF(L66<='Parâmetros de Fluxo de Caixa'!$B$12,\"Operação\",\"\")))","v":"Operação"},{"$f":"IF(M66<='Parâmetros de Fluxo de Caixa'!$B$3,\"Construção\",IF(M66='Parâmetros de Fluxo de Caixa'!$B$3+1+'Parâmetros de Fluxo de Caixa'!$B$4/12,\"Start-up\",IF(M66<='Parâmetros de Fluxo de Caixa'!$B$12,\"Operação\",\"\")))","v":"Operação"},{"$f":"IF(N66<='Parâmetros de Fluxo de Caixa'!$B$3,\"Construção\",IF(N66='Parâmetros de Fluxo de Caixa'!$B$3+1+'Parâmetros de Fluxo de Caixa'!$B$4/12,\"Start-up\",IF(N66<='Parâmetros de Fluxo de Caixa'!$B$12,\"Operação\",\"\")))","v":"Operação"},{"$f":"IF(O66<='Parâmetros de Fluxo de Caixa'!$B$3,\"Construção\",IF(O66='Parâmetros de Fluxo de Caixa'!$B$3+1+'Parâmetros de Fluxo de Caixa'!$B$4/12,\"Start-up\",IF(O66<='Parâmetros de Fluxo de Caixa'!$B$12,\"Operação\",\"\")))","v":"Operação"},{"$f":"IF(P66<='Parâmetros de Fluxo de Caixa'!$B$3,\"Construção\",IF(P66='Parâmetros de Fluxo de Caixa'!$B$3+1+'Parâmetros de Fluxo de Caixa'!$B$4/12,\"Start-up\",IF(P66<='Parâmetros de Fluxo de Caixa'!$B$12,\"Operação\",\"\")))","v":"Operação"},{"$f":"IF(Q66<='Parâmetros de Fluxo de Caixa'!$B$3,\"Construção\",IF(Q66='Parâmetros de Fluxo de Caixa'!$B$3+1+'Parâmetros de Fluxo de Caixa'!$B$4/12,\"Start-up\",IF(Q66<='Parâmetros de Fluxo de Caixa'!$B$12,\"Operação\",\"\")))","v":"Operação"},{"$f":"IF(R66<='Parâmetros de Fluxo de Caixa'!$B$3,\"Construção\",IF(R66='Parâmetros de Fluxo de Caixa'!$B$3+1+'Parâmetros de Fluxo de Caixa'!$B$4/12,\"Start-up\",IF(R66<='Parâmetros de Fluxo de Caixa'!$B$12,\"Operação\",\"\")))","v":"Operação"},{"$f":"IF(S66<='Parâmetros de Fluxo de Caixa'!$B$3,\"Construção\",IF(S66='Parâmetros de Fluxo de Caixa'!$B$3+1+'Parâmetros de Fluxo de Caixa'!$B$4/12,\"Start-up\",IF(S66<='Parâmetros de Fluxo de Caixa'!$B$12,\"Operação\",\"\")))","v":"Operação"},{"$f":"IF(T66<='Parâmetros de Fluxo de Caixa'!$B$3,\"Construção\",IF(T66='Parâmetros de Fluxo de Caixa'!$B$3+1+'Parâmetros de Fluxo de Caixa'!$B$4/12,\"Start-up\",IF(T66<='Parâmetros de Fluxo de Caixa'!$B$12,\"Operação\",\"\")))","v":"Operação"},{"$f":"IF(U66<='Parâmetros de Fluxo de Caixa'!$B$3,\"Construção\",IF(U66='Parâmetros de Fluxo de Caixa'!$B$3+1+'Parâmetros de Fluxo de Caixa'!$B$4/12,\"Start-up\",IF(U66<='Parâmetros de Fluxo de Caixa'!$B$12,\"Operação\",\"\")))","v":"Operação"},{"$f":"IF(V66<='Parâmetros de Fluxo de Caixa'!$B$3,\"Construção\",IF(V66='Parâmetros de Fluxo de Caixa'!$B$3+1+'Parâmetros de Fluxo de Caixa'!$B$4/12,\"Start-up\",IF(V66<='Parâmetros de Fluxo de Caixa'!$B$12,\"Operação\",\"\")))","v":"Operação"},{"$f":"IF(W66<='Parâmetros de Fluxo de Caixa'!$B$3,\"Construção\",IF(W66='Parâmetros de Fluxo de Caixa'!$B$3+1+'Parâmetros de Fluxo de Caixa'!$B$4/12,\"Start-up\",IF(W66<='Parâmetros de Fluxo de Caixa'!$B$12,\"Operação\",\"\")))","v":"Operação"},{"$f":"IF(X66<='Parâmetros de Fluxo de Caixa'!$B$3,\"Construção\",IF(X66='Parâmetros de Fluxo de Caixa'!$B$3+1+'Parâmetros de Fluxo de Caixa'!$B$4/12,\"Start-up\",IF(X66<='Parâmetros de Fluxo de Caixa'!$B$12,\"Operação\",\"\")))","v":"Operação"},{"$f":"IF(Y66<='Parâmetros de Fluxo de Caixa'!$B$3,\"Construção\",IF(Y66='Parâmetros de Fluxo de Caixa'!$B$3+1+'Parâmetros de Fluxo de Caixa'!$B$4/12,\"Start-up\",IF(Y66<='Parâmetros de Fluxo de Caixa'!$B$12,\"Operação\",\"\")))","v":""},{"$f":"IF(Z66<='Parâmetros de Fluxo de Caixa'!$B$3,\"Construção\",IF(Z66='Parâmetros de Fluxo de Caixa'!$B$3+1+'Parâmetros de Fluxo de Caixa'!$B$4/12,\"Start-up\",IF(Z66<='Parâmetros de Fluxo de Caixa'!$B$12,\"Operação\",\"\")))","v":""},{"$f":"IF(AA66<='Parâmetros de Fluxo de Caixa'!$B$3,\"Construção\",IF(AA66='Parâmetros de Fluxo de Caixa'!$B$3+1+'Parâmetros de Fluxo de Caixa'!$B$4/12,\"Start-up\",IF(AA66<='Parâmetros de Fluxo de Caixa'!$B$12,\"Operação\",\"\")))","v":""},{"$f":"IF(AB66<='Parâmetros de Fluxo de Caixa'!$B$3,\"Construção\",IF(AB66='Parâmetros de Fluxo de Caixa'!$B$3+1+'Parâmetros de Fluxo de Caixa'!$B$4/12,\"Start-up\",IF(AB66<='Parâmetros de Fluxo de Caixa'!$B$12,\"Operação\",\"\")))","v":""},{"$f":"IF(AC66<='Parâmetros de Fluxo de Caixa'!$B$3,\"Construção\",IF(AC66='Parâmetros de Fluxo de Caixa'!$B$3+1+'Parâmetros de Fluxo de Caixa'!$B$4/12,\"Start-up\",IF(AC66<='Parâmetros de Fluxo de Caixa'!$B$12,\"Operação\",\"\")))","v":""},{"$f":"IF(AD66<='Parâmetros de Fluxo de Caixa'!$B$3,\"Construção\",IF(AD66='Parâmetros de Fluxo de Caixa'!$B$3+1+'Parâmetros de Fluxo de Caixa'!$B$4/12,\"Start-up\",IF(AD66<='Parâmetros de Fluxo de Caixa'!$B$12,\"Operação\",\"\")))","v":""},{"$f":"IF(AE66<='Parâmetros de Fluxo de Caixa'!$B$3,\"Construção\",IF(AE66='Parâmetros de Fluxo de Caixa'!$B$3+1+'Parâmetros de Fluxo de Caixa'!$B$4/12,\"Start-up\",IF(AE66<='Parâmetros de Fluxo de Caixa'!$B$12,\"Operação\",\"\")))","v":""},{"$f":"IF(AF66<='Parâmetros de Fluxo de Caixa'!$B$3,\"Construção\",IF(AF66='Parâmetros de Fluxo de Caixa'!$B$3+1+'Parâmetros de Fluxo de Caixa'!$B$4/12,\"Start-up\",IF(AF66<='Parâmetros de Fluxo de Caixa'!$B$12,\"Operação\",\"\")))","v":""},{"$f":"IF(AG66<='Parâmetros de Fluxo de Caixa'!$B$3,\"Construção\",IF(AG66='Parâmetros de Fluxo de Caixa'!$B$3+1+'Parâmetros de Fluxo de Caixa'!$B$4/12,\"Start-up\",IF(AG66<='Parâmetros de Fluxo de Caixa'!$B$12,\"Operação\",\"\")))","v":""},{"$f":"IF(AH66<='Parâmetros de Fluxo de Caixa'!$B$3,\"Construção\",IF(AH66='Parâmetros de Fluxo de Caixa'!$B$3+1+'Parâmetros de Fluxo de Caixa'!$B$4/12,\"Start-up\",IF(AH66<='Parâmetros de Fluxo de Caixa'!$B$12,\"Operação\",\"\")))","v":""},{"$f":"IF(AI66<='Parâmetros de Fluxo de Caixa'!$B$3,\"Construção\",IF(AI66='Parâmetros de Fluxo de Caixa'!$B$3+1+'Parâmetros de Fluxo de Caixa'!$B$4/12,\"Start-up\",IF(AI66<='Parâmetros de Fluxo de Caixa'!$B$12,\"Operação\",\"\")))","v":""},{"$f":"IF(AJ66<='Parâmetros de Fluxo de Caixa'!$B$3,\"Construção\",IF(AJ66='Parâmetros de Fluxo de Caixa'!$B$3+1+'Parâmetros de Fluxo de Caixa'!$B$4/12,\"Start-up\",IF(AJ66<='Parâmetros de Fluxo de Caixa'!$B$12,\"Operação\",\"\")))","v":""},{"$f":"IF(AK66<='Parâmetros de Fluxo de Caixa'!$B$3,\"Construção\",IF(AK66='Parâmetros de Fluxo de Caixa'!$B$3+1+'Parâmetros de Fluxo de Caixa'!$B$4/12,\"Start-up\",IF(AK66<='Parâmetros de Fluxo de Caixa'!$B$12,\"Operação\",\"\")))","v":""},{"$f":"IF(AL66<='Parâmetros de Fluxo de Caixa'!$B$3,\"Construção\",IF(AL66='Parâmetros de Fluxo de Caixa'!$B$3+1+'Parâmetros de Fluxo de Caixa'!$B$4/12,\"Start-up\",IF(AL66<='Parâmetros de Fluxo de Caixa'!$B$12,\"Operação\",\"\")))","v":""},{"$f":"IF(AM66<='Parâmetros de Fluxo de Caixa'!$B$3,\"Construção\",IF(AM66='Parâmetros de Fluxo de Caixa'!$B$3+1+'Parâmetros de Fluxo de Caixa'!$B$4/12,\"Start-up\",IF(AM66<='Parâmetros de Fluxo de Caixa'!$B$12,\"Operação\",\"\")))","v":""},{"$f":"IF(AN66<='Parâmetros de Fluxo de Caixa'!$B$3,\"Construção\",IF(AN66='Parâmetros de Fluxo de Caixa'!$B$3+1+'Parâmetros de Fluxo de Caixa'!$B$4/12,\"Start-up\",IF(AN66<='Parâmetros de Fluxo de Caixa'!$B$12,\"Operação\",\"\")))","v":""},{"$f":"IF(AO66<='Parâmetros de Fluxo de Caixa'!$B$3,\"Construção\",IF(AO66='Parâmetros de Fluxo de Caixa'!$B$3+1+'Parâmetros de Fluxo de Caixa'!$B$4/12,\"Start-up\",IF(AO66<='Parâmetros de Fluxo de Caixa'!$B$12,\"Operação\",\"\")))","v":""},{"$f":"IF(AP66<='Parâmetros de Fluxo de Caixa'!$B$3,\"Construção\",IF(AP66='Parâmetros de Fluxo de Caixa'!$B$3+1+'Parâmetros de Fluxo de Caixa'!$B$4/12,\"Start-up\",IF(AP66<='Parâmetros de Fluxo de Caixa'!$B$12,\"Operação\",\"\")))","v":""},{"$f":"IF(AQ66<='Parâmetros de Fluxo de Caixa'!$B$3,\"Construção\",IF(AQ66='Parâmetros de Fluxo de Caixa'!$B$3+1+'Parâmetros de Fluxo de Caixa'!$B$4/12,\"Start-up\",IF(AQ66<='Parâmetros de Fluxo de Caixa'!$B$12,\"Operação\",\"\")))","v":""},{"$f":"IF(AR66<='Parâmetros de Fluxo de Caixa'!$B$3,\"Construção\",IF(AR66='Parâmetros de Fluxo de Caixa'!$B$3+1+'Parâmetros de Fluxo de Caixa'!$B$4/12,\"Start-up\",IF(AR66<='Parâmetros de Fluxo de Caixa'!$B$12,\"Operação\",\"\")))","v":""},{"$f":"IF(AS66<='Parâmetros de Fluxo de Caixa'!$B$3,\"Construção\",IF(AS66='Parâmetros de Fluxo de Caixa'!$B$3+1+'Parâmetros de Fluxo de Caixa'!$B$4/12,\"Start-up\",IF(AS66<='Parâmetros de Fluxo de Caixa'!$B$12,\"Operação\",\"\")))","v":""},{"$f":"IF(AT66<='Parâmetros de Fluxo de Caixa'!$B$3,\"Construção\",IF(AT66='Parâmetros de Fluxo de Caixa'!$B$3+1+'Parâmetros de Fluxo de Caixa'!$B$4/12,\"Start-up\",IF(AT66<='Parâmetros de Fluxo de Caixa'!$B$12,\"Operação\",\"\")))","v":""},{"$f":"IF(AU66<='Parâmetros de Fluxo de Caixa'!$B$3,\"Construção\",IF(AU66='Parâmetros de Fluxo de Caixa'!$B$3+1+'Parâmetros de Fluxo de Caixa'!$B$4/12,\"Start-up\",IF(AU66<='Parâmetros de Fluxo de Caixa'!$B$12,\"Operação\",\"\")))","v":""},{"$f":"IF(AV66<='Parâmetros de Fluxo de Caixa'!$B$3,\"Construção\",IF(AV66='Parâmetros de Fluxo de Caixa'!$B$3+1+'Parâmetros de Fluxo de Caixa'!$B$4/12,\"Start-up\",IF(AV66<='Parâmetros de Fluxo de Caixa'!$B$12,\"Operação\",\"\")))","v":""}]
[]
["Receitas (milhões R$ / ano)",{"$f":"IF(B67=\"Construção\",0,IF(B67=\"Start-up\",('CAPEX e OPEX'!$H$53*'Fluxo de Caixa Desc._premio'!$B$3)*(1-'Parâmetros de Fluxo de Caixa'!$B$14)+'Parâmetros de Fluxo de Caixa'!$B$14*'Parâmetros de Fluxo de Caixa'!$B$15*'Fluxo de Caixa Desc._premio'!F69,IF(B67=\"Operação\",'CAPEX e OPEX'!$H$53*'Fluxo de Caixa Desc._premio'!$B$3,\"\")))","v":0},{"$f":"IF(C67=\"Construção\",0,IF(C67=\"Start-up\",('CAPEX e OPEX'!$H$53*'Fluxo de Caixa Desc._premio'!$B$3)*(1-'Parâmetros de Fluxo de Caixa'!$B$14)+'Parâmetros de Fluxo de Caixa'!$B$14*'Parâmetros de Fluxo de Caixa'!$B$15*'Fluxo de Caixa Desc._premio'!G69,IF(C67=\"Operação\",'CAPEX e OPEX'!$H$53*'Fluxo de Caixa Desc._premio'!$B$3,\"\")))","v":0},{"$f":"IF(D67=\"Construção\",0,IF(D67=\"Start-up\",('CAPEX e OPEX'!$H$53*'Fluxo de Caixa Desc._premio'!$B$3)*(1-'Parâmetros de Fluxo de Caixa'!$B$14)+'Parâmetros de Fluxo de Caixa'!$B$14*'Parâmetros de Fluxo de Caixa'!$B$15*'Fluxo de Caixa Desc._premio'!H69,IF(D67=\"Operação\",'CAPEX e OPEX'!$H$53*'Fluxo de Caixa Desc._premio'!$B$3,\"\")))","v":0},{"$f":"IF(E67=\"Construção\",0,IF(E67=\"Start-up\",('CAPEX e OPEX'!$H$53*'Fluxo de Caixa Desc._premio'!$B$3)*(1-'Parâmetros de Fluxo de Caixa'!$B$14)+'Parâmetros de Fluxo de Caixa'!$B$14*'Parâmetros de Fluxo de Caixa'!$B$15*'Fluxo de Caixa Desc._premio'!I69,IF(E67=\"Operação\",'CAPEX e OPEX'!$H$53*'Fluxo de Caixa Desc._premio'!$B$3,\"\")))","v":5714.0920343257712},{"$f":"IF(F67=\"Construção\",0,IF(F67=\"Start-up\",('CAPEX e OPEX'!$H$53*'Fluxo de Caixa Desc._premio'!$B$3)*(1-'Parâmetros de Fluxo de Caixa'!$B$14)+'Parâmetros de Fluxo de Caixa'!$B$14*'Parâmetros de Fluxo de Caixa'!$B$15*'Fluxo de Caixa Desc._premio'!J69,IF(F67=\"Operação\",'CAPEX e OPEX'!$H$53*'Fluxo de Caixa Desc._premio'!$B$3,\"\")))","v":6530.3908963723106},{"$f":"IF(G67=\"Construção\",0,IF(G67=\"Start-up\",('CAPEX e OPEX'!$H$53*'Fluxo de Caixa Desc._premio'!$B$3)*(1-'Parâmetros de Fluxo de Caixa'!$B$14)+'Parâmetros de Fluxo de Caixa'!$B$14*'Parâmetros de Fluxo de Caixa'!$B$15*'Fluxo de Caixa Desc._premio'!K69,IF(G67=\"Operação\",'CAPEX e OPEX'!$H$53*'Fluxo de Caixa Desc._premio'!$B$3,\"\")))","v":6530.3908963723106},{"$f":"IF(H67=\"Construção\",0,IF(H67=\"Start-up\",('CAPEX e OPEX'!$H$53*'Fluxo de Caixa Desc._premio'!$B$3)*(1-'Parâmetros de Fluxo de Caixa'!$B$14)+'Parâmetros de Fluxo de Caixa'!$B$14*'Parâmetros de Fluxo de Caixa'!$B$15*'Fluxo de Caixa Desc._premio'!L69,IF(H67=\"Operação\",'CAPEX e OPEX'!$H$53*'Fluxo de Caixa Desc._premio'!$B$3,\"\")))","v":6530.3908963723106},{"$f":"IF(I67=\"Construção\",0,IF(I67=\"Start-up\",('CAPEX e OPEX'!$H$53*'Fluxo de Caixa Desc._premio'!$B$3)*(1-'Parâmetros de Fluxo de Caixa'!$B$14)+'Parâmetros de Fluxo de Caixa'!$B$14*'Parâmetros de Fluxo de Caixa'!$B$15*'Fluxo de Caixa Desc._premio'!M69,IF(I67=\"Operação\",'CAPEX e OPEX'!$H$53*'Fluxo de Caixa Desc._premio'!$B$3,\"\")))","v":6530.3908963723106},{"$f":"IF(J67=\"Construção\",0,IF(J67=\"Start-up\",('CAPEX e OPEX'!$H$53*'Fluxo de Caixa Desc._premio'!$B$3)*(1-'Parâmetros de Fluxo de Caixa'!$B$14)+'Parâmetros de Fluxo de Caixa'!$B$14*'Parâmetros de Fluxo de Caixa'!$B$15*'Fluxo de Caixa Desc._premio'!N69,IF(J67=\"Operação\",'CAPEX e OPEX'!$H$53*'Fluxo de Caixa Desc._premio'!$B$3,\"\")))","v":6530.3908963723106},{"$f":"IF(K67=\"Construção\",0,IF(K67=\"Start-up\",('CAPEX e OPEX'!$H$53*'Fluxo de Caixa Desc._premio'!$B$3)*(1-'Parâmetros de Fluxo de Caixa'!$B$14)+'Parâmetros de Fluxo de Caixa'!$B$14*'Parâmetros de Fluxo de Caixa'!$B$15*'Fluxo de Caixa Desc._premio'!O69,IF(K67=\"Operação\",'CAPEX e OPEX'!$H$53*'Fluxo de Caixa Desc._premio'!$B$3,\"\")))","v":6530.3908963723106},{"$f":"IF(L67=\"Construção\",0,IF(L67=\"Start-up\",('CAPEX e OPEX'!$H$53*'Fluxo de Caixa Desc._premio'!$B$3)*(1-'Parâmetros de Fluxo de Caixa'!$B$14)+'Parâmetros de Fluxo de Caixa'!$B$14*'Parâmetros de Fluxo de Caixa'!$B$15*'Fluxo de Caixa Desc._premio'!P69,IF(L67=\"Operação\",'CAPEX e OPEX'!$H$53*'Fluxo de Caixa Desc._premio'!$B$3,\"\")))","v":6530.3908963723106},{"$f":"IF(M67=\"Construção\",0,IF(M67=\"Start-up\",('CAPEX e OPEX'!$H$53*'Fluxo de Caixa Desc._premio'!$B$3)*(1-'Parâmetros de Fluxo de Caixa'!$B$14)+'Parâmetros de Fluxo de Caixa'!$B$14*'Parâmetros de Fluxo de Caixa'!$B$15*'Fluxo de Caixa Desc._premio'!Q69,IF(M67=\"Operação\",'CAPEX e OPEX'!$H$53*'Fluxo de Caixa Desc._premio'!$B$3,\"\")))","v":6530.3908963723106},{"$f":"IF(N67=\"Construção\",0,IF(N67=\"Start-up\",('CAPEX e OPEX'!$H$53*'Fluxo de Caixa Desc._premio'!$B$3)*(1-'Parâmetros de Fluxo de Caixa'!$B$14)+'Parâmetros de Fluxo de Caixa'!$B$14*'Parâmetros de Fluxo de Caixa'!$B$15*'Fluxo de Caixa Desc._premio'!R69,IF(N67=\"Operação\",'CAPEX e OPEX'!$H$53*'Fluxo de Caixa Desc._premio'!$B$3,\"\")))","v":6530.3908963723106},{"$f":"IF(O67=\"Construção\",0,IF(O67=\"Start-up\",('CAPEX e OPEX'!$H$53*'Fluxo de Caixa Desc._premio'!$B$3)*(1-'Parâmetros de Fluxo de Caixa'!$B$14)+'Parâmetros de Fluxo de Caixa'!$B$14*'Parâmetros de Fluxo de Caixa'!$B$15*'Fluxo de Caixa Desc._premio'!S69,IF(O67=\"Operação\",'CAPEX e OPEX'!$H$53*'Fluxo de Caixa Desc._premio'!$B$3,\"\")))","v":6530.3908963723106},{"$f":"IF(P67=\"Construção\",0,IF(P67=\"Start-up\",('CAPEX e OPEX'!$H$53*'Fluxo de Caixa Desc._premio'!$B$3)*(1-'Parâmetros de Fluxo de Caixa'!$B$14)+'Parâmetros de Fluxo de Caixa'!$B$14*'Parâmetros de Fluxo de Caixa'!$B$15*'Fluxo de Caixa Desc._premio'!T69,IF(P67=\"Operação\",'CAPEX e OPEX'!$H$53*'Fluxo de Caixa Desc._premio'!$B$3,\"\")))","v":6530.3908963723106},{"$f":"IF(Q67=\"Construção\",0,IF(Q67=\"Start-up\",('CAPEX e OPEX'!$H$53*'Fluxo de Caixa Desc._premio'!$B$3)*(1-'Parâmetros de Fluxo de Caixa'!$B$14)+'Parâmetros de Fluxo de Caixa'!$B$14*'Parâmetros de Fluxo de Caixa'!$B$15*'Fluxo de Caixa Desc._premio'!U69,IF(Q67=\"Operação\",'CAPEX e OPEX'!$H$53*'Fluxo de Caixa Desc._premio'!$B$3,\"\")))","v":6530.3908963723106},{"$f":"IF(R67=\"Construção\",0,IF(R67=\"Start-up\",('CAPEX e OPEX'!$H$53*'Fluxo de Caixa Desc._premio'!$B$3)*(1-'Parâmetros de Fluxo de Caixa'!$B$14)+'Parâmetros de Fluxo de Caixa'!$B$14*'Parâmetros de Fluxo de Caixa'!$B$15*'Fluxo de Caixa Desc._premio'!V69,IF(R67=\"Operação\",'CAPEX e OPEX'!$H$53*'Fluxo de Caixa Desc._premio'!$B$3,\"\")))","v":6530.3908963723106},{"$f":"IF(S67=\"Construção\",0,IF(S67=\"Start-up\",('CAPEX e OPEX'!$H$53*'Fluxo de Caixa Desc._premio'!$B$3)*(1-'Parâmetros de Fluxo de Caixa'!$B$14)+'Parâmetros de Fluxo de Caixa'!$B$14*'Parâmetros de Fluxo de Caixa'!$B$15*'Fluxo de Caixa Desc._premio'!W69,IF(S67=\"Operação\",'CAPEX e OPEX'!$H$53*'Fluxo de Caixa Desc._premio'!$B$3,\"\")))","v":6530.3908963723106},{"$f":"IF(T67=\"Construção\",0,IF(T67=\"Start-up\",('CAPEX e OPEX'!$H$53*'Fluxo de Caixa Desc._premio'!$B$3)*(1-'Parâmetros de Fluxo de Caixa'!$B$14)+'Parâmetros de Fluxo de Caixa'!$B$14*'Parâmetros de Fluxo de Caixa'!$B$15*'Fluxo de Caixa Desc._premio'!X69,IF(T67=\"Operação\",'CAPEX e OPEX'!$H$53*'Fluxo de Caixa Desc._premio'!$B$3,\"\")))","v":6530.3908963723106},{"$f":"IF(U67=\"Construção\",0,IF(U67=\"Start-up\",('CAPEX e OPEX'!$H$53*'Fluxo de Caixa Desc._premio'!$B$3)*(1-'Parâmetros de Fluxo de Caixa'!$B$14)+'Parâmetros de Fluxo de Caixa'!$B$14*'Parâmetros de Fluxo de Caixa'!$B$15*'Fluxo de Caixa Desc._premio'!Y69,IF(U67=\"Operação\",'CAPEX e OPEX'!$H$53*'Fluxo de Caixa Desc._premio'!$B$3,\"\")))","v":6530.3908963723106},{"$f":"IF(V67=\"Construção\",0,IF(V67=\"Start-up\",('CAPEX e OPEX'!$H$53*'Fluxo de Caixa Desc._premio'!$B$3)*(1-'Parâmetros de Fluxo de Caixa'!$B$14)+'Parâmetros de Fluxo de Caixa'!$B$14*'Parâmetros de Fluxo de Caixa'!$B$15*'Fluxo de Caixa Desc._premio'!Z69,IF(V67=\"Operação\",'CAPEX e OPEX'!$H$53*'Fluxo de Caixa Desc._premio'!$B$3,\"\")))","v":6530.3908963723106},{"$f":"IF(W67=\"Construção\",0,IF(W67=\"Start-up\",('CAPEX e OPEX'!$H$53*'Fluxo de Caixa Desc._premio'!$B$3)*(1-'Parâmetros de Fluxo de Caixa'!$B$14)+'Parâmetros de Fluxo de Caixa'!$B$14*'Parâmetros de Fluxo de Caixa'!$B$15*'Fluxo de Caixa Desc._premio'!AA69,IF(W67=\"Operação\",'CAPEX e OPEX'!$H$53*'Fluxo de Caixa Desc._premio'!$B$3,\"\")))","v":6530.3908963723106},{"$f":"IF(X67=\"Construção\",0,IF(X67=\"Start-up\",('CAPEX e OPEX'!$H$53*'Fluxo de Caixa Desc._premio'!$B$3)*(1-'Parâmetros de Fluxo de Caixa'!$B$14)+'Parâmetros de Fluxo de Caixa'!$B$14*'Parâmetros de Fluxo de Caixa'!$B$15*'Fluxo de Caixa Desc._premio'!AB69,IF(X67=\"Operação\",'CAPEX e OPEX'!$H$53*'Fluxo de Caixa Desc._premio'!$B$3,\"\")))","v":6530.3908963723106},{"$f":"IF(Y67=\"Construção\",0,IF(Y67=\"Start-up\",('CAPEX e OPEX'!$H$53*'Fluxo de Caixa Desc._premio'!$B$3)*(1-'Parâmetros de Fluxo de Caixa'!$B$14)+'Parâmetros de Fluxo de Caixa'!$B$14*'Parâmetros de Fluxo de Caixa'!$B$15*'Fluxo de Caixa Desc._premio'!AC69,IF(Y67=\"Operação\",'CAPEX e OPEX'!$H$53*'Fluxo de Caixa Desc._premio'!$B$3,\"\")))","v":""},{"$f":"IF(Z67=\"Construção\",0,IF(Z67=\"Start-up\",('CAPEX e OPEX'!$H$53*'Fluxo de Caixa Desc._premio'!$B$3)*(1-'Parâmetros de Fluxo de Caixa'!$B$14)+'Parâmetros de Fluxo de Caixa'!$B$14*'Parâmetros de Fluxo de Caixa'!$B$15*'Fluxo de Caixa Desc._premio'!AD69,IF(Z67=\"Operação\",'CAPEX e OPEX'!$H$53*'Fluxo de Caixa Desc._premio'!$B$3,\"\")))","v":""},{"$f":"IF(AA67=\"Construção\",0,IF(AA67=\"Start-up\",('CAPEX e OPEX'!$H$53*'Fluxo de Caixa Desc._premio'!$B$3)*(1-'Parâmetros de Fluxo de Caixa'!$B$14)+'Parâmetros de Fluxo de Caixa'!$B$14*'Parâmetros de Fluxo de Caixa'!$B$15*'Fluxo de Caixa Desc._premio'!AE69,IF(AA67=\"Operação\",'CAPEX e OPEX'!$H$53*'Fluxo de Caixa Desc._premio'!$B$3,\"\")))","v":""},{"$f":"IF(AB67=\"Construção\",0,IF(AB67=\"Start-up\",('CAPEX e OPEX'!$H$53*'Fluxo de Caixa Desc._premio'!$B$3)*(1-'Parâmetros de Fluxo de Caixa'!$B$14)+'Parâmetros de Fluxo de Caixa'!$B$14*'Parâmetros de Fluxo de Caixa'!$B$15*'Fluxo de Caixa Desc._premio'!AF69,IF(AB67=\"Operação\",'CAPEX e OPEX'!$H$53*'Fluxo de Caixa Desc._premio'!$B$3,\"\")))","v":""},{"$f":"IF(AC67=\"Construção\",0,IF(AC67=\"Start-up\",('CAPEX e OPEX'!$H$53*'Fluxo de Caixa Desc._premio'!$B$3)*(1-'Parâmetros de Fluxo de Caixa'!$B$14)+'Parâmetros de Fluxo de Caixa'!$B$14*'Parâmetros de Fluxo de Caixa'!$B$15*'Fluxo de Caixa Desc._premio'!AG69,IF(AC67=\"Operação\",'CAPEX e OPEX'!$H$53*'Fluxo de Caixa Desc._premio'!$B$3,\"\")))","v":""},{"$f":"IF(AD67=\"Construção\",0,IF(AD67=\"Start-up\",('CAPEX e OPEX'!$H$53*'Fluxo de Caixa Desc._premio'!$B$3)*(1-'Parâmetros de Fluxo de Caixa'!$B$14)+'Parâmetros de Fluxo de Caixa'!$B$14*'Parâmetros de Fluxo de Caixa'!$B$15*'Fluxo de Caixa Desc._premio'!AH69,IF(AD67=\"Operação\",'CAPEX e OPEX'!$H$53*'Fluxo de Caixa Desc._premio'!$B$3,\"\")))","v":""},{"$f":"IF(AE67=\"Construção\",0,IF(AE67=\"Start-up\",('CAPEX e OPEX'!$H$53*'Fluxo de Caixa Desc._premio'!$B$3)*(1-'Parâmetros de Fluxo de Caixa'!$B$14)+'Parâmetros de Fluxo de Caixa'!$B$14*'Parâmetros de Fluxo de Caixa'!$B$15*'Fluxo de Caixa Desc._premio'!AI69,IF(AE67=\"Operação\",'CAPEX e OPEX'!$H$53*'Fluxo de Caixa Desc._premio'!$B$3,\"\")))","v":""},{"$f":"IF(AF67=\"Construção\",0,IF(AF67=\"Start-up\",('CAPEX e OPEX'!$H$53*'Fluxo de Caixa Desc._premio'!$B$3)*(1-'Parâmetros de Fluxo de Caixa'!$B$14)+'Parâmetros de Fluxo de Caixa'!$B$14*'Parâmetros de Fluxo de Caixa'!$B$15*'Fluxo de Caixa Desc._premio'!AJ69,IF(AF67=\"Operação\",'CAPEX e OPEX'!$H$53*'Fluxo de Caixa Desc._premio'!$B$3,\"\")))","v":""},{"$f":"IF(AG67=\"Construção\",0,IF(AG67=\"Start-up\",('CAPEX e OPEX'!$H$53*'Fluxo de Caixa Desc._premio'!$B$3)*(1-'Parâmetros de Fluxo de Caixa'!$B$14)+'Parâmetros de Fluxo de Caixa'!$B$14*'Parâmetros de Fluxo de Caixa'!$B$15*'Fluxo de Caixa Desc._premio'!AK69,IF(AG67=\"Operação\",'CAPEX e OPEX'!$H$53*'Fluxo de Caixa Desc._premio'!$B$3,\"\")))","v":""},{"$f":"IF(AH67=\"Construção\",0,IF(AH67=\"Start-up\",('CAPEX e OPEX'!$H$53*'Fluxo de Caixa Desc._premio'!$B$3)*(1-'Parâmetros de Fluxo de Caixa'!$B$14)+'Parâmetros de Fluxo de Caixa'!$B$14*'Parâmetros de Fluxo de Caixa'!$B$15*'Fluxo de Caixa Desc._premio'!AL69,IF(AH67=\"Operação\",'CAPEX e OPEX'!$H$53*'Fluxo de Caixa Desc._premio'!$B$3,\"\")))","v":""},{"$f":"IF(AI67=\"Construção\",0,IF(AI67=\"Start-up\",('CAPEX e OPEX'!$H$53*'Fluxo de Caixa Desc._premio'!$B$3)*(1-'Parâmetros de Fluxo de Caixa'!$B$14)+'Parâmetros de Fluxo de Caixa'!$B$14*'Parâmetros de Fluxo de Caixa'!$B$15*'Fluxo de Caixa Desc._premio'!AM69,IF(AI67=\"Operação\",'CAPEX e OPEX'!$H$53*'Fluxo de Caixa Desc._premio'!$B$3,\"\")))","v":""},{"$f":"IF(AJ67=\"Construção\",0,IF(AJ67=\"Start-up\",('CAPEX e OPEX'!$H$53*'Fluxo de Caixa Desc._premio'!$B$3)*(1-'Parâmetros de Fluxo de Caixa'!$B$14)+'Parâmetros de Fluxo de Caixa'!$B$14*'Parâmetros de Fluxo de Caixa'!$B$15*'Fluxo de Caixa Desc._premio'!AN69,IF(AJ67=\"Operação\",'CAPEX e OPEX'!$H$53*'Fluxo de Caixa Desc._premio'!$B$3,\"\")))","v":""},{"$f":"IF(AK67=\"Construção\",0,IF(AK67=\"Start-up\",('CAPEX e OPEX'!$H$53*'Fluxo de Caixa Desc._premio'!$B$3)*(1-'Parâmetros de Fluxo de Caixa'!$B$14)+'Parâmetros de Fluxo de Caixa'!$B$14*'Parâmetros de Fluxo de Caixa'!$B$15*'Fluxo de Caixa Desc._premio'!AO69,IF(AK67=\"Operação\",'CAPEX e OPEX'!$H$53*'Fluxo de Caixa Desc._premio'!$B$3,\"\")))","v":""},{"$f":"IF(AL67=\"Construção\",0,IF(AL67=\"Start-up\",('CAPEX e OPEX'!$H$53*'Fluxo de Caixa Desc._premio'!$B$3)*(1-'Parâmetros de Fluxo de Caixa'!$B$14)+'Parâmetros de Fluxo de Caixa'!$B$14*'Parâmetros de Fluxo de Caixa'!$B$15*'Fluxo de Caixa Desc._premio'!AP69,IF(AL67=\"Operação\",'CAPEX e OPEX'!$H$53*'Fluxo de Caixa Desc._premio'!$B$3,\"\")))","v":""},{"$f":"IF(AM67=\"Construção\",0,IF(AM67=\"Start-up\",('CAPEX e OPEX'!$H$53*'Fluxo de Caixa Desc._premio'!$B$3)*(1-'Parâmetros de Fluxo de Caixa'!$B$14)+'Parâmetros de Fluxo de Caixa'!$B$14*'Parâmetros de Fluxo de Caixa'!$B$15*'Fluxo de Caixa Desc._premio'!AQ69,IF(AM67=\"Operação\",'CAPEX e OPEX'!$H$53*'Fluxo de Caixa Desc._premio'!$B$3,\"\")))","v":""},{"$f":"IF(AN67=\"Construção\",0,IF(AN67=\"Start-up\",('CAPEX e OPEX'!$H$53*'Fluxo de Caixa Desc._premio'!$B$3)*(1-'Parâmetros de Fluxo de Caixa'!$B$14)+'Parâmetros de Fluxo de Caixa'!$B$14*'Parâmetros de Fluxo de Caixa'!$B$15*'Fluxo de Caixa Desc._premio'!AR69,IF(AN67=\"Operação\",'CAPEX e OPEX'!$H$53*'Fluxo de Caixa Desc._premio'!$B$3,\"\")))","v":""},{"$f":"IF(AO67=\"Construção\",0,IF(AO67=\"Start-up\",('CAPEX e OPEX'!$H$53*'Fluxo de Caixa Desc._premio'!$B$3)*(1-'Parâmetros de Fluxo de Caixa'!$B$14)+'Parâmetros de Fluxo de Caixa'!$B$14*'Parâmetros de Fluxo de Caixa'!$B$15*'Fluxo de Caixa Desc._premio'!AS69,IF(AO67=\"Operação\",'CAPEX e OPEX'!$H$53*'Fluxo de Caixa Desc._premio'!$B$3,\"\")))","v":""},{"$f":"IF(AP67=\"Construção\",0,IF(AP67=\"Start-up\",('CAPEX e OPEX'!$H$53*'Fluxo de Caixa Desc._premio'!$B$3)*(1-'Parâmetros de Fluxo de Caixa'!$B$14)+'Parâmetros de Fluxo de Caixa'!$B$14*'Parâmetros de Fluxo de Caixa'!$B$15*'Fluxo de Caixa Desc._premio'!AT69,IF(AP67=\"Operação\",'CAPEX e OPEX'!$H$53*'Fluxo de Caixa Desc._premio'!$B$3,\"\")))","v":""},{"$f":"IF(AQ67=\"Construção\",0,IF(AQ67=\"Start-up\",('CAPEX e OPEX'!$H$53*'Fluxo de Caixa Desc._premio'!$B$3)*(1-'Parâmetros de Fluxo de Caixa'!$B$14)+'Parâmetros de Fluxo de Caixa'!$B$14*'Parâmetros de Fluxo de Caixa'!$B$15*'Fluxo de Caixa Desc._premio'!AU69,IF(AQ67=\"Operação\",'CAPEX e OPEX'!$H$53*'Fluxo de Caixa Desc._premio'!$B$3,\"\")))","v":""},{"$f":"IF(AR67=\"Construção\",0,IF(AR67=\"Start-up\",('CAPEX e OPEX'!$H$53*'Fluxo de Caixa Desc._premio'!$B$3)*(1-'Parâmetros de Fluxo de Caixa'!$B$14)+'Parâmetros de Fluxo de Caixa'!$B$14*'Parâmetros de Fluxo de Caixa'!$B$15*'Fluxo de Caixa Desc._premio'!AV69,IF(AR67=\"Operação\",'CAPEX e OPEX'!$H$53*'Fluxo de Caixa Desc._premio'!$B$3,\"\")))","v":""},{"$f":"IF(AS67=\"Construção\",0,IF(AS67=\"Start-up\",('CAPEX e OPEX'!$H$53*'Fluxo de Caixa Desc._premio'!$B$3)*(1-'Parâmetros de Fluxo de Caixa'!$B$14)+'Parâmetros de Fluxo de Caixa'!$B$14*'Parâmetros de Fluxo de Caixa'!$B$15*'Fluxo de Caixa Desc._premio'!AW69,IF(AS67=\"Operação\",'CAPEX e OPEX'!$H$53*'Fluxo de Caixa Desc._premio'!$B$3,\"\")))","v":""},{"$f":"IF(AT67=\"Construção\",0,IF(AT67=\"Start-up\",('CAPEX e OPEX'!$H$53*'Fluxo de Caixa Desc._premio'!$B$3)*(1-'Parâmetros de Fluxo de Caixa'!$B$14)+'Parâmetros de Fluxo de Caixa'!$B$14*'Parâmetros de Fluxo de Caixa'!$B$15*'Fluxo de Caixa Desc._premio'!AX69,IF(AT67=\"Operação\",'CAPEX e OPEX'!$H$53*'Fluxo de Caixa Desc._premio'!$B$3,\"\")))","v":""},{"$f":"IF(AU67=\"Construção\",0,IF(AU67=\"Start-up\",('CAPEX e OPEX'!$H$53*'Fluxo de Caixa Desc._premio'!$B$3)*(1-'Parâmetros de Fluxo de Caixa'!$B$14)+'Parâmetros de Fluxo de Caixa'!$B$14*'Parâmetros de Fluxo de Caixa'!$B$15*'Fluxo de Caixa Desc._premio'!AY69,IF(AU67=\"Operação\",'CAPEX e OPEX'!$H$53*'Fluxo de Caixa Desc._premio'!$B$3,\"\")))","v":""},{"$f":"IF(AV67=\"Construção\",0,IF(AV67=\"Start-up\",('CAPEX e OPEX'!$H$53*'Fluxo de Caixa Desc._premio'!$B$3)*(1-'Parâmetros de Fluxo de Caixa'!$B$14)+'Parâmetros de Fluxo de Caixa'!$B$14*'Parâmetros de Fluxo de Caixa'!$B$15*'Fluxo de Caixa Desc._premio'!AZ69,IF(AV67=\"Operação\",'CAPEX e OPEX'!$H$53*'Fluxo de Caixa Desc._premio'!$B$3,\"\")))","v":""}]
["OPEX variável (milhões R$ / ano)",{"$f":"IF(B67=\"Construção\",0,IF(B67=\"Start-up\",-('CAPEX e OPEX'!$D$52*'Fluxo de Caixa Desc._premio'!$B$3*(1-'Parâmetros de Fluxo de Caixa'!$B$14)+'Parâmetros de Fluxo de Caixa'!$B$14*'Parâmetros de Fluxo de Caixa'!$B$16*-'Fluxo de Caixa Desc._premio'!C70),IF(B67=\"Operação\",-('CAPEX e OPEX'!$D$52*'Fluxo de Caixa Desc._premio'!$B$3),\"\")))","v":0},{"$f":"IF(C67=\"Construção\",0,IF(C67=\"Start-up\",-('CAPEX e OPEX'!$D$52*'Fluxo de Caixa Desc._premio'!$B$3*(1-'Parâmetros de Fluxo de Caixa'!$B$14)+'Parâmetros de Fluxo de Caixa'!$B$14*'Parâmetros de Fluxo de Caixa'!$B$16*-'Fluxo de Caixa Desc._premio'!D70),IF(C67=\"Operação\",-('CAPEX e OPEX'!$D$52*'Fluxo de Caixa Desc._premio'!$B$3),\"\")))","v":0},{"$f":"IF(D67=\"Construção\",0,IF(D67=\"Start-up\",-('CAPEX e OPEX'!$D$52*'Fluxo de Caixa Desc._premio'!$B$3*(1-'Parâmetros de Fluxo de Caixa'!$B$14)+'Parâmetros de Fluxo de Caixa'!$B$14*'Parâmetros de Fluxo de Caixa'!$B$16*-'Fluxo de Caixa Desc._premio'!E70),IF(D67=\"Operação\",-('CAPEX e OPEX'!$D$52*'Fluxo de Caixa Desc._premio'!$B$3),\"\")))","v":0},{"$f":"IF(E67=\"Construção\",0,IF(E67=\"Start-up\",-('CAPEX e OPEX'!$D$52*'Fluxo de Caixa Desc._premio'!$B$3*(1-'Parâmetros de Fluxo de Caixa'!$B$14)+'Parâmetros de Fluxo de Caixa'!$B$14*'Parâmetros de Fluxo de Caixa'!$B$16*-'Fluxo de Caixa Desc._premio'!F70),IF(E67=\"Operação\",-('CAPEX e OPEX'!$D$52*'Fluxo de Caixa Desc._premio'!$B$3),\"\")))","v":-3241.7244624203831},{"$f":"IF(F67=\"Construção\",0,IF(F67=\"Start-up\",-('CAPEX e OPEX'!$D$52*'Fluxo de Caixa Desc._premio'!$B$3*(1-'Parâmetros de Fluxo de Caixa'!$B$14)+'Parâmetros de Fluxo de Caixa'!$B$14*'Parâmetros de Fluxo de Caixa'!$B$16*-'Fluxo de Caixa Desc._premio'!G70),IF(F67=\"Operação\",-('CAPEX e OPEX'!$D$52*'Fluxo de Caixa Desc._premio'!$B$3),\"\")))","v":-3704.8279570518662},{"$f":"IF(G67=\"Construção\",0,IF(G67=\"Start-up\",-('CAPEX e OPEX'!$D$52*'Fluxo de Caixa Desc._premio'!$B$3*(1-'Parâmetros de Fluxo de Caixa'!$B$14)+'Parâmetros de Fluxo de Caixa'!$B$14*'Parâmetros de Fluxo de Caixa'!$B$16*-'Fluxo de Caixa Desc._premio'!H70),IF(G67=\"Operação\",-('CAPEX e OPEX'!$D$52*'Fluxo de Caixa Desc._premio'!$B$3),\"\")))","v":-3704.8279570518662},{"$f":"IF(H67=\"Construção\",0,IF(H67=\"Start-up\",-('CAPEX e OPEX'!$D$52*'Fluxo de Caixa Desc._premio'!$B$3*(1-'Parâmetros de Fluxo de Caixa'!$B$14)+'Parâmetros de Fluxo de Caixa'!$B$14*'Parâmetros de Fluxo de Caixa'!$B$16*-'Fluxo de Caixa Desc._premio'!I70),IF(H67=\"Operação\",-('CAPEX e OPEX'!$D$52*'Fluxo de Caixa Desc._premio'!$B$3),\"\")))","v":-3704.8279570518662},{"$f":"IF(I67=\"Construção\",0,IF(I67=\"Start-up\",-('CAPEX e OPEX'!$D$52*'Fluxo de Caixa Desc._premio'!$B$3*(1-'Parâmetros de Fluxo de Caixa'!$B$14)+'Parâmetros de Fluxo de Caixa'!$B$14*'Parâmetros de Fluxo de Caixa'!$B$16*-'Fluxo de Caixa Desc._premio'!J70),IF(I67=\"Operação\",-('CAPEX e OPEX'!$D$52*'Fluxo de Caixa Desc._premio'!$B$3),\"\")))","v":-3704.8279570518662},{"$f":"IF(J67=\"Construção\",0,IF(J67=\"Start-up\",-('CAPEX e OPEX'!$D$52*'Fluxo de Caixa Desc._premio'!$B$3*(1-'Parâmetros de Fluxo de Caixa'!$B$14)+'Parâmetros de Fluxo de Caixa'!$B$14*'Parâmetros de Fluxo de Caixa'!$B$16*-'Fluxo de Caixa Desc._premio'!K70),IF(J67=\"Operação\",-('CAPEX e OPEX'!$D$52*'Fluxo de Caixa Desc._premio'!$B$3),\"\")))","v":-3704.8279570518662},{"$f":"IF(K67=\"Construção\",0,IF(K67=\"Start-up\",-('CAPEX e OPEX'!$D$52*'Fluxo de Caixa Desc._premio'!$B$3*(1-'Parâmetros de Fluxo de Caixa'!$B$14)+'Parâmetros de Fluxo de Caixa'!$B$14*'Parâmetros de Fluxo de Caixa'!$B$16*-'Fluxo de Caixa Desc._premio'!L70),IF(K67=\"Operação\",-('CAPEX e OPEX'!$D$52*'Fluxo de Caixa Desc._premio'!$B$3),\"\")))","v":-3704.8279570518662},{"$f":"IF(L67=\"Construção\",0,IF(L67=\"Start-up\",-('CAPEX e OPEX'!$D$52*'Fluxo de Caixa Desc._premio'!$B$3*(1-'Parâmetros de Fluxo de Caixa'!$B$14)+'Parâmetros de Fluxo de Caixa'!$B$14*'Parâmetros de Fluxo de Caixa'!$B$16*-'Fluxo de Caixa Desc._premio'!M70),IF(L67=\"Operação\",-('CAPEX e OPEX'!$D$52*'Fluxo de Caixa Desc._premio'!$B$3),\"\")))","v":-3704.8279570518662},{"$f":"IF(M67=\"Construção\",0,IF(M67=\"Start-up\",-('CAPEX e OPEX'!$D$52*'Fluxo de Caixa Desc._premio'!$B$3*(1-'Parâmetros de Fluxo de Caixa'!$B$14)+'Parâmetros de Fluxo de Caixa'!$B$14*'Parâmetros de Fluxo de Caixa'!$B$16*-'Fluxo de Caixa Desc._premio'!N70),IF(M67=\"Operação\",-('CAPEX e OPEX'!$D$52*'Fluxo de Caixa Desc._premio'!$B$3),\"\")))","v":-3704.8279570518662},{"$f":"IF(N67=\"Construção\",0,IF(N67=\"Start-up\",-('CAPEX e OPEX'!$D$52*'Fluxo de Caixa Desc._premio'!$B$3*(1-'Parâmetros de Fluxo de Caixa'!$B$14)+'Parâmetros de Fluxo de Caixa'!$B$14*'Parâmetros de Fluxo de Caixa'!$B$16*-'Fluxo de Caixa Desc._premio'!O70),IF(N67=\"Operação\",-('CAPEX e OPEX'!$D$52*'Fluxo de Caixa Desc._premio'!$B$3),\"\")))","v":-3704.8279570518662},{"$f":"IF(O67=\"Construção\",0,IF(O67=\"Start-up\",-('CAPEX e OPEX'!$D$52*'Fluxo de Caixa Desc._premio'!$B$3*(1-'Parâmetros de Fluxo de Caixa'!$B$14)+'Parâmetros de Fluxo de Caixa'!$B$14*'Parâmetros de Fluxo de Caixa'!$B$16*-'Fluxo de Caixa Desc._premio'!P70),IF(O67=\"Operação\",-('CAPEX e OPEX'!$D$52*'Fluxo de Caixa Desc._premio'!$B$3),\"\")))","v":-3704.8279570518662},{"$f":"IF(P67=\"Construção\",0,IF(P67=\"Start-up\",-('CAPEX e OPEX'!$D$52*'Fluxo de Caixa Desc._premio'!$B$3*(1-'Parâmetros de Fluxo de Caixa'!$B$14)+'Parâmetros de Fluxo de Caixa'!$B$14*'Parâmetros de Fluxo de Caixa'!$B$16*-'Fluxo de Caixa Desc._premio'!Q70),IF(P67=\"Operação\",-('CAPEX e OPEX'!$D$52*'Fluxo de Caixa Desc._premio'!$B$3),\"\")))","v":-3704.8279570518662},{"$f":"IF(Q67=\"Construção\",0,IF(Q67=\"Start-up\",-('CAPEX e OPEX'!$D$52*'Fluxo de Caixa Desc._premio'!$B$3*(1-'Parâmetros de Fluxo de Caixa'!$B$14)+'Parâmetros de Fluxo de Caixa'!$B$14*'Parâmetros de Fluxo de Caixa'!$B$16*-'Fluxo de Caixa Desc._premio'!R70),IF(Q67=\"Operação\",-('CAPEX e OPEX'!$D$52*'Fluxo de Caixa Desc._premio'!$B$3),\"\")))","v":-3704.8279570518662},{"$f":"IF(R67=\"Construção\",0,IF(R67=\"Start-up\",-('CAPEX e OPEX'!$D$52*'Fluxo de Caixa Desc._premio'!$B$3*(1-'Parâmetros de Fluxo de Caixa'!$B$14)+'Parâmetros de Fluxo de Caixa'!$B$14*'Parâmetros de Fluxo de Caixa'!$B$16*-'Fluxo de Caixa Desc._premio'!S70),IF(R67=\"Operação\",-('CAPEX e OPEX'!$D$52*'Fluxo de Caixa Desc._premio'!$B$3),\"\")))","v":-3704.8279570518662},{"$f":"IF(S67=\"Construção\",0,IF(S67=\"Start-up\",-('CAPEX e OPEX'!$D$52*'Fluxo de Caixa Desc._premio'!$B$3*(1-'Parâmetros de Fluxo de Caixa'!$B$14)+'Parâmetros de Fluxo de Caixa'!$B$14*'Parâmetros de Fluxo de Caixa'!$B$16*-'Fluxo de Caixa Desc._premio'!T70),IF(S67=\"Operação\",-('CAPEX e OPEX'!$D$52*'Fluxo de Caixa Desc._premio'!$B$3),\"\")))","v":-3704.8279570518662},{"$f":"IF(T67=\"Construção\",0,IF(T67=\"Start-up\",-('CAPEX e OPEX'!$D$52*'Fluxo de Caixa Desc._premio'!$B$3*(1-'Parâmetros de Fluxo de Caixa'!$B$14)+'Parâmetros de Fluxo de Caixa'!$B$14*'Parâmetros de Fluxo de Caixa'!$B$16*-'Fluxo de Caixa Desc._premio'!U70),IF(T67=\"Operação\",-('CAPEX e OPEX'!$D$52*'Fluxo de Caixa Desc._premio'!$B$3),\"\")))","v":-3704.8279570518662},{"$f":"IF(U67=\"Construção\",0,IF(U67=\"Start-up\",-('CAPEX e OPEX'!$D$52*'Fluxo de Caixa Desc._premio'!$B$3*(1-'Parâmetros de Fluxo de Caixa'!$B$14)+'Parâmetros de Fluxo de Caixa'!$B$14*'Parâmetros de Fluxo de Caixa'!$B$16*-'Fluxo de Caixa Desc._premio'!V70),IF(U67=\"Operação\",-('CAPEX e OPEX'!$D$52*'Fluxo de Caixa Desc._premio'!$B$3),\"\")))","v":-3704.8279570518662},{"$f":"IF(V67=\"Construção\",0,IF(V67=\"Start-up\",-('CAPEX e OPEX'!$D$52*'Fluxo de Caixa Desc._premio'!$B$3*(1-'Parâmetros de Fluxo de Caixa'!$B$14)+'Parâmetros de Fluxo de Caixa'!$B$14*'Parâmetros de Fluxo de Caixa'!$B$16*-'Fluxo de Caixa Desc._premio'!W70),IF(V67=\"Operação\",-('CAPEX e OPEX'!$D$52*'Fluxo de Caixa Desc._premio'!$B$3),\"\")))","v":-3704.8279570518662},{"$f":"IF(W67=\"Construção\",0,IF(W67=\"Start-up\",-('CAPEX e OPEX'!$D$52*'Fluxo de Caixa Desc._premio'!$B$3*(1-'Parâmetros de Fluxo de Caixa'!$B$14)+'Parâmetros de Fluxo de Caixa'!$B$14*'Parâmetros de Fluxo de Caixa'!$B$16*-'Fluxo de Caixa Desc._premio'!X70),IF(W67=\"Operação\",-('CAPEX e OPEX'!$D$52*'Fluxo de Caixa Desc._premio'!$B$3),\"\")))","v":-3704.8279570518662},{"$f":"IF(X67=\"Construção\",0,IF(X67=\"Start-up\",-('CAPEX e OPEX'!$D$52*'Fluxo de Caixa Desc._premio'!$B$3*(1-'Parâmetros de Fluxo de Caixa'!$B$14)+'Parâmetros de Fluxo de Caixa'!$B$14*'Parâmetros de Fluxo de Caixa'!$B$16*-'Fluxo de Caixa Desc._premio'!Y70),IF(X67=\"Operação\",-('CAPEX e OPEX'!$D$52*'Fluxo de Caixa Desc._premio'!$B$3),\"\")))","v":-3704.8279570518662},{"$f":"IF(Y67=\"Construção\",0,IF(Y67=\"Start-up\",-('CAPEX e OPEX'!$D$52*'Fluxo de Caixa Desc._premio'!$B$3*(1-'Parâmetros de Fluxo de Caixa'!$B$14)+'Parâmetros de Fluxo de Caixa'!$B$14*'Parâmetros de Fluxo de Caixa'!$B$16*-'Fluxo de Caixa Desc._premio'!Z70),IF(Y67=\"Operação\",-('CAPEX e OPEX'!$D$52*'Fluxo de Caixa Desc._premio'!$B$3),\"\")))","v":""},{"$f":"IF(Z67=\"Construção\",0,IF(Z67=\"Start-up\",-('CAPEX e OPEX'!$D$52*'Fluxo de Caixa Desc._premio'!$B$3*(1-'Parâmetros de Fluxo de Caixa'!$B$14)+'Parâmetros de Fluxo de Caixa'!$B$14*'Parâmetros de Fluxo de Caixa'!$B$16*-'Fluxo de Caixa Desc._premio'!AA70),IF(Z67=\"Operação\",-('CAPEX e OPEX'!$D$52*'Fluxo de Caixa Desc._premio'!$B$3),\"\")))","v":""},{"$f":"IF(AA67=\"Construção\",0,IF(AA67=\"Start-up\",-('CAPEX e OPEX'!$D$52*'Fluxo de Caixa Desc._premio'!$B$3*(1-'Parâmetros de Fluxo de Caixa'!$B$14)+'Parâmetros de Fluxo de Caixa'!$B$14*'Parâmetros de Fluxo de Caixa'!$B$16*-'Fluxo de Caixa Desc._premio'!AB70),IF(AA67=\"Operação\",-('CAPEX e OPEX'!$D$52*'Fluxo de Caixa Desc._premio'!$B$3),\"\")))","v":""},{"$f":"IF(AB67=\"Construção\",0,IF(AB67=\"Start-up\",-('CAPEX e OPEX'!$D$52*'Fluxo de Caixa Desc._premio'!$B$3*(1-'Parâmetros de Fluxo de Caixa'!$B$14)+'Parâmetros de Fluxo de Caixa'!$B$14*'Parâmetros de Fluxo de Caixa'!$B$16*-'Fluxo de Caixa Desc._premio'!AC70),IF(AB67=\"Operação\",-('CAPEX e OPEX'!$D$52*'Fluxo de Caixa Desc._premio'!$B$3),\"\")))","v":""},{"$f":"IF(AC67=\"Construção\",0,IF(AC67=\"Start-up\",-('CAPEX e OPEX'!$D$52*'Fluxo de Caixa Desc._premio'!$B$3*(1-'Parâmetros de Fluxo de Caixa'!$B$14)+'Parâmetros de Fluxo de Caixa'!$B$14*'Parâmetros de Fluxo de Caixa'!$B$16*-'Fluxo de Caixa Desc._premio'!AD70),IF(AC67=\"Operação\",-('CAPEX e OPEX'!$D$52*'Fluxo de Caixa Desc._premio'!$B$3),\"\")))","v":""},{"$f":"IF(AD67=\"Construção\",0,IF(AD67=\"Start-up\",-('CAPEX e OPEX'!$D$52*'Fluxo de Caixa Desc._premio'!$B$3*(1-'Parâmetros de Fluxo de Caixa'!$B$14)+'Parâmetros de Fluxo de Caixa'!$B$14*'Parâmetros de Fluxo de Caixa'!$B$16*-'Fluxo de Caixa Desc._premio'!AE70),IF(AD67=\"Operação\",-('CAPEX e OPEX'!$D$52*'Fluxo de Caixa Desc._premio'!$B$3),\"\")))","v":""},{"$f":"IF(AE67=\"Construção\",0,IF(AE67=\"Start-up\",-('CAPEX e OPEX'!$D$52*'Fluxo de Caixa Desc._premio'!$B$3*(1-'Parâmetros de Fluxo de Caixa'!$B$14)+'Parâmetros de Fluxo de Caixa'!$B$14*'Parâmetros de Fluxo de Caixa'!$B$16*-'Fluxo de Caixa Desc._premio'!AF70),IF(AE67=\"Operação\",-('CAPEX e OPEX'!$D$52*'Fluxo de Caixa Desc._premio'!$B$3),\"\")))","v":""},{"$f":"IF(AF67=\"Construção\",0,IF(AF67=\"Start-up\",-('CAPEX e OPEX'!$D$52*'Fluxo de Caixa Desc._premio'!$B$3*(1-'Parâmetros de Fluxo de Caixa'!$B$14)+'Parâmetros de Fluxo de Caixa'!$B$14*'Parâmetros de Fluxo de Caixa'!$B$16*-'Fluxo de Caixa Desc._premio'!AG70),IF(AF67=\"Operação\",-('CAPEX e OPEX'!$D$52*'Fluxo de Caixa Desc._premio'!$B$3),\"\")))","v":""},{"$f":"IF(AG67=\"Construção\",0,IF(AG67=\"Start-up\",-('CAPEX e OPEX'!$D$52*'Fluxo de Caixa Desc._premio'!$B$3*(1-'Parâmetros de Fluxo de Caixa'!$B$14)+'Parâmetros de Fluxo de Caixa'!$B$14*'Parâmetros de Fluxo de Caixa'!$B$16*-'Fluxo de Caixa Desc._premio'!AH70),IF(AG67=\"Operação\",-('CAPEX e OPEX'!$D$52*'Fluxo de Caixa Desc._premio'!$B$3),\"\")))","v":""},{"$f":"IF(AH67=\"Construção\",0,IF(AH67=\"Start-up\",-('CAPEX e OPEX'!$D$52*'Fluxo de Caixa Desc._premio'!$B$3*(1-'Parâmetros de Fluxo de Caixa'!$B$14)+'Parâmetros de Fluxo de Caixa'!$B$14*'Parâmetros de Fluxo de Caixa'!$B$16*-'Fluxo de Caixa Desc._premio'!AI70),IF(AH67=\"Operação\",-('CAPEX e OPEX'!$D$52*'Fluxo de Caixa Desc._premio'!$B$3),\"\")))","v":""},{"$f":"IF(AI67=\"Construção\",0,IF(AI67=\"Start-up\",-('CAPEX e OPEX'!$D$52*'Fluxo de Caixa Desc._premio'!$B$3*(1-'Parâmetros de Fluxo de Caixa'!$B$14)+'Parâmetros de Fluxo de Caixa'!$B$14*'Parâmetros de Fluxo de Caixa'!$B$16*-'Fluxo de Caixa Desc._premio'!AJ70),IF(AI67=\"Operação\",-('CAPEX e OPEX'!$D$52*'Fluxo de Caixa Desc._premio'!$B$3),\"\")))","v":""},{"$f":"IF(AJ67=\"Construção\",0,IF(AJ67=\"Start-up\",-('CAPEX e OPEX'!$D$52*'Fluxo de Caixa Desc._premio'!$B$3*(1-'Parâmetros de Fluxo de Caixa'!$B$14)+'Parâmetros de Fluxo de Caixa'!$B$14*'Parâmetros de Fluxo de Caixa'!$B$16*-'Fluxo de Caixa Desc._premio'!AK70),IF(AJ67=\"Operação\",-('CAPEX e OPEX'!$D$52*'Fluxo de Caixa Desc._premio'!$B$3),\"\")))","v":""},{"$f":"IF(AK67=\"Construção\",0,IF(AK67=\"Start-up\",-('CAPEX e OPEX'!$D$52*'Fluxo de Caixa Desc._premio'!$B$3*(1-'Parâmetros de Fluxo de Caixa'!$B$14)+'Parâmetros de Fluxo de Caixa'!$B$14*'Parâmetros de Fluxo de Caixa'!$B$16*-'Fluxo de Caixa Desc._premio'!AL70),IF(AK67=\"Operação\",-('CAPEX e OPEX'!$D$52*'Fluxo de Caixa Desc._premio'!$B$3),\"\")))","v":""},{"$f":"IF(AL67=\"Construção\",0,IF(AL67=\"Start-up\",-('CAPEX e OPEX'!$D$52*'Fluxo de Caixa Desc._premio'!$B$3*(1-'Parâmetros de Fluxo de Caixa'!$B$14)+'Parâmetros de Fluxo de Caixa'!$B$14*'Parâmetros de Fluxo de Caixa'!$B$16*-'Fluxo de Caixa Desc._premio'!AM70),IF(AL67=\"Operação\",-('CAPEX e OPEX'!$D$52*'Fluxo de Caixa Desc._premio'!$B$3),\"\")))","v":""},{"$f":"IF(AM67=\"Construção\",0,IF(AM67=\"Start-up\",-('CAPEX e OPEX'!$D$52*'Fluxo de Caixa Desc._premio'!$B$3*(1-'Parâmetros de Fluxo de Caixa'!$B$14)+'Parâmetros de Fluxo de Caixa'!$B$14*'Parâmetros de Fluxo de Caixa'!$B$16*-'Fluxo de Caixa Desc._premio'!AN70),IF(AM67=\"Operação\",-('CAPEX e OPEX'!$D$52*'Fluxo de Caixa Desc._premio'!$B$3),\"\")))","v":""},{"$f":"IF(AN67=\"Construção\",0,IF(AN67=\"Start-up\",-('CAPEX e OPEX'!$D$52*'Fluxo de Caixa Desc._premio'!$B$3*(1-'Parâmetros de Fluxo de Caixa'!$B$14)+'Parâmetros de Fluxo de Caixa'!$B$14*'Parâmetros de Fluxo de Caixa'!$B$16*-'Fluxo de Caixa Desc._premio'!AO70),IF(AN67=\"Operação\",-('CAPEX e OPEX'!$D$52*'Fluxo de Caixa Desc._premio'!$B$3),\"\")))","v":""},{"$f":"IF(AO67=\"Construção\",0,IF(AO67=\"Start-up\",-('CAPEX e OPEX'!$D$52*'Fluxo de Caixa Desc._premio'!$B$3*(1-'Parâmetros de Fluxo de Caixa'!$B$14)+'Parâmetros de Fluxo de Caixa'!$B$14*'Parâmetros de Fluxo de Caixa'!$B$16*-'Fluxo de Caixa Desc._premio'!AP70),IF(AO67=\"Operação\",-('CAPEX e OPEX'!$D$52*'Fluxo de Caixa Desc._premio'!$B$3),\"\")))","v":""},{"$f":"IF(AP67=\"Construção\",0,IF(AP67=\"Start-up\",-('CAPEX e OPEX'!$D$52*'Fluxo de Caixa Desc._premio'!$B$3*(1-'Parâmetros de Fluxo de Caixa'!$B$14)+'Parâmetros de Fluxo de Caixa'!$B$14*'Parâmetros de Fluxo de Caixa'!$B$16*-'Fluxo de Caixa Desc._premio'!AQ70),IF(AP67=\"Operação\",-('CAPEX e OPEX'!$D$52*'Fluxo de Caixa Desc._premio'!$B$3),\"\")))","v":""},{"$f":"IF(AQ67=\"Construção\",0,IF(AQ67=\"Start-up\",-('CAPEX e OPEX'!$D$52*'Fluxo de Caixa Desc._premio'!$B$3*(1-'Parâmetros de Fluxo de Caixa'!$B$14)+'Parâmetros de Fluxo de Caixa'!$B$14*'Parâmetros de Fluxo de Caixa'!$B$16*-'Fluxo de Caixa Desc._premio'!AR70),IF(AQ67=\"Operação\",-('CAPEX e OPEX'!$D$52*'Fluxo de Caixa Desc._premio'!$B$3),\"\")))","v":""},{"$f":"IF(AR67=\"Construção\",0,IF(AR67=\"Start-up\",-('CAPEX e OPEX'!$D$52*'Fluxo de Caixa Desc._premio'!$B$3*(1-'Parâmetros de Fluxo de Caixa'!$B$14)+'Parâmetros de Fluxo de Caixa'!$B$14*'Parâmetros de Fluxo de Caixa'!$B$16*-'Fluxo de Caixa Desc._premio'!AV70),IF(AR67=\"Operação\",-('CAPEX e OPEX'!$D$52*'Fluxo de Caixa Desc._premio'!$B$3),\"\")))","v":""},{"$f":"IF(AS67=\"Construção\",0,IF(AS67=\"Start-up\",-('CAPEX e OPEX'!$D$52*'Fluxo de Caixa Desc._premio'!$B$3*(1-'Parâmetros de Fluxo de Caixa'!$B$14)+'Parâmetros de Fluxo de Caixa'!$B$14*'Parâmetros de Fluxo de Caixa'!$B$16*-'Fluxo de Caixa Desc._premio'!AW70),IF(AS67=\"Operação\",-('CAPEX e OPEX'!$D$52*'Fluxo de Caixa Desc._premio'!$B$3),\"\")))","v":""},{"$f":"IF(AT67=\"Construção\",0,IF(AT67=\"Start-up\",-('CAPEX e OPEX'!$D$52*'Fluxo de Caixa Desc._premio'!$B$3*(1-'Parâmetros de Fluxo de Caixa'!$B$14)+'Parâmetros de Fluxo de Caixa'!$B$14*'Parâmetros de Fluxo de Caixa'!$B$16*-'Fluxo de Caixa Desc._premio'!AX70),IF(AT67=\"Operação\",-('CAPEX e OPEX'!$D$52*'Fluxo de Caixa Desc._premio'!$B$3),\"\")))","v":""},{"$f":"IF(AU67=\"Construção\",0,IF(AU67=\"Start-up\",-('CAPEX e OPEX'!$D$52*'Fluxo de Caixa Desc._premio'!$B$3*(1-'Parâmetros de Fluxo de Caixa'!$B$14)+'Parâmetros de Fluxo de Caixa'!$B$14*'Parâmetros de Fluxo de Caixa'!$B$16*-'Fluxo de Caixa Desc._premio'!AY70),IF(AU67=\"Operação\",-('CAPEX e OPEX'!$D$52*'Fluxo de Caixa Desc._premio'!$B$3),\"\")))","v":""},{"$f":"IF(AV67=\"Construção\",0,IF(AV67=\"Start-up\",-('CAPEX e OPEX'!$D$52*'Fluxo de Caixa Desc._premio'!$B$3*(1-'Parâmetros de Fluxo de Caixa'!$B$14)+'Parâmetros de Fluxo de Caixa'!$B$14*'Parâmetros de Fluxo de Caixa'!$B$16*-'Fluxo de Caixa Desc._premio'!AZ70),IF(AV67=\"Operação\",-('CAPEX e OPEX'!$D$52*'Fluxo de Caixa Desc._premio'!$B$3),\"\")))","v":""}]
["OPEX fixo (milhões R$ / ano)",{"$f":"IF(B67=\"Construção\",0,IF(B67=\"Start-up\",-('CAPEX e OPEX'!$D$58*'Fluxo de Caixa Desc._premio'!$B$3*(1-'Parâmetros de Fluxo de Caixa'!$B$14)+'Parâmetros de Fluxo de Caixa'!$B$14*'Parâmetros de Fluxo de Caixa'!$B$17*(-'Fluxo de Caixa Desc._premio'!F71)),IF(B67=\"Operação\",-'CAPEX e OPEX'!$D$58*'Fluxo de Caixa Desc._premio'!$B$3,\"\")))","v":0},{"$f":"IF(C67=\"Construção\",0,IF(C67=\"Start-up\",-('CAPEX e OPEX'!$D$58*'Fluxo de Caixa Desc._premio'!$B$3*(1-'Parâmetros de Fluxo de Caixa'!$B$14)+'Parâmetros de Fluxo de Caixa'!$B$14*'Parâmetros de Fluxo de Caixa'!$B$17*(-'Fluxo de Caixa Desc._premio'!G71)),IF(C67=\"Operação\",-'CAPEX e OPEX'!$D$58*'Fluxo de Caixa Desc._premio'!$B$3,\"\")))","v":0},{"$f":"IF(D67=\"Construção\",0,IF(D67=\"Start-up\",-('CAPEX e OPEX'!$D$58*'Fluxo de Caixa Desc._premio'!$B$3*(1-'Parâmetros de Fluxo de Caixa'!$B$14)+'Parâmetros de Fluxo de Caixa'!$B$14*'Parâmetros de Fluxo de Caixa'!$B$17*(-'Fluxo de Caixa Desc._premio'!H71)),IF(D67=\"Operação\",-'CAPEX e OPEX'!$D$58*'Fluxo de Caixa Desc._premio'!$B$3,\"\")))","v":0},{"$f":"IF(E67=\"Construção\",0,IF(E67=\"Start-up\",-('CAPEX e OPEX'!$D$58*'Fluxo de Caixa Desc._premio'!$B$3*(1-'Parâmetros de Fluxo de Caixa'!$B$14)+'Parâmetros de Fluxo de Caixa'!$B$14*'Parâmetros de Fluxo de Caixa'!$B$17*(-'Fluxo de Caixa Desc._premio'!I71)),IF(E67=\"Operação\",-'CAPEX e OPEX'!$D$58*'Fluxo de Caixa Desc._premio'!$B$3,\"\")))","v":-364.30175171976941},{"$f":"IF(F67=\"Construção\",0,IF(F67=\"Start-up\",-('CAPEX e OPEX'!$D$58*'Fluxo de Caixa Desc._premio'!$B$3*(1-'Parâmetros de Fluxo de Caixa'!$B$14)+'Parâmetros de Fluxo de Caixa'!$B$14*'Parâmetros de Fluxo de Caixa'!$B$17*(-'Fluxo de Caixa Desc._premio'!J71)),IF(F67=\"Operação\",-'CAPEX e OPEX'!$D$58*'Fluxo de Caixa Desc._premio'!$B$3,\"\")))","v":-364.30175171976941},{"$f":"IF(G67=\"Construção\",0,IF(G67=\"Start-up\",-('CAPEX e OPEX'!$D$58*'Fluxo de Caixa Desc._premio'!$B$3*(1-'Parâmetros de Fluxo de Caixa'!$B$14)+'Parâmetros de Fluxo de Caixa'!$B$14*'Parâmetros de Fluxo de Caixa'!$B$17*(-'Fluxo de Caixa Desc._premio'!K71)),IF(G67=\"Operação\",-'CAPEX e OPEX'!$D$58*'Fluxo de Caixa Desc._premio'!$B$3,\"\")))","v":-364.30175171976941},{"$f":"IF(H67=\"Construção\",0,IF(H67=\"Start-up\",-('CAPEX e OPEX'!$D$58*'Fluxo de Caixa Desc._premio'!$B$3*(1-'Parâmetros de Fluxo de Caixa'!$B$14)+'Parâmetros de Fluxo de Caixa'!$B$14*'Parâmetros de Fluxo de Caixa'!$B$17*(-'Fluxo de Caixa Desc._premio'!L71)),IF(H67=\"Operação\",-'CAPEX e OPEX'!$D$58*'Fluxo de Caixa Desc._premio'!$B$3,\"\")))","v":-364.30175171976941},{"$f":"IF(I67=\"Construção\",0,IF(I67=\"Start-up\",-('CAPEX e OPEX'!$D$58*'Fluxo de Caixa Desc._premio'!$B$3*(1-'Parâmetros de Fluxo de Caixa'!$B$14)+'Parâmetros de Fluxo de Caixa'!$B$14*'Parâmetros de Fluxo de Caixa'!$B$17*(-'Fluxo de Caixa Desc._premio'!M71)),IF(I67=\"Operação\",-'CAPEX e OPEX'!$D$58*'Fluxo de Caixa Desc._premio'!$B$3,\"\")))","v":-364.30175171976941},{"$f":"IF(J67=\"Construção\",0,IF(J67=\"Start-up\",-('CAPEX e OPEX'!$D$58*'Fluxo de Caixa Desc._premio'!$B$3*(1-'Parâmetros de Fluxo de Caixa'!$B$14)+'Parâmetros de Fluxo de Caixa'!$B$14*'Parâmetros de Fluxo de Caixa'!$B$17*(-'Fluxo de Caixa Desc._premio'!N71)),IF(J67=\"Operação\",-'CAPEX e OPEX'!$D$58*'Fluxo de Caixa Desc._premio'!$B$3,\"\")))","v":-364.30175171976941},{"$f":"IF(K67=\"Construção\",0,IF(K67=\"Start-up\",-('CAPEX e OPEX'!$D$58*'Fluxo de Caixa Desc._premio'!$B$3*(1-'Parâmetros de Fluxo de Caixa'!$B$14)+'Parâmetros de Fluxo de Caixa'!$B$14*'Parâmetros de Fluxo de Caixa'!$B$17*(-'Fluxo de Caixa Desc._premio'!O71)),IF(K67=\"Operação\",-'CAPEX e OPEX'!$D$58*'Fluxo de Caixa Desc._premio'!$B$3,\"\")))","v":-364.30175171976941},{"$f":"IF(L67=\"Construção\",0,IF(L67=\"Start-up\",-('CAPEX e OPEX'!$D$58*'Fluxo de Caixa Desc._premio'!$B$3*(1-'Parâmetros de Fluxo de Caixa'!$B$14)+'Parâmetros de Fluxo de Caixa'!$B$14*'Parâmetros de Fluxo de Caixa'!$B$17*(-'Fluxo de Caixa Desc._premio'!P71)),IF(L67=\"Operação\",-'CAPEX e OPEX'!$D$58*'Fluxo de Caixa Desc._premio'!$B$3,\"\")))","v":-364.30175171976941},{"$f":"IF(M67=\"Construção\",0,IF(M67=\"Start-up\",-('CAPEX e OPEX'!$D$58*'Fluxo de Caixa Desc._premio'!$B$3*(1-'Parâmetros de Fluxo de Caixa'!$B$14)+'Parâmetros de Fluxo de Caixa'!$B$14*'Parâmetros de Fluxo de Caixa'!$B$17*(-'Fluxo de Caixa Desc._premio'!Q71)),IF(M67=\"Operação\",-'CAPEX e OPEX'!$D$58*'Fluxo de Caixa Desc._premio'!$B$3,\"\")))","v":-364.30175171976941},{"$f":"IF(N67=\"Construção\",0,IF(N67=\"Start-up\",-('CAPEX e OPEX'!$D$58*'Fluxo de Caixa Desc._premio'!$B$3*(1-'Parâmetros de Fluxo de Caixa'!$B$14)+'Parâmetros de Fluxo de Caixa'!$B$14*'Parâmetros de Fluxo de Caixa'!$B$17*(-'Fluxo de Caixa Desc._premio'!R71)),IF(N67=\"Operação\",-'CAPEX e OPEX'!$D$58*'Fluxo de Caixa Desc._premio'!$B$3,\"\")))","v":-364.30175171976941},{"$f":"IF(O67=\"Construção\",0,IF(O67=\"Start-up\",-('CAPEX e OPEX'!$D$58*'Fluxo de Caixa Desc._premio'!$B$3*(1-'Parâmetros de Fluxo de Caixa'!$B$14)+'Parâmetros de Fluxo de Caixa'!$B$14*'Parâmetros de Fluxo de Caixa'!$B$17*(-'Fluxo de Caixa Desc._premio'!S71)),IF(O67=\"Operação\",-'CAPEX e OPEX'!$D$58*'Fluxo de Caixa Desc._premio'!$B$3,\"\")))","v":-364.30175171976941},{"$f":"IF(P67=\"Construção\",0,IF(P67=\"Start-up\",-('CAPEX e OPEX'!$D$58*'Fluxo de Caixa Desc._premio'!$B$3*(1-'Parâmetros de Fluxo de Caixa'!$B$14)+'Parâmetros de Fluxo de Caixa'!$B$14*'Parâmetros de Fluxo de Caixa'!$B$17*(-'Fluxo de Caixa Desc._premio'!T71)),IF(P67=\"Operação\",-'CAPEX e OPEX'!$D$58*'Fluxo de Caixa Desc._premio'!$B$3,\"\")))","v":-364.30175171976941},{"$f":"IF(Q67=\"Construção\",0,IF(Q67=\"Start-up\",-('CAPEX e OPEX'!$D$58*'Fluxo de Caixa Desc._premio'!$B$3*(1-'Parâmetros de Fluxo de Caixa'!$B$14)+'Parâmetros de Fluxo de Caixa'!$B$14*'Parâmetros de Fluxo de Caixa'!$B$17*(-'Fluxo de Caixa Desc._premio'!U71)),IF(Q67=\"Operação\",-'CAPEX e OPEX'!$D$58*'Fluxo de Caixa Desc._premio'!$B$3,\"\")))","v":-364.30175171976941},{"$f":"IF(R67=\"Construção\",0,IF(R67=\"Start-up\",-('CAPEX e OPEX'!$D$58*'Fluxo de Caixa Desc._premio'!$B$3*(1-'Parâmetros de Fluxo de Caixa'!$B$14)+'Parâmetros de Fluxo de Caixa'!$B$14*'Parâmetros de Fluxo de Caixa'!$B$17*(-'Fluxo de Caixa Desc._premio'!V71)),IF(R67=\"Operação\",-'CAPEX e OPEX'!$D$58*'Fluxo de Caixa Desc._premio'!$B$3,\"\")))","v":-364.30175171976941},{"$f":"IF(S67=\"Construção\",0,IF(S67=\"Start-up\",-('CAPEX e OPEX'!$D$58*'Fluxo de Caixa Desc._premio'!$B$3*(1-'Parâmetros de Fluxo de Caixa'!$B$14)+'Parâmetros de Fluxo de Caixa'!$B$14*'Parâmetros de Fluxo de Caixa'!$B$17*(-'Fluxo de Caixa Desc._premio'!W71)),IF(S67=\"Operação\",-'CAPEX e OPEX'!$D$58*'Fluxo de Caixa Desc._premio'!$B$3,\"\")))","v":-364.30175171976941},{"$f":"IF(T67=\"Construção\",0,IF(T67=\"Start-up\",-('CAPEX e OPEX'!$D$58*'Fluxo de Caixa Desc._premio'!$B$3*(1-'Parâmetros de Fluxo de Caixa'!$B$14)+'Parâmetros de Fluxo de Caixa'!$B$14*'Parâmetros de Fluxo de Caixa'!$B$17*(-'Fluxo de Caixa Desc._premio'!X71)),IF(T67=\"Operação\",-'CAPEX e OPEX'!$D$58*'Fluxo de Caixa Desc._premio'!$B$3,\"\")))","v":-364.30175171976941},{"$f":"IF(U67=\"Construção\",0,IF(U67=\"Start-up\",-('CAPEX e OPEX'!$D$58*'Fluxo de Caixa Desc._premio'!$B$3*(1-'Parâmetros de Fluxo de Caixa'!$B$14)+'Parâmetros de Fluxo de Caixa'!$B$14*'Parâmetros de Fluxo de Caixa'!$B$17*(-'Fluxo de Caixa Desc._premio'!Y71)),IF(U67=\"Operação\",-'CAPEX e OPEX'!$D$58*'Fluxo de Caixa Desc._premio'!$B$3,\"\")))","v":-364.30175171976941},{"$f":"IF(V67=\"Construção\",0,IF(V67=\"Start-up\",-('CAPEX e OPEX'!$D$58*'Fluxo de Caixa Desc._premio'!$B$3*(1-'Parâmetros de Fluxo de Caixa'!$B$14)+'Parâmetros de Fluxo de Caixa'!$B$14*'Parâmetros de Fluxo de Caixa'!$B$17*(-'Fluxo de Caixa Desc._premio'!Z71)),IF(V67=\"Operação\",-'CAPEX e OPEX'!$D$58*'Fluxo de Caixa Desc._premio'!$B$3,\"\")))","v":-364.30175171976941},{"$f":"IF(W67=\"Construção\",0,IF(W67=\"Start-up\",-('CAPEX e OPEX'!$D$58*'Fluxo de Caixa Desc._premio'!$B$3*(1-'Parâmetros de Fluxo de Caixa'!$B$14)+'Parâmetros de Fluxo de Caixa'!$B$14*'Parâmetros de Fluxo de Caixa'!$B$17*(-'Fluxo de Caixa Desc._premio'!AA71)),IF(W67=\"Operação\",-'CAPEX e OPEX'!$D$58*'Fluxo de Caixa Desc._premio'!$B$3,\"\")))","v":-364.30175171976941},{"$f":"IF(X67=\"Construção\",0,IF(X67=\"Start-up\",-('CAPEX e OPEX'!$D$58*'Fluxo de Caixa Desc._premio'!$B$3*(1-'Parâmetros de Fluxo de Caixa'!$B$14)+'Parâmetros de Fluxo de Caixa'!$B$14*'Parâmetros de Fluxo de Caixa'!$B$17*(-'Fluxo de Caixa Desc._premio'!AB71)),IF(X67=\"Operação\",-'CAPEX e OPEX'!$D$58*'Fluxo de Caixa Desc._premio'!$B$3,\"\")))","v":-364.30175171976941},{"$f":"IF(Y67=\"Construção\",0,IF(Y67=\"Start-up\",-('CAPEX e OPEX'!$D$58*'Fluxo de Caixa Desc._premio'!$B$3*(1-'Parâmetros de Fluxo de Caixa'!$B$14)+'Parâmetros de Fluxo de Caixa'!$B$14*'Parâmetros de Fluxo de Caixa'!$B$17*(-'Fluxo de Caixa Desc._premio'!AC71)),IF(Y67=\"Operação\",-'CAPEX e OPEX'!$D$58*'Fluxo de Caixa Desc._premio'!$B$3,\"\")))","v":""},{"$f":"IF(Z67=\"Construção\",0,IF(Z67=\"Start-up\",-('CAPEX e OPEX'!$D$58*'Fluxo de Caixa Desc._premio'!$B$3*(1-'Parâmetros de Fluxo de Caixa'!$B$14)+'Parâmetros de Fluxo de Caixa'!$B$14*'Parâmetros de Fluxo de Caixa'!$B$17*(-'Fluxo de Caixa Desc._premio'!AD71)),IF(Z67=\"Operação\",-'CAPEX e OPEX'!$D$58*'Fluxo de Caixa Desc._premio'!$B$3,\"\")))","v":""},{"$f":"IF(AA67=\"Construção\",0,IF(AA67=\"Start-up\",-('CAPEX e OPEX'!$D$58*'Fluxo de Caixa Desc._premio'!$B$3*(1-'Parâmetros de Fluxo de Caixa'!$B$14)+'Parâmetros de Fluxo de Caixa'!$B$14*'Parâmetros de Fluxo de Caixa'!$B$17*(-'Fluxo de Caixa Desc._premio'!AE71)),IF(AA67=\"Operação\",-'CAPEX e OPEX'!$D$58*'Fluxo de Caixa Desc._premio'!$B$3,\"\")))","v":""},{"$f":"IF(AB67=\"Construção\",0,IF(AB67=\"Start-up\",-('CAPEX e OPEX'!$D$58*'Fluxo de Caixa Desc._premio'!$B$3*(1-'Parâmetros de Fluxo de Caixa'!$B$14)+'Parâmetros de Fluxo de Caixa'!$B$14*'Parâmetros de Fluxo de Caixa'!$B$17*(-'Fluxo de Caixa Desc._premio'!AF71)),IF(AB67=\"Operação\",-'CAPEX e OPEX'!$D$58*'Fluxo de Caixa Desc._premio'!$B$3,\"\")))","v":""},{"$f":"IF(AC67=\"Construção\",0,IF(AC67=\"Start-up\",-('CAPEX e OPEX'!$D$58*'Fluxo de Caixa Desc._premio'!$B$3*(1-'Parâmetros de Fluxo de Caixa'!$B$14)+'Parâmetros de Fluxo de Caixa'!$B$14*'Parâmetros de Fluxo de Caixa'!$B$17*(-'Fluxo de Caixa Desc._premio'!AG71)),IF(AC67=\"Operação\",-'CAPEX e OPEX'!$D$58*'Fluxo de Caixa Desc._premio'!$B$3,\"\")))","v":""},{"$f":"IF(AD67=\"Construção\",0,IF(AD67=\"Start-up\",-('CAPEX e OPEX'!$D$58*'Fluxo de Caixa Desc._premio'!$B$3*(1-'Parâmetros de Fluxo de Caixa'!$B$14)+'Parâmetros de Fluxo de Caixa'!$B$14*'Parâmetros de Fluxo de Caixa'!$B$17*(-'Fluxo de Caixa Desc._premio'!AH71)),IF(AD67=\"Operação\",-'CAPEX e OPEX'!$D$58*'Fluxo de Caixa Desc._premio'!$B$3,\"\")))","v":""},{"$f":"IF(AE67=\"Construção\",0,IF(AE67=\"Start-up\",-('CAPEX e OPEX'!$D$58*'Fluxo de Caixa Desc._premio'!$B$3*(1-'Parâmetros de Fluxo de Caixa'!$B$14)+'Parâmetros de Fluxo de Caixa'!$B$14*'Parâmetros de Fluxo de Caixa'!$B$17*(-'Fluxo de Caixa Desc._premio'!AI71)),IF(AE67=\"Operação\",-'CAPEX e OPEX'!$D$58*'Fluxo de Caixa Desc._premio'!$B$3,\"\")))","v":""},{"$f":"IF(AF67=\"Construção\",0,IF(AF67=\"Start-up\",-('CAPEX e OPEX'!$D$58*'Fluxo de Caixa Desc._premio'!$B$3*(1-'Parâmetros de Fluxo de Caixa'!$B$14)+'Parâmetros de Fluxo de Caixa'!$B$14*'Parâmetros de Fluxo de Caixa'!$B$17*(-'Fluxo de Caixa Desc._premio'!AJ71)),IF(AF67=\"Operação\",-'CAPEX e OPEX'!$D$58*'Fluxo de Caixa Desc._premio'!$B$3,\"\")))","v":""},{"$f":"IF(AG67=\"Construção\",0,IF(AG67=\"Start-up\",-('CAPEX e OPEX'!$D$58*'Fluxo de Caixa Desc._premio'!$B$3*(1-'Parâmetros de Fluxo de Caixa'!$B$14)+'Parâmetros de Fluxo de Caixa'!$B$14*'Parâmetros de Fluxo de Caixa'!$B$17*(-'Fluxo de Caixa Desc._premio'!AK71)),IF(AG67=\"Operação\",-'CAPEX e OPEX'!$D$58*'Fluxo de Caixa Desc._premio'!$B$3,\"\")))","v":""},{"$f":"IF(AH67=\"Construção\",0,IF(AH67=\"Start-up\",-('CAPEX e OPEX'!$D$58*'Fluxo de Caixa Desc._premio'!$B$3*(1-'Parâmetros de Fluxo de Caixa'!$B$14)+'Parâmetros de Fluxo de Caixa'!$B$14*'Parâmetros de Fluxo de Caixa'!$B$17*(-'Fluxo de Caixa Desc._premio'!AL71)),IF(AH67=\"Operação\",-'CAPEX e OPEX'!$D$58*'Fluxo de Caixa Desc._premio'!$B$3,\"\")))","v":""},{"$f":"IF(AI67=\"Construção\",0,IF(AI67=\"Start-up\",-('CAPEX e OPEX'!$D$58*'Fluxo de Caixa Desc._premio'!$B$3*(1-'Parâmetros de Fluxo de Caixa'!$B$14)+'Parâmetros de Fluxo de Caixa'!$B$14*'Parâmetros de Fluxo de Caixa'!$B$17*(-'Fluxo de Caixa Desc._premio'!AM71)),IF(AI67=\"Operação\",-'CAPEX e OPEX'!$D$58*'Fluxo de Caixa Desc._premio'!$B$3,\"\")))","v":""},{"$f":"IF(AJ67=\"Construção\",0,IF(AJ67=\"Start-up\",-('CAPEX e OPEX'!$D$58*'Fluxo de Caixa Desc._premio'!$B$3*(1-'Parâmetros de Fluxo de Caixa'!$B$14)+'Parâmetros de Fluxo de Caixa'!$B$14*'Parâmetros de Fluxo de Caixa'!$B$17*(-'Fluxo de Caixa Desc._premio'!AN71)),IF(AJ67=\"Operação\",-'CAPEX e OPEX'!$D$58*'Fluxo de Caixa Desc._premio'!$B$3,\"\")))","v":""},{"$f":"IF(AK67=\"Construção\",0,IF(AK67=\"Start-up\",-('CAPEX e OPEX'!$D$58*'Fluxo de Caixa Desc._premio'!$B$3*(1-'Parâmetros de Fluxo de Caixa'!$B$14)+'Parâmetros de Fluxo de Caixa'!$B$14*'Parâmetros de Fluxo de Caixa'!$B$17*(-'Fluxo de Caixa Desc._premio'!AO71)),IF(AK67=\"Operação\",-'CAPEX e OPEX'!$D$58*'Fluxo de Caixa Desc._premio'!$B$3,\"\")))","v":""},{"$f":"IF(AL67=\"Construção\",0,IF(AL67=\"Start-up\",-('CAPEX e OPEX'!$D$58*'Fluxo de Caixa Desc._premio'!$B$3*(1-'Parâmetros de Fluxo de Caixa'!$B$14)+'Parâmetros de Fluxo de Caixa'!$B$14*'Parâmetros de Fluxo de Caixa'!$B$17*(-'Fluxo de Caixa Desc._premio'!AP71)),IF(AL67=\"Operação\",-'CAPEX e OPEX'!$D$58*'Fluxo de Caixa Desc._premio'!$B$3,\"\")))","v":""},{"$f":"IF(AM67=\"Construção\",0,IF(AM67=\"Start-up\",-('CAPEX e OPEX'!$D$58*'Fluxo de Caixa Desc._premio'!$B$3*(1-'Parâmetros de Fluxo de Caixa'!$B$14)+'Parâmetros de Fluxo de Caixa'!$B$14*'Parâmetros de Fluxo de Caixa'!$B$17*(-'Fluxo de Caixa Desc._premio'!AQ71)),IF(AM67=\"Operação\",-'CAPEX e OPEX'!$D$58*'Fluxo de Caixa Desc._premio'!$B$3,\"\")))","v":""},{"$f":"IF(AN67=\"Construção\",0,IF(AN67=\"Start-up\",-('CAPEX e OPEX'!$D$58*'Fluxo de Caixa Desc._premio'!$B$3*(1-'Parâmetros de Fluxo de Caixa'!$B$14)+'Parâmetros de Fluxo de Caixa'!$B$14*'Parâmetros de Fluxo de Caixa'!$B$17*(-'Fluxo de Caixa Desc._premio'!AR71)),IF(AN67=\"Operação\",-'CAPEX e OPEX'!$D$58*'Fluxo de Caixa Desc._premio'!$B$3,\"\")))","v":""},{"$f":"IF(AO67=\"Construção\",0,IF(AO67=\"Start-up\",-('CAPEX e OPEX'!$D$58*'Fluxo de Caixa Desc._premio'!$B$3*(1-'Parâmetros de Fluxo de Caixa'!$B$14)+'Parâmetros de Fluxo de Caixa'!$B$14*'Parâmetros de Fluxo de Caixa'!$B$17*(-'Fluxo de Caixa Desc._premio'!AV71)),IF(AO67=\"Operação\",-'CAPEX e OPEX'!$D$58*'Fluxo de Caixa Desc._premio'!$B$3,\"\")))","v":""},{"$f":"IF(AP67=\"Construção\",0,IF(AP67=\"Start-up\",-('CAPEX e OPEX'!$D$58*'Fluxo de Caixa Desc._premio'!$B$3*(1-'Parâmetros de Fluxo de Caixa'!$B$14)+'Parâmetros de Fluxo de Caixa'!$B$14*'Parâmetros de Fluxo de Caixa'!$B$17*(-'Fluxo de Caixa Desc._premio'!AW71)),IF(AP67=\"Operação\",-'CAPEX e OPEX'!$D$58*'Fluxo de Caixa Desc._premio'!$B$3,\"\")))","v":""},{"$f":"IF(AQ67=\"Construção\",0,IF(AQ67=\"Start-up\",-('CAPEX e OPEX'!$D$58*'Fluxo de Caixa Desc._premio'!$B$3*(1-'Parâmetros de Fluxo de Caixa'!$B$14)+'Parâmetros de Fluxo de Caixa'!$B$14*'Parâmetros de Fluxo de Caixa'!$B$17*(-'Fluxo de Caixa Desc._premio'!AX71)),IF(AQ67=\"Operação\",-'CAPEX e OPEX'!$D$58*'Fluxo de Caixa Desc._premio'!$B$3,\"\")))","v":""},{"$f":"IF(AR67=\"Construção\",0,IF(AR67=\"Start-up\",-('CAPEX e OPEX'!$D$58*'Fluxo de Caixa Desc._premio'!$B$3*(1-'Parâmetros de Fluxo de Caixa'!$B$14)+'Parâmetros de Fluxo de Caixa'!$B$14*'Parâmetros de Fluxo de Caixa'!$B$17*(-'Fluxo de Caixa Desc._premio'!AY71)),IF(AR67=\"Operação\",-'CAPEX e OPEX'!$D$58*'Fluxo de Caixa Desc._premio'!$B$3,\"\")))","v":""},{"$f":"IF(AS67=\"Construção\",0,IF(AS67=\"Start-up\",-('CAPEX e OPEX'!$D$58*'Fluxo de Caixa Desc._premio'!$B$3*(1-'Parâmetros de Fluxo de Caixa'!$B$14)+'Parâmetros de Fluxo de Caixa'!$B$14*'Parâmetros de Fluxo de Caixa'!$B$17*(-'Fluxo de Caixa Desc._premio'!AZ71)),IF(AS67=\"Operação\",-'CAPEX e OPEX'!$D$58*'Fluxo de Caixa Desc._premio'!$B$3,\"\")))","v":""},{"$f":"IF(AT67=\"Construção\",0,IF(AT67=\"Start-up\",-('CAPEX e OPEX'!$D$58*'Fluxo de Caixa Desc._premio'!$B$3*(1-'Parâmetros de Fluxo de Caixa'!$B$14)+'Parâmetros de Fluxo de Caixa'!$B$14*'Parâmetros de Fluxo de Caixa'!$B$17*(-'Fluxo de Caixa Desc._premio'!BA71)),IF(AT67=\"Operação\",-'CAPEX e OPEX'!$D$58*'Fluxo de Caixa Desc._premio'!$B$3,\"\")))","v":""},{"$f":"IF(AU67=\"Construção\",0,IF(AU67=\"Start-up\",-('CAPEX e OPEX'!$D$58*'Fluxo de Caixa Desc._premio'!$B$3*(1-'Parâmetros de Fluxo de Caixa'!$B$14)+'Parâmetros de Fluxo de Caixa'!$B$14*'Parâmetros de Fluxo de Caixa'!$B$17*(-'Fluxo de Caixa Desc._premio'!BB71)),IF(AU67=\"Operação\",-'CAPEX e OPEX'!$D$58*'Fluxo de Caixa Desc._premio'!$B$3,\"\")))","v":""},{"$f":"IF(AV67=\"Construção\",0,IF(AV67=\"Start-up\",-('CAPEX e OPEX'!$D$58*'Fluxo de Caixa Desc._premio'!$B$3*(1-'Parâmetros de Fluxo de Caixa'!$B$14)+'Parâmetros de Fluxo de Caixa'!$B$14*'Parâmetros de Fluxo de Caixa'!$B$17*(-'Fluxo de Caixa Desc._premio'!BC71)),IF(AV67=\"Operação\",-'CAPEX e OPEX'!$D$58*'Fluxo de Caixa Desc._premio'!$B$3,\"\")))","v":""}]
["Custo de Capital Equity (milhões R$ / ano)",{"$f":"IF(B67=\"Construção\",-('Parâmetros de Fluxo de Caixa'!$B$6*'Parâmetros de Fluxo de Caixa'!$B$23*'CAPEX e OPEX'!D3/10^6),0)","v":-179.34855469280959},{"$f":"IF(C67=\"Construção\",-('Parâmetros de Fluxo de Caixa'!$B$7*'Parâmetros de Fluxo de Caixa'!$B$23*'CAPEX e OPEX'!D3/10^6),0)","v":-1345.1141601960717},{"$f":"IF(D67=\"Construção\",-('Parâmetros de Fluxo de Caixa'!$B$8*'Parâmetros de Fluxo de Caixa'!$B$23*'CAPEX e OPEX'!D3/10^6),0)","v":-717.39421877123834},{"$f":"IF(E67=\"Construção\",-('Parâmetros de Fluxo de Caixa'!$B$9*'Parâmetros de Fluxo de Caixa'!$B$23*'CAPEX e OPEX'!D3/10^6),0)","v":0},{"$f":"IF(F67=\"Construção\",-('Parâmetros de Fluxo de Caixa'!$B$10*'Parâmetros de Fluxo de Caixa'!$B$23*'CAPEX e OPEX'!D3/10^6),0)","v":0},{"$f":"IF(G67=\"Start-up\",0,IF(G67=\"Operação\",0,\"\"))","v":0},{"$f":"IF(H67=\"Start-up\",0,IF(H67=\"Operação\",0,\"\"))","v":0},0,0,0,0,0,0,0,0,0,0,0,0,0,0,0,0,"","","","","","","","","","","","","","","","","","","","","","","",""]
["Custo de Capital Financiado (milhões R$ / ano)",{"$f":"IF(B67=\"Construção\",-('Parâmetros de Fluxo de Caixa'!$B$6*'Parâmetros de Fluxo de Caixa'!$B$18*'CAPEX e OPEX'!D3/10^6),0)","v":-269.02283203921439},{"$f":"IF(C67=\"Construção\",-('Parâmetros de Fluxo de Caixa'!$B$7*'Parâmetros de Fluxo de Caixa'!$B$18*'CAPEX e OPEX'!D3/10^6),0)","v":-2017.6712402941077},{"$f":"IF(D67=\"Construção\",-('Parâmetros de Fluxo de Caixa'!$B$8*'Parâmetros de Fluxo de Caixa'!$B$18*'CAPEX e OPEX'!D3/10^6),0)","v":-1076.0913281568576},{"$f":"IF(E67=\"Construção\",-('Parâmetros de Fluxo de Caixa'!$B$9*'Parâmetros de Fluxo de Caixa'!$B$18*'CAPEX e OPEX'!D3/10^6),0)","v":0},{"$f":"IF(F67=\"Construção\",-('Parâmetros de Fluxo de Caixa'!$B$10*'Parâmetros de Fluxo de Caixa'!$B$18*'CAPEX e OPEX'!D3/10^6),0)","v":0},{"$f":"IF(G67=\"Start-up\",0,IF(G67=\"Operação\",0,\"\"))","v":0},{"$f":"IF(H67=\"Start-up\",0,IF(H67=\"Operação\",0,\"\"))","v":0},0,0,0,0,0,0,0,0,0,0,0,0,0,0,0,0,"","","","","","","","","","","","","","","","","","","","","","","",""]
["Depreciação",{"$f":"IF(B67=\"Construção\",0,IF(B66>'Parâmetros de Fluxo de Caixa'!$B$12,\"\",IF(B24<='Parâmetros de Fluxo de Caixa'!$B$26+'Parâmetros de Fluxo de Caixa'!$B$3+'Parâmetros de Fluxo de Caixa'!$B$4/12,-(SUM($B$72:$D$73)-SUM($B$72:$D$73)*'Parâmetros de Fluxo de Caixa'!$B$27)/'Parâmetros de Fluxo de Caixa'!$B$26,0)))","v":0},{"$f":"IF(C67=\"Construção\",0,IF(C66>'Parâmetros de Fluxo de Caixa'!$B$12,\"\",IF(C24<='Parâmetros de Fluxo de Caixa'!$B$26+'Parâmetros de Fluxo de Caixa'!$B$3+'Parâmetros de Fluxo de Caixa'!$B$4/12,-(SUM($B$72:$D$73)-SUM($B$72:$D$73)*'Parâmetros de Fluxo de Caixa'!$B$27)/'Parâmetros de Fluxo de Caixa'!$B$26,0)))","v":0},{"$f":"IF(D67=\"Construção\",0,IF(D66>'Parâmetros de Fluxo de Caixa'!$B$12,\"\",IF(D24<='Parâmetros de Fluxo de Caixa'!$B$26+'Parâmetros de Fluxo de Caixa'!$B$3+'Parâmetros de Fluxo de Caixa'!$B$4/12,-(SUM($B$72:$D$73)-SUM($B$72:$D$73)*'Parâmetros de Fluxo de Caixa'!$B$27)/'Parâmetros de Fluxo de Caixa'!$B$26,0)))","v":0},{"$f":"IF(E67=\"Construção\",0,IF(E66>'Parâmetros de Fluxo de Caixa'!$B$12,\"\",IF(E24<='Parâmetros de Fluxo de Caixa'!$B$26+'Parâmetros de Fluxo de Caixa'!$B$3+'Parâmetros de Fluxo de Caixa'!$B$4/12,-(SUM($B$72:$D$73)-SUM($B$72:$D$73)*'Parâmetros de Fluxo de Caixa'!$B$27)/'Parâmetros de Fluxo de Caixa'!$B$26,0)))","v":560.46423341502987},{"$f":"IF(F67=\"Construção\",0,IF(F66>'Parâmetros de Fluxo de Caixa'!$B$12,\"\",IF(F24<='Parâmetros de Fluxo de Caixa'!$B$26+'Parâmetros de Fluxo de Caixa'!$B$3+'Parâmetros de Fluxo de Caixa'!$B$4/12,-(SUM($B$72:$D$73)-SUM($B$72:$D$73)*'Parâmetros de Fluxo de Caixa'!$B$27)/'Parâmetros de Fluxo de Caixa'!$B$26,0)))","v":560.46423341502987},{"$f":"IF(G67=\"Construção\",0,IF(G66>'Parâmetros de Fluxo de Caixa'!$B$12,\"\",IF(G24<='Parâmetros de Fluxo de Caixa'!$B$26+'Parâmetros de Fluxo de Caixa'!$B$3+'Parâmetros de Fluxo de Caixa'!$B$4/12,-(SUM($B$72:$D$73)-SUM($B$72:$D$73)*'Parâmetros de Fluxo de Caixa'!$B$27)/'Parâmetros de Fluxo de Caixa'!$B$26,0)))","v":560.46423341502987},{"$f":"IF(H67=\"Construção\",0,IF(H66>'Parâmetros de Fluxo de Caixa'!$B$12,\"\",IF(H24<='Parâmetros de Fluxo de Caixa'!$B$26+'Parâmetros de Fluxo de Caixa'!$B$3+'Parâmetros de Fluxo de Caixa'!$B$4/12,-(SUM($B$72:$D$73)-SUM($B$72:$D$73)*'Parâmetros de Fluxo de Caixa'!$B$27)/'Parâmetros de Fluxo de Caixa'!$B$26,0)))","v":560.46423341502987},{"$f":"IF(I67=\"Construção\",0,IF(I66>'Parâmetros de Fluxo de Caixa'!$B$12,\"\",IF(I24<='Parâmetros de Fluxo de Caixa'!$B$26+'Parâmetros de Fluxo de Caixa'!$B$3+'Parâmetros de Fluxo de Caixa'!$B$4/12,-(SUM($B$72:$D$73)-SUM($B$72:$D$73)*'Parâmetros de Fluxo de Caixa'!$B$27)/'Parâmetros de Fluxo de Caixa'!$B$26,0)))","v":560.46423341502987},{"$f":"IF(J67=\"Construção\",0,IF(J66>'Parâmetros de Fluxo de Caixa'!$B$12,\"\",IF(J24<='Parâmetros de Fluxo de Caixa'!$B$26+'Parâmetros de Fluxo de Caixa'!$B$3+'Parâmetros de Fluxo de Caixa'!$B$4/12,-(SUM($B$72:$D$73)-SUM($B$72:$D$73)*'Parâmetros de Fluxo de Caixa'!$B$27)/'Parâmetros de Fluxo de Caixa'!$B$26,0)))","v":560.46423341502987},{"$f":"IF(K67=\"Construção\",0,IF(K66>'Parâmetros de Fluxo de Caixa'!$B$12,\"\",IF(K24<='Parâmetros de Fluxo de Caixa'!$B$26+'Parâmetros de Fluxo de Caixa'!$B$3+'Parâmetros de Fluxo de Caixa'!$B$4/12,-(SUM($B$72:$D$73)-SUM($B$72:$D$73)*'Parâmetros de Fluxo de Caixa'!$B$27)/'Parâmetros de Fluxo de Caixa'!$B$26,0)))","v":560.46423341502987},{"$f":"IF(L67=\"Construção\",0,IF(L66>'Parâmetros de Fluxo de Caixa'!$B$12,\"\",IF(L24<='Parâmetros de Fluxo de Caixa'!$B$26+'Parâmetros de Fluxo de Caixa'!$B$3+'Parâmetros de Fluxo de Caixa'!$B$4/12,-(SUM($B$72:$D$73)-SUM($B$72:$D$73)*'Parâmetros de Fluxo de Caixa'!$B$27)/'Parâmetros de Fluxo de Caixa'!$B$26,0)))","v":560.46423341502987},{"$f":"IF(M67=\"Construção\",0,IF(M66>'Parâmetros de Fluxo de Caixa'!$B$12,\"\",IF(M24<='Parâmetros de Fluxo de Caixa'!$B$26+'Parâmetros de Fluxo de Caixa'!$B$3+'Parâmetros de Fluxo de Caixa'!$B$4/12,-(SUM($B$72:$D$73)-SUM($B$72:$D$73)*'Parâmetros de Fluxo de Caixa'!$B$27)/'Parâmetros de Fluxo de Caixa'!$B$26,0)))","v":560.46423341502987},{"$f":"IF(N67=\"Construção\",0,IF(N66>'Parâmetros de Fluxo de Caixa'!$B$12,\"\",IF(N24<='Parâmetros de Fluxo de Caixa'!$B$26+'Parâmetros de Fluxo de Caixa'!$B$3+'Parâmetros de Fluxo de Caixa'!$B$4/12,-(SUM($B$72:$D$73)-SUM($B$72:$D$73)*'Parâmetros de Fluxo de Caixa'!$B$27)/'Parâmetros de Fluxo de Caixa'!$B$26,0)))","v":560.46423341502987},{"$f":"IF(O67=\"Construção\",0,IF(O66>'Parâmetros de Fluxo de Caixa'!$B$12,\"\",IF(O24<='Parâmetros de Fluxo de Caixa'!$B$26+'Parâmetros de Fluxo de Caixa'!$B$3+'Parâmetros de Fluxo de Caixa'!$B$4/12,-(SUM($B$72:$D$73)-SUM($B$72:$D$73)*'Parâmetros de Fluxo de Caixa'!$B$27)/'Parâmetros de Fluxo de Caixa'!$B$26,0)))","v":0},{"$f":"IF(P67=\"Construção\",0,IF(P66>'Parâmetros de Fluxo de Caixa'!$B$12,\"\",IF(P24<='Parâmetros de Fluxo de Caixa'!$B$26+'Parâmetros de Fluxo de Caixa'!$B$3+'Parâmetros de Fluxo de Caixa'!$B$4/12,-(SUM($B$72:$D$73)-SUM($B$72:$D$73)*'Parâmetros de Fluxo de Caixa'!$B$27)/'Parâmetros de Fluxo de Caixa'!$B$26,0)))","v":0},{"$f":"IF(Q67=\"Construção\",0,IF(Q66>'Parâmetros de Fluxo de Caixa'!$B$12,\"\",IF(Q24<='Parâmetros de Fluxo de Caixa'!$B$26+'Parâmetros de Fluxo de Caixa'!$B$3+'Parâmetros de Fluxo de Caixa'!$B$4/12,-(SUM($B$72:$D$73)-SUM($B$72:$D$73)*'Parâmetros de Fluxo de Caixa'!$B$27)/'Parâmetros de Fluxo de Caixa'!$B$26,0)))","v":0},{"$f":"IF(R67=\"Construção\",0,IF(R66>'Parâmetros de Fluxo de Caixa'!$B$12,\"\",IF(R24<='Parâmetros de Fluxo de Caixa'!$B$26+'Parâmetros de Fluxo de Caixa'!$B$3+'Parâmetros de Fluxo de Caixa'!$B$4/12,-(SUM($B$72:$D$73)-SUM($B$72:$D$73)*'Parâmetros de Fluxo de Caixa'!$B$27)/'Parâmetros de Fluxo de Caixa'!$B$26,0)))","v":0},{"$f":"IF(S67=\"Construção\",0,IF(S66>'Parâmetros de Fluxo de Caixa'!$B$12,\"\",IF(S24<='Parâmetros de Fluxo de Caixa'!$B$26+'Parâmetros de Fluxo de Caixa'!$B$3+'Parâmetros de Fluxo de Caixa'!$B$4/12,-(SUM($B$72:$D$73)-SUM($B$72:$D$73)*'Parâmetros de Fluxo de Caixa'!$B$27)/'Parâmetros de Fluxo de Caixa'!$B$26,0)))","v":0},{"$f":"IF(T67=\"Construção\",0,IF(T66>'Parâmetros de Fluxo de Caixa'!$B$12,\"\",IF(T24<='Parâmetros de Fluxo de Caixa'!$B$26+'Parâmetros de Fluxo de Caixa'!$B$3+'Parâmetros de Fluxo de Caixa'!$B$4/12,-(SUM($B$72:$D$73)-SUM($B$72:$D$73)*'Parâmetros de Fluxo de Caixa'!$B$27)/'Parâmetros de Fluxo de Caixa'!$B$26,0)))","v":0},{"$f":"IF(U67=\"Construção\",0,IF(U66>'Parâmetros de Fluxo de Caixa'!$B$12,\"\",IF(U24<='Parâmetros de Fluxo de Caixa'!$B$26+'Parâmetros de Fluxo de Caixa'!$B$3+'Parâmetros de Fluxo de Caixa'!$B$4/12,-(SUM($B$72:$D$73)-SUM($B$72:$D$73)*'Parâmetros de Fluxo de Caixa'!$B$27)/'Parâmetros de Fluxo de Caixa'!$B$26,0)))","v":0},{"$f":"IF(V67=\"Construção\",0,IF(V66>'Parâmetros de Fluxo de Caixa'!$B$12,\"\",IF(V24<='Parâmetros de Fluxo de Caixa'!$B$26+'Parâmetros de Fluxo de Caixa'!$B$3+'Parâmetros de Fluxo de Caixa'!$B$4/12,-(SUM($B$72:$D$73)-SUM($B$72:$D$73)*'Parâmetros de Fluxo de Caixa'!$B$27)/'Parâmetros de Fluxo de Caixa'!$B$26,0)))","v":0},{"$f":"IF(W67=\"Construção\",0,IF(W66>'Parâmetros de Fluxo de Caixa'!$B$12,\"\",IF(W24<='Parâmetros de Fluxo de Caixa'!$B$26+'Parâmetros de Fluxo de Caixa'!$B$3+'Parâmetros de Fluxo de Caixa'!$B$4/12,-(SUM($B$72:$D$73)-SUM($B$72:$D$73)*'Parâmetros de Fluxo de Caixa'!$B$27)/'Parâmetros de Fluxo de Caixa'!$B$26,0)))","v":0},{"$f":"IF(X67=\"Construção\",0,IF(X66>'Parâmetros de Fluxo de Caixa'!$B$12,\"\",IF(X24<='Parâmetros de Fluxo de Caixa'!$B$26+'Parâmetros de Fluxo de Caixa'!$B$3+'Parâmetros de Fluxo de Caixa'!$B$4/12,-(SUM($B$72:$D$73)-SUM($B$72:$D$73)*'Parâmetros de Fluxo de Caixa'!$B$27)/'Parâmetros de Fluxo de Caixa'!$B$26,0)))","v":0},{"$f":"IF(Y67=\"Construção\",0,IF(Y66>'Parâmetros de Fluxo de Caixa'!$B$12,\"\",IF(Y24<='Parâmetros de Fluxo de Caixa'!$B$26+'Parâmetros de Fluxo de Caixa'!$B$3+'Parâmetros de Fluxo de Caixa'!$B$4/12,-(SUM($B$72:$D$73)-SUM($B$72:$D$73)*'Parâmetros de Fluxo de Caixa'!$B$27)/'Parâmetros de Fluxo de Caixa'!$B$26,0)))","v":""},{"$f":"IF(Z67=\"Construção\",0,IF(Z66>'Parâmetros de Fluxo de Caixa'!$B$12,\"\",IF(Z24<='Parâmetros de Fluxo de Caixa'!$B$26+'Parâmetros de Fluxo de Caixa'!$B$3+'Parâmetros de Fluxo de Caixa'!$B$4/12,-(SUM($B$72:$D$73)-SUM($B$72:$D$73)*'Parâmetros de Fluxo de Caixa'!$B$27)/'Parâmetros de Fluxo de Caixa'!$B$26,0)))","v":""},{"$f":"IF(AA67=\"Construção\",0,IF(AA66>'Parâmetros de Fluxo de Caixa'!$B$12,\"\",IF(AA24<='Parâmetros de Fluxo de Caixa'!$B$26+'Parâmetros de Fluxo de Caixa'!$B$3+'Parâmetros de Fluxo de Caixa'!$B$4/12,-(SUM($B$72:$D$73)-SUM($B$72:$D$73)*'Parâmetros de Fluxo de Caixa'!$B$27)/'Parâmetros de Fluxo de Caixa'!$B$26,0)))","v":""},{"$f":"IF(AB67=\"Construção\",0,IF(AB66>'Parâmetros de Fluxo de Caixa'!$B$12,\"\",IF(AB24<='Parâmetros de Fluxo de Caixa'!$B$26+'Parâmetros de Fluxo de Caixa'!$B$3+'Parâmetros de Fluxo de Caixa'!$B$4/12,-(SUM($B$72:$D$73)-SUM($B$72:$D$73)*'Parâmetros de Fluxo de Caixa'!$B$27)/'Parâmetros de Fluxo de Caixa'!$B$26,0)))","v":""},{"$f":"IF(AC67=\"Construção\",0,IF(AC66>'Parâmetros de Fluxo de Caixa'!$B$12,\"\",IF(AC24<='Parâmetros de Fluxo de Caixa'!$B$26+'Parâmetros de Fluxo de Caixa'!$B$3+'Parâmetros de Fluxo de Caixa'!$B$4/12,-(SUM($B$72:$D$73)-SUM($B$72:$D$73)*'Parâmetros de Fluxo de Caixa'!$B$27)/'Parâmetros de Fluxo de Caixa'!$B$26,0)))","v":""},{"$f":"IF(AD67=\"Construção\",0,IF(AD66>'Parâmetros de Fluxo de Caixa'!$B$12,\"\",IF(AD24<='Parâmetros de Fluxo de Caixa'!$B$26+'Parâmetros de Fluxo de Caixa'!$B$3+'Parâmetros de Fluxo de Caixa'!$B$4/12,-(SUM($B$72:$D$73)-SUM($B$72:$D$73)*'Parâmetros de Fluxo de Caixa'!$B$27)/'Parâmetros de Fluxo de Caixa'!$B$26,0)))","v":""},{"$f":"IF(AE67=\"Construção\",0,IF(AE66>'Parâmetros de Fluxo de Caixa'!$B$12,\"\",IF(AE24<='Parâmetros de Fluxo de Caixa'!$B$26+'Parâmetros de Fluxo de Caixa'!$B$3+'Parâmetros de Fluxo de Caixa'!$B$4/12,-(SUM($B$72:$D$73)-SUM($B$72:$D$73)*'Parâmetros de Fluxo de Caixa'!$B$27)/'Parâmetros de Fluxo de Caixa'!$B$26,0)))","v":""},{"$f":"IF(AF67=\"Construção\",0,IF(AF66>'Parâmetros de Fluxo de Caixa'!$B$12,\"\",IF(AF24<='Parâmetros de Fluxo de Caixa'!$B$26+'Parâmetros de Fluxo de Caixa'!$B$3+'Parâmetros de Fluxo de Caixa'!$B$4/12,-(SUM($B$72:$D$73)-SUM($B$72:$D$73)*'Parâmetros de Fluxo de Caixa'!$B$27)/'Parâmetros de Fluxo de Caixa'!$B$26,0)))","v":""},{"$f":"IF(AG67=\"Construção\",0,IF(AG66>'Parâmetros de Fluxo de Caixa'!$B$12,\"\",IF(AG24<='Parâmetros de Fluxo de Caixa'!$B$26+'Parâmetros de Fluxo de Caixa'!$B$3+'Parâmetros de Fluxo de Caixa'!$B$4/12,-(SUM($B$72:$D$73)-SUM($B$72:$D$73)*'Parâmetros de Fluxo de Caixa'!$B$27)/'Parâmetros de Fluxo de Caixa'!$B$26,0)))","v":""},{"$f":"IF(AH67=\"Construção\",0,IF(AH66>'Parâmetros de Fluxo de Caixa'!$B$12,\"\",IF(AH24<='Parâmetros de Fluxo de Caixa'!$B$26+'Parâmetros de Fluxo de Caixa'!$B$3+'Parâmetros de Fluxo de Caixa'!$B$4/12,-(SUM($B$72:$D$73)-SUM($B$72:$D$73)*'Parâmetros de Fluxo de Caixa'!$B$27)/'Parâmetros de Fluxo de Caixa'!$B$26,0)))","v":""},{"$f":"IF(AI67=\"Construção\",0,IF(AI66>'Parâmetros de Fluxo de Caixa'!$B$12,\"\",IF(AI24<='Parâmetros de Fluxo de Caixa'!$B$26+'Parâmetros de Fluxo de Caixa'!$B$3+'Parâmetros de Fluxo de Caixa'!$B$4/12,-(SUM($B$72:$D$73)-SUM($B$72:$D$73)*'Parâmetros de Fluxo de Caixa'!$B$27)/'Parâmetros de Fluxo de Caixa'!$B$26,0)))","v":""},{"$f":"IF(AJ67=\"Construção\",0,IF(AJ66>'Parâmetros de Fluxo de Caixa'!$B$12,\"\",IF(AJ24<='Parâmetros de Fluxo de Caixa'!$B$26+'Parâmetros de Fluxo de Caixa'!$B$3+'Parâmetros de Fluxo de Caixa'!$B$4/12,-(SUM($B$72:$D$73)-SUM($B$72:$D$73)*'Parâmetros de Fluxo de Caixa'!$B$27)/'Parâmetros de Fluxo de Caixa'!$B$26,0)))","v":""},{"$f":"IF(AK67=\"Construção\",0,IF(AK66>'Parâmetros de Fluxo de Caixa'!$B$12,\"\",IF(AK24<='Parâmetros de Fluxo de Caixa'!$B$26+'Parâmetros de Fluxo de Caixa'!$B$3+'Parâmetros de Fluxo de Caixa'!$B$4/12,-(SUM($B$72:$D$73)-SUM($B$72:$D$73)*'Parâmetros de Fluxo de Caixa'!$B$27)/'Parâmetros de Fluxo de Caixa'!$B$26,0)))","v":""},{"$f":"IF(AL67=\"Construção\",0,IF(AL66>'Parâmetros de Fluxo de Caixa'!$B$12,\"\",IF(AL24<='Parâmetros de Fluxo de Caixa'!$B$26+'Parâmetros de Fluxo de Caixa'!$B$3+'Parâmetros de Fluxo de Caixa'!$B$4/12,-(SUM($B$72:$D$73)-SUM($B$72:$D$73)*'Parâmetros de Fluxo de Caixa'!$B$27)/'Parâmetros de Fluxo de Caixa'!$B$26,0)))","v":""},{"$f":"IF(AM67=\"Construção\",0,IF(AM66>'Parâmetros de Fluxo de Caixa'!$B$12,\"\",IF(AM24<='Parâmetros de Fluxo de Caixa'!$B$26+'Parâmetros de Fluxo de Caixa'!$B$3+'Parâmetros de Fluxo de Caixa'!$B$4/12,-(SUM($B$72:$D$73)-SUM($B$72:$D$73)*'Parâmetros de Fluxo de Caixa'!$B$27)/'Parâmetros de Fluxo de Caixa'!$B$26,0)))","v":""},{"$f":"IF(AN67=\"Construção\",0,IF(AN66>'Parâmetros de Fluxo de Caixa'!$B$12,\"\",IF(AN24<='Parâmetros de Fluxo de Caixa'!$B$26+'Parâmetros de Fluxo de Caixa'!$B$3+'Parâmetros de Fluxo de Caixa'!$B$4/12,-(SUM($B$72:$D$73)-SUM($B$72:$D$73)*'Parâmetros de Fluxo de Caixa'!$B$27)/'Parâmetros de Fluxo de Caixa'!$B$26,0)))","v":""},{"$f":"IF(AO67=\"Construção\",0,IF(AO66>'Parâmetros de Fluxo de Caixa'!$B$12,\"\",IF(AO24<='Parâmetros de Fluxo de Caixa'!$B$26+'Parâmetros de Fluxo de Caixa'!$B$3+'Parâmetros de Fluxo de Caixa'!$B$4/12,-(SUM($B$72:$D$73)-SUM($B$72:$D$73)*'Parâmetros de Fluxo de Caixa'!$B$27)/'Parâmetros de Fluxo de Caixa'!$B$26,0)))","v":""},{"$f":"IF(AP67=\"Construção\",0,IF(AP66>'Parâmetros de Fluxo de Caixa'!$B$12,\"\",IF(AP24<='Parâmetros de Fluxo de Caixa'!$B$26+'Parâmetros de Fluxo de Caixa'!$B$3+'Parâmetros de Fluxo de Caixa'!$B$4/12,-(SUM($B$72:$D$73)-SUM($B$72:$D$73)*'Parâmetros de Fluxo de Caixa'!$B$27)/'Parâmetros de Fluxo de Caixa'!$B$26,0)))","v":""},{"$f":"IF(AQ67=\"Construção\",0,IF(AQ66>'Parâmetros de Fluxo de Caixa'!$B$12,\"\",IF(AQ24<='Parâmetros de Fluxo de Caixa'!$B$26+'Parâmetros de Fluxo de Caixa'!$B$3+'Parâmetros de Fluxo de Caixa'!$B$4/12,-(SUM($B$72:$D$73)-SUM($B$72:$D$73)*'Parâmetros de Fluxo de Caixa'!$B$27)/'Parâmetros de Fluxo de Caixa'!$B$26,0)))","v":""},{"$f":"IF(AR67=\"Construção\",0,IF(AR66>'Parâmetros de Fluxo de Caixa'!$B$12,\"\",IF(AR24<='Parâmetros de Fluxo de Caixa'!$B$26+'Parâmetros de Fluxo de Caixa'!$B$3+'Parâmetros de Fluxo de Caixa'!$B$4/12,-(SUM($B$72:$D$73)-SUM($B$72:$D$73)*'Parâmetros de Fluxo de Caixa'!$B$27)/'Parâmetros de Fluxo de Caixa'!$B$26,0)))","v":""},{"$f":"IF(AS67=\"Construção\",0,IF(AS66>'Parâmetros de Fluxo de Caixa'!$B$12,\"\",IF(AS24<='Parâmetros de Fluxo de Caixa'!$B$26+'Parâmetros de Fluxo de Caixa'!$B$3+'Parâmetros de Fluxo de Caixa'!$B$4/12,-(SUM($B$72:$D$73)-SUM($B$72:$D$73)*'Parâmetros de Fluxo de Caixa'!$B$27)/'Parâmetros de Fluxo de Caixa'!$B$26,0)))","v":""},{"$f":"IF(AT67=\"Construção\",0,IF(AT66>'Parâmetros de Fluxo de Caixa'!$B$12,\"\",IF(AT24<='Parâmetros de Fluxo de Caixa'!$B$26+'Parâmetros de Fluxo de Caixa'!$B$3+'Parâmetros de Fluxo de Caixa'!$B$4/12,-(SUM($B$72:$D$73)-SUM($B$72:$D$73)*'Parâmetros de Fluxo de Caixa'!$B$27)/'Parâmetros de Fluxo de Caixa'!$B$26,0)))","v":""},{"$f":"IF(AU67=\"Construção\",0,IF(AU66>'Parâmetros de Fluxo de Caixa'!$B$12,\"\",IF(AU24<='Parâmetros de Fluxo de Caixa'!$B$26+'Parâmetros de Fluxo de Caixa'!$B$3+'Parâmetros de Fluxo de Caixa'!$B$4/12,-(SUM($B$72:$D$73)-SUM($B$72:$D$73)*'Parâmetros de Fluxo de Caixa'!$B$27)/'Parâmetros de Fluxo de Caixa'!$B$26,0)))","v":""},{"$f":"IF(AV67=\"Construção\",0,IF(AV66>'Parâmetros de Fluxo de Caixa'!$B$12,\"\",IF(AV24<='Parâmetros de Fluxo de Caixa'!$B$26+'Parâmetros de Fluxo de Caixa'!$B$3+'Parâmetros de Fluxo de Caixa'!$B$4/12,-(SUM($B$72:$D$73)-SUM($B$72:$D$73)*'Parâmetros de Fluxo de Caixa'!$B$27)/'Parâmetros de Fluxo de Caixa'!$B$26,0)))","v":""}]
["PIS e COFINS",{"$f":"IF(B67=\"Construção\",0,IF(OR(B67=\"Start-up\",B67=\"Operação\"),IF(B69>0,-B69*'Parâmetros de Fluxo de Caixa'!$B$29,0),\"\"))","v":0},{"$f":"IF(C67=\"Construção\",0,IF(OR(C67=\"Start-up\",C67=\"Operação\"),IF(C69>0,-C69*'Parâmetros de Fluxo de Caixa'!$B$29,0),\"\"))","v":0},{"$f":"IF(D67=\"Construção\",0,IF(OR(D67=\"Start-up\",D67=\"Operação\"),IF(D69>0,-D69*'Parâmetros de Fluxo de Caixa'!$B$29,0),\"\"))","v":0},{"$f":"IF(E67=\"Construção\",0,IF(OR(E67=\"Start-up\",E67=\"Operação\"),IF(E69>0,-E69*'Parâmetros de Fluxo de Caixa'!$B$29,0),\"\"))","v":-528.55351317513384},{"$f":"IF(F67=\"Construção\",0,IF(OR(F67=\"Start-up\",F67=\"Operação\"),IF(F69>0,-F69*'Parâmetros de Fluxo de Caixa'!$B$29,0),\"\"))","v":-604.0611579144387},{"$f":"IF(G67=\"Construção\",0,IF(OR(G67=\"Start-up\",G67=\"Operação\"),IF(G69>0,-G69*'Parâmetros de Fluxo de Caixa'!$B$29,0),\"\"))","v":-604.0611579144387},{"$f":"IF(H67=\"Construção\",0,IF(OR(H67=\"Start-up\",H67=\"Operação\"),IF(H69>0,-H69*'Parâmetros de Fluxo de Caixa'!$B$29,0),\"\"))","v":-604.0611579144387},{"$f":"IF(I67=\"Construção\",0,IF(OR(I67=\"Start-up\",I67=\"Operação\"),IF(I69>0,-I69*'Parâmetros de Fluxo de Caixa'!$B$29,0),\"\"))","v":-604.0611579144387},{"$f":"IF(J67=\"Construção\",0,IF(OR(J67=\"Start-up\",J67=\"Operação\"),IF(J69>0,-J69*'Parâmetros de Fluxo de Caixa'!$B$29,0),\"\"))","v":-604.0611579144387},{"$f":"IF(K67=\"Construção\",0,IF(OR(K67=\"Start-up\",K67=\"Operação\"),IF(K69>0,-K69*'Parâmetros de Fluxo de Caixa'!$B$29,0),\"\"))","v":-604.0611579144387},{"$f":"IF(L67=\"Construção\",0,IF(OR(L67=\"Start-up\",L67=\"Operação\"),IF(L69>0,-L69*'Parâmetros de Fluxo de Caixa'!$B$29,0),\"\"))","v":-604.0611579144387},{"$f":"IF(M67=\"Construção\",0,IF(OR(M67=\"Start-up\",M67=\"Operação\"),IF(M69>0,-M69*'Parâmetros de Fluxo de Caixa'!$B$29,0),\"\"))","v":-604.0611579144387},{"$f":"IF(N67=\"Construção\",0,IF(OR(N67=\"Start-up\",N67=\"Operação\"),IF(N69>0,-N69*'Parâmetros de Fluxo de Caixa'!$B$29,0),\"\"))","v":-604.0611579144387},{"$f":"IF(O67=\"Construção\",0,IF(OR(O67=\"Start-up\",O67=\"Operação\"),IF(O69>0,-O69*'Parâmetros de Fluxo de Caixa'!$B$29,0),\"\"))","v":-604.0611579144387},{"$f":"IF(P67=\"Construção\",0,IF(OR(P67=\"Start-up\",P67=\"Operação\"),IF(P69>0,-P69*'Parâmetros de Fluxo de Caixa'!$B$29,0),\"\"))","v":-604.0611579144387},{"$f":"IF(Q67=\"Construção\",0,IF(OR(Q67=\"Start-up\",Q67=\"Operação\"),IF(Q69>0,-Q69*'Parâmetros de Fluxo de Caixa'!$B$29,0),\"\"))","v":-604.0611579144387},{"$f":"IF(R67=\"Construção\",0,IF(OR(R67=\"Start-up\",R67=\"Operação\"),IF(R69>0,-R69*'Parâmetros de Fluxo de Caixa'!$B$29,0),\"\"))","v":-604.0611579144387},{"$f":"IF(S67=\"Construção\",0,IF(OR(S67=\"Start-up\",S67=\"Operação\"),IF(S69>0,-S69*'Parâmetros de Fluxo de Caixa'!$B$29,0),\"\"))","v":-604.0611579144387},{"$f":"IF(T67=\"Construção\",0,IF(OR(T67=\"Start-up\",T67=\"Operação\"),IF(T69>0,-T69*'Parâmetros de Fluxo de Caixa'!$B$29,0),\"\"))","v":-604.0611579144387},{"$f":"IF(U67=\"Construção\",0,IF(OR(U67=\"Start-up\",U67=\"Operação\"),IF(U69>0,-U69*'Parâmetros de Fluxo de Caixa'!$B$29,0),\"\"))","v":-604.0611579144387},{"$f":"IF(V67=\"Construção\",0,IF(OR(V67=\"Start-up\",V67=\"Operação\"),IF(V69>0,-V69*'Parâmetros de Fluxo de Caixa'!$B$29,0),\"\"))","v":-604.0611579144387},{"$f":"IF(W67=\"Construção\",0,IF(OR(W67=\"Start-up\",W67=\"Operação\"),IF(W69>0,-W69*'Parâmetros de Fluxo de Caixa'!$B$29,0),\"\"))","v":-604.0611579144387},{"$f":"IF(X67=\"Construção\",0,IF(OR(X67=\"Start-up\",X67=\"Operação\"),IF(X69>0,-X69*'Parâmetros de Fluxo de Caixa'!$B$29,0),\"\"))","v":-604.0611579144387},{"$f":"IF(Y67=\"Construção\",0,IF(OR(Y67=\"Start-up\",Y67=\"Operação\"),IF(Y69>0,-Y69*'Parâmetros de Fluxo de Caixa'!$B$29,0),\"\"))","v":""},{"$f":"IF(Z67=\"Construção\",0,IF(OR(Z67=\"Start-up\",Z67=\"Operação\"),IF(Z69>0,-Z69*'Parâmetros de Fluxo de Caixa'!$B$29,0),\"\"))","v":""},{"$f":"IF(AA67=\"Construção\",0,IF(OR(AA67=\"Start-up\",AA67=\"Operação\"),IF(AA69>0,-AA69*'Parâmetros de Fluxo de Caixa'!$B$29,0),\"\"))","v":""},{"$f":"IF(AB67=\"Construção\",0,IF(OR(AB67=\"Start-up\",AB67=\"Operação\"),IF(AB69>0,-AB69*'Parâmetros de Fluxo de Caixa'!$B$29,0),\"\"))","v":""},{"$f":"IF(AC67=\"Construção\",0,IF(OR(AC67=\"Start-up\",AC67=\"Operação\"),IF(AC69>0,-AC69*'Parâmetros de Fluxo de Caixa'!$B$29,0),\"\"))","v":""},{"$f":"IF(AD67=\"Construção\",0,IF(OR(AD67=\"Start-up\",AD67=\"Operação\"),IF(AD69>0,-AD69*'Parâmetros de Fluxo de Caixa'!$B$29,0),\"\"))","v":""},{"$f":"IF(AE67=\"Construção\",0,IF(OR(AE67=\"Start-up\",AE67=\"Operação\"),IF(AE69>0,-AE69*'Parâmetros de Fluxo de Caixa'!$B$29,0),\"\"))","v":""},{"$f":"IF(AF67=\"Construção\",0,IF(OR(AF67=\"Start-up\",AF67=\"Operação\"),IF(AF69>0,-AF69*'Parâmetros de Fluxo de Caixa'!$B$29,0),\"\"))","v":""},{"$f":"IF(AG67=\"Construção\",0,IF(OR(AG67=\"Start-up\",AG67=\"Operação\"),IF(AG69>0,-AG69*'Parâmetros de Fluxo de Caixa'!$B$29,0),\"\"))","v":""},{"$f":"IF(AH67=\"Construção\",0,IF(OR(AH67=\"Start-up\",AH67=\"Operação\"),IF(AH69>0,-AH69*'Parâmetros de Fluxo de Caixa'!$B$29,0),\"\"))","v":""},{"$f":"IF(AI67=\"Construção\",0,IF(OR(AI67=\"Start-up\",AI67=\"Operação\"),IF(AI69>0,-AI69*'Parâmetros de Fluxo de Caixa'!$B$29,0),\"\"))","v":""},{"$f":"IF(AJ67=\"Construção\",0,IF(OR(AJ67=\"Start-up\",AJ67=\"Operação\"),IF(AJ69>0,-AJ69*'Parâmetros de Fluxo de Caixa'!$B$29,0),\"\"))","v":""},{"$f":"IF(AK67=\"Construção\",0,IF(OR(AK67=\"Start-up\",AK67=\"Operação\"),IF(AK69>0,-AK69*'Parâmetros de Fluxo de Caixa'!$B$29,0),\"\"))","v":""},{"$f":"IF(AL67=\"Construção\",0,IF(OR(AL67=\"Start-up\",AL67=\"Operação\"),IF(AL69>0,-AL69*'Parâmetros de Fluxo de Caixa'!$B$29,0),\"\"))","v":""},{"$f":"IF(AM67=\"Construção\",0,IF(OR(AM67=\"Start-up\",AM67=\"Operação\"),IF(AM69>0,-AM69*'Parâmetros de Fluxo de Caixa'!$B$29,0),\"\"))","v":""},{"$f":"IF(AN67=\"Construção\",0,IF(OR(AN67=\"Start-up\",AN67=\"Operação\"),IF(AN69>0,-AN69*'Parâmetros de Fluxo de Caixa'!$B$29,0),\"\"))","v":""},{"$f":"IF(AO67=\"Construção\",0,IF(OR(AO67=\"Start-up\",AO67=\"Operação\"),IF(AO69>0,-AO69*'Parâmetros de Fluxo de Caixa'!$B$29,0),\"\"))","v":""},{"$f":"IF(AP67=\"Construção\",0,IF(OR(AP67=\"Start-up\",AP67=\"Operação\"),IF(AP69>0,-AP69*'Parâmetros de Fluxo de Caixa'!$B$29,0),\"\"))","v":""},{"$f":"IF(AQ67=\"Construção\",0,IF(OR(AQ67=\"Start-up\",AQ67=\"Operação\"),IF(AQ69>0,-AQ69*'Parâmetros de Fluxo de Caixa'!$B$29,0),\"\"))","v":""},{"$f":"IF(AR67=\"Construção\",0,IF(OR(AR67=\"Start-up\",AR67=\"Operação\"),IF(AR69>0,-AR69*'Parâmetros de Fluxo de Caixa'!$B$29,0),\"\"))","v":""},{"$f":"IF(AS67=\"Construção\",0,IF(OR(AS67=\"Start-up\",AS67=\"Operação\"),IF(AS69>0,-AS69*'Parâmetros de Fluxo de Caixa'!$B$29,0),\"\"))","v":""},{"$f":"IF(AT67=\"Construção\",0,IF(OR(AT67=\"Start-up\",AT67=\"Operação\"),IF(AT69>0,-AT69*'Parâmetros de Fluxo de Caixa'!$B$29,0),\"\"))","v":""},{"$f":"IF(AU67=\"Construção\",0,IF(OR(AU67=\"Start-up\",AU67=\"Operação\"),IF(AU69>0,-AU69*'Parâmetros de Fluxo de Caixa'!$B$29,0),\"\"))","v":""},{"$f":"IF(AV67=\"Construção\",0,IF(OR(AV67=\"Start-up\",AV67=\"Operação\"),IF(AV69>0,-AV69*'Parâmetros de Fluxo de Caixa'!$B$29,0),\"\"))","v":""}]
["EBITDA",{"$f":"IF(B67=\"Construção\",0,IF(OR(B67=\"Start-up\",B67=\"Operação\"),B69+B70+B71,\"\"))","v":0},{"$f":"IF(C67=\"Construção\",0,IF(OR(C67=\"Start-up\",C67=\"Operação\"),C69+C70+C71,\"\"))","v":0},0,2108.0658201856186,2461.2611876006749,2461.2611876006749,2461.2611876006749,2461.2611876006749,2461.2611876006749,2461.2611876006749,2461.2611876006749,2461.2611876006749,2461.2611876006749,2461.2611876006749,2461.2611876006749,2461.2611876006749,2461.2611876006749,2461.2611876006749,2461.2611876006749,2461.2611876006749,2461.2611876006749,2461.2611876006749,2461.2611876006749,"","","","","","","","","","","","","","","","","","","","","","","",""]
["IR e CSLL",{"$f":"IF(B67=\"Construção\",0,IF(OR(B67=\"Start-up\",B67=\"Operação\"),IF((B76-B74+B75)>0,-(B76-B74+B75)*'Parâmetros de Fluxo de Caixa'!$B$28,0),\"\"))","v":0},{"$f":"IF(C67=\"Construção\",0,IF(OR(C67=\"Start-up\",C67=\"Operação\"),IF((C76-C74+C75)>0,-(C76-C74+C75)*'Parâmetros de Fluxo de Caixa'!$B$28,0),\"\"))","v":0},{"$f":"IF(D67=\"Construção\",0,IF(OR(D67=\"Start-up\",D67=\"Operação\"),IF((D76-D74+D75)>0,-(D76-D74+D75)*'Parâmetros de Fluxo de Caixa'!$B$28,0),\"\"))","v":0},{"$f":"IF(E67=\"Construção\",0,IF(OR(E67=\"Start-up\",E67=\"Operação\"),IF((E76-E74+E75)>0,-(E76-E74+E75)*'Parâmetros de Fluxo de Caixa'!$B$28,0),\"\"))","v":-346.47634502245467},{"$f":"IF(F67=\"Construção\",0,IF(OR(F67=\"Start-up\",F67=\"Operação\"),IF((F76-F74+F75)>0,-(F76-F74+F75)*'Parâmetros de Fluxo de Caixa'!$B$28,0),\"\"))","v":-440.89017073221015},{"$f":"IF(G67=\"Construção\",0,IF(OR(G67=\"Start-up\",G67=\"Operação\"),IF((G76-G74+G75)>0,-(G76-G74+G75)*'Parâmetros de Fluxo de Caixa'!$B$28,0),\"\"))","v":-440.89017073221015},{"$f":"IF(H67=\"Construção\",0,IF(OR(H67=\"Start-up\",H67=\"Operação\"),IF((H76-H74+H75)>0,-(H76-H74+H75)*'Parâmetros de Fluxo de Caixa'!$B$28,0),\"\"))","v":-440.89017073221015},{"$f":"IF(I67=\"Construção\",0,IF(OR(I67=\"Start-up\",I67=\"Operação\"),IF((I76-I74+I75)>0,-(I76-I74+I75)*'Parâmetros de Fluxo de Caixa'!$B$28,0),\"\"))","v":-440.89017073221015},{"$f":"IF(J67=\"Construção\",0,IF(OR(J67=\"Start-up\",J67=\"Operação\"),IF((J76-J74+J75)>0,-(J76-J74+J75)*'Parâmetros de Fluxo de Caixa'!$B$28,0),\"\"))","v":-440.89017073221015},{"$f":"IF(K67=\"Construção\",0,IF(OR(K67=\"Start-up\",K67=\"Operação\"),IF((K76-K74+K75)>0,-(K76-K74+K75)*'Parâmetros de Fluxo de Caixa'!$B$28,0),\"\"))","v":-440.89017073221015},{"$f":"IF(L67=\"Construção\",0,IF(OR(L67=\"Start-up\",L67=\"Operação\"),IF((L76-L74+L75)>0,-(L76-L74+L75)*'Parâmetros de Fluxo de Caixa'!$B$28,0),\"\"))","v":-440.89017073221015},{"$f":"IF(M67=\"Construção\",0,IF(OR(M67=\"Start-up\",M67=\"Operação\"),IF((M76-M74+M75)>0,-(M76-M74+M75)*'Parâmetros de Fluxo de Caixa'!$B$28,0),\"\"))","v":-440.89017073221015},{"$f":"IF(N67=\"Construção\",0,IF(OR(N67=\"Start-up\",N67=\"Operação\"),IF((N76-N74+N75)>0,-(N76-N74+N75)*'Parâmetros de Fluxo de Caixa'!$B$28,0),\"\"))","v":-440.89017073221015},{"$f":"IF(O67=\"Construção\",0,IF(OR(O67=\"Start-up\",O67=\"Operação\"),IF((O76-O74+O75)>0,-(O76-O74+O75)*'Parâmetros de Fluxo de Caixa'!$B$28,0),\"\"))","v":-631.44801009332036},{"$f":"IF(P67=\"Construção\",0,IF(OR(P67=\"Start-up\",P67=\"Operação\"),IF((P76-P74+P75)>0,-(P76-P74+P75)*'Parâmetros de Fluxo de Caixa'!$B$28,0),\"\"))","v":-631.44801009332036},{"$f":"IF(Q67=\"Construção\",0,IF(OR(Q67=\"Start-up\",Q67=\"Operação\"),IF((Q76-Q74+Q75)>0,-(Q76-Q74+Q75)*'Parâmetros de Fluxo de Caixa'!$B$28,0),\"\"))","v":-631.44801009332036},{"$f":"IF(R67=\"Construção\",0,IF(OR(R67=\"Start-up\",R67=\"Operação\"),IF((R76-R74+R75)>0,-(R76-R74+R75)*'Parâmetros de Fluxo de Caixa'!$B$28,0),\"\"))","v":-631.44801009332036},{"$f":"IF(S67=\"Construção\",0,IF(OR(S67=\"Start-up\",S67=\"Operação\"),IF((S76-S74+S75)>0,-(S76-S74+S75)*'Parâmetros de Fluxo de Caixa'!$B$28,0),\"\"))","v":-631.44801009332036},{"$f":"IF(T67=\"Construção\",0,IF(OR(T67=\"Start-up\",T67=\"Operação\"),IF((T76-T74+T75)>0,-(T76-T74+T75)*'Parâmetros de Fluxo de Caixa'!$B$28,0),\"\"))","v":-631.44801009332036},{"$f":"IF(U67=\"Construção\",0,IF(OR(U67=\"Start-up\",U67=\"Operação\"),IF((U76-U74+U75)>0,-(U76-U74+U75)*'Parâmetros de Fluxo de Caixa'!$B$28,0),\"\"))","v":-631.44801009332036},{"$f":"IF(V67=\"Construção\",0,IF(OR(V67=\"Start-up\",V67=\"Operação\"),IF((V76-V74+V75)>0,-(V76-V74+V75)*'Parâmetros de Fluxo de Caixa'!$B$28,0),\"\"))","v":-631.44801009332036},{"$f":"IF(W67=\"Construção\",0,IF(OR(W67=\"Start-up\",W67=\"Operação\"),IF((W76-W74+W75)>0,-(W76-W74+W75)*'Parâmetros de Fluxo de Caixa'!$B$28,0),\"\"))","v":-631.44801009332036},{"$f":"IF(X67=\"Construção\",0,IF(OR(X67=\"Start-up\",X67=\"Operação\"),IF((X76-X74+X75)>0,-(X76-X74+X75)*'Parâmetros de Fluxo de Caixa'!$B$28,0),\"\"))","v":-631.44801009332036},{"$f":"IF(Y67=\"Construção\",0,IF(OR(Y67=\"Start-up\",Y67=\"Operação\"),IF((Y76-Y74+Y75)>0,-(Y76-Y74+Y75)*'Parâmetros de Fluxo de Caixa'!$B$28,0),\"\"))","v":""},{"$f":"IF(Z67=\"Construção\",0,IF(OR(Z67=\"Start-up\",Z67=\"Operação\"),IF((Z76-Z74+Z75)>0,-(Z76-Z74+Z75)*'Parâmetros de Fluxo de Caixa'!$B$28,0),\"\"))","v":""},{"$f":"IF(AA67=\"Construção\",0,IF(OR(AA67=\"Start-up\",AA67=\"Operação\"),IF((AA76-AA74+AA75)>0,-(AA76-AA74+AA75)*'Parâmetros de Fluxo de Caixa'!$B$28,0),\"\"))","v":""},{"$f":"IF(AB67=\"Construção\",0,IF(OR(AB67=\"Start-up\",AB67=\"Operação\"),IF((AB76-AB74+AB75)>0,-(AB76-AB74+AB75)*'Parâmetros de Fluxo de Caixa'!$B$28,0),\"\"))","v":""},{"$f":"IF(AC67=\"Construção\",0,IF(OR(AC67=\"Start-up\",AC67=\"Operação\"),IF((AC76-AC74+AC75)>0,-(AC76-AC74+AC75)*'Parâmetros de Fluxo de Caixa'!$B$28,0),\"\"))","v":""},{"$f":"IF(AD67=\"Construção\",0,IF(OR(AD67=\"Start-up\",AD67=\"Operação\"),IF((AD76-AD74+AD75)>0,-(AD76-AD74+AD75)*'Parâmetros de Fluxo de Caixa'!$B$28,0),\"\"))","v":""},{"$f":"IF(AE67=\"Construção\",0,IF(OR(AE67=\"Start-up\",AE67=\"Operação\"),IF((AE76-AE74+AE75)>0,-(AE76-AE74+AE75)*'Parâmetros de Fluxo de Caixa'!$B$28,0),\"\"))","v":""},{"$f":"IF(AF67=\"Construção\",0,IF(OR(AF67=\"Start-up\",AF67=\"Operação\"),IF((AF76-AF74+AF75)>0,-(AF76-AF74+AF75)*'Parâmetros de Fluxo de Caixa'!$B$28,0),\"\"))","v":""},{"$f":"IF(AG67=\"Construção\",0,IF(OR(AG67=\"Start-up\",AG67=\"Operação\"),IF((AG76-AG74+AG75)>0,-(AG76-AG74+AG75)*'Parâmetros de Fluxo de Caixa'!$B$28,0),\"\"))","v":""},{"$f":"IF(AH67=\"Construção\",0,IF(OR(AH67=\"Start-up\",AH67=\"Operação\"),IF((AH76-AH74+AH75)>0,-(AH76-AH74+AH75)*'Parâmetros de Fluxo de Caixa'!$B$28,0),\"\"))","v":""},{"$f":"IF(AI67=\"Construção\",0,IF(OR(AI67=\"Start-up\",AI67=\"Operação\"),IF((AI76-AI74+AI75)>0,-(AI76-AI74+AI75)*'Parâmetros de Fluxo de Caixa'!$B$28,0),\"\"))","v":""},{"$f":"IF(AJ67=\"Construção\",0,IF(OR(AJ67=\"Start-up\",AJ67=\"Operação\"),IF((AJ76-AJ74+AJ75)>0,-(AJ76-AJ74+AJ75)*'Parâmetros de Fluxo de Caixa'!$B$28,0),\"\"))","v":""},{"$f":"IF(AK67=\"Construção\",0,IF(OR(AK67=\"Start-up\",AK67=\"Operação\"),IF((AK76-AK74+AK75)>0,-(AK76-AK74+AK75)*'Parâmetros de Fluxo de Caixa'!$B$28,0),\"\"))","v":""},{"$f":"IF(AL67=\"Construção\",0,IF(OR(AL67=\"Start-up\",AL67=\"Operação\"),IF((AL76-AL74+AL75)>0,-(AL76-AL74+AL75)*'Parâmetros de Fluxo de Caixa'!$B$28,0),\"\"))","v":""},{"$f":"IF(AM67=\"Construção\",0,IF(OR(AM67=\"Start-up\",AM67=\"Operação\"),IF((AM76-AM74+AM75)>0,-(AM76-AM74+AM75)*'Parâmetros de Fluxo de Caixa'!$B$28,0),\"\"))","v":""},{"$f":"IF(AN67=\"Construção\",0,IF(OR(AN67=\"Start-up\",AN67=\"Operação\"),IF((AN76-AN74+AN75)>0,-(AN76-AN74+AN75)*'Parâmetros de Fluxo de Caixa'!$B$28,0),\"\"))","v":""},{"$f":"IF(AO67=\"Construção\",0,IF(OR(AO67=\"Start-up\",AO67=\"Operação\"),IF((AO76-AO74+AO75)>0,-(AO76-AO74+AO75)*'Parâmetros de Fluxo de Caixa'!$B$28,0),\"\"))","v":""},{"$f":"IF(AP67=\"Construção\",0,IF(OR(AP67=\"Start-up\",AP67=\"Operação\"),IF((AP76-AP74+AP75)>0,-(AP76-AP74+AP75)*'Parâmetros de Fluxo de Caixa'!$B$28,0),\"\"))","v":""},{"$f":"IF(AQ67=\"Construção\",0,IF(OR(AQ67=\"Start-up\",AQ67=\"Operação\"),IF((AQ76-AQ74+AQ75)>0,-(AQ76-AQ74+AQ75)*'Parâmetros de Fluxo de Caixa'!$B$28,0),\"\"))","v":""},{"$f":"IF(AR67=\"Construção\",0,IF(OR(AR67=\"Start-up\",AR67=\"Operação\"),IF((AR76-AR74+AR75)>0,-(AR76-AR74+AR75)*'Parâmetros de Fluxo de Caixa'!$B$28,0),\"\"))","v":""},{"$f":"IF(AS67=\"Construção\",0,IF(OR(AS67=\"Start-up\",AS67=\"Operação\"),IF((AS76-AS74+AS75)>0,-(AS76-AS74+AS75)*'Parâmetros de Fluxo de Caixa'!$B$28,0),\"\"))","v":""},{"$f":"IF(AT67=\"Construção\",0,IF(OR(AT67=\"Start-up\",AT67=\"Operação\"),IF((AT76-AT74+AT75)>0,-(AT76-AT74+AT75)*'Parâmetros de Fluxo de Caixa'!$B$28,0),\"\"))","v":""},{"$f":"IF(AU67=\"Construção\",0,IF(OR(AU67=\"Start-up\",AU67=\"Operação\"),IF((AU76-AU74+AU75)>0,-(AU76-AU74+AU75)*'Parâmetros de Fluxo de Caixa'!$B$28,0),\"\"))","v":""},{"$f":"IF(AV67=\"Construção\",0,IF(OR(AV67=\"Start-up\",AV67=\"Operação\"),IF((AV76-AV74+AV75)>0,-(AV76-AV74+AV75)*'Parâmetros de Fluxo de Caixa'!$B$28,0),\"\"))","v":""}]
["Venda de infraestrutura residual",{"$f":"IF('Fluxo de Caixa Desc._premio'!B67<>\"\",IF(AND(B67=\"Operação\",C67=\"\"),'Parâmetros de Fluxo de Caixa'!$B$27*'CAPEX e OPEX'!$D$3/10^6,0),\"\")","v":0},{"$f":"IF('Fluxo de Caixa Desc._premio'!C67<>\"\",IF(AND(C67=\"Operação\",D67=\"\"),'Parâmetros de Fluxo de Caixa'!$B$27*'CAPEX e OPEX'!$D$3/10^6,0),\"\")","v":0},{"$f":"IF('Fluxo de Caixa Desc._premio'!D67<>\"\",IF(AND(D67=\"Operação\",E67=\"\"),'Parâmetros de Fluxo de Caixa'!$B$27*'CAPEX e OPEX'!$D$3/10^6,0),\"\")","v":0},{"$f":"IF('Fluxo de Caixa Desc._premio'!E67<>\"\",IF(AND(E67=\"Operação\",F67=\"\"),'Parâmetros de Fluxo de Caixa'!$B$27*'CAPEX e OPEX'!$D$3/10^6,0),\"\")","v":0},{"$f":"IF('Fluxo de Caixa Desc._premio'!F67<>\"\",IF(AND(F67=\"Operação\",G67=\"\"),'Parâmetros de Fluxo de Caixa'!$B$27*'CAPEX e OPEX'!$D$3/10^6,0),\"\")","v":0},{"$f":"IF('Fluxo de Caixa Desc._premio'!G67<>\"\",IF(AND(G67=\"Operação\",H67=\"\"),'Parâmetros de Fluxo de Caixa'!$B$27*'CAPEX e OPEX'!$D$3/10^6,0),\"\")","v":0},{"$f":"IF('Fluxo de Caixa Desc._premio'!H67<>\"\",IF(AND(H67=\"Operação\",I67=\"\"),'Parâmetros de Fluxo de Caixa'!$B$27*'CAPEX e OPEX'!$D$3/10^6,0),\"\")","v":0},{"$f":"IF('Fluxo de Caixa Desc._premio'!I67<>\"\",IF(AND(I67=\"Operação\",J67=\"\"),'Parâmetros de Fluxo de Caixa'!$B$27*'CAPEX e OPEX'!$D$3/10^6,0),\"\")","v":0},{"$f":"IF('Fluxo de Caixa Desc._premio'!J67<>\"\",IF(AND(J67=\"Operação\",K67=\"\"),'Parâmetros de Fluxo de Caixa'!$B$27*'CAPEX e OPEX'!$D$3/10^6,0),\"\")","v":0},{"$f":"IF('Fluxo de Caixa Desc._premio'!K67<>\"\",IF(AND(K67=\"Operação\",L67=\"\"),'Parâmetros de Fluxo de Caixa'!$B$27*'CAPEX e OPEX'!$D$3/10^6,0),\"\")","v":0},{"$f":"IF('Fluxo de Caixa Desc._premio'!L67<>\"\",IF(AND(L67=\"Operação\",M67=\"\"),'Parâmetros de Fluxo de Caixa'!$B$27*'CAPEX e OPEX'!$D$3/10^6,0),\"\")","v":0},{"$f":"IF('Fluxo de Caixa Desc._premio'!M67<>\"\",IF(AND(M67=\"Operação\",N67=\"\"),'Parâmetros de Fluxo de Caixa'!$B$27*'CAPEX e OPEX'!$D$3/10^6,0),\"\")","v":0},{"$f":"IF('Fluxo de Caixa Desc._premio'!N67<>\"\",IF(AND(N67=\"Operação\",O67=\"\"),'Parâmetros de Fluxo de Caixa'!$B$27*'CAPEX e OPEX'!$D$3/10^6,0),\"\")","v":0},{"$f":"IF('Fluxo de Caixa Desc._premio'!O67<>\"\",IF(AND(O67=\"Operação\",P67=\"\"),'Parâmetros de Fluxo de Caixa'!$B$27*'CAPEX e OPEX'!$D$3/10^6,0),\"\")","v":0},{"$f":"IF('Fluxo de Caixa Desc._premio'!P67<>\"\",IF(AND(P67=\"Operação\",Q67=\"\"),'Parâmetros de Fluxo de Caixa'!$B$27*'CAPEX e OPEX'!$D$3/10^6,0),\"\")","v":0},{"$f":"IF('Fluxo de Caixa Desc._premio'!Q67<>\"\",IF(AND(Q67=\"Operação\",R67=\"\"),'Parâmetros de Fluxo de Caixa'!$B$27*'CAPEX e OPEX'!$D$3/10^6,0),\"\")","v":0},{"$f":"IF('Fluxo de Caixa Desc._premio'!R67<>\"\",IF(AND(R67=\"Operação\",S67=\"\"),'Parâmetros de Fluxo de Caixa'!$B$27*'CAPEX e OPEX'!$D$3/10^6,0),\"\")","v":0},{"$f":"IF('Fluxo de Caixa Desc._premio'!S67<>\"\",IF(AND(S67=\"Operação\",T67=\"\"),'Parâmetros de Fluxo de Caixa'!$B$27*'CAPEX e OPEX'!$D$3/10^6,0),\"\")","v":0},{"$f":"IF('Fluxo de Caixa Desc._premio'!T67<>\"\",IF(AND(T67=\"Operação\",U67=\"\"),'Parâmetros de Fluxo de Caixa'!$B$27*'CAPEX e OPEX'!$D$3/10^6,0),\"\")","v":0},{"$f":"IF('Fluxo de Caixa Desc._premio'!U67<>\"\",IF(AND(U67=\"Operação\",V67=\"\"),'Parâmetros de Fluxo de Caixa'!$B$27*'CAPEX e OPEX'!$D$3/10^6,0),\"\")","v":0},{"$f":"IF('Fluxo de Caixa Desc._premio'!V67<>\"\",IF(AND(V67=\"Operação\",W67=\"\"),'Parâmetros de Fluxo de Caixa'!$B$27*'CAPEX e OPEX'!$D$3/10^6,0),\"\")","v":0},{"$f":"IF('Fluxo de Caixa Desc._premio'!W67<>\"\",IF(AND(W67=\"Operação\",X67=\"\"),'Parâmetros de Fluxo de Caixa'!$B$27*'CAPEX e OPEX'!$D$3/10^6,0),\"\")","v":0},{"$f":"IF('Fluxo de Caixa Desc._premio'!X67<>\"\",IF(AND(X67=\"Operação\",Y67=\"\"),'Parâmetros de Fluxo de Caixa'!$B$27*'CAPEX e OPEX'!$D$3/10^6,0),\"\")","v":0},{"$f":"IF('Fluxo de Caixa Desc._premio'!Y67<>\"\",IF(AND(Y67=\"Operação\",Z67=\"\"),'Parâmetros de Fluxo de Caixa'!$B$27*'CAPEX e OPEX'!$D$3/10^6,0),\"\")","v":""},{"$f":"IF('Fluxo de Caixa Desc._premio'!Z67<>\"\",IF(AND(Z67=\"Operação\",AA67=\"\"),'Parâmetros de Fluxo de Caixa'!$B$27*'CAPEX e OPEX'!$D$3/10^6,0),\"\")","v":""},{"$f":"IF('Fluxo de Caixa Desc._premio'!AA67<>\"\",IF(AND(AA67=\"Operação\",AB67=\"\"),'Parâmetros de Fluxo de Caixa'!$B$27*'CAPEX e OPEX'!$D$3/10^6,0),\"\")","v":""},{"$f":"IF('Fluxo de Caixa Desc._premio'!AB67<>\"\",IF(AND(AB67=\"Operação\",AC67=\"\"),'Parâmetros de Fluxo de Caixa'!$B$27*'CAPEX e OPEX'!$D$3/10^6,0),\"\")","v":""},{"$f":"IF('Fluxo de Caixa Desc._premio'!AC67<>\"\",IF(AND(AC67=\"Operação\",AD67=\"\"),'Parâmetros de Fluxo de Caixa'!$B$27*'CAPEX e OPEX'!$D$3/10^6,0),\"\")","v":""},{"$f":"IF('Fluxo de Caixa Desc._premio'!AD67<>\"\",IF(AND(AD67=\"Operação\",AE67=\"\"),'Parâmetros de Fluxo de Caixa'!$B$27*'CAPEX e OPEX'!$D$3/10^6,0),\"\")","v":""},{"$f":"IF('Fluxo de Caixa Desc._premio'!AE67<>\"\",IF(AND(AE67=\"Operação\",AF67=\"\"),'Parâmetros de Fluxo de Caixa'!$B$27*'CAPEX e OPEX'!$D$3/10^6,0),\"\")","v":""},{"$f":"IF('Fluxo de Caixa Desc._premio'!AF67<>\"\",IF(AND(AF67=\"Operação\",AG67=\"\"),'Parâmetros de Fluxo de Caixa'!$B$27*'CAPEX e OPEX'!$D$3/10^6,0),\"\")","v":""},{"$f":"IF('Fluxo de Caixa Desc._premio'!AG67<>\"\",IF(AND(AG67=\"Operação\",AH67=\"\"),'Parâmetros de Fluxo de Caixa'!$B$27*'CAPEX e OPEX'!$D$3/10^6,0),\"\")","v":""},{"$f":"IF('Fluxo de Caixa Desc._premio'!AH67<>\"\",IF(AND(AH67=\"Operação\",AI67=\"\"),'Parâmetros de Fluxo de Caixa'!$B$27*'CAPEX e OPEX'!$D$3/10^6,0),\"\")","v":""},{"$f":"IF('Fluxo de Caixa Desc._premio'!AI67<>\"\",IF(AND(AI67=\"Operação\",AJ67=\"\"),'Parâmetros de Fluxo de Caixa'!$B$27*'CAPEX e OPEX'!$D$3/10^6,0),\"\")","v":""},{"$f":"IF('Fluxo de Caixa Desc._premio'!AJ67<>\"\",IF(AND(AJ67=\"Operação\",AK67=\"\"),'Parâmetros de Fluxo de Caixa'!$B$27*'CAPEX e OPEX'!$D$3/10^6,0),\"\")","v":""},{"$f":"IF('Fluxo de Caixa Desc._premio'!AK67<>\"\",IF(AND(AK67=\"Operação\",AL67=\"\"),'Parâmetros de Fluxo de Caixa'!$B$27*'CAPEX e OPEX'!$D$3/10^6,0),\"\")","v":""},{"$f":"IF('Fluxo de Caixa Desc._premio'!AL67<>\"\",IF(AND(AL67=\"Operação\",AM67=\"\"),'Parâmetros de Fluxo de Caixa'!$B$27*'CAPEX e OPEX'!$D$3/10^6,0),\"\")","v":""},{"$f":"IF('Fluxo de Caixa Desc._premio'!AM67<>\"\",IF(AND(AM67=\"Operação\",AN67=\"\"),'Parâmetros de Fluxo de Caixa'!$B$27*'CAPEX e OPEX'!$D$3/10^6,0),\"\")","v":""},{"$f":"IF('Fluxo de Caixa Desc._premio'!AN67<>\"\",IF(AND(AN67=\"Operação\",AO67=\"\"),'Parâmetros de Fluxo de Caixa'!$B$27*'CAPEX e OPEX'!$D$3/10^6,0),\"\")","v":""},{"$f":"IF('Fluxo de Caixa Desc._premio'!AO67<>\"\",IF(AND(AO67=\"Operação\",AP67=\"\"),'Parâmetros de Fluxo de Caixa'!$B$27*'CAPEX e OPEX'!$D$3/10^6,0),\"\")","v":""},{"$f":"IF('Fluxo de Caixa Desc._premio'!AP67<>\"\",IF(AND(AP67=\"Operação\",AQ67=\"\"),'Parâmetros de Fluxo de Caixa'!$B$27*'CAPEX e OPEX'!$D$3/10^6,0),\"\")","v":""},{"$f":"IF('Fluxo de Caixa Desc._premio'!AQ67<>\"\",IF(AND(AQ67=\"Operação\",AR67=\"\"),'Parâmetros de Fluxo de Caixa'!$B$27*'CAPEX e OPEX'!$D$3/10^6,0),\"\")","v":""},{"$f":"IF('Fluxo de Caixa Desc._premio'!AR67<>\"\",IF(AND(AR67=\"Operação\",AS67=\"\"),'Parâmetros de Fluxo de Caixa'!$B$27*'CAPEX e OPEX'!$D$3/10^6,0),\"\")","v":""},{"$f":"IF('Fluxo de Caixa Desc._premio'!AS67<>\"\",IF(AND(AS67=\"Operação\",AT67=\"\"),'Parâmetros de Fluxo de Caixa'!$B$27*'CAPEX e OPEX'!$D$3/10^6,0),\"\")","v":""},{"$f":"IF('Fluxo de Caixa Desc._premio'!AT67<>\"\",IF(AND(AT67=\"Operação\",AU67=\"\"),'Parâmetros de Fluxo de Caixa'!$B$27*'CAPEX e OPEX'!$D$3/10^6,0),\"\")","v":""},{"$f":"IF('Fluxo de Caixa Desc._premio'!AU67<>\"\",IF(AND(AU67=\"Operação\",AV67=\"\"),'Parâmetros de Fluxo de Caixa'!$B$27*'CAPEX e OPEX'!$D$3/10^6,0),\"\")","v":""},{"$f":"IF('Fluxo de Caixa Desc._premio'!AV67<>\"\",IF(AND(AV67=\"Operação\",AW67=\"\"),'Parâmetros de Fluxo de Caixa'!$B$27*'CAPEX e OPEX'!$D$3/10^6,0),\"\")","v":""}]
["Fluxo de Caixa Livre",{"$f":"IF(OR(B67=\"Construção\",B67=\"Start-up\",B67=\"Operação\"),B69+B70+B71+B72+B73+B77+B78+B75,\"\")","v":-448.37138673202401},-3362.7854004901792,-1793.485546928096,1233.0359619880301,1416.3098589540259,1416.3098589540259,1416.3098589540259,1416.3098589540259,1416.3098589540259,1416.3098589540259,1416.3098589540259,1416.3098589540259,1416.3098589540259,1225.752019592916,1225.752019592916,1225.752019592916,1225.752019592916,1225.752019592916,1225.752019592916,1225.752019592916,1225.752019592916,1225.752019592916,1225.752019592916,"","","","","","","","","","","","","","","","","","","","","","","",""]
["Fluxo de Caixa Livre Acumulado",{"$f":"IF(OR(B25=\"Construção\",B25=\"Start-up\",B25=\"Operação\"),SUM($B$79:B79),\"\")","v":-448.37138673202401},{"$f":"IF(OR(C25=\"Construção\",C25=\"Start-up\",C25=\"Operação\"),SUM($B$79:C79),\"\")","v":-3811.1567872222031},{"$f":"IF(OR(D25=\"Construção\",D25=\"Start-up\",D25=\"Operação\"),SUM($B$79:D79),\"\")","v":-5604.6423341502996},{"$f":"IF(OR(E25=\"Construção\",E25=\"Start-up\",E25=\"Operação\"),SUM($B$79:E79),\"\")","v":-4371.6063721622695},{"$f":"IF(OR(F25=\"Construção\",F25=\"Start-up\",F25=\"Operação\"),SUM($B$79:F79),\"\")","v":-2955.2965132082436},{"$f":"IF(OR(G25=\"Construção\",G25=\"Start-up\",G25=\"Operação\"),SUM($B$79:G79),\"\")","v":-1538.9866542542177},{"$f":"IF(OR(H25=\"Construção\",H25=\"Start-up\",H25=\"Operação\"),SUM($B$79:H79),\"\")","v":-122.67679530019177},{"$f":"IF(OR(I25=\"Construção\",I25=\"Start-up\",I25=\"Operação\"),SUM($B$79:I79),\"\")","v":1293.6330636538341},{"$f":"IF(OR(J25=\"Construção\",J25=\"Start-up\",J25=\"Operação\"),SUM($B$79:J79),\"\")","v":2709.9429226078601},{"$f":"IF(OR(K25=\"Construção\",K25=\"Start-up\",K25=\"Operação\"),SUM($B$79:K79),\"\")","v":4126.252781561886},{"$f":"IF(OR(L25=\"Construção\",L25=\"Start-up\",L25=\"Operação\"),SUM($B$79:L79),\"\")","v":5542.5626405159119},{"$f":"IF(OR(M25=\"Construção\",M25=\"Start-up\",M25=\"Operação\"),SUM($B$79:M79),\"\")","v":6958.8724994699378},{"$f":"IF(OR(N25=\"Construção\",N25=\"Start-up\",N25=\"Operação\"),SUM($B$79:N79),\"\")","v":8375.1823584239646},{"$f":"IF(OR(O25=\"Construção\",O25=\"Start-up\",O25=\"Operação\"),SUM($B$79:O79),\"\")","v":9600.9343780168801},{"$f":"IF(OR(P25=\"Construção\",P25=\"Start-up\",P25=\"Operação\"),SUM($B$79:P79),\"\")","v":10826.686397609796},{"$f":"IF(OR(Q25=\"Construção\",Q25=\"Start-up\",Q25=\"Operação\"),SUM($B$79:Q79),\"\")","v":12052.438417202711},{"$f":"IF(OR(R25=\"Construção\",R25=\"Start-up\",R25=\"Operação\"),SUM($B$79:R79),\"\")","v":13278.190436795627},{"$f":"IF(OR(S25=\"Construção\",S25=\"Start-up\",S25=\"Operação\"),SUM($B$79:S79),\"\")","v":14503.942456388542},{"$f":"IF(OR(T25=\"Construção\",T25=\"Start-up\",T25=\"Operação\"),SUM($B$79:T79),\"\")","v":15729.694475981458},{"$f":"IF(OR(U25=\"Construção\",U25=\"Start-up\",U25=\"Operação\"),SUM($B$79:U79),\"\")","v":16955.446495574375},{"$f":"IF(OR(V25=\"Construção\",V25=\"Start-up\",V25=\"Operação\"),SUM($B$79:V79),\"\")","v":18181.198515167292},{"$f":"IF(OR(W25=\"Construção\",W25=\"Start-up\",W25=\"Operação\"),SUM($B$79:W79),\"\")","v":19406.95053476021},{"$f":"IF(OR(X25=\"Construção\",X25=\"Start-up\",X25=\"Operação\"),SUM($B$79:X79),\"\")","v":20632.702554353127},{"$f":"IF(OR(Y25=\"Construção\",Y25=\"Start-up\",Y25=\"Operação\"),SUM($B$79:Y79),\"\")","v":""},{"$f":"IF(OR(Z25=\"Construção\",Z25=\"Start-up\",Z25=\"Operação\"),SUM($B$79:Z79),\"\")","v":""},{"$f":"IF(OR(AA25=\"Construção\",AA25=\"Start-up\",AA25=\"Operação\"),SUM($B$79:AA79),\"\")","v":""},{"$f":"IF(OR(AB25=\"Construção\",AB25=\"Start-up\",AB25=\"Operação\"),SUM($B$79:AB79),\"\")","v":""},{"$f":"IF(OR(AC25=\"Construção\",AC25=\"Start-up\",AC25=\"Operação\"),SUM($B$79:AC79),\"\")","v":""},{"$f":"IF(OR(AD25=\"Construção\",AD25=\"Start-up\",AD25=\"Operação\"),SUM($B$79:AD79),\"\")","v":""},{"$f":"IF(OR(AE25=\"Construção\",AE25=\"Start-up\",AE25=\"Operação\"),SUM($B$79:AE79),\"\")","v":""},{"$f":"IF(OR(AF25=\"Construção\",AF25=\"Start-up\",AF25=\"Operação\"),SUM($B$79:AF79),\"\")","v":""},{"$f":"IF(OR(AG25=\"Construção\",AG25=\"Start-up\",AG25=\"Operação\"),SUM($B$79:AG79),\"\")","v":""},{"$f":"IF(OR(AH25=\"Construção\",AH25=\"Start-up\",AH25=\"Operação\"),SUM($B$79:AH79),\"\")","v":""},{"$f":"IF(OR(AI25=\"Construção\",AI25=\"Start-up\",AI25=\"Operação\"),SUM($B$79:AI79),\"\")","v":""},{"$f":"IF(OR(AJ25=\"Construção\",AJ25=\"Start-up\",AJ25=\"Operação\"),SUM($B$79:AJ79),\"\")","v":""},{"$f":"IF(OR(AK25=\"Construção\",AK25=\"Start-up\",AK25=\"Operação\"),SUM($B$79:AK79),\"\")","v":""},{"$f":"IF(OR(AL25=\"Construção\",AL25=\"Start-up\",AL25=\"Operação\"),SUM($B$79:AL79),\"\")","v":""},{"$f":"IF(OR(AM25=\"Construção\",AM25=\"Start-up\",AM25=\"Operação\"),SUM($B$79:AM79),\"\")","v":""},{"$f":"IF(OR(AN25=\"Construção\",AN25=\"Start-up\",AN25=\"Operação\"),SUM($B$79:AN79),\"\")","v":""},{"$f":"IF(OR(AO25=\"Construção\",AO25=\"Start-up\",AO25=\"Operação\"),SUM($B$79:AO79),\"\")","v":""},{"$f":"IF(OR(AP25=\"Construção\",AP25=\"Start-up\",AP25=\"Operação\"),SUM($B$79:AP79),\"\")","v":""},{"$f":"IF(OR(AQ25=\"Construção\",AQ25=\"Start-up\",AQ25=\"Operação\"),SUM($B$79:AQ79),\"\")","v":""},{"$f":"IF(OR(AR25=\"Construção\",AR25=\"Start-up\",AR25=\"Operação\"),SUM($B$79:AR79),\"\")","v":""},{"$f":"IF(OR(AS25=\"Construção\",AS25=\"Start-up\",AS25=\"Operação\"),SUM($B$79:AS79),\"\")","v":""},{"$f":"IF(OR(AT25=\"Construção\",AT25=\"Start-up\",AT25=\"Operação\"),SUM($B$79:AT79),\"\")","v":""},{"$f":"IF(OR(AU25=\"Construção\",AU25=\"Start-up\",AU25=\"Operação\"),SUM($B$79:AU79),\"\")","v":""},{"$f":"IF(OR(AV25=\"Construção\",AV25=\"Start-up\",AV25=\"Operação\"),SUM($B$79:AV79),\"\")","v":""}]
["Fluxo de Caixa Descontado",{"$f":"IF(OR(B67=\"Construção\",B67=\"Start-up\",B67=\"Operação\"),B79/(1+'Parâmetros de Fluxo de Caixa'!$B$32)^B66,\"\")","v":-404.3222559628029},{"$f":"IF(OR(C67=\"Construção\",C67=\"Start-up\",C67=\"Operação\"),C79/(1+'Parâmetros de Fluxo de Caixa'!$B$32)^C66,\"\")","v":-2734.5046679665988},{"$f":"IF(OR(D67=\"Construção\",D67=\"Start-up\",D67=\"Operação\"),D79/(1+'Parâmetros de Fluxo de Caixa'!$B$32)^D66,\"\")","v":-1315.1253673599376},{"$f":"IF(OR(E67=\"Construção\",E67=\"Start-up\",E67=\"Operação\"),E79/(1+'Parâmetros de Fluxo de Caixa'!$B$32)^E66,\"\")","v":815.33253883659881},{"$f":"IF(OR(F67=\"Construção\",F67=\"Start-up\",F67=\"Operação\"),F79/(1+'Parâmetros de Fluxo de Caixa'!$B$32)^F66,\"\")","v":844.51441674437706},{"$f":"IF(OR(G67=\"Construção\",G67=\"Start-up\",G67=\"Operação\"),G79/(1+'Parâmetros de Fluxo de Caixa'!$B$32)^G66,\"\")","v":761.54720010104825},{"$f":"IF(OR(H67=\"Construção\",H67=\"Start-up\",H67=\"Operação\"),H79/(1+'Parâmetros de Fluxo de Caixa'!$B$32)^H66,\"\")","v":686.73089112851733},{"$f":"IF(OR(I67=\"Construção\",I67=\"Start-up\",I67=\"Operação\"),I79/(1+'Parâmetros de Fluxo de Caixa'!$B$32)^I66,\"\")","v":619.26472419252786},{"$f":"IF(OR(J67=\"Construção\",J67=\"Start-up\",J67=\"Operação\"),J79/(1+'Parâmetros de Fluxo de Caixa'!$B$32)^J66,\"\")","v":558.42660288523427},{"$f":"IF(OR(K67=\"Construção\",K67=\"Start-up\",K67=\"Operação\"),K79/(1+'Parâmetros de Fluxo de Caixa'!$B$32)^K66,\"\")","v":503.56537136288216},{"$f":"IF(OR(L67=\"Construção\",L67=\"Start-up\",L67=\"Operação\"),L79/(1+'Parâmetros de Fluxo de Caixa'!$B$32)^L66,\"\")","v":454.09384496668025},{"$f":"IF(OR(M67=\"Construção\",M67=\"Start-up\",M67=\"Operação\"),M79/(1+'Parâmetros de Fluxo de Caixa'!$B$32)^M66,\"\")","v":409.48252553297493},{"$f":"IF(OR(N67=\"Construção\",N67=\"Start-up\",N67=\"Operação\"),N79/(1+'Parâmetros de Fluxo de Caixa'!$B$32)^N66,\"\")","v":369.25393412713385},{"$f":"IF(OR(O67=\"Construção\",O67=\"Start-up\",O67=\"Operação\"),O79/(1+'Parâmetros de Fluxo de Caixa'!$B$32)^O66,\"\")","v":288.17694178312678},{"$f":"IF(OR(P67=\"Construção\",P67=\"Start-up\",P67=\"Operação\"),P79/(1+'Parâmetros de Fluxo de Caixa'!$B$32)^P66,\"\")","v":259.86571548967481},{"$f":"IF(OR(Q67=\"Construção\",Q67=\"Start-up\",Q67=\"Operação\"),Q79/(1+'Parâmetros de Fluxo de Caixa'!$B$32)^Q66,\"\")","v":234.33585514895844},{"$f":"IF(OR(R67=\"Construção\",R67=\"Start-up\",R67=\"Operação\"),R79/(1+'Parâmetros de Fluxo de Caixa'!$B$32)^R66,\"\")","v":211.31411238653948},{"$f":"IF(OR(S67=\"Construção\",S67=\"Start-up\",S67=\"Operação\"),S79/(1+'Parâmetros de Fluxo de Caixa'!$B$32)^S66,\"\")","v":190.55408343433569},{"$f":"IF(OR(T67=\"Construção\",T67=\"Start-up\",T67=\"Operação\"),T79/(1+'Parâmetros de Fluxo de Caixa'!$B$32)^T66,\"\")","v":171.83357184909315},{"$f":"IF(OR(U67=\"Construção\",U67=\"Start-up\",U67=\"Operação\"),U79/(1+'Parâmetros de Fluxo de Caixa'!$B$32)^U66,\"\")","v":154.9522103240169},{"$f":"IF(OR(V67=\"Construção\",V67=\"Start-up\",V67=\"Operação\"),V79/(1+'Parâmetros de Fluxo de Caixa'!$B$32)^V66,\"\")","v":139.72931613959864},{"$f":"IF(OR(W67=\"Construção\",W67=\"Start-up\",W67=\"Operação\"),W79/(1+'Parâmetros de Fluxo de Caixa'!$B$32)^W66,\"\")","v":126.00195730033884},{"$f":"IF(OR(X67=\"Construção\",X67=\"Start-up\",X67=\"Operação\"),X79/(1+'Parâmetros de Fluxo de Caixa'!$B$32)^X66,\"\")","v":113.62320865905312},{"$f":"IF(OR(Y67=\"Construção\",Y67=\"Start-up\",Y67=\"Operação\"),Y79/(1+'Parâmetros de Fluxo de Caixa'!$B$32)^Y66,\"\")","v":""},{"$f":"IF(OR(Z67=\"Construção\",Z67=\"Start-up\",Z67=\"Operação\"),Z79/(1+'Parâmetros de Fluxo de Caixa'!$B$32)^Z66,\"\")","v":""},{"$f":"IF(OR(AA67=\"Construção\",AA67=\"Start-up\",AA67=\"Operação\"),AA79/(1+'Parâmetros de Fluxo de Caixa'!$B$32)^AA66,\"\")","v":""},{"$f":"IF(OR(AB67=\"Construção\",AB67=\"Start-up\",AB67=\"Operação\"),AB79/(1+'Parâmetros de Fluxo de Caixa'!$B$32)^AB66,\"\")","v":""},{"$f":"IF(OR(AC67=\"Construção\",AC67=\"Start-up\",AC67=\"Operação\"),AC79/(1+'Parâmetros de Fluxo de Caixa'!$B$32)^AC66,\"\")","v":""},{"$f":"IF(OR(AD67=\"Construção\",AD67=\"Start-up\",AD67=\"Operação\"),AD79/(1+'Parâmetros de Fluxo de Caixa'!$B$32)^AD66,\"\")","v":""},{"$f":"IF(OR(AE67=\"Construção\",AE67=\"Start-up\",AE67=\"Operação\"),AE79/(1+'Parâmetros de Fluxo de Caixa'!$B$32)^AE66,\"\")","v":""},{"$f":"IF(OR(AF67=\"Construção\",AF67=\"Start-up\",AF67=\"Operação\"),AF79/(1+'Parâmetros de Fluxo de Caixa'!$B$32)^AF66,\"\")","v":""},{"$f":"IF(OR(AG67=\"Construção\",AG67=\"Start-up\",AG67=\"Operação\"),AG79/(1+'Parâmetros de Fluxo de Caixa'!$B$32)^AG66,\"\")","v":""},{"$f":"IF(OR(AH67=\"Construção\",AH67=\"Start-up\",AH67=\"Operação\"),AH79/(1+'Parâmetros de Fluxo de Caixa'!$B$32)^AH66,\"\")","v":""},{"$f":"IF(OR(AI67=\"Construção\",AI67=\"Start-up\",AI67=\"Operação\"),AI79/(1+'Parâmetros de Fluxo de Caixa'!$B$32)^AI66,\"\")","v":""},{"$f":"IF(OR(AJ67=\"Construção\",AJ67=\"Start-up\",AJ67=\"Operação\"),AJ79/(1+'Parâmetros de Fluxo de Caixa'!$B$32)^AJ66,\"\")","v":""},{"$f":"IF(OR(AK67=\"Construção\",AK67=\"Start-up\",AK67=\"Operação\"),AK79/(1+'Parâmetros de Fluxo de Caixa'!$B$32)^AK66,\"\")","v":""},{"$f":"IF(OR(AL67=\"Construção\",AL67=\"Start-up\",AL67=\"Operação\"),AL79/(1+'Parâmetros de Fluxo de Caixa'!$B$32)^AL66,\"\")","v":""},{"$f":"IF(OR(AM67=\"Construção\",AM67=\"Start-up\",AM67=\"Operação\"),AM79/(1+'Parâmetros de Fluxo de Caixa'!$B$32)^AM66,\"\")","v":""},{"$f":"IF(OR(AN67=\"Construção\",AN67=\"Start-up\",AN67=\"Operação\"),AN79/(1+'Parâmetros de Fluxo de Caixa'!$B$32)^AN66,\"\")","v":""},{"$f":"IF(OR(AO67=\"Construção\",AO67=\"Start-up\",AO67=\"Operação\"),AO79/(1+'Parâmetros de Fluxo de Caixa'!$B$32)^AO66,\"\")","v":""},{"$f":"IF(OR(AP67=\"Construção\",AP67=\"Start-up\",AP67=\"Operação\"),AP79/(1+'Parâmetros de Fluxo de Caixa'!$B$32)^AP66,\"\")","v":""},{"$f":"IF(OR(AQ67=\"Construção\",AQ67=\"Start-up\",AQ67=\"Operação\"),AQ79/(1+'Parâmetros de Fluxo de Caixa'!$B$32)^AQ66,\"\")","v":""},{"$f":"IF(OR(AR67=\"Construção\",AR67=\"Start-up\",AR67=\"Operação\"),AR79/(1+'Parâmetros de Fluxo de Caixa'!$B$32)^AR66,\"\")","v":""},{"$f":"IF(OR(AS67=\"Construção\",AS67=\"Start-up\",AS67=\"Operação\"),AS79/(1+'Parâmetros de Fluxo de Caixa'!$B$32)^AS66,\"\")","v":""},{"$f":"IF(OR(AT67=\"Construção\",AT67=\"Start-up\",AT67=\"Operação\"),AT79/(1+'Parâmetros de Fluxo de Caixa'!$B$32)^AT66,\"\")","v":""},{"$f":"IF(OR(AU67=\"Construção\",AU67=\"Start-up\",AU67=\"Operação\"),AU79/(1+'Parâmetros de Fluxo de Caixa'!$B$32)^AU66,\"\")","v":""},{"$f":"IF(OR(AV67=\"Construção\",AV67=\"Start-up\",AV67=\"Operação\"),AV79/(1+'Parâmetros de Fluxo de Caixa'!$B$32)^AV66,\"\")","v":""}]
["Fluxo de Caixa Descontado Acumulado",{"$f":"IF(OR(B25=\"Construção\",B25=\"Start-up\",B25=\"Operação\"),SUM($B$81:B81),\"\")","v":-404.3222559628029},{"$f":"IF(OR(C25=\"Construção\",C25=\"Start-up\",C25=\"Operação\"),SUM($B$81:C81),\"\")","v":-3138.8269239294018},{"$f":"IF(OR(D25=\"Construção\",D25=\"Start-up\",D25=\"Operação\"),SUM($B$81:D81),\"\")","v":-4453.952291289339},{"$f":"IF(OR(E25=\"Construção\",E25=\"Start-up\",E25=\"Operação\"),SUM($B$81:E81),\"\")","v":-3638.6197524527402},{"$f":"IF(OR(F25=\"Construção\",F25=\"Start-up\",F25=\"Operação\"),SUM($B$81:F81),\"\")","v":-2794.1053357083629},{"$f":"IF(OR(G25=\"Construção\",G25=\"Start-up\",G25=\"Operação\"),SUM($B$81:G81),\"\")","v":-2032.5581356073146},{"$f":"IF(OR(H25=\"Construção\",H25=\"Start-up\",H25=\"Operação\"),SUM($B$81:H81),\"\")","v":-1345.8272444787972},{"$f":"IF(OR(I25=\"Construção\",I25=\"Start-up\",I25=\"Operação\"),SUM($B$81:I81),\"\")","v":-726.56252028626932},{"$f":"IF(OR(J25=\"Construção\",J25=\"Start-up\",J25=\"Operação\"),SUM($B$81:J81),\"\")","v":-168.13591740103504},{"$f":"IF(OR(K25=\"Construção\",K25=\"Start-up\",K25=\"Operação\"),SUM($B$81:K81),\"\")","v":335.42945396184712},{"$f":"IF(OR(L25=\"Construção\",L25=\"Start-up\",L25=\"Operação\"),SUM($B$81:L81),\"\")","v":789.52329892852731},{"$f":"IF(OR(M25=\"Construção\",M25=\"Start-up\",M25=\"Operação\"),SUM($B$81:M81),\"\")","v":1199.0058244615022},{"$f":"IF(OR(N25=\"Construção\",N25=\"Start-up\",N25=\"Operação\"),SUM($B$81:N81),\"\")","v":1568.259758588636},{"$f":"IF(OR(O25=\"Construção\",O25=\"Start-up\",O25=\"Operação\"),SUM($B$81:O81),\"\")","v":1856.4367003717628},{"$f":"IF(OR(P25=\"Construção\",P25=\"Start-up\",P25=\"Operação\"),SUM($B$81:P81),\"\")","v":2116.3024158614376},{"$f":"IF(OR(Q25=\"Construção\",Q25=\"Start-up\",Q25=\"Operação\"),SUM($B$81:Q81),\"\")","v":2350.6382710103962},{"$f":"IF(OR(R25=\"Construção\",R25=\"Start-up\",R25=\"Operação\"),SUM($B$81:R81),\"\")","v":2561.9523833969356},{"$f":"IF(OR(S25=\"Construção\",S25=\"Start-up\",S25=\"Operação\"),SUM($B$81:S81),\"\")","v":2752.5064668312712},{"$f":"IF(OR(T25=\"Construção\",T25=\"Start-up\",T25=\"Operação\"),SUM($B$81:T81),\"\")","v":2924.3400386803642},{"$f":"IF(OR(U25=\"Construção\",U25=\"Start-up\",U25=\"Operação\"),SUM($B$81:U81),\"\")","v":3079.2922490043811},{"$f":"IF(OR(V25=\"Construção\",V25=\"Start-up\",V25=\"Operação\"),SUM($B$81:V81),\"\")","v":3219.0215651439798},{"$f":"IF(OR(W25=\"Construção\",W25=\"Start-up\",W25=\"Operação\"),SUM($B$81:W81),\"\")","v":3345.0235224443186},{"$f":"IF(OR(X25=\"Construção\",X25=\"Start-up\",X25=\"Operação\"),SUM($B$81:X81),\"\")","v":3458.6467311033716},{"$f":"IF(OR(Y25=\"Construção\",Y25=\"Start-up\",Y25=\"Operação\"),SUM($B$81:Y81),\"\")","v":""},{"$f":"IF(OR(Z25=\"Construção\",Z25=\"Start-up\",Z25=\"Operação\"),SUM($B$81:Z81),\"\")","v":""},{"$f":"IF(OR(AA25=\"Construção\",AA25=\"Start-up\",AA25=\"Operação\"),SUM($B$81:AA81),\"\")","v":""},{"$f":"IF(OR(AB25=\"Construção\",AB25=\"Start-up\",AB25=\"Operação\"),SUM($B$81:AB81),\"\")","v":""},{"$f":"IF(OR(AC25=\"Construção\",AC25=\"Start-up\",AC25=\"Operação\"),SUM($B$81:AC81),\"\")","v":""},{"$f":"IF(OR(AD25=\"Construção\",AD25=\"Start-up\",AD25=\"Operação\"),SUM($B$81:AD81),\"\")","v":""},{"$f":"IF(OR(AE25=\"Construção\",AE25=\"Start-up\",AE25=\"Operação\"),SUM($B$81:AE81),\"\")","v":""},{"$f":"IF(OR(AF25=\"Construção\",AF25=\"Start-up\",AF25=\"Operação\"),SUM($B$81:AF81),\"\")","v":""},{"$f":"IF(OR(AG25=\"Construção\",AG25=\"Start-up\",AG25=\"Operação\"),SUM($B$81:AG81),\"\")","v":""},{"$f":"IF(OR(AH25=\"Construção\",AH25=\"Start-up\",AH25=\"Operação\"),SUM($B$81:AH81),\"\")","v":""},{"$f":"IF(OR(AI25=\"Construção\",AI25=\"Start-up\",AI25=\"Operação\"),SUM($B$81:AI81),\"\")","v":""},{"$f":"IF(OR(AJ25=\"Construção\",AJ25=\"Start-up\",AJ25=\"Operação\"),SUM($B$81:AJ81),\"\")","v":""},{"$f":"IF(OR(AK25=\"Construção\",AK25=\"Start-up\",AK25=\"Operação\"),SUM($B$81:AK81),\"\")","v":""},{"$f":"IF(OR(AL25=\"Construção\",AL25=\"Start-up\",AL25=\"Operação\"),SUM($B$81:AL81),\"\")","v":""},{"$f":"IF(OR(AM25=\"Construção\",AM25=\"Start-up\",AM25=\"Operação\"),SUM($B$81:AM81),\"\")","v":""},{"$f":"IF(OR(AN25=\"Construção\",AN25=\"Start-up\",AN25=\"Operação\"),SUM($B$81:AN81),\"\")","v":""},{"$f":"IF(OR(AO25=\"Construção\",AO25=\"Start-up\",AO25=\"Operação\"),SUM($B$81:AO81),\"\")","v":""},{"$f":"IF(OR(AP25=\"Construção\",AP25=\"Start-up\",AP25=\"Operação\"),SUM($B$81:AP81),\"\")","v":""},{"$f":"IF(OR(AQ25=\"Construção\",AQ25=\"Start-up\",AQ25=\"Operação\"),SUM($B$81:AQ81),\"\")","v":""},{"$f":"IF(OR(AR25=\"Construção\",AR25=\"Start-up\",AR25=\"Operação\"),SUM($B$81:AR81),\"\")","v":""},{"$f":"IF(OR(AS25=\"Construção\",AS25=\"Start-up\",AS25=\"Operação\"),SUM($B$81:AS81),\"\")","v":""},{"$f":"IF(OR(AT25=\"Construção\",AT25=\"Start-up\",AT25=\"Operação\"),SUM($B$81:AT81),\"\")","v":""},{"$f":"IF(OR(AU25=\"Construção\",AU25=\"Start-up\",AU25=\"Operação\"),SUM($B$81:AU81),\"\")","v":""},{"$f":"IF(OR(AV25=\"Construção\",AV25=\"Start-up\",AV25=\"Operação\"),SUM($B$81:AV81),\"\")","v":""}]
["Custo CAPEX descontado",{"$f":"IF(OR(B25=\"Construção\",B25=\"Start-up\",B25=\"Operação\"),(B72+B73+B78)/((1+'Parâmetros de Fluxo de Caixa'!$B$32)^'Fluxo de Caixa Desc._premio'!B65),\"\")","v":-448.37138673202401},{"$f":"IF(OR(C25=\"Construção\",C25=\"Start-up\",C25=\"Operação\"),(C72+C73+C78)/((1+'Parâmetros de Fluxo de Caixa'!$B$32)^'Fluxo de Caixa Desc._premio'!C65),\"\")","v":-3032.4169197210208},{"$f":"IF(OR(D25=\"Construção\",D25=\"Start-up\",D25=\"Operação\"),(D72+D73+D78)/((1+'Parâmetros de Fluxo de Caixa'!$B$32)^'Fluxo de Caixa Desc._premio'!D65),\"\")","v":-1458.4024895821863},{"$f":"IF(OR(E25=\"Construção\",E25=\"Start-up\",E25=\"Operação\"),(E72+E73+E78)/((1+'Parâmetros de Fluxo de Caixa'!$B$32)^'Fluxo de Caixa Desc._premio'!E65),\"\")","v":0},{"$f":"IF(OR(F25=\"Construção\",F25=\"Start-up\",F25=\"Operação\"),(F72+F73+F78)/((1+'Parâmetros de Fluxo de Caixa'!$B$32)^'Fluxo de Caixa Desc._premio'!F65),\"\")","v":0},{"$f":"IF(OR(G25=\"Construção\",G25=\"Start-up\",G25=\"Operação\"),(G72+G73+G78)/((1+'Parâmetros de Fluxo de Caixa'!$B$32)^'Fluxo de Caixa Desc._premio'!G65),\"\")","v":0},{"$f":"IF(OR(H25=\"Construção\",H25=\"Start-up\",H25=\"Operação\"),(H72+H73+H78)/((1+'Parâmetros de Fluxo de Caixa'!$B$32)^'Fluxo de Caixa Desc._premio'!H65),\"\")","v":0},{"$f":"IF(OR(I25=\"Construção\",I25=\"Start-up\",I25=\"Operação\"),(I72+I73+I78)/((1+'Parâmetros de Fluxo de Caixa'!$B$32)^'Fluxo de Caixa Desc._premio'!I65),\"\")","v":0},{"$f":"IF(OR(J25=\"Construção\",J25=\"Start-up\",J25=\"Operação\"),(J72+J73+J78)/((1+'Parâmetros de Fluxo de Caixa'!$B$32)^'Fluxo de Caixa Desc._premio'!J65),\"\")","v":0},{"$f":"IF(OR(K25=\"Construção\",K25=\"Start-up\",K25=\"Operação\"),(K72+K73+K78)/((1+'Parâmetros de Fluxo de Caixa'!$B$32)^'Fluxo de Caixa Desc._premio'!K65),\"\")","v":0},{"$f":"IF(OR(L25=\"Construção\",L25=\"Start-up\",L25=\"Operação\"),(L72+L73+L78)/((1+'Parâmetros de Fluxo de Caixa'!$B$32)^'Fluxo de Caixa Desc._premio'!L65),\"\")","v":0},{"$f":"IF(OR(M25=\"Construção\",M25=\"Start-up\",M25=\"Operação\"),(M72+M73+M78)/((1+'Parâmetros de Fluxo de Caixa'!$B$32)^'Fluxo de Caixa Desc._premio'!M65),\"\")","v":0},{"$f":"IF(OR(N25=\"Construção\",N25=\"Start-up\",N25=\"Operação\"),(N72+N73+N78)/((1+'Parâmetros de Fluxo de Caixa'!$B$32)^'Fluxo de Caixa Desc._premio'!N65),\"\")","v":0},{"$f":"IF(OR(O25=\"Construção\",O25=\"Start-up\",O25=\"Operação\"),(O72+O73+O78)/((1+'Parâmetros de Fluxo de Caixa'!$B$32)^'Fluxo de Caixa Desc._premio'!O65),\"\")","v":0},{"$f":"IF(OR(P25=\"Construção\",P25=\"Start-up\",P25=\"Operação\"),(P72+P73+P78)/((1+'Parâmetros de Fluxo de Caixa'!$B$32)^'Fluxo de Caixa Desc._premio'!P65),\"\")","v":0},{"$f":"IF(OR(Q25=\"Construção\",Q25=\"Start-up\",Q25=\"Operação\"),(Q72+Q73+Q78)/((1+'Parâmetros de Fluxo de Caixa'!$B$32)^'Fluxo de Caixa Desc._premio'!Q65),\"\")","v":0},{"$f":"IF(OR(R25=\"Construção\",R25=\"Start-up\",R25=\"Operação\"),(R72+R73+R78)/((1+'Parâmetros de Fluxo de Caixa'!$B$32)^'Fluxo de Caixa Desc._premio'!R65),\"\")","v":0},{"$f":"IF(OR(S25=\"Construção\",S25=\"Start-up\",S25=\"Operação\"),(S72+S73+S78)/((1+'Parâmetros de Fluxo de Caixa'!$B$32)^'Fluxo de Caixa Desc._premio'!S65),\"\")","v":0},{"$f":"IF(OR(T25=\"Construção\",T25=\"Start-up\",T25=\"Operação\"),(T72+T73+T78)/((1+'Parâmetros de Fluxo de Caixa'!$B$32)^'Fluxo de Caixa Desc._premio'!T65),\"\")","v":0},{"$f":"IF(OR(U25=\"Construção\",U25=\"Start-up\",U25=\"Operação\"),(U72+U73+U78)/((1+'Parâmetros de Fluxo de Caixa'!$B$32)^'Fluxo de Caixa Desc._premio'!U65),\"\")","v":0},{"$f":"IF(OR(V25=\"Construção\",V25=\"Start-up\",V25=\"Operação\"),(V72+V73+V78)/((1+'Parâmetros de Fluxo de Caixa'!$B$32)^'Fluxo de Caixa Desc._premio'!V65),\"\")","v":0},{"$f":"IF(OR(W25=\"Construção\",W25=\"Start-up\",W25=\"Operação\"),(W72+W73+W78)/((1+'Parâmetros de Fluxo de Caixa'!$B$32)^'Fluxo de Caixa Desc._premio'!W65),\"\")","v":0},{"$f":"IF(OR(X25=\"Construção\",X25=\"Start-up\",X25=\"Operação\"),(X72+X73+X78)/((1+'Parâmetros de Fluxo de Caixa'!$B$32)^'Fluxo de Caixa Desc._premio'!X65),\"\")","v":0},{"$f":"IF(OR(Y25=\"Construção\",Y25=\"Start-up\",Y25=\"Operação\"),(Y72+Y73+Y78)/((1+'Parâmetros de Fluxo de Caixa'!$B$32)^'Fluxo de Caixa Desc._premio'!Y65),\"\")","v":""},{"$f":"IF(OR(Z25=\"Construção\",Z25=\"Start-up\",Z25=\"Operação\"),(Z72+Z73+Z78)/((1+'Parâmetros de Fluxo de Caixa'!$B$32)^'Fluxo de Caixa Desc._premio'!Z65),\"\")","v":""},{"$f":"IF(OR(AA25=\"Construção\",AA25=\"Start-up\",AA25=\"Operação\"),(AA72+AA73+AA78)/((1+'Parâmetros de Fluxo de Caixa'!$B$32)^'Fluxo de Caixa Desc._premio'!AA65),\"\")","v":""},{"$f":"IF(OR(AB25=\"Construção\",AB25=\"Start-up\",AB25=\"Operação\"),(AB72+AB73+AB78)/((1+'Parâmetros de Fluxo de Caixa'!$B$32)^'Fluxo de Caixa Desc._premio'!AB65),\"\")","v":""},{"$f":"IF(OR(AC25=\"Construção\",AC25=\"Start-up\",AC25=\"Operação\"),(AC72+AC73+AC78)/((1+'Parâmetros de Fluxo de Caixa'!$B$32)^'Fluxo de Caixa Desc._premio'!AC65),\"\")","v":""},{"$f":"IF(OR(AD25=\"Construção\",AD25=\"Start-up\",AD25=\"Operação\"),(AD72+AD73+AD78)/((1+'Parâmetros de Fluxo de Caixa'!$B$32)^'Fluxo de Caixa Desc._premio'!AD65),\"\")","v":""},{"$f":"IF(OR(AE25=\"Construção\",AE25=\"Start-up\",AE25=\"Operação\"),(AE72+AE73+AE78)/((1+'Parâmetros de Fluxo de Caixa'!$B$32)^'Fluxo de Caixa Desc._premio'!AE65),\"\")","v":""},{"$f":"IF(OR(AF25=\"Construção\",AF25=\"Start-up\",AF25=\"Operação\"),(AF72+AF73+AF78)/((1+'Parâmetros de Fluxo de Caixa'!$B$32)^'Fluxo de Caixa Desc._premio'!AF65),\"\")","v":""},{"$f":"IF(OR(AG25=\"Construção\",AG25=\"Start-up\",AG25=\"Operação\"),(AG72+AG73+AG78)/((1+'Parâmetros de Fluxo de Caixa'!$B$32)^'Fluxo de Caixa Desc._premio'!AG65),\"\")","v":""},{"$f":"IF(OR(AH25=\"Construção\",AH25=\"Start-up\",AH25=\"Operação\"),(AH72+AH73+AH78)/((1+'Parâmetros de Fluxo de Caixa'!$B$32)^'Fluxo de Caixa Desc._premio'!AH65),\"\")","v":""},{"$f":"IF(OR(AI25=\"Construção\",AI25=\"Start-up\",AI25=\"Operação\"),(AI72+AI73+AI78)/((1+'Parâmetros de Fluxo de Caixa'!$B$32)^'Fluxo de Caixa Desc._premio'!AI65),\"\")","v":""},{"$f":"IF(OR(AJ25=\"Construção\",AJ25=\"Start-up\",AJ25=\"Operação\"),(AJ72+AJ73+AJ78)/((1+'Parâmetros de Fluxo de Caixa'!$B$32)^'Fluxo de Caixa Desc._premio'!AJ65),\"\")","v":""},{"$f":"IF(OR(AK25=\"Construção\",AK25=\"Start-up\",AK25=\"Operação\"),(AK72+AK73+AK78)/((1+'Parâmetros de Fluxo de Caixa'!$B$32)^'Fluxo de Caixa Desc._premio'!AK65),\"\")","v":""},{"$f":"IF(OR(AL25=\"Construção\",AL25=\"Start-up\",AL25=\"Operação\"),(AL72+AL73+AL78)/((1+'Parâmetros de Fluxo de Caixa'!$B$32)^'Fluxo de Caixa Desc._premio'!AL65),\"\")","v":""},{"$f":"IF(OR(AM25=\"Construção\",AM25=\"Start-up\",AM25=\"Operação\"),(AM72+AM73+AM78)/((1+'Parâmetros de Fluxo de Caixa'!$B$32)^'Fluxo de Caixa Desc._premio'!AM65),\"\")","v":""},{"$f":"IF(OR(AN25=\"Construção\",AN25=\"Start-up\",AN25=\"Operação\"),(AN72+AN73+AN78)/((1+'Parâmetros de Fluxo de Caixa'!$B$32)^'Fluxo de Caixa Desc._premio'!AN65),\"\")","v":""},{"$f":"IF(OR(AO25=\"Construção\",AO25=\"Start-up\",AO25=\"Operação\"),(AO72+AO73+AO78)/((1+'Parâmetros de Fluxo de Caixa'!$B$32)^'Fluxo de Caixa Desc._premio'!AO65),\"\")","v":""},{"$f":"IF(OR(AP25=\"Construção\",AP25=\"Start-up\",AP25=\"Operação\"),(AP72+AP73+AP78)/((1+'Parâmetros de Fluxo de Caixa'!$B$32)^'Fluxo de Caixa Desc._premio'!AP65),\"\")","v":""},{"$f":"IF(OR(AQ25=\"Construção\",AQ25=\"Start-up\",AQ25=\"Operação\"),(AQ72+AQ73+AQ78)/((1+'Parâmetros de Fluxo de Caixa'!$B$32)^'Fluxo de Caixa Desc._premio'!AQ65),\"\")","v":""},{"$f":"IF(OR(AR25=\"Construção\",AR25=\"Start-up\",AR25=\"Operação\"),(AR72+AR73+AR78)/((1+'Parâmetros de Fluxo de Caixa'!$B$32)^'Fluxo de Caixa Desc._premio'!AR65),\"\")","v":""},{"$f":"IF(OR(AS25=\"Construção\",AS25=\"Start-up\",AS25=\"Operação\"),(AS72+AS73+AS78)/((1+'Parâmetros de Fluxo de Caixa'!$B$32)^'Fluxo de Caixa Desc._premio'!AS65),\"\")","v":""},{"$f":"IF(OR(AT25=\"Construção\",AT25=\"Start-up\",AT25=\"Operação\"),(AT72+AT73+AT78)/((1+'Parâmetros de Fluxo de Caixa'!$B$32)^'Fluxo de Caixa Desc._premio'!AT65),\"\")","v":""},{"$f":"IF(OR(AU25=\"Construção\",AU25=\"Start-up\",AU25=\"Operação\"),(AU72+AU73+AU78)/((1+'Parâmetros de Fluxo de Caixa'!$B$32)^'Fluxo de Caixa Desc._premio'!AU65),\"\")","v":""},{"$f":"IF(OR(AV25=\"Construção\",AV25=\"Start-up\",AV25=\"Operação\"),(AV72+AV73+AV78)/((1+'Parâmetros de Fluxo de Caixa'!$B$32)^'Fluxo de Caixa Desc._premio'!AV65),\"\")","v":""}]
["Custo OPEX variável descontado",{"$f":"IF(OR(B25=\"Construção\",B25=\"Start-up\",B25=\"Operação\"),(B70)/((1+'Parâmetros de Fluxo de Caixa'!$B$32)^'Fluxo de Caixa Desc._premio'!B65),\"\")","v":0},{"$f":"IF(OR(C25=\"Construção\",C25=\"Start-up\",C25=\"Operação\"),(C70)/((1+'Parâmetros de Fluxo de Caixa'!$B$32)^'Fluxo de Caixa Desc._premio'!C65),\"\")","v":0},{"$f":"IF(OR(D25=\"Construção\",D25=\"Start-up\",D25=\"Operação\"),(D70)/((1+'Parâmetros de Fluxo de Caixa'!$B$32)^'Fluxo de Caixa Desc._premio'!D65),\"\")","v":0},{"$f":"IF(OR(E25=\"Construção\",E25=\"Start-up\",E25=\"Operação\"),(E70)/((1+'Parâmetros de Fluxo de Caixa'!$B$32)^'Fluxo de Caixa Desc._premio'!E65),\"\")","v":-2377.0886148608729},{"$f":"IF(OR(F25=\"Construção\",F25=\"Start-up\",F25=\"Operação\"),(F70)/((1+'Parâmetros de Fluxo de Caixa'!$B$32)^'Fluxo de Caixa Desc._premio'!F65),\"\")","v":-2449.7799555705346},{"$f":"IF(OR(G25=\"Construção\",G25=\"Start-up\",G25=\"Operação\"),(G70)/((1+'Parâmetros de Fluxo de Caixa'!$B$32)^'Fluxo de Caixa Desc._premio'!G65),\"\")","v":-2209.1074220146911},{"$f":"IF(OR(H25=\"Construção\",H25=\"Start-up\",H25=\"Operação\"),(H70)/((1+'Parâmetros de Fluxo de Caixa'!$B$32)^'Fluxo de Caixa Desc._premio'!H65),\"\")","v":-1992.0791624176072},{"$f":"IF(OR(I25=\"Construção\",I25=\"Start-up\",I25=\"Operação\"),(I70)/((1+'Parâmetros de Fluxo de Caixa'!$B$32)^'Fluxo de Caixa Desc._premio'!I65),\"\")","v":-1796.372303941336},{"$f":"IF(OR(J25=\"Construção\",J25=\"Start-up\",J25=\"Operação\"),(J70)/((1+'Parâmetros de Fluxo de Caixa'!$B$32)^'Fluxo de Caixa Desc._premio'!J65),\"\")","v":-1619.8921786076214},{"$f":"IF(OR(K25=\"Construção\",K25=\"Start-up\",K25=\"Operação\"),(K70)/((1+'Parâmetros de Fluxo de Caixa'!$B$32)^'Fluxo de Caixa Desc._premio'!K65),\"\")","v":-1460.7499038795245},{"$f":"IF(OR(L25=\"Construção\",L25=\"Start-up\",L25=\"Operação\"),(L70)/((1+'Parâmetros de Fluxo de Caixa'!$B$32)^'Fluxo de Caixa Desc._premio'!L65),\"\")","v":-1317.2421657829962},{"$f":"IF(OR(M25=\"Construção\",M25=\"Start-up\",M25=\"Operação\"),(M70)/((1+'Parâmetros de Fluxo de Caixa'!$B$32)^'Fluxo de Caixa Desc._premio'!M65),\"\")","v":-1187.8329881853504},{"$f":"IF(OR(N25=\"Construção\",N25=\"Start-up\",N25=\"Operação\"),(N70)/((1+'Parâmetros de Fluxo de Caixa'!$B$32)^'Fluxo de Caixa Desc._premio'!N65),\"\")","v":-1071.1372931055864},{"$f":"IF(OR(O25=\"Construção\",O25=\"Start-up\",O25=\"Operação\"),(O70)/((1+'Parâmetros de Fluxo de Caixa'!$B$32)^'Fluxo de Caixa Desc._premio'!O65),\"\")","v":-965.90607610110578},{"$f":"IF(OR(P25=\"Construção\",P25=\"Start-up\",P25=\"Operação\"),(P70)/((1+'Parâmetros de Fluxo de Caixa'!$B$32)^'Fluxo de Caixa Desc._premio'!P65),\"\")","v":-871.01303806165583},{"$f":"IF(OR(Q25=\"Construção\",Q25=\"Start-up\",Q25=\"Operação\"),(Q70)/((1+'Parâmetros de Fluxo de Caixa'!$B$32)^'Fluxo de Caixa Desc._premio'!Q65),\"\")","v":-785.44253032940105},{"$f":"IF(OR(R25=\"Construção\",R25=\"Start-up\",R25=\"Operação\"),(R70)/((1+'Parâmetros de Fluxo de Caixa'!$B$32)^'Fluxo de Caixa Desc._premio'!R65),\"\")","v":-708.27868412066471},{"$f":"IF(OR(S25=\"Construção\",S25=\"Start-up\",S25=\"Operação\"),(S70)/((1+'Parâmetros de Fluxo de Caixa'!$B$32)^'Fluxo de Caixa Desc._premio'!S65),\"\")","v":-638.69560790057221},{"$f":"IF(OR(T25=\"Construção\",T25=\"Start-up\",T25=\"Operação\"),(T70)/((1+'Parâmetros de Fluxo de Caixa'!$B$32)^'Fluxo de Caixa Desc._premio'!T65),\"\")","v":-575.94854779221998},{"$f":"IF(OR(U25=\"Construção\",U25=\"Start-up\",U25=\"Operação\"),(U70)/((1+'Parâmetros de Fluxo de Caixa'!$B$32)^'Fluxo de Caixa Desc._premio'!U65),\"\")","v":-519.36591640944334},{"$f":"IF(OR(V25=\"Construção\",V25=\"Start-up\",V25=\"Operação\"),(V70)/((1+'Parâmetros de Fluxo de Caixa'!$B$32)^'Fluxo de Caixa Desc._premio'!V65),\"\")","v":-468.34210479706428},{"$f":"IF(OR(W25=\"Construção\",W25=\"Start-up\",W25=\"Operação\"),(W70)/((1+'Parâmetros de Fluxo de Caixa'!$B$32)^'Fluxo de Caixa Desc._premio'!W65),\"\")","v":-422.33100054417844},{"$f":"IF(OR(X25=\"Construção\",X25=\"Start-up\",X25=\"Operação\"),(X70)/((1+'Parâmetros de Fluxo de Caixa'!$B$32)^'Fluxo de Caixa Desc._premio'!X65),\"\")","v":-380.84014269426598},{"$f":"IF(OR(Y25=\"Construção\",Y25=\"Start-up\",Y25=\"Operação\"),(Y70)/((1+'Parâmetros de Fluxo de Caixa'!$B$32)^'Fluxo de Caixa Desc._premio'!Y65),\"\")","v":""},{"$f":"IF(OR(Z25=\"Construção\",Z25=\"Start-up\",Z25=\"Operação\"),(Z70)/((1+'Parâmetros de Fluxo de Caixa'!$B$32)^'Fluxo de Caixa Desc._premio'!Z65),\"\")","v":""},{"$f":"IF(OR(AA25=\"Construção\",AA25=\"Start-up\",AA25=\"Operação\"),(AA70)/((1+'Parâmetros de Fluxo de Caixa'!$B$32)^'Fluxo de Caixa Desc._premio'!AA65),\"\")","v":""},{"$f":"IF(OR(AB25=\"Construção\",AB25=\"Start-up\",AB25=\"Operação\"),(AB70)/((1+'Parâmetros de Fluxo de Caixa'!$B$32)^'Fluxo de Caixa Desc._premio'!AB65),\"\")","v":""},{"$f":"IF(OR(AC25=\"Construção\",AC25=\"Start-up\",AC25=\"Operação\"),(AC70)/((1+'Parâmetros de Fluxo de Caixa'!$B$32)^'Fluxo de Caixa Desc._premio'!AC65),\"\")","v":""},{"$f":"IF(OR(AD25=\"Construção\",AD25=\"Start-up\",AD25=\"Operação\"),(AD70)/((1+'Parâmetros de Fluxo de Caixa'!$B$32)^'Fluxo de Caixa Desc._premio'!AD65),\"\")","v":""},{"$f":"IF(OR(AE25=\"Construção\",AE25=\"Start-up\",AE25=\"Operação\"),(AE70)/((1+'Parâmetros de Fluxo de Caixa'!$B$32)^'Fluxo de Caixa Desc._premio'!AE65),\"\")","v":""},{"$f":"IF(OR(AF25=\"Construção\",AF25=\"Start-up\",AF25=\"Operação\"),(AF70)/((1+'Parâmetros de Fluxo de Caixa'!$B$32)^'Fluxo de Caixa Desc._premio'!AF65),\"\")","v":""},{"$f":"IF(OR(AG25=\"Construção\",AG25=\"Start-up\",AG25=\"Operação\"),(AG70)/((1+'Parâmetros de Fluxo de Caixa'!$B$32)^'Fluxo de Caixa Desc._premio'!AG65),\"\")","v":""},{"$f":"IF(OR(AH25=\"Construção\",AH25=\"Start-up\",AH25=\"Operação\"),(AH70)/((1+'Parâmetros de Fluxo de Caixa'!$B$32)^'Fluxo de Caixa Desc._premio'!AH65),\"\")","v":""},{"$f":"IF(OR(AI25=\"Construção\",AI25=\"Start-up\",AI25=\"Operação\"),(AI70)/((1+'Parâmetros de Fluxo de Caixa'!$B$32)^'Fluxo de Caixa Desc._premio'!AI65),\"\")","v":""},{"$f":"IF(OR(AJ25=\"Construção\",AJ25=\"Start-up\",AJ25=\"Operação\"),(AJ70)/((1+'Parâmetros de Fluxo de Caixa'!$B$32)^'Fluxo de Caixa Desc._premio'!AJ65),\"\")","v":""},{"$f":"IF(OR(AK25=\"Construção\",AK25=\"Start-up\",AK25=\"Operação\"),(AK70)/((1+'Parâmetros de Fluxo de Caixa'!$B$32)^'Fluxo de Caixa Desc._premio'!AK65),\"\")","v":""},{"$f":"IF(OR(AL25=\"Construção\",AL25=\"Start-up\",AL25=\"Operação\"),(AL70)/((1+'Parâmetros de Fluxo de Caixa'!$B$32)^'Fluxo de Caixa Desc._premio'!AL65),\"\")","v":""},{"$f":"IF(OR(AM25=\"Construção\",AM25=\"Start-up\",AM25=\"Operação\"),(AM70)/((1+'Parâmetros de Fluxo de Caixa'!$B$32)^'Fluxo de Caixa Desc._premio'!AM65),\"\")","v":""},{"$f":"IF(OR(AN25=\"Construção\",AN25=\"Start-up\",AN25=\"Operação\"),(AN70)/((1+'Parâmetros de Fluxo de Caixa'!$B$32)^'Fluxo de Caixa Desc._premio'!AN65),\"\")","v":""},{"$f":"IF(OR(AO25=\"Construção\",AO25=\"Start-up\",AO25=\"Operação\"),(AO70)/((1+'Parâmetros de Fluxo de Caixa'!$B$32)^'Fluxo de Caixa Desc._premio'!AO65),\"\")","v":""},{"$f":"IF(OR(AP25=\"Construção\",AP25=\"Start-up\",AP25=\"Operação\"),(AP70)/((1+'Parâmetros de Fluxo de Caixa'!$B$32)^'Fluxo de Caixa Desc._premio'!AP65),\"\")","v":""},{"$f":"IF(OR(AQ25=\"Construção\",AQ25=\"Start-up\",AQ25=\"Operação\"),(AQ70)/((1+'Parâmetros de Fluxo de Caixa'!$B$32)^'Fluxo de Caixa Desc._premio'!AQ65),\"\")","v":""},{"$f":"IF(OR(AR25=\"Construção\",AR25=\"Start-up\",AR25=\"Operação\"),(AR70)/((1+'Parâmetros de Fluxo de Caixa'!$B$32)^'Fluxo de Caixa Desc._premio'!AR65),\"\")","v":""},{"$f":"IF(OR(AS25=\"Construção\",AS25=\"Start-up\",AS25=\"Operação\"),(AS70)/((1+'Parâmetros de Fluxo de Caixa'!$B$32)^'Fluxo de Caixa Desc._premio'!AS65),\"\")","v":""},{"$f":"IF(OR(AT25=\"Construção\",AT25=\"Start-up\",AT25=\"Operação\"),(AT70)/((1+'Parâmetros de Fluxo de Caixa'!$B$32)^'Fluxo de Caixa Desc._premio'!AT65),\"\")","v":""},{"$f":"IF(OR(AU25=\"Construção\",AU25=\"Start-up\",AU25=\"Operação\"),(AU70)/((1+'Parâmetros de Fluxo de Caixa'!$B$32)^'Fluxo de Caixa Desc._premio'!AU65),\"\")","v":""},{"$f":"IF(OR(AV25=\"Construção\",AV25=\"Start-up\",AV25=\"Operação\"),(AV70)/((1+'Parâmetros de Fluxo de Caixa'!$B$32)^'Fluxo de Caixa Desc._premio'!AV65),\"\")","v":""}]
["Custo OPEX fixo descontado",{"$f":"IF(OR(B25=\"Construção\",B25=\"Start-up\",B25=\"Operação\"),(B71)/((1+'Parâmetros de Fluxo de Caixa'!$B$32)^'Fluxo de Caixa Desc._premio'!B65),\"\")","v":0},{"$f":"IF(OR(C25=\"Construção\",C25=\"Start-up\",C25=\"Operação\"),(C71)/((1+'Parâmetros de Fluxo de Caixa'!$B$32)^'Fluxo de Caixa Desc._premio'!C65),\"\")","v":0},{"$f":"IF(OR(D25=\"Construção\",D25=\"Start-up\",D25=\"Operação\"),(D71)/((1+'Parâmetros de Fluxo de Caixa'!$B$32)^'Fluxo de Caixa Desc._premio'!D65),\"\")","v":0},{"$f":"IF(OR(E25=\"Construção\",E25=\"Start-up\",E25=\"Operação\"),(E71)/((1+'Parâmetros de Fluxo de Caixa'!$B$32)^'Fluxo de Caixa Desc._premio'!E65),\"\")","v":-267.13484024498723},{"$f":"IF(OR(F25=\"Construção\",F25=\"Start-up\",F25=\"Operação\"),(F71)/((1+'Parâmetros de Fluxo de Caixa'!$B$32)^'Fluxo de Caixa Desc._premio'!F65),\"\")","v":-240.89084283754516},{"$f":"IF(OR(G25=\"Construção\",G25=\"Start-up\",G25=\"Operação\"),(G71)/((1+'Parâmetros de Fluxo de Caixa'!$B$32)^'Fluxo de Caixa Desc._premio'!G65),\"\")","v":-217.22512162683651},{"$f":"IF(OR(H25=\"Construção\",H25=\"Start-up\",H25=\"Operação\"),(H71)/((1+'Parâmetros de Fluxo de Caixa'!$B$32)^'Fluxo de Caixa Desc._premio'!H65),\"\")","v":-195.88438028595496},{"$f":"IF(OR(I25=\"Construção\",I25=\"Start-up\",I25=\"Operação\"),(I71)/((1+'Parâmetros de Fluxo de Caixa'!$B$32)^'Fluxo de Caixa Desc._premio'!I65),\"\")","v":-176.64020695510669},{"$f":"IF(OR(J25=\"Construção\",J25=\"Start-up\",J25=\"Operação\"),(J71)/((1+'Parâmetros de Fluxo de Caixa'!$B$32)^'Fluxo de Caixa Desc._premio'!J65),\"\")","v":-159.28662952908303},{"$f":"IF(OR(K25=\"Construção\",K25=\"Start-up\",K25=\"Operação\"),(K71)/((1+'Parâmetros de Fluxo de Caixa'!$B$32)^'Fluxo de Caixa Desc._premio'!K65),\"\")","v":-143.63791111943004},{"$f":"IF(OR(L25=\"Construção\",L25=\"Start-up\",L25=\"Operação\"),(L71)/((1+'Parâmetros de Fluxo de Caixa'!$B$32)^'Fluxo de Caixa Desc._premio'!L65),\"\")","v":-129.52656209594954},{"$f":"IF(OR(M25=\"Construção\",M25=\"Start-up\",M25=\"Operação\"),(M71)/((1+'Parâmetros de Fluxo de Caixa'!$B$32)^'Fluxo de Caixa Desc._premio'!M65),\"\")","v":-116.80154743023424},{"$f":"IF(OR(N25=\"Construção\",N25=\"Start-up\",N25=\"Operação\"),(N71)/((1+'Parâmetros de Fluxo de Caixa'!$B$32)^'Fluxo de Caixa Desc._premio'!N65),\"\")","v":-105.32667015427468},{"$f":"IF(OR(O25=\"Construção\",O25=\"Start-up\",O25=\"Operação\"),(O71)/((1+'Parâmetros de Fluxo de Caixa'!$B$32)^'Fluxo de Caixa Desc._premio'!O65),\"\")","v":-94.979113632151723},{"$f":"IF(OR(P25=\"Construção\",P25=\"Start-up\",P25=\"Operação\"),(P71)/((1+'Parâmetros de Fluxo de Caixa'!$B$32)^'Fluxo de Caixa Desc._premio'!P65),\"\")","v":-85.648127042617531},{"$f":"IF(OR(Q25=\"Construção\",Q25=\"Start-up\",Q25=\"Operação\"),(Q71)/((1+'Parâmetros de Fluxo de Caixa'!$B$32)^'Fluxo de Caixa Desc._premio'!Q65),\"\")","v":-77.233840003168353},{"$f":"IF(OR(R25=\"Construção\",R25=\"Start-up\",R25=\"Operação\"),(R71)/((1+'Parâmetros de Fluxo de Caixa'!$B$32)^'Fluxo de Caixa Desc._premio'!R65),\"\")","v":-69.646193648424543},{"$f":"IF(OR(S25=\"Construção\",S25=\"Start-up\",S25=\"Operação\"),(S71)/((1+'Parâmetros de Fluxo de Caixa'!$B$32)^'Fluxo de Caixa Desc._premio'!S65),\"\")","v":-62.803976722054308},{"$f":"IF(OR(T25=\"Construção\",T25=\"Start-up\",T25=\"Operação\"),(T71)/((1+'Parâmetros de Fluxo de Caixa'!$B$32)^'Fluxo de Caixa Desc._premio'!T65),\"\")","v":-56.633956365446878},{"$f":"IF(OR(U25=\"Construção\",U25=\"Start-up\",U25=\"Operação\"),(U71)/((1+'Parâmetros de Fluxo de Caixa'!$B$32)^'Fluxo de Caixa Desc._premio'!U65),\"\")","v":-51.0700942998889},{"$f":"IF(OR(V25=\"Construção\",V25=\"Start-up\",V25=\"Operação\"),(V71)/((1+'Parâmetros de Fluxo de Caixa'!$B$32)^'Fluxo de Caixa Desc._premio'!V65),\"\")","v":-46.052840012971693},{"$f":"IF(OR(W25=\"Construção\",W25=\"Start-up\",W25=\"Operação\"),(W71)/((1+'Parâmetros de Fluxo de Caixa'!$B$32)^'Fluxo de Caixa Desc._premio'!W65),\"\")","v":-41.528493384140475},{"$f":"IF(OR(X25=\"Construção\",X25=\"Start-up\",X25=\"Operação\"),(X71)/((1+'Parâmetros de Fluxo de Caixa'!$B$32)^'Fluxo de Caixa Desc._premio'!X65),\"\")","v":-37.448629927509948},{"$f":"IF(OR(Y25=\"Construção\",Y25=\"Start-up\",Y25=\"Operação\"),(Y71)/((1+'Parâmetros de Fluxo de Caixa'!$B$32)^'Fluxo de Caixa Desc._premio'!Y65),\"\")","v":""},{"$f":"IF(OR(Z25=\"Construção\",Z25=\"Start-up\",Z25=\"Operação\"),(Z71)/((1+'Parâmetros de Fluxo de Caixa'!$B$32)^'Fluxo de Caixa Desc._premio'!Z65),\"\")","v":""},{"$f":"IF(OR(AA25=\"Construção\",AA25=\"Start-up\",AA25=\"Operação\"),(AA71)/((1+'Parâmetros de Fluxo de Caixa'!$B$32)^'Fluxo de Caixa Desc._premio'!AA65),\"\")","v":""},{"$f":"IF(OR(AB25=\"Construção\",AB25=\"Start-up\",AB25=\"Operação\"),(AB71)/((1+'Parâmetros de Fluxo de Caixa'!$B$32)^'Fluxo de Caixa Desc._premio'!AB65),\"\")","v":""},{"$f":"IF(OR(AC25=\"Construção\",AC25=\"Start-up\",AC25=\"Operação\"),(AC71)/((1+'Parâmetros de Fluxo de Caixa'!$B$32)^'Fluxo de Caixa Desc._premio'!AC65),\"\")","v":""},{"$f":"IF(OR(AD25=\"Construção\",AD25=\"Start-up\",AD25=\"Operação\"),(AD71)/((1+'Parâmetros de Fluxo de Caixa'!$B$32)^'Fluxo de Caixa Desc._premio'!AD65),\"\")","v":""},{"$f":"IF(OR(AE25=\"Construção\",AE25=\"Start-up\",AE25=\"Operação\"),(AE71)/((1+'Parâmetros de Fluxo de Caixa'!$B$32)^'Fluxo de Caixa Desc._premio'!AE65),\"\")","v":""},{"$f":"IF(OR(AF25=\"Construção\",AF25=\"Start-up\",AF25=\"Operação\"),(AF71)/((1+'Parâmetros de Fluxo de Caixa'!$B$32)^'Fluxo de Caixa Desc._premio'!AF65),\"\")","v":""},{"$f":"IF(OR(AG25=\"Construção\",AG25=\"Start-up\",AG25=\"Operação\"),(AG71)/((1+'Parâmetros de Fluxo de Caixa'!$B$32)^'Fluxo de Caixa Desc._premio'!AG65),\"\")","v":""},{"$f":"IF(OR(AH25=\"Construção\",AH25=\"Start-up\",AH25=\"Operação\"),(AH71)/((1+'Parâmetros de Fluxo de Caixa'!$B$32)^'Fluxo de Caixa Desc._premio'!AH65),\"\")","v":""},{"$f":"IF(OR(AI25=\"Construção\",AI25=\"Start-up\",AI25=\"Operação\"),(AI71)/((1+'Parâmetros de Fluxo de Caixa'!$B$32)^'Fluxo de Caixa Desc._premio'!AI65),\"\")","v":""},{"$f":"IF(OR(AJ25=\"Construção\",AJ25=\"Start-up\",AJ25=\"Operação\"),(AJ71)/((1+'Parâmetros de Fluxo de Caixa'!$B$32)^'Fluxo de Caixa Desc._premio'!AJ65),\"\")","v":""},{"$f":"IF(OR(AK25=\"Construção\",AK25=\"Start-up\",AK25=\"Operação\"),(AK71)/((1+'Parâmetros de Fluxo de Caixa'!$B$32)^'Fluxo de Caixa Desc._premio'!AK65),\"\")","v":""},{"$f":"IF(OR(AL25=\"Construção\",AL25=\"Start-up\",AL25=\"Operação\"),(AL71)/((1+'Parâmetros de Fluxo de Caixa'!$B$32)^'Fluxo de Caixa Desc._premio'!AL65),\"\")","v":""},{"$f":"IF(OR(AM25=\"Construção\",AM25=\"Start-up\",AM25=\"Operação\"),(AM71)/((1+'Parâmetros de Fluxo de Caixa'!$B$32)^'Fluxo de Caixa Desc._premio'!AM65),\"\")","v":""},{"$f":"IF(OR(AN25=\"Construção\",AN25=\"Start-up\",AN25=\"Operação\"),(AN71)/((1+'Parâmetros de Fluxo de Caixa'!$B$32)^'Fluxo de Caixa Desc._premio'!AN65),\"\")","v":""},{"$f":"IF(OR(AO25=\"Construção\",AO25=\"Start-up\",AO25=\"Operação\"),(AO71)/((1+'Parâmetros de Fluxo de Caixa'!$B$32)^'Fluxo de Caixa Desc._premio'!AO65),\"\")","v":""},{"$f":"IF(OR(AP25=\"Construção\",AP25=\"Start-up\",AP25=\"Operação\"),(AP71)/((1+'Parâmetros de Fluxo de Caixa'!$B$32)^'Fluxo de Caixa Desc._premio'!AP65),\"\")","v":""},{"$f":"IF(OR(AQ25=\"Construção\",AQ25=\"Start-up\",AQ25=\"Operação\"),(AQ71)/((1+'Parâmetros de Fluxo de Caixa'!$B$32)^'Fluxo de Caixa Desc._premio'!AQ65),\"\")","v":""},{"$f":"IF(OR(AR25=\"Construção\",AR25=\"Start-up\",AR25=\"Operação\"),(AR71)/((1+'Parâmetros de Fluxo de Caixa'!$B$32)^'Fluxo de Caixa Desc._premio'!AR65),\"\")","v":""},{"$f":"IF(OR(AS25=\"Construção\",AS25=\"Start-up\",AS25=\"Operação\"),(AS71)/((1+'Parâmetros de Fluxo de Caixa'!$B$32)^'Fluxo de Caixa Desc._premio'!AS65),\"\")","v":""},{"$f":"IF(OR(AT25=\"Construção\",AT25=\"Start-up\",AT25=\"Operação\"),(AT71)/((1+'Parâmetros de Fluxo de Caixa'!$B$32)^'Fluxo de Caixa Desc._premio'!AT65),\"\")","v":""},{"$f":"IF(OR(AU25=\"Construção\",AU25=\"Start-up\",AU25=\"Operação\"),(AU71)/((1+'Parâmetros de Fluxo de Caixa'!$B$32)^'Fluxo de Caixa Desc._premio'!AU65),\"\")","v":""},{"$f":"IF(OR(AV25=\"Construção\",AV25=\"Start-up\",AV25=\"Operação\"),(AV71)/((1+'Parâmetros de Fluxo de Caixa'!$B$32)^'Fluxo de Caixa Desc._premio'!AV65),\"\")","v":""}]
["Tributos descontado",{"$f":"IF(OR(B25=\"Construção\",B25=\"Start-up\",B25=\"Operação\"),(B77+B75)/((1+'Parâmetros de Fluxo de Caixa'!$B$32)^'Fluxo de Caixa Desc._premio'!B65),\"\")","v":0},{"$f":"IF(OR(C25=\"Construção\",C25=\"Start-up\",C25=\"Operação\"),(C77+C75)/((1+'Parâmetros de Fluxo de Caixa'!$B$32)^'Fluxo de Caixa Desc._premio'!C65),\"\")","v":0},{"$f":"IF(OR(D25=\"Construção\",D25=\"Start-up\",D25=\"Operação\"),(D77+D75)/((1+'Parâmetros de Fluxo de Caixa'!$B$32)^'Fluxo de Caixa Desc._premio'!D65),\"\")","v":0},{"$f":"IF(OR(E25=\"Construção\",E25=\"Start-up\",E25=\"Operação\"),(E77+E75)/((1+'Parâmetros de Fluxo de Caixa'!$B$32)^'Fluxo de Caixa Desc._premio'!E65),\"\")","v":-641.64105792994951},{"$f":"IF(OR(F25=\"Construção\",F25=\"Start-up\",F25=\"Operação\"),(F77+F75)/((1+'Parâmetros de Fluxo de Caixa'!$B$32)^'Fluxo de Caixa Desc._premio'!F65),\"\")","v":-690.9634803939482},{"$f":"IF(OR(G25=\"Construção\",G25=\"Start-up\",G25=\"Operação\"),(G77+G75)/((1+'Parâmetros de Fluxo de Caixa'!$B$32)^'Fluxo de Caixa Desc._premio'!G65),\"\")","v":-623.08149326166063},{"$f":"IF(OR(H25=\"Construção\",H25=\"Start-up\",H25=\"Operação\"),(H77+H75)/((1+'Parâmetros de Fluxo de Caixa'!$B$32)^'Fluxo de Caixa Desc._premio'!H65),\"\")","v":-561.86840297816286},{"$f":"IF(OR(I25=\"Construção\",I25=\"Start-up\",I25=\"Operação\"),(I77+I75)/((1+'Parâmetros de Fluxo de Caixa'!$B$32)^'Fluxo de Caixa Desc._premio'!I65),\"\")","v":-506.66904037327248},{"$f":"IF(OR(J25=\"Construção\",J25=\"Start-up\",J25=\"Operação\"),(J77+J75)/((1+'Parâmetros de Fluxo de Caixa'!$B$32)^'Fluxo de Caixa Desc._premio'!J65),\"\")","v":-456.89260174103447},{"$f":"IF(OR(K25=\"Construção\",K25=\"Start-up\",K25=\"Operação\"),(K77+K75)/((1+'Parâmetros de Fluxo de Caixa'!$B$32)^'Fluxo de Caixa Desc._premio'!K65),\"\")","v":-412.00632541491166},{"$f":"IF(OR(L25=\"Construção\",L25=\"Start-up\",L25=\"Operação\"),(L77+L75)/((1+'Parâmetros de Fluxo de Caixa'!$B$32)^'Fluxo de Caixa Desc._premio'!L65),\"\")","v":-371.5297895721049},{"$f":"IF(OR(M25=\"Construção\",M25=\"Start-up\",M25=\"Operação\"),(M77+M75)/((1+'Parâmetros de Fluxo de Caixa'!$B$32)^'Fluxo de Caixa Desc._premio'!M65),\"\")","v":-335.02977023589341},{"$f":"IF(OR(N25=\"Construção\",N25=\"Start-up\",N25=\"Operação\"),(N77+N75)/((1+'Parâmetros de Fluxo de Caixa'!$B$32)^'Fluxo de Caixa Desc._premio'!N65),\"\")","v":-302.11560444073484},{"$f":"IF(OR(O25=\"Construção\",O25=\"Start-up\",O25=\"Operação\"),(O77+O75)/((1+'Parâmetros de Fluxo de Caixa'!$B$32)^'Fluxo de Caixa Desc._premio'!O65),\"\")","v":-322.11639144694817},{"$f":"IF(OR(P25=\"Construção\",P25=\"Start-up\",P25=\"Operação\"),(P77+P75)/((1+'Parâmetros de Fluxo de Caixa'!$B$32)^'Fluxo de Caixa Desc._premio'!P65),\"\")","v":-290.47086840594181},{"$f":"IF(OR(Q25=\"Construção\",Q25=\"Start-up\",Q25=\"Operação\"),(Q77+Q75)/((1+'Parâmetros de Fluxo de Caixa'!$B$32)^'Fluxo de Caixa Desc._premio'!Q65),\"\")","v":-261.93428100164863},{"$f":"IF(OR(R25=\"Construção\",R25=\"Start-up\",R25=\"Operação\"),(R77+R75)/((1+'Parâmetros de Fluxo de Caixa'!$B$32)^'Fluxo de Caixa Desc._premio'!R65),\"\")","v":-236.20119959143946},{"$f":"IF(OR(S25=\"Construção\",S25=\"Start-up\",S25=\"Operação\"),(S77+S75)/((1+'Parâmetros de Fluxo de Caixa'!$B$32)^'Fluxo de Caixa Desc._premio'!S65),\"\")","v":-212.99620070762666},{"$f":"IF(OR(T25=\"Construção\",T25=\"Start-up\",T25=\"Operação\"),(T77+T75)/((1+'Parâmetros de Fluxo de Caixa'!$B$32)^'Fluxo de Caixa Desc._premio'!T65),\"\")","v":-192.07091917550025},{"$f":"IF(OR(U25=\"Construção\",U25=\"Start-up\",U25=\"Operação\"),(U77+U75)/((1+'Parâmetros de Fluxo de Caixa'!$B$32)^'Fluxo de Caixa Desc._premio'!U65),\"\")","v":-173.20138983869023},{"$f":"IF(OR(V25=\"Construção\",V25=\"Start-up\",V25=\"Operação\"),(V77+V75)/((1+'Parâmetros de Fluxo de Caixa'!$B$32)^'Fluxo de Caixa Desc._premio'!V65),\"\")","v":-156.18565044010296},{"$f":"IF(OR(W25=\"Construção\",W25=\"Start-up\",W25=\"Operação\"),(W77+W75)/((1+'Parâmetros de Fluxo de Caixa'!$B$32)^'Fluxo de Caixa Desc._premio'!W65),\"\")","v":-140.84158000185306},{"$f":"IF(OR(X25=\"Construção\",X25=\"Start-up\",X25=\"Operação\"),(X77+X75)/((1+'Parâmetros de Fluxo de Caixa'!$B$32)^'Fluxo de Caixa Desc._premio'!X65),\"\")","v":-127.00494956817816},{"$f":"IF(OR(Y25=\"Construção\",Y25=\"Start-up\",Y25=\"Operação\"),(Y77+Y75)/((1+'Parâmetros de Fluxo de Caixa'!$B$32)^'Fluxo de Caixa Desc._premio'!Y65),\"\")","v":""},{"$f":"IF(OR(Z25=\"Construção\",Z25=\"Start-up\",Z25=\"Operação\"),(Z77+Z75)/((1+'Parâmetros de Fluxo de Caixa'!$B$32)^'Fluxo de Caixa Desc._premio'!Z65),\"\")","v":""},{"$f":"IF(OR(AA25=\"Construção\",AA25=\"Start-up\",AA25=\"Operação\"),(AA77+AA75)/((1+'Parâmetros de Fluxo de Caixa'!$B$32)^'Fluxo de Caixa Desc._premio'!AA65),\"\")","v":""},{"$f":"IF(OR(AB25=\"Construção\",AB25=\"Start-up\",AB25=\"Operação\"),(AB77+AB75)/((1+'Parâmetros de Fluxo de Caixa'!$B$32)^'Fluxo de Caixa Desc._premio'!AB65),\"\")","v":""},{"$f":"IF(OR(AC25=\"Construção\",AC25=\"Start-up\",AC25=\"Operação\"),(AC77+AC75)/((1+'Parâmetros de Fluxo de Caixa'!$B$32)^'Fluxo de Caixa Desc._premio'!AC65),\"\")","v":""},{"$f":"IF(OR(AD25=\"Construção\",AD25=\"Start-up\",AD25=\"Operação\"),(AD77+AD75)/((1+'Parâmetros de Fluxo de Caixa'!$B$32)^'Fluxo de Caixa Desc._premio'!AD65),\"\")","v":""},{"$f":"IF(OR(AE25=\"Construção\",AE25=\"Start-up\",AE25=\"Operação\"),(AE77+AE75)/((1+'Parâmetros de Fluxo de Caixa'!$B$32)^'Fluxo de Caixa Desc._premio'!AE65),\"\")","v":""},{"$f":"IF(OR(AF25=\"Construção\",AF25=\"Start-up\",AF25=\"Operação\"),(AF77+AF75)/((1+'Parâmetros de Fluxo de Caixa'!$B$32)^'Fluxo de Caixa Desc._premio'!AF65),\"\")","v":""},{"$f":"IF(OR(AG25=\"Construção\",AG25=\"Start-up\",AG25=\"Operação\"),(AG77+AG75)/((1+'Parâmetros de Fluxo de Caixa'!$B$32)^'Fluxo de Caixa Desc._premio'!AG65),\"\")","v":""},{"$f":"IF(OR(AH25=\"Construção\",AH25=\"Start-up\",AH25=\"Operação\"),(AH77+AH75)/((1+'Parâmetros de Fluxo de Caixa'!$B$32)^'Fluxo de Caixa Desc._premio'!AH65),\"\")","v":""},{"$f":"IF(OR(AI25=\"Construção\",AI25=\"Start-up\",AI25=\"Operação\"),(AI77+AI75)/((1+'Parâmetros de Fluxo de Caixa'!$B$32)^'Fluxo de Caixa Desc._premio'!AI65),\"\")","v":""},{"$f":"IF(OR(AJ25=\"Construção\",AJ25=\"Start-up\",AJ25=\"Operação\"),(AJ77+AJ75)/((1+'Parâmetros de Fluxo de Caixa'!$B$32)^'Fluxo de Caixa Desc._premio'!AJ65),\"\")","v":""},{"$f":"IF(OR(AK25=\"Construção\",AK25=\"Start-up\",AK25=\"Operação\"),(AK77+AK75)/((1+'Parâmetros de Fluxo de Caixa'!$B$32)^'Fluxo de Caixa Desc._premio'!AK65),\"\")","v":""},{"$f":"IF(OR(AL25=\"Construção\",AL25=\"Start-up\",AL25=\"Operação\"),(AL77+AL75)/((1+'Parâmetros de Fluxo de Caixa'!$B$32)^'Fluxo de Caixa Desc._premio'!AL65),\"\")","v":""},{"$f":"IF(OR(AM25=\"Construção\",AM25=\"Start-up\",AM25=\"Operação\"),(AM77+AM75)/((1+'Parâmetros de Fluxo de Caixa'!$B$32)^'Fluxo de Caixa Desc._premio'!AM65),\"\")","v":""},{"$f":"IF(OR(AN25=\"Construção\",AN25=\"Start-up\",AN25=\"Operação\"),(AN77+AN75)/((1+'Parâmetros de Fluxo de Caixa'!$B$32)^'Fluxo de Caixa Desc._premio'!AN65),\"\")","v":""},{"$f":"IF(OR(AO25=\"Construção\",AO25=\"Start-up\",AO25=\"Operação\"),(AO77+AO75)/((1+'Parâmetros de Fluxo de Caixa'!$B$32)^'Fluxo de Caixa Desc._premio'!AO65),\"\")","v":""},{"$f":"IF(OR(AP25=\"Construção\",AP25=\"Start-up\",AP25=\"Operação\"),(AP77+AP75)/((1+'Parâmetros de Fluxo de Caixa'!$B$32)^'Fluxo de Caixa Desc._premio'!AP65),\"\")","v":""},{"$f":"IF(OR(AQ25=\"Construção\",AQ25=\"Start-up\",AQ25=\"Operação\"),(AQ77+AQ75)/((1+'Parâmetros de Fluxo de Caixa'!$B$32)^'Fluxo de Caixa Desc._premio'!AQ65),\"\")","v":""},{"$f":"IF(OR(AR25=\"Construção\",AR25=\"Start-up\",AR25=\"Operação\"),(AR77+AR75)/((1+'Parâmetros de Fluxo de Caixa'!$B$32)^'Fluxo de Caixa Desc._premio'!AR65),\"\")","v":""},{"$f":"IF(OR(AS25=\"Construção\",AS25=\"Start-up\",AS25=\"Operação\"),(AS77+AS75)/((1+'Parâmetros de Fluxo de Caixa'!$B$32)^'Fluxo de Caixa Desc._premio'!AS65),\"\")","v":""},{"$f":"IF(OR(AT25=\"Construção\",AT25=\"Start-up\",AT25=\"Operação\"),(AT77+AT75)/((1+'Parâmetros de Fluxo de Caixa'!$B$32)^'Fluxo de Caixa Desc._premio'!AT65),\"\")","v":""},{"$f":"IF(OR(AU25=\"Construção\",AU25=\"Start-up\",AU25=\"Operação\"),(AU77+AU75)/((1+'Parâmetros de Fluxo de Caixa'!$B$32)^'Fluxo de Caixa Desc._premio'!AU65),\"\")","v":""},{"$f":"IF(OR(AV25=\"Construção\",AV25=\"Start-up\",AV25=\"Operação\"),(AV77+AV75)/((1+'Parâmetros de Fluxo de Caixa'!$B$32)^'Fluxo de Caixa Desc._premio'!AV65),\"\")","v":""}]
["Receitas decontadas",{"$f":"IF(OR(B25=\"Construção\",B25=\"Start-up\",B25=\"Operação\"),(B69)/((1+'Parâmetros de Fluxo de Caixa'!$B$32)^'Fluxo de Caixa Desc._premio'!B65),\"\")","v":0},{"$f":"IF(OR(C25=\"Construção\",C25=\"Start-up\",C25=\"Operação\"),(C69)/((1+'Parâmetros de Fluxo de Caixa'!$B$32)^'Fluxo de Caixa Desc._premio'!C65),\"\")","v":0},{"$f":"IF(OR(D25=\"Construção\",D25=\"Start-up\",D25=\"Operação\"),(D69)/((1+'Parâmetros de Fluxo de Caixa'!$B$32)^'Fluxo de Caixa Desc._premio'!D65),\"\")","v":0},{"$f":"IF(OR(E25=\"Construção\",E25=\"Start-up\",E25=\"Operação\"),(E69)/((1+'Parâmetros de Fluxo de Caixa'!$B$32)^'Fluxo de Caixa Desc._premio'!E65),\"\")","v":4190.0239445154848},{"$f":"IF(OR(F25=\"Construção\",F25=\"Start-up\",F25=\"Operação\"),(F69)/((1+'Parâmetros de Fluxo de Caixa'!$B$32)^'Fluxo de Caixa Desc._premio'!F65),\"\")","v":4318.1548253872716},{"$f":"IF(OR(G25=\"Construção\",G25=\"Start-up\",G25=\"Operação\"),(G69)/((1+'Parâmetros de Fluxo de Caixa'!$B$32)^'Fluxo de Caixa Desc._premio'!G65),\"\")","v":3893.9284536475657},{"$f":"IF(OR(H25=\"Construção\",H25=\"Start-up\",H25=\"Operação\"),(H69)/((1+'Parâmetros de Fluxo de Caixa'!$B$32)^'Fluxo de Caixa Desc._premio'!H65),\"\")","v":3511.3791457827733},{"$f":"IF(OR(I25=\"Construção\",I25=\"Start-up\",I25=\"Operação\"),(I69)/((1+'Parâmetros de Fluxo de Caixa'!$B$32)^'Fluxo de Caixa Desc._premio'!I65),\"\")","v":3166.4124423982325},{"$f":"IF(OR(J25=\"Construção\",J25=\"Start-up\",J25=\"Operação\"),(J69)/((1+'Parâmetros de Fluxo de Caixa'!$B$32)^'Fluxo de Caixa Desc._premio'!J65),\"\")","v":2855.3361340702668},{"$f":"IF(OR(K25=\"Construção\",K25=\"Start-up\",K25=\"Operação\"),(K69)/((1+'Parâmetros de Fluxo de Caixa'!$B$32)^'Fluxo de Caixa Desc._premio'!K65),\"\")","v":2574.8207432991003},{"$f":"IF(OR(L25=\"Construção\",L25=\"Start-up\",L25=\"Operação\"),(L69)/((1+'Parâmetros de Fluxo de Caixa'!$B$32)^'Fluxo de Caixa Desc._premio'!L65),\"\")","v":2321.863888813933},{"$f":"IF(OR(M25=\"Construção\",M25=\"Start-up\",M25=\"Operação\"),(M69)/((1+'Parâmetros de Fluxo de Caixa'!$B$32)^'Fluxo de Caixa Desc._premio'!M65),\"\")","v":2093.7581508181584},{"$f":"IF(OR(N25=\"Construção\",N25=\"Start-up\",N25=\"Operação\"),(N69)/((1+'Parâmetros de Fluxo de Caixa'!$B$32)^'Fluxo de Caixa Desc._premio'!N65),\"\")","v":1888.062093233571},{"$f":"IF(OR(O25=\"Construção\",O25=\"Start-up\",O25=\"Operação\"),(O69)/((1+'Parâmetros de Fluxo de Caixa'!$B$32)^'Fluxo de Caixa Desc._premio'!O65),\"\")","v":1702.5741327920603},{"$f":"IF(OR(P25=\"Construção\",P25=\"Start-up\",P25=\"Operação\"),(P69)/((1+'Parâmetros de Fluxo de Caixa'!$B$32)^'Fluxo de Caixa Desc._premio'!P65),\"\")","v":1535.308975293342},{"$f":"IF(OR(Q25=\"Construção\",Q25=\"Start-up\",Q25=\"Operação\"),(Q69)/((1+'Parâmetros de Fluxo de Caixa'!$B$32)^'Fluxo de Caixa Desc._premio'!Q65),\"\")","v":1384.4763668238929},{"$f":"IF(OR(R25=\"Construção\",R25=\"Start-up\",R25=\"Operação\"),(R69)/((1+'Parâmetros de Fluxo de Caixa'!$B$32)^'Fluxo de Caixa Desc._premio'!R65),\"\")","v":1248.461932509487},{"$f":"IF(OR(S25=\"Construção\",S25=\"Start-up\",S25=\"Operação\"),(S69)/((1+'Parâmetros de Fluxo de Caixa'!$B$32)^'Fluxo de Caixa Desc._premio'!S65),\"\")","v":1125.8098977167926},{"$f":"IF(OR(T25=\"Construção\",T25=\"Start-up\",T25=\"Operação\"),(T69)/((1+'Parâmetros de Fluxo de Caixa'!$B$32)^'Fluxo de Caixa Desc._premio'!T65),\"\")","v":1015.2075067675029},{"$f":"IF(OR(U25=\"Construção\",U25=\"Start-up\",U25=\"Operação\"),(U69)/((1+'Parâmetros de Fluxo de Caixa'!$B$32)^'Fluxo de Caixa Desc._premio'!U65),\"\")","v":915.4709723971157},{"$f":"IF(OR(V25=\"Construção\",V25=\"Start-up\",V25=\"Operação\"),(V69)/((1+'Parâmetros de Fluxo de Caixa'!$B$32)^'Fluxo de Caixa Desc._premio'!V65),\"\")","v":825.53280557415587},{"$f":"IF(OR(W25=\"Construção\",W25=\"Start-up\",W25=\"Operação\"),(W69)/((1+'Parâmetros de Fluxo de Caixa'!$B$32)^'Fluxo de Caixa Desc._premio'!W65),\"\")","v":744.43039006977062},{"$f":"IF(OR(X25=\"Construção\",X25=\"Start-up\",X25=\"Operação\"),(X69)/((1+'Parâmetros de Fluxo de Caixa'!$B$32)^'Fluxo de Caixa Desc._premio'!X65),\"\")","v":671.29567949029297},{"$f":"IF(OR(Y25=\"Construção\",Y25=\"Start-up\",Y25=\"Operação\"),(Y69)/((1+'Parâmetros de Fluxo de Caixa'!$B$32)^'Fluxo de Caixa Desc._premio'!Y65),\"\")","v":""},{"$f":"IF(OR(Z25=\"Construção\",Z25=\"Start-up\",Z25=\"Operação\"),(Z69)/((1+'Parâmetros de Fluxo de Caixa'!$B$32)^'Fluxo de Caixa Desc._premio'!Z65),\"\")","v":""},{"$f":"IF(OR(AA25=\"Construção\",AA25=\"Start-up\",AA25=\"Operação\"),(AA69)/((1+'Parâmetros de Fluxo de Caixa'!$B$32)^'Fluxo de Caixa Desc._premio'!AA65),\"\")","v":""},{"$f":"IF(OR(AB25=\"Construção\",AB25=\"Start-up\",AB25=\"Operação\"),(AB69)/((1+'Parâmetros de Fluxo de Caixa'!$B$32)^'Fluxo de Caixa Desc._premio'!AB65),\"\")","v":""},{"$f":"IF(OR(AC25=\"Construção\",AC25=\"Start-up\",AC25=\"Operação\"),(AC69)/((1+'Parâmetros de Fluxo de Caixa'!$B$32)^'Fluxo de Caixa Desc._premio'!AC65),\"\")","v":""},{"$f":"IF(OR(AD25=\"Construção\",AD25=\"Start-up\",AD25=\"Operação\"),(AD69)/((1+'Parâmetros de Fluxo de Caixa'!$B$32)^'Fluxo de Caixa Desc._premio'!AD65),\"\")","v":""},{"$f":"IF(OR(AE25=\"Construção\",AE25=\"Start-up\",AE25=\"Operação\"),(AE69)/((1+'Parâmetros de Fluxo de Caixa'!$B$32)^'Fluxo de Caixa Desc._premio'!AE65),\"\")","v":""},{"$f":"IF(OR(AF25=\"Construção\",AF25=\"Start-up\",AF25=\"Operação\"),(AF69)/((1+'Parâmetros de Fluxo de Caixa'!$B$32)^'Fluxo de Caixa Desc._premio'!AF65),\"\")","v":""},{"$f":"IF(OR(AG25=\"Construção\",AG25=\"Start-up\",AG25=\"Operação\"),(AG69)/((1+'Parâmetros de Fluxo de Caixa'!$B$32)^'Fluxo de Caixa Desc._premio'!AG65),\"\")","v":""},{"$f":"IF(OR(AH25=\"Construção\",AH25=\"Start-up\",AH25=\"Operação\"),(AH69)/((1+'Parâmetros de Fluxo de Caixa'!$B$32)^'Fluxo de Caixa Desc._premio'!AH65),\"\")","v":""},{"$f":"IF(OR(AI25=\"Construção\",AI25=\"Start-up\",AI25=\"Operação\"),(AI69)/((1+'Parâmetros de Fluxo de Caixa'!$B$32)^'Fluxo de Caixa Desc._premio'!AI65),\"\")","v":""},{"$f":"IF(OR(AJ25=\"Construção\",AJ25=\"Start-up\",AJ25=\"Operação\"),(AJ69)/((1+'Parâmetros de Fluxo de Caixa'!$B$32)^'Fluxo de Caixa Desc._premio'!AJ65),\"\")","v":""},{"$f":"IF(OR(AK25=\"Construção\",AK25=\"Start-up\",AK25=\"Operação\"),(AK69)/((1+'Parâmetros de Fluxo de Caixa'!$B$32)^'Fluxo de Caixa Desc._premio'!AK65),\"\")","v":""},{"$f":"IF(OR(AL25=\"Construção\",AL25=\"Start-up\",AL25=\"Operação\"),(AL69)/((1+'Parâmetros de Fluxo de Caixa'!$B$32)^'Fluxo de Caixa Desc._premio'!AL65),\"\")","v":""},{"$f":"IF(OR(AM25=\"Construção\",AM25=\"Start-up\",AM25=\"Operação\"),(AM69)/((1+'Parâmetros de Fluxo de Caixa'!$B$32)^'Fluxo de Caixa Desc._premio'!AM65),\"\")","v":""},{"$f":"IF(OR(AN25=\"Construção\",AN25=\"Start-up\",AN25=\"Operação\"),(AN69)/((1+'Parâmetros de Fluxo de Caixa'!$B$32)^'Fluxo de Caixa Desc._premio'!AN65),\"\")","v":""},{"$f":"IF(OR(AO25=\"Construção\",AO25=\"Start-up\",AO25=\"Operação\"),(AO69)/((1+'Parâmetros de Fluxo de Caixa'!$B$32)^'Fluxo de Caixa Desc._premio'!AO65),\"\")","v":""},{"$f":"IF(OR(AP25=\"Construção\",AP25=\"Start-up\",AP25=\"Operação\"),(AP69)/((1+'Parâmetros de Fluxo de Caixa'!$B$32)^'Fluxo de Caixa Desc._premio'!AP65),\"\")","v":""},{"$f":"IF(OR(AQ25=\"Construção\",AQ25=\"Start-up\",AQ25=\"Operação\"),(AQ69)/((1+'Parâmetros de Fluxo de Caixa'!$B$32)^'Fluxo de Caixa Desc._premio'!AQ65),\"\")","v":""},{"$f":"IF(OR(AR25=\"Construção\",AR25=\"Start-up\",AR25=\"Operação\"),(AR69)/((1+'Parâmetros de Fluxo de Caixa'!$B$32)^'Fluxo de Caixa Desc._premio'!AR65),\"\")","v":""},{"$f":"IF(OR(AS25=\"Construção\",AS25=\"Start-up\",AS25=\"Operação\"),(AS69)/((1+'Parâmetros de Fluxo de Caixa'!$B$32)^'Fluxo de Caixa Desc._premio'!AS65),\"\")","v":""},{"$f":"IF(OR(AT25=\"Construção\",AT25=\"Start-up\",AT25=\"Operação\"),(AT69)/((1+'Parâmetros de Fluxo de Caixa'!$B$32)^'Fluxo de Caixa Desc._premio'!AT65),\"\")","v":""},{"$f":"IF(OR(AU25=\"Construção\",AU25=\"Start-up\",AU25=\"Operação\"),(AU69)/((1+'Parâmetros de Fluxo de Caixa'!$B$32)^'Fluxo de Caixa Desc._premio'!AU65),\"\")","v":""},{"$f":"IF(OR(AV25=\"Construção\",AV25=\"Start-up\",AV25=\"Operação\"),(AV69)/((1+'Parâmetros de Fluxo de Caixa'!$B$32)^'Fluxo de Caixa Desc._premio'!AV65),\"\")","v":""}]
[]
[]
[]
[]
[]
[]
[null,null,null,"Discriminação preço "]
[null,null,null,"CAPEX","Etanol","H2","Catalisadores","Utilidades","OPEX fixo","Tributos","Diesel Verde","Nafta","GLP",null,"Prêmio ao produtor"]
[null,null,null,{"$f":"'Fluxo de Caixa Descontado'!D96","v":1.5559743830971173},{"$f":"'Fluxo de Caixa Descontado'!E96","v":6.5010394775078915},{"$f":"'Fluxo de Caixa Descontado'!F96","v":0.24201036275738291},{"$f":"'Fluxo de Caixa Descontado'!G96","v":0.30872189984868925},{"$f":"'Fluxo de Caixa Descontado'!H96","v":0.45134705252508678},{"$f":"'Fluxo de Caixa Descontado'!I96","v":0.74831316848152996},{"$f":"'Fluxo de Caixa Descontado'!J96","v":2.2098522254612729},{"$f":"'Fluxo de Caixa Descontado'!K96","v":-0.29658468895616585},{"$f":"'Fluxo de Caixa Descontado'!L96","v":-0.71836500007576731},{"$f":"'Fluxo de Caixa Descontado'!M96","v":0},null,{"$f":"B4-'Fluxo de Caixa Descontado'!B4","v":0}]

{"sheet":"Parâmetros de Fluxo de Caixa","index":8,"n_rows":32,"n_cols":5,"rows_kept":32,"cut":false,"hidden":true,"merged":[[4,1,4,3]]}
[null,"Valor Usado","Valor Sugerido","Unidade"]
["Tempo de operação da planta",20,20,"anos"]
["Tempo de construção da planta",3,3,"anos"]
["Tempo de atraso na construção",0,null,"meses"]
["Cronograma financeiro da construção"]
["Ano 1",0.08,0.08,"% CAPEX"]
["Ano 2",0.6,0.6,"% CAPEX"]
["Ano 3",0.32,0.32,"% CAPEX"]
["Ano 4",null,null,"% CAPEX"]
["Ano 5"]
["Soma",{"$f":"SUM(B6:B10)","v":1}]
["Tempo total de vida da planta",{"$f":"B3+B2+B4/12","v":23}]
["Tempo de start-up da planta",6,6,"meses"]
["Tempo de start-up",{"$f":"B13/12","v":0.5},null,"anos"]
["Receita durante start-up",0.75,0.75,"sobre total"]
["Custo variável durante start-up",0.75,0.75,"sobre total"]
["Custo fixo durante start-up",1,1,"sobre total"]
["Porcentagem de CAPEX financiamento",0.6,0.6,"% CAPEX","BNDES Finem Biorrefinarias"]
["Linha de Financiamento","BNDES Finem Biorrefinarias","BNDES Finem Biorrefinarias",null,"BNDES Mais inovação - plantas pioneiras"]
["Custo Financeiro",{"$f":"IF(B$19=$E$18,(1.077+B30),IF(B$19=$E$20,1.095,\"\"))","v":1.107},{"$f":"IF(C$19=$E$18,(1.077+C30),IF(C$19=$E$20,1.095,\"\"))","v":1.107},null,"BNDES Fundo Clima - Transição Energética"]
["Taxa do BNDES",{"$f":"IF(B$19=$E$18,1.015,IF(B$19=$E$20,1.013,\"\"))","v":1.0149999999999999},{"$f":"IF(C$19=$E$18,1.015,IF(C$19=$E$20,1.013,\"\"))","v":1.0149999999999999}]
["Taxa de juros financiamento",0.1236,{"$f":"IF(C$19<>$E$19,C20*C21-1,0.5*(1+C31)*1.027+0.5*(1.077+C30)*1.011-1)","v":0.12360499999999996},"%"]
["Porcentagem de CAPEX equity",0.4,{"$f":"1-C18","v":0.4},"% CAPEX"]
["Taxa de desconto equity",0.15,0.15,"%"]
["Método do depreciação","Linear","Linear"]
["Tempo de depreciação",10,10,"anos"]
["Valor residual infraestrutura",0,0,"% CAPEX"]
["Tributos sobre lucro líquido",0.34,0.34,"% EBT"]
["Tributos sobre o faturamento",9.2499999999999999E-2,9.2499999999999999E-2]
["Inflação",0.03,0.03,"% a.a"]
["TR BC",0.01,0.01,"% a.a"]
["Taxa de Custo Médio de Capital",{"$f":"B23*B24+B18*B22*(1-B28)","v":0.1089456},null,"a.a"]

{"sheet":"CAPEX e OPEX","index":9,"n_rows":58,"n_cols":8,"rows_kept":58,"cut":false,"hidden":true,"merged":[[14,0,27,0],[34,1,34,3],[46,0,49,0],[28,0,32,0],[32,2,32,3],[35,0,45,0],[45,5,45,7],[53,1,53,3],[1,1,1,3],[4,1,4,3],[6,1,9,1],[6,3,9,3],[5,1,5,3]]}
[null,null,"HEFA","ATJ"]
[null,"CAPEX",null,null,"Cenário de CAPEX"]
[null,"CAPEX total (R$)",{"$f":"(22.928*'Fluxo de Caixa Descontado'!$B$1^0.795)*10^6*VLOOKUP(E3,Listas!I3:K5,2,FALSE)","v":4659321867.7198639},{"$f":"(83.434*'Fluxo de Caixa Descontado'!$B$1^0.6294)*10^6*VLOOKUP(E3,Listas!I3:K5,3,FALSE)","v":5604642334.1502991},{"$f":"'Par. econômicos e finaceiros'!F20","v":"Caso Base"}]
[null,"CAPEX anualizado (10 anos)",{"$f":"C3*('Parâmetros de Fluxo de Caixa'!$B$24*(1+'Parâmetros de Fluxo de Caixa'!$B$24)^'Parâmetros de Fluxo de Caixa'!$B$2)/((1+'Parâmetros de Fluxo de Caixa'!$B$24)^'Parâmetros de Fluxo de Caixa'!$B$2-1)","v":744380112.68056238},{"$f":"D3*('Parâmetros de Fluxo de Caixa'!$B$24*(1+'Parâmetros de Fluxo de Caixa'!$B$24)^'Parâmetros de Fluxo de Caixa'!$B$2)/((1+'Parâmetros de Fluxo de Caixa'!$B$24)^'Parâmetros de Fluxo de Caixa'!$B$2-1)","v":895405900.40213239}]
[null,"OPEX variável"]
[null,"Inventário de Consumo e Produção"]
[null,"Matéria Prima","Óleo de Soja (% massica)",{"$f":"IF('Interface Básica'!E5=\"ATJ\",'Interface Básica'!E6,Listas!$A$4)","v":"Cana de açúcar 1G"}]
[null,null,1]
[null,null,"Sebo Bovino (% mássica)"]
[null,null,0]
[null,null,"Óleo de Soja (% vol)","n ind coluna"]
[null,null,{"$f":"(C8/Conversões!D2)/(C8/Conversões!D2+C10/Conversões!D19)","v":1},{"$f":"IF(D7=Listas!A4,3,IF(D7=Listas!A5,4,0))","v":3}]
[null,null,"Sebo bovino (% vol)",1.570191787981862E-2]
[null,null,{"$f":"1-C12","v":0}]
["Insumos","Óleos e gorduras (l/l comb. Liquido)",1.0621987436336282,0]
[null,"Óleo de Soja (l/l comb líquido)",{"$f":"C15*C12","v":1.0621987436336282},0]
[null,"Sebo bovino (l/l comb líquido)",{"$f":"C15*C14","v":0},0]
[null,"Hidrogênio (kg/l comb. Liquido)",3.3137247919622845E-2,1.570191787981862E-2]
[null,"Catalisadores HEFA (g/l comb liquido)",0.11828038160068809,0]
[null,"Catalisadores ATJ (g/l comb liquido)",0,1.7643304051586395]
[null,"Etanol (l / l comb. Liquido)",0,1.80500985078237]
[null,"Eletricidade (kWh/l comb. Liquido)",5.8022036312520495E-2,0.18550201071852637]
[null,"Calor (MJ/l comb. Liquido)",2.5106039678559302,2.035589555962082]
[null,"Combustível usado","Gás Natural","Gás Natural","Eficiência de caldeira"]
[null,"Gás natural (kg/l comb. Liquido)",{"$f":"IF(C24=\"Gás Natural\",(C23/Conversões!D14)/E25,0)","v":6.3944639070041262E-2},{"$f":"IF(D24=\"Gás Natural\",(D23/Conversões!D14)/E25,0)","v":5.1846106003689052E-2},0.94499999999999995]
[null,"Gás natural (m³/dia)",{"$f":"(C25*'Fluxo de Caixa Descontado'!$B$3*10^6/365)/Conversões!$D$17","v":170455.90570318294},{"$f":"(D25*'Fluxo de Caixa Descontado'!$B$3*10^6/365)/Conversões!$D$17","v":138205.09560405818}]
[null,"Cavaco de madeira (kg/ l comb. Liquido)",{"$f":"IF(C24=\"Cavaco de Madeira\",(C23/Conversões!D15)/'CAPEX e OPEX'!E27,0)","v":0},{"$f":"IF(D24=\"Cavaco de Madeira\",(D23/Conversões!D15)/'CAPEX e OPEX'!E27,0)","v":0},0.89]
[null,"Agua Resfriante (l/l comb liquido)",3.2,6.0219946604205061]
["Produtos","SAF (% liquido)",0.64859049826164461,0.75474679216417562]
[null,"Diesel Verde (% liquido)",4.9739773858472489E-2,5.8293318384030221E-2]
[null,"Nafta (% liquido)",0.30166972787988294,0.1869598894517942]
[null,"GLP (l/l comb. liquido)",3.7512038645279952E-2,0]
[null,"Mercado visado",{"$f":"'Interface Básica'!AD39","v":"CORSIA default"}]
["Resíduo","Água Residual (l/l comb. Líquido)",7.9789009378226278E-2,{"$f":"D21*Conversões!D6+D18-(D29*Conversões!D3+D30*Conversões!D11+D31*Conversões!D12)","v":0.69269997038583453}]
[null,"Custo de Insumos, Valor dos Produtos e Custo de Tratamento Água Residual"]
["Insumos","Óleo de Soja",4.8600000000000003,"l"]
[null,"Sebo bovino",5.16,"l"]
[null,"Hidrogênio",10.57,"kg"]
[null,"Catalisadores HEFA",1.37,"g"]
[null,"Catalisadores ATJ",0.12,"g"]
[null,"Etanol",2.4700000000000002,"l"]
[null,"Eletricidade",0.13,"kWh"]
[null,"Calor","-","MJ"]
[null,"Gás natural",5.03,"kg"]
[null,"Cavaco de madeira",0.47,"kg"]
[null,"Agua Resfriante",4.09,"m³",null,"Com prêmio ao produtor"]
["Produtos","SAF",{"$f":"'Fluxo de Caixa Descontado'!$B$4","v":11.002308880647039},"l",null,"SAF CORSIA",{"$f":"'Interface Básica'!AD24","v":11.002308880647039},"l"]
[null,"Diesel Verde",3.84,"l",null,"SAF ProBioQAV",{"$f":"'Interface Básica'!AD25","v":11.002308880647039},"l"]
[null,"bionafta",2.9,"l",null,"SAF Outros Mercados",{"$f":"'Interface Básica'!AD26","v":11.002308880647039},"l"]
[null,"bioGL",2.79,"kg"]
["Resíduo","Tratamento Água Residual",0,"m³"]
[null,"OPEX variável total (R$ / l comb. Liquido)",{"$f":"C16*C36+C37*C17+C18*C38+C19*C39+C21*C41+C22*C42+C25*C44+C27*C45+C34*C51/1000+C28*C46/1000+C20*C40","v":6.0168631266057249},{"$f":"D15*C36+D18*C38+D19*C39+D21*C41+D22*C42+D25*C44+D27*C45+D34*C51/1000+D28*C46/1000+D20*C40","v":5.1455943847942587}]
[null,"Receita total (R$ / l comb. Liquido)",{"$f":"C47*C29+C48*C30+C49*C31+C50*C32","v":8.3064945292159074},{"$f":"C47*D29+C48*D30+C49*D31+C50*D32*D29","v":9.0699873560726534},null,"Receita total (R$ / l comb. Liquido)",{"$f":"G47*C29*'Interface Básica'!$D$14+G48*C29*'Interface Básica'!$D$15+G49*C29*'Interface Básica'!$D$16+C48*C30+C49*C31+C50*C32","v":8.3064945292159074},{"$f":"G47*D29*'Interface Básica'!$D$14+G48*D29*'Interface Básica'!$D$15+G49*D29*'Interface Básica'!$D$16+C48*D30+C49*D31+C50*D32","v":9.0699873560726534}]
[null,"OPEX fixo por l de comb. Liquido",null,null,"% CAPEX"]
[null,"Mão de obra",{"$f":"$C$3*E55/('Fluxo de Caixa Descontado'!$B$3*10^6)","v":0.1294256074366629},{"$f":"$D$3*E55/('Fluxo de Caixa Descontado'!$B$3*10^6)","v":0.15568450928195277},0.02]
[null,"Manutenção",{"$f":"$C$3*E56/('Fluxo de Caixa Descontado'!$B$3*10^6)","v":0.19413841115499433},{"$f":"$D$3*E56/('Fluxo de Caixa Descontado'!$B$3*10^6)","v":0.23352676392292909},0.03]
[null,"Seguros, impostos e outros",{"$f":"$C$3*E57/('Fluxo de Caixa Descontado'!$B$3*10^6)","v":9.7069205577497167E-2},{"$f":"$D$3*E57/('Fluxo de Caixa Descontado'!$B$3*10^6)","v":0.11676338196146455},1.4999999999999999E-2]
[null,"OPEX fixo total (R$ / l comb. Liquido)",{"$f":"SUM(C55:C57)","v":0.42063322416915438},{"$f":"SUM(D55:D57)","v":0.50597465516634643}]

{"sheet":"IC Calculado","index":10,"n_rows":44,"n_cols":12,"rows_kept":44,"cut":false,"hidden":true,"merged":[[1,1,1,3],[2,0,12,0],[13,0,16,0],[12,10,12,11],[12,8,12,9],[11,1,12,3],[1,4,1,7],[12,4,12,7]]}
[null,null,"HEFA","ATJ","HEFA ProBioQAV","HEFA CORSIA","ATJ Cana 1G","ATJ Milho 1G 2aS"]
[null,"Inventário de Consumo e Produção",null,null,"Emissões (kg CO2 eq / l comb. Liquido)"]
["Insumos","Óleo de soja (l/l comb. Liquido)",{"$f":"'CAPEX e OPEX'!C16","v":1.0621987436336282},{"$f":"'CAPEX e OPEX'!D16","v":0},{"$f":"C3*Conversões!$D$2*(B43*'IC Calculado'!$B$21+B44*B22)","v":0.84441027155086112},{"$f":"C3*Conversões!$D$2*'IC Calculado'!$B$21","v":0.56132253430649814},{"$f":"D3*Conversões!$D$2*'IC Calculado'!$B$21","v":0},{"$f":"D3*Conversões!$D$2*'IC Calculado'!$B$21","v":0}]
[null,"Sebo bovino (l/lcomb liquido)",{"$f":"'CAPEX e OPEX'!C17","v":0},{"$f":"'CAPEX e OPEX'!D17","v":0},{"$f":"C4*$B$23*Conversões!$D$19","v":0},{"$f":"C4*$B$23*Conversões!$D$19","v":0},{"$f":"D4*$B$23*Conversões!$D$19","v":0},{"$f":"F4*$B$23*Conversões!$D$19","v":0}]
[null,"Hidrogênio (kg/l comb. Liquido)",{"$f":"'CAPEX e OPEX'!C18","v":3.3137247919622845E-2},{"$f":"'CAPEX e OPEX'!D18","v":1.570191787981862E-2},{"$f":"C5*$B$24","v":0.3545685527399644},{"$f":"C5*$B$24","v":0.3545685527399644},{"$f":"D5*$B$24","v":0.16801052131405922},{"$f":"D5*$B$24","v":0.16801052131405922}]
[null,"Catalisadores HEFA (g/l comb liquido)",{"$f":"'CAPEX e OPEX'!C19","v":0.11828038160068809},{"$f":"'CAPEX e OPEX'!D19","v":0},{"$f":"C6*$B$27","v":1.5727764307800079E-2},{"$f":"C6*$B$27","v":1.5727764307800079E-2},{"$f":"D6*$B$25","v":0},{"$f":"D6*$B$25","v":0}]
[null,"Caralisadores ATJ (g/l comb liquido)",{"$f":"'CAPEX e OPEX'!C20","v":0},{"$f":"'CAPEX e OPEX'!D20","v":1.7643304051586395},{"$f":"C7*$B$28","v":0},{"$f":"C7*$B$28","v":0},{"$f":"D7*$B$28","v":5.956379447815568E-3},{"$f":"D7*$B$28","v":5.956379447815568E-3}]
[null,"Etanol (l / l comb. Liquido)",{"$f":"'CAPEX e OPEX'!C21","v":0},{"$f":"'CAPEX e OPEX'!D21","v":1.80500985078237},{"$f":"C8*Conversões!$D$6*Conversões!$D$7*'IC Calculado'!$B$29","v":0},{"$f":"C8*Conversões!$D$6*Conversões!$D$7*'IC Calculado'!$B$29","v":0},{"$f":"D8*Conversões!$D$6*Conversões!$D$7*'IC Calculado'!$B$29","v":0.82063278099707959},{"$f":"D8*Conversões!$D$6*Conversões!$D$7*'IC Calculado'!$B$30","v":0.78291138674862104}]
[null,"Eletricidade (kWh/l comb. Liquido)",{"$f":"'CAPEX e OPEX'!C22","v":5.8022036312520495E-2},{"$f":"'CAPEX e OPEX'!D22","v":0.18550201071852637},{"$f":"C9*$B$33/1000","v":3.4755199751199777E-3},{"$f":"C9*$B$33/1000","v":3.4755199751199777E-3},{"$f":"D9*$B$33/1000","v":1.1111570442039729E-2},{"$f":"D9*$B$33/1000","v":1.1111570442039729E-2}]
[null,"Calor (MJ/l comb. Liquido)",{"$f":"'CAPEX e OPEX'!C23","v":2.5106039678559302},{"$f":"'CAPEX e OPEX'!D23","v":2.035589555962082},{"$f":"IF('CAPEX e OPEX'!C24=\"Gás Natural\",C10*$B$31,IF('CAPEX e OPEX'!C24=\"Cavaco de Madeira\",'IC Calculado'!C10*'IC Calculado'!$B$32,\"\"))","v":0.19005272036669393},{"$f":"IF('CAPEX e OPEX'!C24=\"Gás Natural\",C10*$B$31,IF('CAPEX e OPEX'!C24=\"Cavaco de Madeira\",'IC Calculado'!C10*'IC Calculado'!$B$32,\"\"))","v":0.19005272036669393},{"$f":"IF('CAPEX e OPEX'!D24=\"Gás Natural\",D10*$B$31,IF('CAPEX e OPEX'!D24=\"Cavaco de Madeira\",'IC Calculado'!D10*'IC Calculado'!$B$32,\"\"))","v":0.1540941293863296},{"$f":"IF('CAPEX e OPEX'!D24=\"Gás Natural\",D10*$B$31,IF('CAPEX e OPEX'!D24=\"Cavaco de Madeira\",'IC Calculado'!D10*'IC Calculado'!$B$32,\"\"))","v":0.1540941293863296}]
[null,"Água Resfriante",{"$f":"'CAPEX e OPEX'!C28","v":3.2},{"$f":"'CAPEX e OPEX'!D28","v":6.0219946604205061},{"$f":"C11*$B$34","v":4.5188560000000008E-3},{"$f":"C11*$B$34","v":4.5188560000000008E-3},{"$f":"D11*$B$34","v":8.5039145947528646E-3},{"$f":"D11*$B$34","v":8.5039145947528646E-3}]
[null,null,null,null,null,null,null,null,"HEFA","ATJ","HEFA","ATJ"]
[null,null,null,null,"Alocação energética (g CO2 eq / MJ)",null,null,null,"MJ produzido",null,"% Energia"]
["Produtos","SAF (% liquido)",{"$f":"'CAPEX e OPEX'!C29","v":0.64859049826164461},{"$f":"'CAPEX e OPEX'!D29","v":0.75474679216417562},{"$f":"(SUM($E$3:$E$11)*K14*1000)/I14","v":39.822331064496275},{"$f":"(SUM($F$3:$F$11)*K14*1000)/I14","v":31.842728028939916},{"$f":"SUM($G$3:$G$11)*$L$14*1000/$J$14","v":34.213927831159424},{"$f":"SUM($H$3:$H$11)*$L$14*1000/$J$14","v":33.109257120479455},{"$f":"C14*Conversões!$D$3*Conversões!$D$4","v":22.549852950168248},{"$f":"D14*Conversões!$D$3*Conversões!$D$4","v":26.240639083564922},{"$f":"I14/SUM($I$14:$I$17)","v":0.63562935224279127},{"$f":"J14/SUM($J$14:$J$17)","v":0.76845689303551823}]
[null,"Diesel Verde (% liquido)",{"$f":"'CAPEX e OPEX'!C30","v":4.9739773858472489E-2},{"$f":"'CAPEX e OPEX'!D30","v":5.8293318384030221E-2},{"$f":"(SUM($E$3:$E$11)*K15*1000)/I15","v":39.822331064496275},{"$f":"(SUM($F$3:$F$11)*K15*1000)/I15","v":31.84272802893992},{"$f":"SUM($G$3:$G$11)*L15*1000/J15","v":34.213927831159431},{"$f":"SUM($H$3:$H$11)*$L$14*1000/$J$14","v":33.109257120479455},{"$f":"C15*Conversões!$D$11*Conversões!$D$8","v":1.7656209761941406},{"$f":"D15*Conversões!$D$11*Conversões!$D$8","v":2.0692475603862364},{"$f":"I15/SUM($I$14:$I$17)","v":4.9768861902764333E-2},{"$f":"J15/SUM($J$14:$J$17)","v":6.059789725821367E-2}]
[null,"Nafta (% liquido)",{"$f":"'CAPEX e OPEX'!C31","v":0.30166972787988294},{"$f":"'CAPEX e OPEX'!D31","v":0.1869598894517942},39.822331064496275,{"$f":"(SUM($F$3:$F$11)*K16*1000)/I16","v":31.842728028939923},{"$f":"SUM($G$3:$G$11)*L16*1000/J16","v":34.213927831159431},{"$f":"SUM($H$3:$H$11)*$L$14*1000/$J$14","v":33.109257120479455},{"$f":"C16*Conversões!$D$12*Conversões!$D$9","v":9.4187901657661346},{"$f":"D16*Conversões!$D$12*Conversões!$D$9","v":5.8372975655762245},{"$f":"I16/SUM($I$14:$I$17)","v":0.26549439170209899},{"$f":"J16/SUM($J$14:$J$17)","v":0.17094520970626809}]
[null,"GLP (l/l SAF)",{"$f":"'CAPEX e OPEX'!C32","v":3.7512038645279952E-2},{"$f":"'CAPEX e OPEX'!D32","v":0},39.822331064496275,{"$f":"(SUM($F$3:$F$11)*K17*1000)/I17","v":31.842728028939916},null,null,{"$f":"C17*Conversões!$D$10","v":1.7421544694153155},{"$f":"D17*D14*Conversões!$D$13*Conversões!$D$10","v":0},{"$f":"I17/SUM($I$14:$I$17)","v":4.9107394152345392E-2},{"$f":"J17/SUM($J$14:$J$17)","v":0}]
[]
[]
["Emissões Específicas","kg CO2 eq / unidade","unidade"]
["Óleo de soja próprio",{"$f":"((238931.3+0.3)/0.4167)/1000000","v":0.57338996880249571},"kg de óleo"]
["Óleo de soja de terceiros",{"$f":"((333619+12095)/0.2611)/1000000","v":1.3240674071237075},"kg de óleo"]
["Sebo bovino",{"$f":"(6570.3/0.1511)/1000000","v":4.3483123759099927E-2},"kg de óleo"]
["Hidrogênio fóssil SMR",10.7,"kg de H2"]
["Catalisador HEFA Craqueamento",{"$f":"(0.01*45600+0.99*1.06)/1000","v":0.45704939999999999},"g catalisador"]
["Catalisador HEFA HDO",{"$f":"(0.075*16.5+0.85*1.06+0.075*16)/1000","v":3.3384999999999999E-3},"g catalisador"]
["Catalisador HEFA",0.13297018571428573,"g catalisador"]
["Catalisador ATJ",{"$f":"(0.15*16.5+0.85*1.06)/1000","v":3.3760000000000005E-3},"g catalisador"]
["Etanol 1G cana",2.1319999999999999E-2,"MJ"]
["Etanol 1G milho",2.034E-2,"MJ"]
["Calor GN",7.5700000000000003E-2,"MJ"]
["Calor Cavaco",9.3500000000000007E-3,"MJ"]
["Eletricidade Brasil",59.9,"MWh"]
["Agua Resfriante",{"$f":"(0.000943/0.04)*B33/1000","v":1.4121425000000001E-3},"kg make up"]
[]
["IC equivalente fóssil"]
["Diesel",86.5,"gco2eq/MJ"]
["Nafta",87.4,"gco2eq/MJ"]
["QAV",89,"gco2eq/MJ"]
["GLP",76,"gco2eq/MJ"]
[]
["ProbioQAV "]
["óleo de soja próprio",{"$f":"0.4167/(0.4167+0.2611)","v":0.61478312186485695}]
["óleo de soja de terceiros",{"$f":"1-B43","v":0.38521687813514305}]

{"sheet":"IC Corsia","index":11,"n_rows":12,"n_cols":8,"rows_kept":12,"cut":false,"hidden":true,"merged":[]}
["Rota","Matéria Prima","CORE LCA CORSIA (gCO2 eq / MJ)","ILUC CORSIA (gCO2eq / MJ)","Total CORSIA (gCO2 eq / MJ)","CO2 abatido CORSIA (gCO2 eq / MJ)","CO2 abatido CORSIA (kgCO2 eq / l SAF)","ICAO document \"CORSIA default life cycle emission values for CORSIA eligible fuels\""]
["HEFA","Óleo de Soja",40.4,27,{"$f":"SUM(C2:D2)","v":67.400000000000006},{"$f":"'IC Calculado'!$B$39-E2","v":21.599999999999994},{"$f":"F2*Conversões!$D$4*Conversões!$D$3/1000","v":0.75097742725047578}]
["HEFA","Sebo Bovino",29.7,null,{"$f":"SUM(C3:D3)","v":29.7},{"$f":"'IC Calculado'!$B$39-E3","v":59.3},{"$f":"F3*Conversões!$D$4*Conversões!$D$3/1000","v":2.0617111775904267}]
["HEFA","Óleo usado",13.9,null,13.9,{"$f":"'IC Calculado'!$B$39-E4","v":75.099999999999994},{"$f":"F4*Conversões!$D$4*Conversões!$D$3/1000","v":2.6110372586347568}]
["HEFA","Óleo de Canola",47.4,26,73.400000000000006,{"$f":"'IC Calculado'!$B$39-E5","v":15.599999999999994},{"$f":"F5*Conversões!$D$4*Conversões!$D$3/1000","v":0.54237258634756569}]
["HEFA","Óleo de Carinata",34.4,-20.399999999999999,14,{"$f":"'IC Calculado'!$B$39-E6","v":75},{"$f":"F6*Conversões!$D$4*Conversões!$D$3/1000","v":2.6075605112863749}]
["ATJ","Etanol Cana 1G Integrated",24.1,8.6999999999999993,{"$f":"SUM(C7:D7)","v":32.799999999999997},{"$f":"'IC Calculado'!$B$39-E7","v":56.2},{"$f":"F7*Conversões!$D$4*Conversões!$D$3/1000","v":1.9539320097905901}]
["ATJ","Etanol Cana 1G Standalone",41,11,52,{"$f":"'IC Calculado'!$B$39-E8","v":37},{"$f":"F8*Conversões!$D$4*Conversões!$D$3/1000","v":1.2863965189012783}]
["ATJ","Etanol Milho 1G 1a safra",54.1,18.3,72.400000000000006,{"$f":"'IC Calculado'!$B$39-E9","v":16.599999999999994},{"$f":"F9*Conversões!$D$4*Conversões!$D$3/1000","v":0.57714005983138417}]
["ATJ","Etanol Milho 1G 2a safra",54.1,9.3000000000000007,63.400000000000006,{"$f":"'IC Calculado'!$B$39-E10","v":25.599999999999994},{"$f":"F10*Conversões!$D$4*Conversões!$D$3/1000","v":0.89004732118574914}]
["ATJ","Etanol Cana 2G Integrated",24.6,null,24.6,{"$f":"'IC Calculado'!$B$39-E11","v":64.400000000000006},{"$f":"F11*Conversões!$D$4*Conversões!$D$3/1000","v":2.2390252923579004}]
["ATJ","Etanol Cana 2G Standalone",39.700000000000003,null,39.700000000000003,{"$f":"'IC Calculado'!$B$39-E12","v":49.3},{"$f":"F12*Conversões!$D$4*Conversões!$D$3/1000","v":1.7140364427522436}]

{"sheet":"Mercados de Carbono","index":12,"n_rows":12,"n_cols":6,"rows_kept":12,"cut":false,"hidden":true,"merged":[]}
["Mercados de carbono"]
["SAF"]
["Mercado","Volume de SAF dedicado","Método de cálculo de IC",{"$f":"Listas!$O$43","v":"IC (gCO2eq / MJ)"},"CO2 evitado (kgCO2eq / l)","Co2 evitado total (kt CO2 eq)"]
["CORSIA",{"$f":"'Interface Básica'!D14","v":0},{"$f":"IF('Interface Básica'!$D$21=Listas!$I$24,Listas!$O$49,IF('Interface Básica'!$D$21=Listas!$I$22,IF('Interface Básica'!$D$22=\"Sim\",Listas!$O$44,Listas!$O$45),IF('Interface Básica'!$D$22=\"Sim\",Listas!$O$47,Listas!$O$48)))","v":"CORSIA default com iLUC"},{"$f":"VLOOKUP(C4,Listas!$O$44:$R$49,IF(n1_tec=\"HEFA\",2,'CAPEX e OPEX'!$D$12),FALSE)","v":52},{"$f":"VLOOKUP(C4,Listas!$O$51:$R$56,IF(n1_tec=\"HEFA\",2,'CAPEX e OPEX'!$D$12),FALSE)","v":1.2863965189012783},{"$f":"IF(n1_tec=\"HEFA\",'Mercados de Carbono'!E4*'Fluxo de Caixa Descontado'!$B$1*'Fluxo de Caixa Descontado'!$B$2*'Interface Básica'!D14*'CAPEX e OPEX'!$C$29*'Parâmetros de Fluxo de Caixa'!$B$2,'Mercados de Carbono'!E4*'Fluxo de Caixa Descontado'!$B$1*'Fluxo de Caixa Descontado'!$B$2*'Interface Básica'!D14*'CAPEX e OPEX'!$D$29*'Parâmetros de Fluxo de Caixa'!$B$2)","v":0}]
["ProBioQAV",{"$f":"'Interface Básica'!D15","v":1},{"$f":"IF('Interface Básica'!$E$21=Listas!$I$24,Listas!$O$49,Listas!$O$46)","v":"ProBioQAV"},{"$f":"VLOOKUP(C5,Listas!$O$44:$R$49,IF(n1_tec=\"HEFA\",2,'CAPEX e OPEX'!$D$12),FALSE)","v":34.213927831159424},{"$f":"VLOOKUP(C5,Listas!$O$51:$R$56,IF(n1_tec=\"HEFA\",2,'CAPEX e OPEX'!$D$12),FALSE)","v":1.9047733114127223},{"$f":"IF(n1_tec=\"HEFA\",'Mercados de Carbono'!E5*'Fluxo de Caixa Descontado'!$B$1*'Fluxo de Caixa Descontado'!$B$2*'Interface Básica'!D15*'CAPEX e OPEX'!$C$29*'Parâmetros de Fluxo de Caixa'!$B$2,'Mercados de Carbono'!E5*'Fluxo de Caixa Descontado'!$B$1*'Fluxo de Caixa Descontado'!$B$2*'Interface Básica'!D15*'CAPEX e OPEX'!$D$29*'Parâmetros de Fluxo de Caixa'!$B$2)","v":20701.750270877088}]
["Outros Mercados",{"$f":"'Interface Básica'!D16","v":0},{"$f":"Listas!$O$49","v":"Valor próprio"},{"$f":"VLOOKUP(C6,Listas!$O$44:$R$49,IF(n1_tec=\"HEFA\",2,'CAPEX e OPEX'!$D$12),FALSE)","v":0},{"$f":"VLOOKUP(C6,Listas!$O$51:$R$56,IF(n1_tec=\"HEFA\",2,'CAPEX e OPEX'!$D$12),FALSE)","v":3.0943051400598316},{"$f":"IF(n1_tec=\"HEFA\",'Mercados de Carbono'!E6*'Fluxo de Caixa Descontado'!$B$1*'Fluxo de Caixa Descontado'!$B$2*'Interface Básica'!D16*'CAPEX e OPEX'!$C$29*'Parâmetros de Fluxo de Caixa'!$B$2,'Mercados de Carbono'!E6*'Fluxo de Caixa Descontado'!$B$1*'Fluxo de Caixa Descontado'!$B$2*'Interface Básica'!D16*'CAPEX e OPEX'!$D$29*'Parâmetros de Fluxo de Caixa'!$B$2)","v":0}]
[]
["Outros produtos"]
["Mercado","Volume dedicado","Método de cálculo de IC",{"$f":"Listas!$O$43","v":"IC (gCO2eq / MJ)"},"CO2 evitado (kgCO2eq / l ou kg)","Co2 evitado total (kt CO2 eq)"]
["Diesel Verde",1,{"$f":"IF('Interface Básica'!$G$21=Listas!$I$24,Listas!$O$49,IF('Interface Básica'!$G$21=Listas!$I$22,IF('Interface Básica'!$G$22=\"Sim\",Listas!$O$44,Listas!$O$45),IF('Interface Básica'!$G$22=\"Sim\",Listas!$O$47,Listas!$O$48)))","v":"ACV Médio Brasil sem iLUC"},{"$f":"VLOOKUP(C10,Listas!$O$44:$R$49,IF(n1_tec=\"HEFA\",2,'CAPEX e OPEX'!$D$12),FALSE)","v":34.213927831159424},{"$f":"VLOOKUP(C10,Listas!$O$58:$R$63,IF(n1_tec=\"HEFA\",2,'CAPEX e OPEX'!$D$12),FALSE)","v":1.8560073483000081},{"$f":"IF(n1_tec=\"HEFA\",'Mercados de Carbono'!E10*'Fluxo de Caixa Descontado'!$B$1*'Fluxo de Caixa Descontado'!$B$2*'CAPEX e OPEX'!C30*'Parâmetros de Fluxo de Caixa'!$B$2,'Mercados de Carbono'!E10*'Fluxo de Caixa Descontado'!$B$1*'Fluxo de Caixa Descontado'!$B$2*'Interface Básica'!D14*'CAPEX e OPEX'!D30*'Parâmetros de Fluxo de Caixa'!$B$2)","v":0}]
["bioNafta",1,{"$f":"IF('Interface Básica'!$H$21=Listas!$I$24,Listas!$O$49,IF('Interface Básica'!$H$21=Listas!$I$22,IF('Interface Básica'!$H$22=\"Sim\",Listas!$O$44,Listas!$O$45),IF('Interface Básica'!$H$22=\"Sim\",Listas!$O$47,Listas!$O$48)))","v":"ACV Médio Brasil sem iLUC"},{"$f":"VLOOKUP(C11,Listas!$O$44:$R$49,IF(n1_tec=\"HEFA\",2,'CAPEX e OPEX'!$D$12),FALSE)","v":34.213927831159424},{"$f":"VLOOKUP(C11,Listas!$O$65:$R$70,IF(n1_tec=\"HEFA\",2,'CAPEX e OPEX'!$D$12),FALSE)","v":1.6605857572128295},{"$f":"IF(n1_tec=\"HEFA\",'Mercados de Carbono'!E11*'Fluxo de Caixa Descontado'!$B$1*'Fluxo de Caixa Descontado'!$B$2*'CAPEX e OPEX'!C31*'Parâmetros de Fluxo de Caixa'!$B$2,'Mercados de Carbono'!E11*'Fluxo de Caixa Descontado'!$B$1*'Fluxo de Caixa Descontado'!$B$2*'Interface Básica'!D15*'CAPEX e OPEX'!D31*'Parâmetros de Fluxo de Caixa'!$B$2)","v":4470.6661861497778}]
["bioGL",1,{"$f":"IF('Interface Básica'!$I$21=Listas!$I$24,Listas!$O$49,IF('Interface Básica'!$I$21=Listas!$I$22,IF('Interface Básica'!$I$22=\"Sim\",Listas!$O$44,Listas!$O$45),IF('Interface Básica'!$I$22=\"Sim\",Listas!$O$47,Listas!$O$48)))","v":"ACV Médio Brasil sem iLUC"},{"$f":"VLOOKUP(C12,Listas!$O$44:$R$49,IF(n1_tec=\"HEFA\",2,'CAPEX e OPEX'!$D$12),FALSE)","v":34.213927831159424},{"$f":"VLOOKUP(C12,Listas!$O$72:$R$77,IF(n1_tec=\"HEFA\",2,'CAPEX e OPEX'!$D$12),FALSE)","v":1.940651455300644},{"$f":"IF(n1_tec=\"HEFA\",'Mercados de Carbono'!E12*'Fluxo de Caixa Descontado'!$B$1*'Fluxo de Caixa Descontado'!$B$2*'CAPEX e OPEX'!C32*'Parâmetros de Fluxo de Caixa'!$B$2,'Mercados de Carbono'!E12*'Fluxo de Caixa Descontado'!$B$1*'Fluxo de Caixa Descontado'!$B$2*'Interface Básica'!D16*'CAPEX e OPEX'!D32*'Parâmetros de Fluxo de Caixa'!$B$2)","v":0}]

{"sheet":"Listas","index":13,"n_rows":77,"n_cols":30,"rows_kept":77,"cut":false,"hidden":true,"merged":[[1,20,1,23],[17,20,17,23],[42,20,42,21],[12,2,12,5],[11,2,11,5]]}
[]
["MPs",null,"Fontes de calor",null,"Mercados",null,"Tempo de construção",null,"Multiplicador CAPEX","HEFA","ATJ",null,"Sim/Não",null,"IC (gCO2eq / MJ)","HEFA","ATJ Cana de açúcar","ATJ Milho de 2a safra 1G",null,null,"Bloco  A-Preço de compra de insumos",null,null,null,null,"Parâmetro","Tecnologia","Aba destino","Célula destino","Valor padrão"]
["Óleo de Soja",null,"Gás Natural",null,"CORSIA",null,1,null,"Caso Base",1,1,null,"Sim",null,"CORSIA default com iLUC",{"$f":"'CAPEX e OPEX'!C8*'IC Corsia'!E2+'CAPEX e OPEX'!C10*'IC Corsia'!E3","v":67.400000000000006},{"$f":"'IC Corsia'!E8","v":52},{"$f":"'IC Corsia'!E10","v":63.400000000000006},null,null,"Parâmetro","Aba","Célula","Valor",null,"Fator de utilização","HEFA","Fluxo de Caixa Descontado","B2",0.9]
["Cana de açúcar 1G",null,"Cavaco de Madeira",null,"ProBioQAV",null,2,null,"Caso Otimista",0.7,0.6,null,"Não",null,"CORSIA default sem iLUC",{"$f":"'CAPEX e OPEX'!C8*'IC Corsia'!C2+'CAPEX e OPEX'!C10*'IC Corsia'!C3","v":40.4},{"$f":"'IC Corsia'!C8","v":41},{"$f":"'IC Corsia'!C10","v":54.1},null,null,"Preço óleo soja","CAPEX e OPEX","C36",4.8600000000000003,null,"Fator de utilização","ATJ","Fluxo de Caixa Descontado","B2",0.9]
["Milho 2a safra 1G",null,null,null,"Outros Mercados",null,3,null,"Caso Pessimista",1.4,1.6,null,null,null,"ProBioQAV",{"$f":"'IC Calculado'!E14","v":39.822331064496275},{"$f":"'IC Calculado'!G14","v":34.213927831159424},{"$f":"'IC Calculado'!H14","v":33.109257120479455},null,null,"Preço sebo","CAPEX e OPEX","C37",5.16,null,"Óleos e gorduras (l/l comb. Liquido)","HEFA","CAPEX e OPEX","C15",1.0621987436336282]
[null,null,null,null,"Core LCA",null,4,null,null,null,null,null,null,null,"ACV Médio Brasil com iLUC",{"$f":"'IC Calculado'!F14+'CAPEX e OPEX'!$C$8*'IC Corsia'!$D$2+'CAPEX e OPEX'!$C$10*'IC Corsia'!$D$3","v":58.842728028939916},{"$f":"'IC Calculado'!G14+'IC Corsia'!D8","v":45.213927831159424},{"$f":"'IC Calculado'!H14+'IC Corsia'!D10","v":42.409257120479452},null,null,"H2","CAPEX e OPEX","C38",10.57,null,"Etanol (l / l comb. Liquido)","ATJ","CAPEX e OPEX","D21",1.80500985078237]
[null,null,null,null,"CORSIA default",null,5,null,null,null,null,null,null,null,"ACV Médio Brasil sem iLUC",{"$f":"'IC Calculado'!F14","v":31.842728028939916},{"$f":"'IC Calculado'!G14","v":34.213927831159424},{"$f":"'IC Calculado'!H14","v":33.109257120479455},null,null,"Eletricidade","CAPEX e OPEX","C42",0.13,null,"Hidrogênio (kg/l comb. Liquido)","HEFA","CAPEX e OPEX","C18",3.3137247919622845E-2]
[null,null,null,null,"Valores médios Brasil",null,null,null,"HEFA",null,null,null,null,null,"CO2 evitado (kgCO2eq / l SAF)","HEFA","ATJ Cana de açúcar","ATJ Milho de 2a safra 1G",null,null,"Cavaco madeira","CAPEX e OPEX","C45",0.47,null,"Hidrogênio (kg/l comb. Liquido)","ATJ","CAPEX e OPEX","D18",1.570191787981862E-2]
[null,null,null,null,"Valor próprio",null,null,null,"Soja ",null,null,null,null,null,"CORSIA default com iLUC",{"$f":"('IC Calculado'!$B$39-P3)*Conversões!$D$4*Conversões!$D$3/1000","v":0.75097742725047578},{"$f":"('IC Calculado'!$B$39-Q3)*Conversões!$D$4*Conversões!$D$3/1000","v":1.2863965189012783},{"$f":"('IC Calculado'!$B$39-R3)*Conversões!$D$4*Conversões!$D$3/1000","v":0.89004732118574914},null,null,"Gás natural","CAPEX e OPEX","C44",5.03,null,"Catalisadores HEFA (g/l comb liquido)","HEFA","CAPEX e OPEX","C19",0.11828038160068809]
[null,null,null,null,null,null,null,null,"Soja + Sebo Bovino",null,null,null,null,null,"CORSIA default sem iLUC",{"$f":"('IC Calculado'!$B$39-P4)*Conversões!$D$4*Conversões!$D$3/1000","v":1.6896992113135709},{"$f":"('IC Calculado'!$B$39-Q4)*Conversões!$D$4*Conversões!$D$3/1000","v":1.6688387272232801},{"$f":"('IC Calculado'!$B$39-R4)*Conversões!$D$4*Conversões!$D$3/1000","v":1.2133848245852596},null,null,"Catalisador HEFA","CAPEX e OPEX","C39",1.37,null,"Catalisadores ATJ (g/l comb liquido)","ATJ","CAPEX e OPEX","D20",1.7643304051586395]
[null,null,null,null,null,null,null,null,null,null,null,null,null,null,"ProBioQAV",{"$f":"('IC Calculado'!$B$39-P5)*Conversões!$D$4*Conversões!$D$3/1000","v":1.7097833007111223},{"$f":"('IC Calculado'!$B$39-Q5)*Conversões!$D$4*Conversões!$D$3/1000","v":1.9047733114127223},{"$f":"('IC Calculado'!$B$39-R5)*Conversões!$D$4*Conversões!$D$3/1000","v":1.9431799210546388},null,null,"Catalisador ATJ","CAPEX e OPEX","C40",0.12,null,"Calor (MJ/l comb. Liquido)","HEFA","CAPEX e OPEX","C23",2.5106039678559302]
[null,null,"IB",null,null,null,null,null,"ATJ",null,null,null,null,null,"ACV Médio Brasil com iLUC",{"$f":"('IC Calculado'!$B$39-P6)*Conversões!$D$4*Conversões!$D$3/1000","v":1.0484921535981291},{"$f":"('IC Calculado'!$B$39-Q6)*Conversões!$D$4*Conversões!$D$3/1000","v":1.5223311030907205},{"$f":"('IC Calculado'!$B$39-R6)*Conversões!$D$4*Conversões!$D$3/1000","v":1.6198424176551283},null,null,"Etanol","CAPEX e OPEX","C41",2.4700000000000002,null,"Calor (MJ/l comb. Liquido)","ATJ","CAPEX e OPEX","D23",2.035589555962082]
[null,null,"Resultados Discriminados por Mercado",null,null,null,null,null,"Cana de açúcar 1G",null,null,null,null,null,"ACV Médio Brasil sem iLUC",{"$f":"('IC Calculado'!$B$39-P7)*Conversões!$D$4*Conversões!$D$3/1000","v":1.9872139376612243},{"$f":"('IC Calculado'!$B$39-Q7)*Conversões!$D$4*Conversões!$D$3/1000","v":1.9047733114127223},{"$f":"('IC Calculado'!$B$39-R7)*Conversões!$D$4*Conversões!$D$3/1000","v":1.9431799210546388},null,null,"Diesel Verde (R$/L)","CAPEX e OPEX","C48",3.84,null,"Combustível usado: gás natural","HEFA","CAPEX e OPEX","C25",6.3944639070041262E-2]
[null,null,"Mercado","Preço de Venda do Produto \n(R$/l ou R$/kg para bioGL)","Intensidade de Carbono \n(g CO₂eq / MJ) :","Custo de redução de emissões para o consumidor do mercado (R$ / kg CO₂eq)",null,null,"Milho 2a safra 1G",null,null,null,null,null,"CO2 evitado (kgCO2eq / l Diesel)","HEFA","ATJ Cana de açúcar","ATJ Milho de 2a safra 1G",null,null,"bioNafta (R$/L)","CAPEX e OPEX","C49",2.9,null,"Combustível usado: gás natural","ATJ","CAPEX e OPEX","D25",5.1846106003689052E-2]
[null,null,"CORSIA - SAF",8.2200000000000006,27.035281944493299,2.0099999999999998,null,null,null,null,null,null,null,null,"CORSIA default com iLUC",{"$f":"('IC Calculado'!$B$37-P3)*Conversões!$D$8*Conversões!$D$11/1000","v":0.67799585782724181},{"$f":"('IC Calculado'!$B$37-Q3)*Conversões!$D$8*Conversões!$D$11/1000","v":1.2246522039287882},{"$f":"('IC Calculado'!$B$37-R3)*Conversões!$D$8*Conversões!$D$11/1000","v":0.81998451915231874},null,null,"bioGLP (R$/kg)","CAPEX e OPEX","C50",2.79,null,"Combustível usado: Cavaco de Madeira","HEFA","CAPEX e OPEX","C27",0.17499400339141341]
[null,null,"ProBioQAV - SAF",8.2200000000000006,32.590380438018983,2.2000000000000002,null,null,null,null,null,null,null,null,"CORSIA default sem iLUC",{"$f":"('IC Calculado'!$B$37-P4)*Conversões!$D$8*Conversões!$D$11/1000","v":1.6364193217715111},{"$f":"('IC Calculado'!$B$37-Q4)*Conversões!$D$8*Conversões!$D$11/1000","v":1.6151210225727495},{"$f":"('IC Calculado'!$B$37-R4)*Conversões!$D$8*Conversões!$D$11/1000","v":1.1501081567331226},null,null,"Preço Créditos de Carbono Evitado (R$ / t CO2eq)","CAPEX e OPEX",null,null,null,"Combustível usado: Cavaco de Madeira","ATJ","CAPEX e OPEX","D27",0.14188457049391376]
[null,null,"Outros Mercados - SAF",8.2200000000000006,0,0,null,null,"Mercado",null,"Quando for ProBio",null,null,null,"ProBioQAV",{"$f":"('IC Calculado'!$B$37-P5)*Conversões!$D$8*Conversões!$D$11/1000","v":1.6569249314818251},{"$f":"('IC Calculado'!$B$37-Q5)*Conversões!$D$8*Conversões!$D$11/1000","v":1.8560073483000081},{"$f":"('IC Calculado'!$B$37-R5)*Conversões!$D$8*Conversões!$D$11/1000","v":1.8952200271536257},null,null,null,null,null,null,null,"Eletricidade (kWh/l comb. Liquido)","HEFA","CAPEX e OPEX","C22",5.8022036312520495E-2]
[null,null,"Diesel Verde",3.84,45.935281944493298,0,null,null,"CORSIA",null,"Valores Médios Brasil",null,null,null,"ACV Médio Brasil com iLUC",{"$f":"('IC Calculado'!$B$37-P6)*Conversões!$D$8*Conversões!$D$11/1000","v":0.98175475576859794},{"$f":"('IC Calculado'!$B$37-Q6)*Conversões!$D$8*Conversões!$D$11/1000","v":1.4655385296560466},{"$f":"('IC Calculado'!$B$37-R6)*Conversões!$D$8*Conversões!$D$11/1000","v":1.565096389572822},null,null,"Bloco B",null,null,null,null,"Eletricidade (kWh/l comb. Liquido)","ATJ","CAPEX e OPEX","D22",0.18550201071852637]
[null,null,"bioNafta",2.9,56.09,0,null,null,"ProBioQAV",null,"Não",null,null,null,"ACV Médio Brasil sem iLUC",{"$f":"('IC Calculado'!$B$37-P7)*Conversões!$D$8*Conversões!$D$11/1000","v":1.9401782197128665},{"$f":"('IC Calculado'!$B$37-Q7)*Conversões!$D$8*Conversões!$D$11/1000","v":1.8560073483000081},{"$f":"('IC Calculado'!$B$37-R7)*Conversões!$D$8*Conversões!$D$11/1000","v":1.8952200271536257},null,null,"Tempo operação","Parâmetros de Fluxo de Caixa","B2",20,null,"Agua de resfriamento (l/l comb liquido)","HEFA","CAPEX e OPEX","C28",3.2]
[null,null,"bioGL",2.79,0,0,null,null,"Outros Mercados",null,null,null,null,null,"CO2 evitado (kgCO2eq / l nafta)","HEFA","ATJ Cana de açúcar","ATJ Milho de 2a safra 1G",null,null,"Tempo construção","Parâmetros de Fluxo de Caixa","B3",3,null,"Agua de resfriamento (l/l comb liquido)","ATJ","CAPEX e OPEX","D28",6.0219946604205061]
[null,null,null,null,null,null,null,null,"Emissões",null,"Quando for CORSIA",null,null,null,"CORSIA default com iLUC",{"$f":"('IC Calculado'!$B$38-P3)*Conversões!$D$12*Conversões!$D$9/1000","v":0.62444384008702736},{"$f":"('IC Calculado'!$B$38-Q3)*Conversões!$D$12*Conversões!$D$9/1000","v":1.1052655969540388},{"$f":"('IC Calculado'!$B$38-R3)*Conversões!$D$12*Conversões!$D$9/1000","v":0.74933260810443292},null,null,"Atraso construção","Parâmetros de Fluxo de Caixa","B4",0,null,"SAF (% liquido)","HEFA","CAPEX e OPEX","C29",0.64859049826164461]
[null,null,null,null,null,null,null,null,"CORSIA default",null,"Sim",null,null,null,"CORSIA default sem iLUC",{"$f":"('IC Calculado'!$B$38-P4)*Conversões!$D$12*Conversões!$D$9/1000","v":1.4674430242045144},{"$f":"('IC Calculado'!$B$38-Q4)*Conversões!$D$12*Conversões!$D$9/1000","v":1.4487097090019037},{"$f":"('IC Calculado'!$B$38-R4)*Conversões!$D$12*Conversões!$D$9/1000","v":1.0396989937449006},null,null,"% financiamento","Parâmetros de Fluxo de Caixa","B18",0.6,null,"SAF (% liquido)","ATJ","CAPEX e OPEX","D29",0.75474679216417562]
[null,null,null,null,null,null,null,null,"Valores Médios Brasil",null,"Não",null,null,null,"ProBioQAV",{"$f":"('IC Calculado'!$B$38-P5)*Conversões!$D$12*Conversões!$D$9/1000","v":1.4854791146237611},{"$f":"('IC Calculado'!$B$38-Q5)*Conversões!$D$12*Conversões!$D$9/1000","v":1.6605857572128295},{"$f":"('IC Calculado'!$B$38-R5)*Conversões!$D$12*Conversões!$D$9/1000","v":1.6950759982432626},null,null,"Juros financiamento","Parâmetros de Fluxo de Caixa","B22",0.1236,null,"Diesel Verde (% liquido)","HEFA","CAPEX e OPEX","C30",4.9739773858472489E-2]
[null,null,null,null,null,null,null,null,"Valor próprio",null,null,null,null,null,"ACV Médio Brasil com iLUC",{"$f":"('IC Calculado'!$B$38-P6)*Conversões!$D$12*Conversões!$D$9/1000","v":0.89162062860091973},{"$f":"('IC Calculado'!$B$38-Q6)*Conversões!$D$12*Conversões!$D$9/1000","v":1.3171416451649642},{"$f":"('IC Calculado'!$B$38-R6)*Conversões!$D$12*Conversões!$D$9/1000","v":1.4047096126027949},null,null,"Taxa desconto equity","Parâmetros de Fluxo de Caixa","B24",0.15,null,"Diesel Verde (% liquido)","ATJ","CAPEX e OPEX","D30",5.8293318384030221E-2]
[null,null,null,null,null,null,null,null,null,null,null,null,null,null,"ACV Médio Brasil sem iLUC",{"$f":"('IC Calculado'!$B$38-P7)*Conversões!$D$12*Conversões!$D$9/1000","v":1.7346198127184065},{"$f":"('IC Calculado'!$B$38-Q7)*Conversões!$D$12*Conversões!$D$9/1000","v":1.6605857572128295},{"$f":"('IC Calculado'!$B$38-R7)*Conversões!$D$12*Conversões!$D$9/1000","v":1.6950759982432626},null,null,"Cronograma financeiro da construção","Parâmetros de Fluxo de Caixa","B5",null,null,"Nafta (% liquido)","HEFA","CAPEX e OPEX","C31",0.30166972787988294]
[null,null,null,null,null,null,null,null,null,null,null,null,null,null,"CO2 evitado (kgCO2eq / kg GLP)","HEFA","ATJ Cana de açúcar","ATJ Milho de 2a safra 1G",null,null,"Tempo de start-up da planta (meses)","Parâmetros de Fluxo de Caixa","B13",6,null,"Nafta (% liquido)","ATJ","CAPEX e OPEX","D31",0.1869598894517942]
[null,null,null,null,null,null,null,null,null,null,null,null,null,null,"CORSIA default com iLUC",{"$f":"('IC Calculado'!$B$40-P3)*Conversões!$D$10/1000","v":0.39940587017007989},{"$f":"('IC Calculado'!$B$40-Q3)*Conversões!$D$10/1000","v":1.1146210330327817},{"$f":"('IC Calculado'!$B$40-R3)*Conversões!$D$10/1000","v":0.58517604234221021},null,null,"Receita durante o start-up","Parâmetros de Fluxo de Caixa","B15",0.75,null,"GLP (l/l SAF)","HEFA","CAPEX e OPEX","C32",3.7512038645279952E-2]
[null,null,null,null,null,null,null,null,null,null,null,null,null,null,"CORSIA default sem iLUC",{"$f":"('IC Calculado'!$B$40-P4)*Conversões!$D$10/1000","v":1.6533545323319596},{"$f":"('IC Calculado'!$B$40-Q4)*Conversões!$D$10/1000","v":1.62548900650614},{"$f":"('IC Calculado'!$B$40-R4)*Conversões!$D$10/1000","v":1.0170916926424132},null,null,"Custo variável durante start-up","Parâmetros de Fluxo de Caixa","B16",0.75,null,"GLP (l/l SAF)","ATJ","CAPEX e OPEX","D32",0]
[null,null,null,null,null,null,null,null,null,null,null,null,null,null,"ProBioQAV",{"$f":"('IC Calculado'!$B$40-P5)*Conversões!$D$10/1000","v":1.6801829467337142},{"$f":"('IC Calculado'!$B$40-Q5)*Conversões!$D$10/1000","v":1.940651455300644},{"$f":"('IC Calculado'!$B$40-R5)*Conversões!$D$10/1000","v":1.9919551723297757},null,null,"Custo fixo durante start-up","Parâmetros de Fluxo de Caixa","B17",1]
[null,null,null,null,null,null,null,null,null,null,null,null,null,null,"ACV Médio Brasil com iLUC",{"$f":"('IC Calculado'!$B$40-P6)*Conversões!$D$10/1000","v":0.79682734201697414},{"$f":"('IC Calculado'!$B$40-Q6)*Conversões!$D$10/1000","v":1.4297834818272857},{"$f":"('IC Calculado'!$B$40-R6)*Conversões!$D$10/1000","v":1.5600395220295729},null,null,"Porcentagem de CAPEX financiado","Parâmetros de Fluxo de Caixa","B18",0.6]
[null,null,null,null,null,null,null,null,null,null,null,null,null,null,"ACV Médio Brasil sem iLUC",{"$f":"('IC Calculado'!$B$40-P7)*Conversões!$D$10/1000","v":2.0507760041788536},{"$f":"('IC Calculado'!$B$40-Q7)*Conversões!$D$10/1000","v":1.940651455300644},{"$f":"('IC Calculado'!$B$40-R7)*Conversões!$D$10/1000","v":1.9919551723297757},null,null,"Porcentagem de CAPEX por equity","Parâmetros de Fluxo de Caixa","B23",0.4]
[]
[]
[null,null,null,null,null,null,null,null,null,null,null,null,null,null,null,null,null,null,null,null,null,"Valor Usado","Valor Sugerido","Unidade"]
[null,null,null,null,null,null,null,null,null,null,null,null,null,null,null,null,null,null,null,null,"Ano 1",0.08,0.08,"% CAPEX"]
[null,null,null,null,null,null,null,null,null,null,null,null,null,null,null,null,null,null,null,null,"Ano 2",0.6,0.6,"% CAPEX"]
[null,null,null,null,null,null,null,null,null,null,null,null,null,null,null,null,null,null,null,null,"Ano 3",0.32,0.32,"% CAPEX"]
[null,null,null,null,null,null,null,null,null,null,null,null,null,null,null,null,null,null,null,null,"Ano 4",null,null,"% CAPEX"]
[null,null,null,null,null,null,null,null,null,null,null,null,null,null,null,null,null,null,null,null,"Ano 5"]
[null,null,null,null,null,null,null,null,null,null,null,null,null,null,null,null,null,null,null,null,"Soma",{"$f":"SUM(V35:V39)","v":1}]
[null,null,null,null,null,null,null,null,null,null,null,null,null,null,null,null,null,null,null,null,"Preço Créditos de Carbono Evitado (R$ / t CO2eq)",null,null,0]
[]
[null,null,null,null,null,null,null,null,null,null,null,null,null,null,"IC (gCO2eq / MJ)","HEFA","ATJ Cana de açúcar","ATJ Milho de 2a safra 1G",null,null,"Bloco D- Preços de referência dos equivalentes fósseis"]
[null,null,null,null,null,null,null,null,null,null,null,null,null,null,"CORSIA default com iLUC",{"$f":"P3","v":67.400000000000006},{"$f":"Q3","v":52},63.400000000000006,null,null,"QAV (R$/l)",3.9]
[null,null,null,null,null,null,null,null,null,null,null,null,null,null,"CORSIA default sem iLUC",{"$f":"P4","v":40.4},41,54.1,null,null,"Diesel (R$/l)",3.84]
[null,null,null,null,null,null,null,null,null,null,null,null,null,null,"ProBioQAV",{"$f":"P5","v":39.822331064496275},34.213927831159424,33.109257120479455,null,null,"Nafta (R$/l)",2.9]
[null,null,null,null,null,null,null,null,null,null,null,null,null,null,"ACV Médio Brasil com iLUC",{"$f":"P6","v":58.842728028939916},45.213927831159424,42.409257120479452,null,null,"GLP (R$/kg)",2.79]
[null,null,null,null,null,null,null,null,null,null,null,null,null,null,"ACV Médio Brasil sem iLUC",{"$f":"P7","v":31.842728028939916},34.213927831159424,33.109257120479455]
[null,null,null,null,null,null,null,null,null,null,null,null,null,null,"Valor próprio",{"$f":"'Interface Básica'!D23","v":0},{"$f":"'Interface Básica'!D23","v":0},{"$f":"'Interface Básica'!D23","v":0}]
[null,null,null,null,null,null,null,null,null,null,null,null,null,null,"CO2 evitado (kgCO2eq / l SAF)","HEFA","ATJ Cana de açúcar","ATJ Milho de 2a safra 1G"]
[null,null,null,null,null,null,null,null,null,null,null,null,null,null,"CORSIA default com iLUC",{"$f":"('IC Calculado'!$B$39-P44)*Conversões!$D$4*Conversões!$D$3/1000","v":0.75097742725047578},{"$f":"('IC Calculado'!$B$39-Q44)*Conversões!$D$4*Conversões!$D$3/1000","v":1.2863965189012783},{"$f":"('IC Calculado'!$B$39-R44)*Conversões!$D$4*Conversões!$D$3/1000","v":0.89004732118574914}]
[null,null,null,null,null,null,null,null,null,null,null,null,null,null,"CORSIA default sem iLUC",{"$f":"('IC Calculado'!$B$39-P45)*Conversões!$D$4*Conversões!$D$3/1000","v":1.6896992113135709},{"$f":"('IC Calculado'!$B$39-Q45)*Conversões!$D$4*Conversões!$D$3/1000","v":1.6688387272232801},{"$f":"('IC Calculado'!$B$39-R45)*Conversões!$D$4*Conversões!$D$3/1000","v":1.2133848245852596}]
[null,null,null,null,null,null,null,null,null,null,null,null,null,null,"ProBioQAV",{"$f":"('IC Calculado'!$B$39-P46)*Conversões!$D$4*Conversões!$D$3/1000","v":1.7097833007111223},{"$f":"('IC Calculado'!$B$39-Q46)*Conversões!$D$4*Conversões!$D$3/1000","v":1.9047733114127223},{"$f":"('IC Calculado'!$B$39-R46)*Conversões!$D$4*Conversões!$D$3/1000","v":1.9431799210546388}]
[null,null,null,null,null,null,null,null,null,null,null,null,null,null,"ACV Médio Brasil com iLUC",{"$f":"('IC Calculado'!$B$39-P47)*Conversões!$D$4*Conversões!$D$3/1000","v":1.0484921535981291},{"$f":"('IC Calculado'!$B$39-Q47)*Conversões!$D$4*Conversões!$D$3/1000","v":1.5223311030907205},{"$f":"('IC Calculado'!$B$39-R47)*Conversões!$D$4*Conversões!$D$3/1000","v":1.6198424176551283}]
[null,null,null,null,null,null,null,null,null,null,null,null,null,null,"ACV Médio Brasil sem iLUC",{"$f":"('IC Calculado'!$B$39-P48)*Conversões!$D$4*Conversões!$D$3/1000","v":1.9872139376612243},{"$f":"('IC Calculado'!$B$39-Q48)*Conversões!$D$4*Conversões!$D$3/1000","v":1.9047733114127223},{"$f":"('IC Calculado'!$B$39-R48)*Conversões!$D$4*Conversões!$D$3/1000","v":1.9431799210546388}]
[null,null,null,null,null,null,null,null,null,null,null,null,null,null,"Valor próprio",{"$f":"('IC Calculado'!$B$39-P49)*Conversões!$D$4*Conversões!$D$3/1000","v":3.0943051400598316},{"$f":"('IC Calculado'!$B$39-Q49)*Conversões!$D$4*Conversões!$D$3/1000","v":3.0943051400598316},{"$f":"('IC Calculado'!$B$39-R49)*Conversões!$D$4*Conversões!$D$3/1000","v":3.0943051400598316}]
[null,null,null,null,null,null,null,null,null,null,null,null,null,null,"CO2 evitado (kgCO2eq / l Diesel)","HEFA","ATJ Cana de açúcar","ATJ Milho de 2a safra 1G"]
[null,null,null,null,null,null,null,null,null,null,null,null,null,null,"CORSIA default com iLUC",{"$f":"('IC Calculado'!$B$37-P44)*Conversões!$D$8*Conversões!$D$11/1000","v":0.67799585782724181},{"$f":"('IC Calculado'!$B$37-Q44)*Conversões!$D$8*Conversões!$D$11/1000","v":1.2246522039287882},{"$f":"('IC Calculado'!$B$37-R44)*Conversões!$D$8*Conversões!$D$11/1000","v":0.81998451915231874}]
[null,null,null,null,null,null,null,null,null,null,null,null,null,null,"CORSIA default sem iLUC",{"$f":"('IC Calculado'!$B$37-P45)*Conversões!$D$8*Conversões!$D$11/1000","v":1.6364193217715111},{"$f":"('IC Calculado'!$B$37-Q45)*Conversões!$D$8*Conversões!$D$11/1000","v":1.6151210225727495},{"$f":"('IC Calculado'!$B$37-R45)*Conversões!$D$8*Conversões!$D$11/1000","v":1.1501081567331226}]
[null,null,null,null,null,null,null,null,null,null,null,null,null,null,"ProBioQAV",{"$f":"('IC Calculado'!$B$37-P46)*Conversões!$D$8*Conversões!$D$11/1000","v":1.6569249314818251},{"$f":"('IC Calculado'!$B$37-Q46)*Conversões!$D$8*Conversões!$D$11/1000","v":1.8560073483000081},{"$f":"('IC Calculado'!$B$37-R46)*Conversões!$D$8*Conversões!$D$11/1000","v":1.8952200271536257}]
[null,null,null,null,null,null,null,null,null,null,null,null,null,null,"ACV Médio Brasil com iLUC",{"$f":"('IC Calculado'!$B$37-P47)*Conversões!$D$8*Conversões!$D$11/1000","v":0.98175475576859794},{"$f":"('IC Calculado'!$B$37-Q47)*Conversões!$D$8*Conversões!$D$11/1000","v":1.4655385296560466},{"$f":"('IC Calculado'!$B$37-R47)*Conversões!$D$8*Conversões!$D$11/1000","v":1.565096389572822}]
[null,null,null,null,null,null,null,null,null,null,null,null,null,null,"ACV Médio Brasil sem iLUC",{"$f":"('IC Calculado'!$B$37-P48)*Conversões!$D$8*Conversões!$D$11/1000","v":1.9401782197128665},{"$f":"('IC Calculado'!$B$37-Q48)*Conversões!$D$8*Conversões!$D$11/1000","v":1.8560073483000081},{"$f":"('IC Calculado'!$B$37-R48)*Conversões!$D$8*Conversões!$D$11/1000","v":1.8952200271536257}]
[null,null,null,null,null,null,null,null,null,null,null,null,null,null,"Valor próprio",{"$f":"('IC Calculado'!$B$37-P49)*Conversões!$D$8*Conversões!$D$11/1000","v":3.0705048011547875},{"$f":"('IC Calculado'!$B$37-Q49)*Conversões!$D$8*Conversões!$D$11/1000","v":3.0705048011547875},{"$f":"('IC Calculado'!$B$37-R49)*Conversões!$D$8*Conversões!$D$11/1000","v":3.0705048011547875}]
[null,null,null,null,null,null,null,null,null,null,null,null,null,null,"CO2 evitado (kgCO2eq / l nafta)","HEFA","ATJ Cana de açúcar","ATJ Milho de 2a safra 1G"]
[null,null,null,null,null,null,null,null,null,null,null,null,null,null,"CORSIA default com iLUC",{"$f":"('IC Calculado'!$B$38-P44)*Conversões!$D$12*Conversões!$D$9/1000","v":0.62444384008702736},{"$f":"('IC Calculado'!$B$38-Q44)*Conversões!$D$12*Conversões!$D$9/1000","v":1.1052655969540388},{"$f":"('IC Calculado'!$B$38-R44)*Conversões!$D$12*Conversões!$D$9/1000","v":0.74933260810443292}]
[null,null,null,null,null,null,null,null,null,null,null,null,null,null,"CORSIA default sem iLUC",{"$f":"('IC Calculado'!$B$38-P45)*Conversões!$D$12*Conversões!$D$9/1000","v":1.4674430242045144},{"$f":"('IC Calculado'!$B$38-Q45)*Conversões!$D$12*Conversões!$D$9/1000","v":1.4487097090019037},{"$f":"('IC Calculado'!$B$38-R45)*Conversões!$D$12*Conversões!$D$9/1000","v":1.0396989937449006}]
[null,null,null,null,null,null,null,null,null,null,null,null,null,null,"ProBioQAV",{"$f":"('IC Calculado'!$B$38-P46)*Conversões!$D$12*Conversões!$D$9/1000","v":1.4854791146237611},{"$f":"('IC Calculado'!$B$38-Q46)*Conversões!$D$12*Conversões!$D$9/1000","v":1.6605857572128295},{"$f":"('IC Calculado'!$B$38-R46)*Conversões!$D$12*Conversões!$D$9/1000","v":1.6950759982432626}]
[null,null,null,null,null,null,null,null,null,null,null,null,null,null,"ACV Médio Brasil com iLUC",{"$f":"('IC Calculado'!$B$38-P47)*Conversões!$D$12*Conversões!$D$9/1000","v":0.89162062860091973},{"$f":"('IC Calculado'!$B$38-Q47)*Conversões!$D$12*Conversões!$D$9/1000","v":1.3171416451649642},{"$f":"('IC Calculado'!$B$38-R47)*Conversões!$D$12*Conversões!$D$9/1000","v":1.4047096126027949}]
[null,null,null,null,null,null,null,null,null,null,null,null,null,null,"ACV Médio Brasil sem iLUC",{"$f":"('IC Calculado'!$B$38-P48)*Conversões!$D$12*Conversões!$D$9/1000","v":1.7346198127184065},{"$f":"('IC Calculado'!$B$38-Q48)*Conversões!$D$12*Conversões!$D$9/1000","v":1.6605857572128295},{"$f":"('IC Calculado'!$B$38-R48)*Conversões!$D$12*Conversões!$D$9/1000","v":1.6950759982432626}]
[null,null,null,null,null,null,null,null,null,null,null,null,null,null,"Valor próprio",{"$f":"('IC Calculado'!$B$38-P49)*Conversões!$D$12*Conversões!$D$9/1000","v":2.7288195811803098},{"$f":"('IC Calculado'!$B$38-Q49)*Conversões!$D$12*Conversões!$D$9/1000","v":2.7288195811803098},{"$f":"('IC Calculado'!$B$38-R49)*Conversões!$D$12*Conversões!$D$9/1000","v":2.7288195811803098}]
[null,null,null,null,null,null,null,null,null,null,null,null,null,null,"CO2 evitado (kgCO2eq / kg GLP)","HEFA","ATJ Cana de açúcar","ATJ Milho de 2a safra 1G"]
[null,null,null,null,null,null,null,null,null,null,null,null,null,null,"CORSIA default com iLUC",{"$f":"('IC Calculado'!$B$40-P44)*Conversões!$D$10/1000","v":0.39940587017007989},{"$f":"('IC Calculado'!$B$40-Q44)*Conversões!$D$10/1000","v":1.1146210330327817},{"$f":"('IC Calculado'!$B$40-R44)*Conversões!$D$10/1000","v":0.58517604234221021}]
[null,null,null,null,null,null,null,null,null,null,null,null,null,null,"CORSIA default sem iLUC",{"$f":"('IC Calculado'!$B$40-P45)*Conversões!$D$10/1000","v":1.6533545323319596},{"$f":"('IC Calculado'!$B$40-Q45)*Conversões!$D$10/1000","v":1.62548900650614},{"$f":"('IC Calculado'!$B$40-R45)*Conversões!$D$10/1000","v":1.0170916926424132}]
[null,null,null,null,null,null,null,null,null,null,null,null,null,null,"ProBioQAV",{"$f":"('IC Calculado'!$B$40-P46)*Conversões!$D$10/1000","v":1.6801829467337142},{"$f":"('IC Calculado'!$B$40-Q46)*Conversões!$D$10/1000","v":1.940651455300644},{"$f":"('IC Calculado'!$B$40-R46)*Conversões!$D$10/1000","v":1.9919551723297757}]
[null,null,null,null,null,null,null,null,null,null,null,null,null,null,"ACV Médio Brasil com iLUC",{"$f":"('IC Calculado'!$B$40-P47)*Conversões!$D$10/1000","v":0.79682734201697414},{"$f":"('IC Calculado'!$B$40-Q47)*Conversões!$D$10/1000","v":1.4297834818272857},{"$f":"('IC Calculado'!$B$40-R47)*Conversões!$D$10/1000","v":1.5600395220295729}]
[null,null,null,null,null,null,null,null,null,null,null,null,null,null,"ACV Médio Brasil sem iLUC",{"$f":"('IC Calculado'!$B$40-P48)*Conversões!$D$10/1000","v":2.0507760041788536},{"$f":"('IC Calculado'!$B$40-Q48)*Conversões!$D$10/1000","v":1.940651455300644},{"$f":"('IC Calculado'!$B$40-R48)*Conversões!$D$10/1000","v":1.9919551723297757}]
[null,null,null,null,null,null,null,null,null,null,null,null,null,null,"Valor próprio",{"$f":"('IC Calculado'!$B$40-P49)*Conversões!$D$10/1000","v":3.5296332712704754},{"$f":"('IC Calculado'!$B$40-Q49)*Conversões!$D$10/1000","v":3.5296332712704754},{"$f":"('IC Calculado'!$B$40-R49)*Conversões!$D$10/1000","v":3.5296332712704754}]

{"sheet":"Conversões","index":14,"n_rows":19,"n_cols":4,"rows_kept":19,"cut":false,"hidden":true,"merged":[]}
["Propriedade","Insumo","Unidade","Valor"]
["Densidade","Óleo de soja","kg/l",0.92162999999999995]
["Densidade","bioQAV","kg/l",0.79900000000000004]
["Poder calorífico","bioQAV","MJ/kg",{"$f":"10400000/D5","v":43.513734022300788}]
["Energia",null,"cal/MJ",239005]
["Densidade","Etanol hidratado","kg/l",0.80900000000000005]
["Poder calorífico","Etanol hidratado","MJ/kg",{"$f":"6300000/D5","v":26.359281186586056}]
["Poder calorífico","Diesel","MJ/kg",{"$f":"10100000/D5","v":42.258530156272883}]
["Poder calorífico","Nafta","MJ/kg",{"$f":"10630000/D5","v":44.476056986255514}]
["Poder calorífico","GLP","MJ/kg",{"$f":"11100000/D5","v":46.442543043032572}]
["Densidade","Diesel","kg/l",0.84]
["Densidade","Nafta","kg/l",0.70199999999999996]
["Densidade","GLP","kg/l",0.55200000000000005]
["Poder calorífico","Gás Natural úmido","MJ/kg",{"$f":"9930000/D5","v":41.547247965523731}]
["Poder calorífico","Cavaco de madeira","MJ/kg",16.12]
["Moeda",null,"R$/$",5.3]
["Densidade","Gás Natural úmido","kg/m³",0.74]
["Volume",null,"gal/l",0.26417200000000002]
["Densidade","Sebo ","kg/l",0.90500000000000003]