Workbook
Name AnoCalendário: Janeiro!$AH$5
Name ChaveFérias: Janeiro!$C$3
Name ChaveLicençaMédica: Janeiro!$L$3
Name ChavePersonalizada1: Janeiro!$P$3
Name ChavePersonalizada2: Janeiro!$U$3
Name ChavePessoal: Janeiro!$F$3
Name Nome_da_chave: Janeiro!$B$3
Name NomeMês: Abril!$B$1
Name NomeMês: Agosto!$B$1
Name NomeMês: Dezembro!$B$1
Name NomeMês: Fevereiro!$B$1
Name NomeMês: Janeiro!$B$1
Name NomeMês: Julho!$B$1
Name NomeMês: Junho!$B$1
Name NomeMês: Maio!$B$3
Name NomeMês: Março!$B$1
Name NomeMês: Novembro!$B$1
Name NomeMês: Outubro!$B$1
Name NomeMês: Setembro!$B$1
Name RótuloChaveLicençaMédica: Janeiro!$M$3
Name RótulodeChavedeFérias: Janeiro!$D$3
Name RótulodeChavePersonalizada1: Janeiro!$Q$3
Name RótulodeChavePersonalizada2: Janeiro!$V$3
Name RótuloDeChavePessoal: Janeiro!$G$3
Name Título_de_Falta_do_Funcionário: Janeiro!#REF!
Name Título1: Janeiro[[#Headers],[Diretor]]
Name Título10: Outubro[[#Headers],[Diretor]]
Name Título11: Novembro[[#Headers],[Diretor]]
Name Título12: Dezembro[[#Headers],[Diretor]]
Name Título2: Fevereiro[[#Headers],[Diretor]]
Name Título3: Março[[#Headers],[Diretor]]
Name Título4: March5[[#Headers],[Diretor]]
Name Título5: March58[[#Headers],[Diretor]]
Name Título6: Junho[[#Headers],[Diretor]]
Name Título7: Julho[[#Headers],[Diretor]]
Name Título8: Agosto[[#Headers],[Diretor]]
Name Título9: Setembro[[#Headers],[Diretor]]
Name TítuloColuna13: NomeDoFuncionário[[#Headers],[Diretor]]

Sheet Janeiro
B1: Janeiro 2027
B3: Legenda | C3: F | D3: Férias | G3: V | H3: Vacância | M3: L | N3: Licença
AH5: 2027
C6: =TEXT(WEEKDAY(DATE(AnoCalendário,1,1),1),"ddd") -> sex | D6: =TEXT(WEEKDAY(DATE(AnoCalendário,1,2),1),"ddd") -> sáb | E6: =TEXT(WEEKDAY(DATE(AnoCalendário,1,3),1),"ddd") -> dom | F6: =TEXT(WEEKDAY(DATE(AnoCalendário,1,4),1),"ddd") -> seg | G6: =TEXT(WEEKDAY(DATE(AnoCalendário,1,5),1),"ddd") -> ter | H6: =TEXT(WEEKDAY(DATE(AnoCalendário,1,6),1),"ddd") -> qua | I6: =TEXT(WEEKDAY(DATE(AnoCalendário,1,7),1),"ddd") -> qui | J6: =TEXT(WEEKDAY(DATE(AnoCalendário,1,8),1),"ddd") -> sex | K6: =TEXT(WEEKDAY(DATE(AnoCalendário,1,9),1),"ddd") -> sáb | L6: =TEXT(WEEKDAY(DATE(AnoCalendário,1,10),1),"ddd") -> dom | M6: =TEXT(WEEKDAY(DATE(AnoCalendário,1,11),1),"ddd") -> seg | N6: =TEXT(WEEKDAY(DATE(AnoCalendário,1,12),1),"ddd") -> ter | O6: =TEXT(WEEKDAY(DATE(AnoCalendário,1,13),1),"ddd") -> qua | P6: =TEXT(WEEKDAY(DATE(AnoCalendário,1,14),1),"ddd") -> qui | Q6: =TEXT(WEEKDAY(DATE(AnoCalendário,1,15),1),"ddd") -> sex | R6: =TEXT(WEEKDAY(DATE(AnoCalendário,1,16),1),"ddd") -> sáb | S6: =TEXT(WEEKDAY(DATE(AnoCalendário,1,17),1),"ddd") -> dom | T6: =TEXT(WEEKDAY(DATE(AnoCalendário,1,18),1),"ddd") -> seg | U6: =TEXT(WEEKDAY(DATE(AnoCalendário,1,19),1),"ddd") -> ter | V6: =TEXT(WEEKDAY(DATE(AnoCalendário,1,20),1),"ddd") -> qua | W6: =TEXT(WEEKDAY(DATE(AnoCalendário,1,21),1),"ddd") -> qui | X6: =TEXT(WEEKDAY(DATE(AnoCalendário,1,22),1),"ddd") -> sex | Y6: =TEXT(WEEKDAY(DATE(AnoCalendário,1,23),1),"ddd") -> sáb | Z6: =TEXT(WEEKDAY(DATE(AnoCalendário,1,24),1),"ddd") -> dom | AA6: =TEXT(WEEKDAY(DATE(AnoCalendário,1,25),1),"ddd") -> seg | AB6: =TEXT(WEEKDAY(DATE(AnoCalendário,1,26),1),"ddd") -> ter | AC6: =TEXT(WEEKDAY(DATE(AnoCalendário,1,27),1),"ddd") -> qua | AD6: =TEXT(WEEKDAY(DATE(AnoCalendário,1,28),1),"ddd") -> qui | AE6: =TEXT(WEEKDAY(DATE(AnoCalendário,1,29),1),"ddd") -> sex | AF6: =TEXT(WEEKDAY(DATE(AnoCalendário,1,30),1),"ddd") -> sáb | AG6: =TEXT(WEEKDAY(DATE(AnoCalendário,1,31),1),"ddd") -> dom
B7: Diretor | C7: 1 | D7: 2 | E7: 3 | F7: 4 | G7: 5 | H7: 6 | I7: 7 | J7: 8 | K7: 9 | L7: 10 | M7: 11 | N7: 12 | O7: 13 | P7: 14 | Q7: 15 | R7: 16 | S7: 17 | T7: 18 | U7: 19 | V7: 20 | W7: 21 | X7: 22 | Y7: 23 | Z7: 24 | AA7: 25 | AB7: 26 | AC7: 27 | AD7: 28 | AE7: 29 | AF7: 30 | AG7: 31 | AH7: Total de dias
B8: Thiago Guilherme Ferreira Prado | F8: F | G8: F | H8: F | I8: F | J8: F | K8: F | L8: F | M8: F | N8: F | O8: F | P8: F | Q8: F | R8: F | S8: F | T8: F | U8: F | V8: F | W8: F | X8: F | AH8: =COUNTA(Janeiro!$C8:$AG8) -> 19
J9: DCA nº 01/329ª - Subst: Reinaldo de 04 a 22/01
B10: Reinaldo da Cruz Garcia | AH10: =COUNTA(Janeiro!$C10:$AG10) -> 0
B12: Carlos Eduardo Cabral Carvalho | C12: F | D12: F | E12: F | F12: F | G12: F | H12: F | I12: F | J12: F | K12: F | L12: F | M12: F | N12: F | O12: F | P12: F | AH12: =COUNTA(Janeiro!$C12:$AG12) -> 14
C13: RP nº 47/2026 - Subst: Ivanoski de 28/12/2026 a 14/01/2027
B14: Thiago Guilherme Ferreira Prado (Interino) | AH14: =COUNTA(Janeiro!$C14:$AG14) -> 0
B16: Thiago Ivanoski Teixeira | AH16: =COUNTA(Janeiro!$C16:$AG16) -> 0
B18: Total de afastamentos | C18: =COUNTA(C8,C10,C12,C14,C16) -> 1 | D18: =COUNTA(D8,D10,D12,D14,D16) -> 1 | E18: =COUNTA(E8,E10,E12,E14,E16) -> 1 | F18: =COUNTA(F8,F10,F12,F14,F16) -> 2 | G18: =COUNTA(G8,G10,G12,G14,G16) -> 2 | H18: =COUNTA(H8,H10,H12,H14,H16) -> 2 | I18: =COUNTA(I8,I10,I12,I14,I16) -> 2 | J18: =COUNTA(J8,J10,J12,J14,J16) -> 2 | ... AG18: =COUNTA(AG8,AG10,AG12,AG14,AG16) -> 0

Sheet Fevereiro
A1: Fevereiro 2027
B3: Legenda | C3: F | D3: Férias | G3: V | H3: Vacância | M3: L | N3: Licença
AF5: 2027
C6: =TEXT(WEEKDAY(DATE(AnoCalendário,2,1),1),"ddd") -> seg | D6: =TEXT(WEEKDAY(DATE(AnoCalendário,2,2),1),"ddd") -> ter | E6: =TEXT(WEEKDAY(DATE(AnoCalendário,2,3),1),"ddd") -> qua | F6: =TEXT(WEEKDAY(DATE(AnoCalendário,2,4),1),"ddd") -> qui | G6: =TEXT(WEEKDAY(DATE(AnoCalendário,2,5),1),"ddd") -> sex | H6: =TEXT(WEEKDAY(DATE(AnoCalendário,2,6),1),"ddd") -> sáb | I6: =TEXT(WEEKDAY(DATE(AnoCalendário,2,7),1),"ddd") -> dom | J6: =TEXT(WEEKDAY(DATE(AnoCalendário,2,8),1),"ddd") -> seg | K6: =TEXT(WEEKDAY(DATE(AnoCalendário,2,9),1),"ddd") -> ter | L6: =TEXT(WEEKDAY(DATE(AnoCalendário,2,10),1),"ddd") -> qua | M6: =TEXT(WEEKDAY(DATE(AnoCalendário,2,11),1),"ddd") -> qui | N6: =TEXT(WEEKDAY(DATE(AnoCalendário,2,12),1),"ddd") -> sex | O6: =TEXT(WEEKDAY(DATE(AnoCalendário,2,13),1),"ddd") -> sáb | P6: =TEXT(WEEKDAY(DATE(AnoCalendário,2,14),1),"ddd") -> dom | Q6: =TEXT(WEEKDAY(DATE(AnoCalendário,2,15),1),"ddd") -> seg | R6: =TEXT(WEEKDAY(DATE(AnoCalendário,2,16),1),"ddd") -> ter | S6: =TEXT(WEEKDAY(DATE(AnoCalendário,2,17),1),"ddd") -> qua | T6: =TEXT(WEEKDAY(DATE(AnoCalendário,2,18),1),"ddd") -> qui | U6: =TEXT(WEEKDAY(DATE(AnoCalendário,2,19),1),"ddd") -> sex | V6: =TEXT(WEEKDAY(DATE(AnoCalendário,2,20),1),"ddd") -> sáb | W6: =TEXT(WEEKDAY(DATE(AnoCalendário,2,21),1),"ddd") -> dom | X6: =TEXT(WEEKDAY(DATE(AnoCalendário,2,22),1),"ddd") -> seg | Y6: =TEXT(WEEKDAY(DATE(AnoCalendário,2,23),1),"ddd") -> ter | Z6: =TEXT(WEEKDAY(DATE(AnoCalendário,2,24),1),"ddd") -> qua | AA6: =TEXT(WEEKDAY(DATE(AnoCalendário,2,25),1),"ddd") -> qui | AB6: =TEXT(WEEKDAY(DATE(AnoCalendário,2,26),1),"ddd") -> sex | AC6: =TEXT(WEEKDAY(DATE(AnoCalendário,2,27),1),"ddd") -> sáb | AD6: =TEXT(WEEKDAY(DATE(AnoCalendário,2,28),1),"ddd") -> dom | AE6: =TEXT(WEEKDAY(DATE(AnoCalendário,2,29),1),"ddd") -> seg
B7: Diretor | C7: 1 | D7: 2 | E7: 3 | F7: 4 | G7: 5 | H7: 6 | I7: 7 | J7: 8 | K7: 9 | L7: 10 | M7: 11 | N7: 12 | O7: 13 | P7: 14 | Q7: 15 | R7: 16 | S7: 17 | T7: 18 | U7: 19 | V7: 20 | W7: 21 | X7: 22 | Y7: 23 | Z7: 24 | AA7: 25 | AB7: 26 | AC7: 27 | AD7: 28 | AE7: 29 | AF7: Total de dias
B8: Thiago Guilherme Ferreira Prado | AF8: =COUNTA(Fevereiro[[#This Row],[1]:[29]]) -> 0
B10: Reinaldo da Cruz Garcia | AF10: =COUNTA(Fevereiro[[#This Row],[1]:[29]]) -> 0
B12: Carlos Eduardo Cabral Carvalho | AF12: =COUNTA(Fevereiro[[#This Row],[1]:[29]]) -> 0
B14: Thiago Guilherme Ferreira Prado (Interino) | AF14: =COUNTA(Fevereiro[[#This Row],[1]:[29]]) -> 0
B16: Thiago Ivanoski Teixeira | AF16: =COUNTA(Fevereiro[[#This Row],[1]:[29]]) -> 0
B18: Total de afastamentos | C18: =COUNTA(C8,C10,C12,C14,C16) -> 0 | D18: =COUNTA(D8,D10,D12,D14,D16) -> 0 | E18: =COUNTA(E8,E10,E12,E14,E16) -> 0 | F18: =COUNTA(F8,F10,F12,F14,F16) -> 0 | G18: =COUNTA(G8,G10,G12,G14,G16) -> 0 | H18: =COUNTA(H8,H10,H12,H14,H16) -> 0 | I18: =COUNTA(I8,I10,I12,I14,I16) -> 0 | J18: =COUNTA(J8,J10,J12,J14,J16) -> 0 | ... AE18: =COUNTA(AE8,AE10,AE12,AE14,AE16) -> 0

Sheet Março
B1: Março 2027
B3: Legenda | C3: F | D3: Férias | G3: V | H3: Vacância | M3: L | N3: Licença
AH5: 2027
C6: =TEXT(WEEKDAY(DATE(AnoCalendário,3,1),1),"ddd") -> seg | D6: =TEXT(WEEKDAY(DATE(AnoCalendário,3,2),1),"ddd") -> ter | E6: =TEXT(WEEKDAY(DATE(AnoCalendário,3,3),1),"ddd") -> qua | F6: =TEXT(WEEKDAY(DATE(AnoCalendário,3,4),1),"ddd") -> qui | G6: =TEXT(WEEKDAY(DATE(AnoCalendário,3,5),1),"ddd") -> sex | H6: =TEXT(WEEKDAY(DATE(AnoCalendário,3,6),1),"ddd") -> sáb | I6: =TEXT(WEEKDAY(DATE(AnoCalendário,3,7),1),"ddd") -> dom | J6: =TEXT(WEEKDAY(DATE(AnoCalendário,3,8),1),"ddd") -> seg | K6: =TEXT(WEEKDAY(DATE(AnoCalendário,3,9),1),"ddd") -> ter | L6: =TEXT(WEEKDAY(DATE(AnoCalendário,3,10),1),"ddd") -> qua | M6: =TEXT(WEEKDAY(DATE(AnoCalendário,3,11),1),"ddd") -> qui | N6: =TEXT(WEEKDAY(DATE(AnoCalendário,3,12),1),"ddd") -> sex | O6: =TEXT(WEEKDAY(DATE(AnoCalendário,3,13),1),"ddd") -> sáb | P6: =TEXT(WEEKDAY(DATE(AnoCalendário,3,14),1),"ddd") -> dom | Q6: =TEXT(WEEKDAY(DATE(AnoCalendário,3,15),1),"ddd") -> seg | R6: =TEXT(WEEKDAY(DATE(AnoCalendário,3,16),1),"ddd") -> ter | S6: =TEXT(WEEKDAY(DATE(AnoCalendário,3,17),1),"ddd") -> qua | T6: =TEXT(WEEKDAY(DATE(AnoCalendário,3,18),1),"ddd") -> qui | U6: =TEXT(WEEKDAY(DATE(AnoCalendário,3,19),1),"ddd") -> sex | V6: =TEXT(WEEKDAY(DATE(AnoCalendário,3,20),1),"ddd") -> sáb | W6: =TEXT(WEEKDAY(DATE(AnoCalendário,3,21),1),"ddd") -> dom | X6: =TEXT(WEEKDAY(DATE(AnoCalendário,3,22),1),"ddd") -> seg | Y6: =TEXT(WEEKDAY(DATE(AnoCalendário,3,23),1),"ddd") -> ter | Z6: =TEXT(WEEKDAY(DATE(AnoCalendário,3,24),1),"ddd") -> qua | AA6: =TEXT(WEEKDAY(DATE(AnoCalendário,3,25),1),"ddd") -> qui | AB6: =TEXT(WEEKDAY(DATE(AnoCalendário,3,26),1),"ddd") -> sex | AC6: =TEXT(WEEKDAY(DATE(AnoCalendário,3,27),1),"ddd") -> sáb | AD6: =TEXT(WEEKDAY(DATE(AnoCalendário,3,28),1),"ddd") -> dom | AE6: =TEXT(WEEKDAY(DATE(AnoCalendário,3,29),1),"ddd") -> seg | AF6: =TEXT(WEEKDAY(DATE(AnoCalendário,3,30),1),"ddd") -> ter | AG6: =TEXT(WEEKDAY(DATE(AnoCalendário,3,31),1),"ddd") -> qua
B7: Diretor | C7: 1 | D7: 2 | E7: 3 | F7: 4 | G7: 5 | H7: 6 | I7: 7 | J7: 8 | K7: 9 | L7: 10 | M7: 11 | N7: 12 | O7: 13 | P7: 14 | Q7: 15 | R7: 16 | S7: 17 | T7: 18 | U7: 19 | V7: 20 | W7: 21 | X7: 22 | Y7: 23 | Z7: 24 | AA7: 25 | AB7: 26 | AC7: 27 | AD7: 28 | AE7: 29 | AF7: 30 | AG7: 31 | AH7: Total de dias
B8: Thiago Guilherme Ferreira Prado | AH8: =COUNTA(Março[[#This Row],[1]:[31]]) -> 0
B10: Reinaldo da Cruz Garcia | AH10: =COUNTA(Março[[#This Row],[1]:[31]]) -> 0
B12: Carlos Eduardo Cabral Carvalho | AH12: =COUNTA(Março[[#This Row],[1]:[31]]) -> 0
B14: Thiago Guilherme Ferreira Prado (Interino) | AH14: =COUNTA(Março[[#This Row],[1]:[31]]) -> 0
B16: Thiago Ivanoski Teixeira | AH16: =COUNTA(Março[[#This Row],[1]:[31]]) -> 0
B18: Total de afastamentos | C18: =COUNTA(C8,C10,C12,C14,C16) -> 0 | D18: =COUNTA(D8,D10,D12,D14,D16) -> 0 | E18: =COUNTA(E8,E10,E12,E14,E16) -> 0 | F18: =COUNTA(F8,F10,F12,F14,F16) -> 0 | G18: =COUNTA(G8,G10,G12,G14,G16) -> 0 | H18: =COUNTA(H8,H10,H12,H14,H16) -> 0 | I18: =COUNTA(I8,I10,I12,I14,I16) -> 0 | J18: =COUNTA(J8,J10,J12,J14,J16) -> 0 | ... AG18: =COUNTA(AG8,AG10,AG12,AG14,AG16) -> 0 | AH18: =SUBTOTAL(109,Março[Total de dias]) -> 0

Sheet Abril
B1: Abril 2027
B3: Legenda | C3: F | D3: Férias | G3: V | H3: Vacância | M3: L | N3: Licença
AG5: 2027
C6: =TEXT(WEEKDAY(DATE(AnoCalendário,4,1),1),"ddd") -> qui | D6: =TEXT(WEEKDAY(DATE(AnoCalendário,4,2),1),"ddd") -> sex | E6: =TEXT(WEEKDAY(DATE(AnoCalendário,4,3),1),"ddd") -> sáb | F6: =TEXT(WEEKDAY(DATE(AnoCalendário,4,4),1),"ddd") -> dom | G6: =TEXT(WEEKDAY(DATE(AnoCalendário,4,5),1),"ddd") -> seg | H6: =TEXT(WEEKDAY(DATE(AnoCalendário,4,6),1),"ddd") -> ter | I6: =TEXT(WEEKDAY(DATE(AnoCalendário,4,7),1),"ddd") -> qua | J6: =TEXT(WEEKDAY(DATE(AnoCalendário,4,8),1),"ddd") -> qui | K6: =TEXT(WEEKDAY(DATE(AnoCalendário,4,9),1),"ddd") -> sex | L6: =TEXT(WEEKDAY(DATE(AnoCalendário,4,10),1),"ddd") -> sáb | M6: =TEXT(WEEKDAY(DATE(AnoCalendário,4,11),1),"ddd") -> dom | N6: =TEXT(WEEKDAY(DATE(AnoCalendário,4,12),1),"ddd") -> seg | O6: =TEXT(WEEKDAY(DATE(AnoCalendário,4,13),1),"ddd") -> ter | P6: =TEXT(WEEKDAY(DATE(AnoCalendário,4,14),1),"ddd") -> qua | Q6: =TEXT(WEEKDAY(DATE(AnoCalendário,4,15),1),"ddd") -> qui | R6: =TEXT(WEEKDAY(DATE(AnoCalendário,4,16),1),"ddd") -> sex | S6: =TEXT(WEEKDAY(DATE(AnoCalendário,4,17),1),"ddd") -> sáb | T6: =TEXT(WEEKDAY(DATE(AnoCalendário,4,18),1),"ddd") -> dom | U6: =TEXT(WEEKDAY(DATE(AnoCalendário,4,19),1),"ddd") -> seg | V6: =TEXT(WEEKDAY(DATE(AnoCalendário,4,20),1),"ddd") -> ter | W6: =TEXT(WEEKDAY(DATE(AnoCalendário,4,21),1),"ddd") -> qua | X6: =TEXT(WEEKDAY(DATE(AnoCalendário,4,22),1),"ddd") -> qui | Y6: =TEXT(WEEKDAY(DATE(AnoCalendário,4,23),1),"ddd") -> sex | Z6: =TEXT(WEEKDAY(DATE(AnoCalendário,4,24),1),"ddd") -> sáb | AA6: =TEXT(WEEKDAY(DATE(AnoCalendário,4,25),1),"ddd") -> dom | AB6: =TEXT(WEEKDAY(DATE(AnoCalendário,4,26),1),"ddd") -> seg | AC6: =TEXT(WEEKDAY(DATE(AnoCalendário,4,27),1),"ddd") -> ter | AD6: =TEXT(WEEKDAY(DATE(AnoCalendário,4,28),1),"ddd") -> qua | AE6: =TEXT(WEEKDAY(DATE(AnoCalendário,4,29),1),"ddd") -> qui | AF6: =TEXT(WEEKDAY(DATE(AnoCalendário,4,30),1),"ddd") -> sex
B7: Diretor | C7: 1 | D7: 2 | E7: 3 | F7: 4 | G7: 5 | H7: 6 | I7: 7 | J7: 8 | K7: 9 | L7: 10 | M7: 11 | N7: 12 | O7: 13 | P7: 14 | Q7: 15 | R7: 16 | S7: 17 | T7: 18 | U7: 19 | V7: 20 | W7: 21 | X7: 22 | Y7: 23 | Z7: 24 | AA7: 25 | AB7: 26 | AC7: 27 | AD7: 28 | AE7: 29 | AF7: 30 | AG7: Total de dias
B8: Thiago Guilherme Ferreira Prado | AG8: =COUNTA(March5[[#This Row],[1]:[30]]) -> 0
B10: Reinaldo da Cruz Garcia | AG10: =COUNTA(March5[[#This Row],[1]:[30]]) -> 0
B12: Carlos Eduardo Cabral Carvalho | AG12: =COUNTA(March5[[#This Row],[1]:[30]]) -> 0
B14: Thiago Guilherme Ferreira Prado (Interino) | AG14: =COUNTA(March5[[#This Row],[1]:[30]]) -> 0
B16: Thiago Ivanoski Teixeira | AG16: =COUNTA(March5[[#This Row],[1]:[30]]) -> 0
B18: Total de afastamentos | C18: =COUNTA(C8,C10,C12,C14,C16) -> 0 | D18: =COUNTA(D8,D10,D12,D14,D16) -> 0 | E18: =COUNTA(E8,E10,E12,E14,E16) -> 0 | F18: =COUNTA(F8,F10,F12,F14,F16) -> 0 | G18: =COUNTA(G8,G10,G12,G14,G16) -> 0 | H18: =COUNTA(H8,H10,H12,H14,H16) -> 0 | I18: =COUNTA(I8,I10,I12,I14,I16) -> 0 | J18: =COUNTA(J8,J10,J12,J14,J16) -> 0 | ... AF18: =COUNTA(AF8,AF10,AF12,AF14,AF16) -> 0

Sheet Maio
B1: Maio 2027
B3: Legenda | C3: F | D3: Férias | G3: V | H3: Vacância | M3: L | N3: Licença
AH5: 2027
C6: =TEXT(WEEKDAY(DATE(AnoCalendário,5,1),1),"ddd") -> sáb | D6: =TEXT(WEEKDAY(DATE(AnoCalendário,5,2),1),"ddd") -> dom | E6: =TEXT(WEEKDAY(DATE(AnoCalendário,5,3),1),"ddd") -> seg | F6: =TEXT(WEEKDAY(DATE(AnoCalendário,5,4),1),"ddd") -> ter | G6: =TEXT(WEEKDAY(DATE(AnoCalendário,5,5),1),"ddd") -> qua | H6: =TEXT(WEEKDAY(DATE(AnoCalendário,5,6),1),"ddd") -> qui | I6: =TEXT(WEEKDAY(DATE(AnoCalendário,5,7),1),"ddd") -> sex | J6: =TEXT(WEEKDAY(DATE(AnoCalendário,5,8),1),"ddd") -> sáb | K6: =TEXT(WEEKDAY(DATE(AnoCalendário,5,9),1),"ddd") -> dom | L6: =TEXT(WEEKDAY(DATE(AnoCalendário,5,10),1),"ddd") -> seg | M6: =TEXT(WEEKDAY(DATE(AnoCalendário,5,11),1),"ddd") -> ter | N6: =TEXT(WEEKDAY(DATE(AnoCalendário,5,12),1),"ddd") -> qua | O6: =TEXT(WEEKDAY(DATE(AnoCalendário,5,13),1),"ddd") -> qui | P6: =TEXT(WEEKDAY(DATE(AnoCalendário,5,14),1),"ddd") -> sex | Q6: =TEXT(WEEKDAY(DATE(AnoCalendário,5,15),1),"ddd") -> sáb | R6: =TEXT(WEEKDAY(DATE(AnoCalendário,5,16),1),"ddd") -> dom | S6: =TEXT(WEEKDAY(DATE(AnoCalendário,5,17),1),"ddd") -> seg | T6: =TEXT(WEEKDAY(DATE(AnoCalendário,5,18),1),"ddd") -> ter | U6: =TEXT(WEEKDAY(DATE(AnoCalendário,5,19),1),"ddd") -> qua | V6: =TEXT(WEEKDAY(DATE(AnoCalendário,5,20),1),"ddd") -> qui | W6: =TEXT(WEEKDAY(DATE(AnoCalendário,5,21),1),"ddd") -> sex | X6: =TEXT(WEEKDAY(DATE(AnoCalendário,5,22),1),"ddd") -> sáb | Y6: =TEXT(WEEKDAY(DATE(AnoCalendário,5,23),1),"ddd") -> dom | Z6: =TEXT(WEEKDAY(DATE(AnoCalendário,5,24),1),"ddd") -> seg | AA6: =TEXT(WEEKDAY(DATE(AnoCalendário,5,25),1),"ddd") -> ter | AB6: =TEXT(WEEKDAY(DATE(AnoCalendário,5,26),1),"ddd") -> qua | AC6: =TEXT(WEEKDAY(DATE(AnoCalendário,5,27),1),"ddd") -> qui | AD6: =TEXT(WEEKDAY(DATE(AnoCalendário,5,28),1),"ddd") -> sex | AE6: =TEXT(WEEKDAY(DATE(AnoCalendário,5,29),1),"ddd") -> sáb | AF6: =TEXT(WEEKDAY(DATE(AnoCalendário,5,30),1),"ddd") -> dom | AG6: =TEXT(WEEKDAY(DATE(AnoCalendário,5,31),1),"ddd") -> seg
B7: Diretor | C7: 1 | D7: 2 | E7: 3 | F7: 4 | G7: 5 | H7: 6 | I7: 7 | J7: 8 | K7: 9 | L7: 10 | M7: 11 | N7: 12 | O7: 13 | P7: 14 | Q7: 15 | R7: 16 | S7: 17 | T7: 18 | U7: 19 | V7: 20 | W7: 21 | X7: 22 | Y7: 23 | Z7: 24 | AA7: 25 | AB7: 26 | AC7: 27 | AD7: 28 | AE7: 29 | AF7: 30 | AG7: 31 | AH7: Total de dias
B8: Thiago Guilherme Ferreira Prado | AH8: =COUNTA(March58[[#This Row],[1]:[31]]) -> 0
B10: Reinaldo da Cruz Garcia | AH10: =COUNTA(March58[[#This Row],[1]:[31]]) -> 0
B12: Carlos Eduardo Cabral Carvalho | AH12: =COUNTA(March58[[#This Row],[1]:[31]]) -> 0
B14: Thiago Guilherme Ferreira Prado (Interino) | AH14: =COUNTA(March58[[#This Row],[1]:[31]]) -> 0
B16: Thiago Ivanoski Teixeira | AH16: =COUNTA(March58[[#This Row],[1]:[31]]) -> 0
B18: Total de afastamentos | C18: =COUNTA(C8,C10,C12,C14,C16) -> 0 | D18: =COUNTA(D8,D10,D12,D14,D16) -> 0 | E18: =COUNTA(E8,E10,E12,E14,E16) -> 0 | F18: =COUNTA(F8,F10,F12,F14,F16) -> 0 | G18: =COUNTA(G8,G10,G12,G14,G16) -> 0 | H18: =COUNTA(H8,H10,H12,H14,H16) -> 0 | I18: =COUNTA(I8,I10,I12,I14,I16) -> 0 | J18: =COUNTA(J8,J10,J12,J14,J16) -> 0 | ... AG18: =COUNTA(AG8,AG10,AG12,AG14,AG16) -> 0

Sheet Junho
B1: Junho 2027
B3: Legenda | C3: F | D3: Férias | G3: V | H3: Vacância | M3: L | N3: Licença
AG5: 2027
C6: =TEXT(WEEKDAY(DATE(AnoCalendário,6,1),1),"ddd") -> ter | D6: =TEXT(WEEKDAY(DATE(AnoCalendário,6,2),1),"ddd") -> qua | E6: =TEXT(WEEKDAY(DATE(AnoCalendário,6,3),1),"ddd") -> qui | F6: =TEXT(WEEKDAY(DATE(AnoCalendário,6,4),1),"ddd") -> sex | G6: =TEXT(WEEKDAY(DATE(AnoCalendário,6,5),1),"ddd") -> sáb | H6: =TEXT(WEEKDAY(DATE(AnoCalendário,6,6),1),"ddd") -> dom | I6: =TEXT(WEEKDAY(DATE(AnoCalendário,6,7),1),"ddd") -> seg | J6: =TEXT(WEEKDAY(DATE(AnoCalendário,6,8),1),"ddd") -> ter | K6: =TEXT(WEEKDAY(DATE(AnoCalendário,6,9),1),"ddd") -> qua | L6: =TEXT(WEEKDAY(DATE(AnoCalendário,6,10),1),"ddd") -> qui | M6: =TEXT(WEEKDAY(DATE(AnoCalendário,6,11),1),"ddd") -> sex | N6: =TEXT(WEEKDAY(DATE(AnoCalendário,6,12),1),"ddd") -> sáb | O6: =TEXT(WEEKDAY(DATE(AnoCalendário,6,13),1),"ddd") -> dom | P6: =TEXT(WEEKDAY(DATE(AnoCalendário,6,14),1),"ddd") -> seg | Q6: =TEXT(WEEKDAY(DATE(AnoCalendário,6,15),1),"ddd") -> ter | R6: =TEXT(WEEKDAY(DATE(AnoCalendário,6,16),1),"ddd") -> qua | S6: =TEXT(WEEKDAY(DATE(AnoCalendário,6,17),1),"ddd") -> qui | T6: =TEXT(WEEKDAY(DATE(AnoCalendário,6,18),1),"ddd") -> sex | U6: =TEXT(WEEKDAY(DATE(AnoCalendário,6,19),1),"ddd") -> sáb | V6: =TEXT(WEEKDAY(DATE(AnoCalendário,6,20),1),"ddd") -> dom | W6: =TEXT(WEEKDAY(DATE(AnoCalendário,6,21),1),"ddd") -> seg | X6: =TEXT(WEEKDAY(DATE(AnoCalendário,6,22),1),"ddd") -> ter | Y6: =TEXT(WEEKDAY(DATE(AnoCalendário,6,23),1),"ddd") -> qua | Z6: =TEXT(WEEKDAY(DATE(AnoCalendário,6,24),1),"ddd") -> qui | AA6: =TEXT(WEEKDAY(DATE(AnoCalendário,6,25),1),"ddd") -> sex | AB6: =TEXT(WEEKDAY(DATE(AnoCalendário,6,26),1),"ddd") -> sáb | AC6: =TEXT(WEEKDAY(DATE(AnoCalendário,6,27),1),"ddd") -> dom | AD6: =TEXT(WEEKDAY(DATE(AnoCalendário,6,28),1),"ddd") -> seg | AE6: =TEXT(WEEKDAY(DATE(AnoCalendário,6,29),1),"ddd") -> ter | AF6: =TEXT(WEEKDAY(DATE(AnoCalendário,6,30),1),"ddd") -> qua
B7: Diretor | C7: 1 | D7: 2 | E7: 3 | F7: 4 | G7: 5 | H7: 6 | I7: 7 | J7: 8 | K7: 9 | L7: 10 | M7: 11 | N7: 12 | O7: 13 | P7: 14 | Q7: 15 | R7: 16 | S7: 17 | T7: 18 | U7: 19 | V7: 20 | W7: 21 | X7: 22 | Y7: 23 | Z7: 24 | AA7: 25 | AB7: 26 | AC7: 27 | AD7: 28 | AE7: 29 | AF7: 30 | AG7: Total de dias
B8: Thiago Guilherme Ferreira Prado | AG8: =COUNTA(Junho[[#This Row],[1]:[30]]) -> 0
B10: Reinaldo da Cruz Garcia | AG10: =COUNTA(Junho[[#This Row],[1]:[30]]) -> 0
B12: Carlos Eduardo Cabral Carvalho | AG12: =COUNTA(Junho[[#This Row],[1]:[30]]) -> 0
B14: Thiago Guilherme Ferreira Prado (Interino) | AG14: =COUNTA(Junho[[#This Row],[1]:[30]]) -> 0
B16: Thiago Ivanoski Teixeira | AG16: =COUNTA(Junho[[#This Row],[1]:[30]]) -> 0
B18: Total de afastamentos | C18: =COUNTA(C8,C10,C12,C14,C16) -> 0 | D18: =COUNTA(D8,D10,D12,D14,D16) -> 0 | E18: =COUNTA(E8,E10,E12,E14,E16) -> 0 | F18: =COUNTA(F8,F10,F12,F14,F16) -> 0 | G18: =COUNTA(G8,G10,G12,G14,G16) -> 0 | H18: =COUNTA(H8,H10,H12,H14,H16) -> 0 | I18: =COUNTA(I8,I10,I12,I14,I16) -> 0 | J18: =COUNTA(J8,J10,J12,J14,J16) -> 0 | ... AF18: =COUNTA(AF8,AF10,AF12,AF14,AF16) -> 0

Sheet Julho
B1: Julho 2027
B3: Legenda | C3: F | D3: Férias | G3: V | H3: Vacância | M3: L | N3: Licença
AH5: =AnoCalendário -> 2027
C6: =TEXT(WEEKDAY(DATE(AnoCalendário,7,1),1),"ddd") -> qui | D6: =TEXT(WEEKDAY(DATE(AnoCalendário,7,2),1),"ddd") -> sex | E6: =TEXT(WEEKDAY(DATE(AnoCalendário,7,3),1),"ddd") -> sáb | F6: =TEXT(WEEKDAY(DATE(AnoCalendário,7,4),1),"ddd") -> dom | G6: =TEXT(WEEKDAY(DATE(AnoCalendário,7,5),1),"ddd") -> seg | H6: =TEXT(WEEKDAY(DATE(AnoCalendário,7,6),1),"ddd") -> ter | I6: =TEXT(WEEKDAY(DATE(AnoCalendário,7,7),1),"ddd") -> qua | J6: =TEXT(WEEKDAY(DATE(AnoCalendário,7,8),1),"ddd") -> qui | K6: =TEXT(WEEKDAY(DATE(AnoCalendário,7,9),1),"ddd") -> sex | L6: =TEXT(WEEKDAY(DATE(AnoCalendário,7,10),1),"ddd") -> sáb | M6: =TEXT(WEEKDAY(DATE(AnoCalendário,7,11),1),"ddd") -> dom | N6: =TEXT(WEEKDAY(DATE(AnoCalendário,7,12),1),"ddd") -> seg | O6: =TEXT(WEEKDAY(DATE(AnoCalendário,7,13),1),"ddd") -> ter | P6: =TEXT(WEEKDAY(DATE(AnoCalendário,7,14),1),"ddd") -> qua | Q6: =TEXT(WEEKDAY(DATE(AnoCalendário,7,15),1),"ddd") -> qui | R6: =TEXT(WEEKDAY(DATE(AnoCalendário,7,16),1),"ddd") -> sex | S6: =TEXT(WEEKDAY(DATE(AnoCalendário,7,17),1),"ddd") -> sáb | T6: =TEXT(WEEKDAY(DATE(AnoCalendário,7,18),1),"ddd") -> dom | U6: =TEXT(WEEKDAY(DATE(AnoCalendário,7,19),1),"ddd") -> seg | V6: =TEXT(WEEKDAY(DATE(AnoCalendário,7,20),1),"ddd") -> ter | W6: =TEXT(WEEKDAY(DATE(AnoCalendário,7,21),1),"ddd") -> qua | X6: =TEXT(WEEKDAY(DATE(AnoCalendário,7,22),1),"ddd") -> qui | Y6: =TEXT(WEEKDAY(DATE(AnoCalendário,7,23),1),"ddd") -> sex | Z6: =TEXT(WEEKDAY(DATE(AnoCalendário,7,24),1),"ddd") -> sáb | AA6: =TEXT(WEEKDAY(DATE(AnoCalendário,7,25),1),"ddd") -> dom | AB6: =TEXT(WEEKDAY(DATE(AnoCalendário,7,26),1),"ddd") -> seg | AC6: =TEXT(WEEKDAY(DATE(AnoCalendário,7,27),1),"ddd") -> ter | AD6: =TEXT(WEEKDAY(DATE(AnoCalendário,7,28),1),"ddd") -> qua | AE6: =TEXT(WEEKDAY(DATE(AnoCalendário,7,29),1),"ddd") -> qui | AF6: =TEXT(WEEKDAY(DATE(AnoCalendário,7,30),1),"ddd") -> sex | AG6: =TEXT(WEEKDAY(DATE(AnoCalendário,7,31),1),"ddd") -> sáb
B7: Diretor | C7: 1 | D7: 2 | E7: 3 | F7: 4 | G7: 5 | H7: 6 | I7: 7 | J7: 8 | K7: 9 | L7: 10 | M7: 11 | N7: 12 | O7: 13 | P7: 14 | Q7: 15 | R7: 16 | S7: 17 | T7: 18 | U7: 19 | V7: 20 | W7: 21 | X7: 22 | Y7: 23 | Z7: 24 | AA7: 25 | AB7: 26 | AC7: 27 | AD7: 28 | AE7: 29 | AF7: 30 | AG7: 31 | AH7: Total de dias
B8: Thiago Guilherme Ferreira Prado | G8: F | H8: F | I8: F | J8: F | K8: F | L8: F | M8: F | N8: F | O8: F | P8: F | Q8: F | R8: F | S8: F | T8: F | U8: F | V8: F | W8: F | X8: F | Y8: F | Z8: F | AA8: F | AB8: F | AC8: F | AD8: F | AH8: =COUNTA(Julho[[#This Row],[1]:[31]]) -> 24
O9: DCA nº 01/329ª - Subst: Cabral de 05 a 28/07
B10: Reinaldo da Cruz Garcia | AH10: =COUNTA(Julho[[#This Row],[1]:[31]]) -> 0
B12: Carlos Eduardo Cabral Carvalho | AH12: =COUNTA(Julho[[#This Row],[1]:[31]]) -> 0
B14: Thiago Guilherme Ferreira Prado (Interino) | AH14: =COUNTA(Julho[[#This Row],[1]:[31]]) -> 0
B16: Thiago Ivanoski Teixeira | AH16: =COUNTA(Julho[[#This Row],[1]:[31]]) -> 0
B18: Total de afastamentos | C18: =COUNTA(C8,C10,C12,C14,C16) -> 0 | D18: =COUNTA(D8,D10,D12,D14,D16) -> 0 | E18: =COUNTA(E8,E10,E12,E14,E16) -> 0 | F18: =COUNTA(F8,F10,F12,F14,F16) -> 0 | G18: =COUNTA(G8,G10,G12,G14,G16) -> 1 | H18: =COUNTA(H8,H10,H12,H14,H16) -> 1 | I18: =COUNTA(I8,I10,I12,I14,I16) -> 1 | J18: =COUNTA(J8,J10,J12,J14,J16) -> 1 | ... AG18: =COUNTA(AG8,AG10,AG12,AG14,AG16) -> 0

Sheet Agosto
B1: Agosto 2027
B3: Legenda | C3: F | D3: Férias | G3: V | H3: Vacância | M3: L | N3: Licença
AH5: =AnoCalendário -> 2027
C6: =TEXT(WEEKDAY(DATE(AnoCalendário,8,1),1),"ddd") -> dom | D6: =TEXT(WEEKDAY(DATE(AnoCalendário,8,2),1),"ddd") -> seg | E6: =TEXT(WEEKDAY(DATE(AnoCalendário,8,3),1),"ddd") -> ter | F6: =TEXT(WEEKDAY(DATE(AnoCalendário,8,4),1),"ddd") -> qua | G6: =TEXT(WEEKDAY(DATE(AnoCalendário,8,5),1),"ddd") -> qui | H6: =TEXT(WEEKDAY(DATE(AnoCalendário,8,6),1),"ddd") -> sex | I6: =TEXT(WEEKDAY(DATE(AnoCalendário,8,7),1),"ddd") -> sáb | J6: =TEXT(WEEKDAY(DATE(AnoCalendário,8,8),1),"ddd") -> dom | K6: =TEXT(WEEKDAY(DATE(AnoCalendário,8,9),1),"ddd") -> seg | L6: =TEXT(WEEKDAY(DATE(AnoCalendário,8,10),1),"ddd") -> ter | M6: =TEXT(WEEKDAY(DATE(AnoCalendário,8,11),1),"ddd") -> qua | N6: =TEXT(WEEKDAY(DATE(AnoCalendário,8,12),1),"ddd") -> qui | O6: =TEXT(WEEKDAY(DATE(AnoCalendário,8,13),1),"ddd") -> sex | P6: =TEXT(WEEKDAY(DATE(AnoCalendário,8,14),1),"ddd") -> sáb | Q6: =TEXT(WEEKDAY(DATE(AnoCalendário,8,15),1),"ddd") -> dom | R6: =TEXT(WEEKDAY(DATE(AnoCalendário,8,16),1),"ddd") -> seg | S6: =TEXT(WEEKDAY(DATE(AnoCalendário,8,17),1),"ddd") -> ter | T6: =TEXT(WEEKDAY(DATE(AnoCalendário,8,18),1),"ddd") -> qua | U6: =TEXT(WEEKDAY(DATE(AnoCalendário,8,19),1),"ddd") -> qui | V6: =TEXT(WEEKDAY(DATE(AnoCalendário,8,20),1),"ddd") -> sex | W6: =TEXT(WEEKDAY(DATE(AnoCalendário,8,21),1),"ddd") -> sáb | X6: =TEXT(WEEKDAY(DATE(AnoCalendário,8,22),1),"ddd") -> dom | Y6: =TEXT(WEEKDAY(DATE(AnoCalendário,8,23),1),"ddd") -> seg | Z6: =TEXT(WEEKDAY(DATE(AnoCalendário,8,24),1),"ddd") -> ter | AA6: =TEXT(WEEKDAY(DATE(AnoCalendário,8,25),1),"ddd") -> qua | AB6: =TEXT(WEEKDAY(DATE(AnoCalendário,8,26),1),"ddd") -> qui | AC6: =TEXT(WEEKDAY(DATE(AnoCalendário,8,27),1),"ddd") -> sex | AD6: =TEXT(WEEKDAY(DATE(AnoCalendário,8,28),1),"ddd") -> sáb | AE6: =TEXT(WEEKDAY(DATE(AnoCalendário,8,29),1),"ddd") -> dom | AF6: =TEXT(WEEKDAY(DATE(AnoCalendário,8,30),1),"ddd") -> seg | AG6: =TEXT(WEEKDAY(DATE(AnoCalendário,8,31),1),"ddd") -> ter
B7: Diretor | C7: 1 | D7: 2 | E7: 3 | F7: 4 | G7: 5 | H7: 6 | I7: 7 | J7: 8 | K7: 9 | L7: 10 | M7: 11 | N7: 12 | O7: 13 | P7: 14 | Q7: 15 | R7: 16 | S7: 17 | T7: 18 | U7: 19 | V7: 20 | W7: 21 | X7: 22 | Y7: 23 | Z7: 24 | AA7: 25 | AB7: 26 | AC7: 27 | AD7: 28 | AE7: 29 | AF7: 30 | AG7: 31 | AH7: Total de dias
B8: Thiago Guilherme Ferreira Prado | AH8: =COUNTA(Agosto[[#This Row],[1]:[31]]) -> 0
B10: Reinaldo da Cruz Garcia | AH10: =COUNTA(Agosto[[#This Row],[1]:[31]]) -> 0
B12: Carlos Eduardo Cabral Carvalho | AH12: =COUNTA(Agosto[[#This Row],[1]:[31]]) -> 0
B14: Thiago Guilherme Ferreira Prado (Interino) | AH14: =COUNTA(Agosto[[#This Row],[1]:[31]]) -> 0
B16: Thiago Ivanoski Teixeira | AH16: =COUNTA(Agosto[[#This Row],[1]:[31]]) -> 0
B18: Total de afastamentos | C18: =COUNTA(C8,C10,C12,C14,C16) -> 0 | D18: =COUNTA(D8,D10,D12,D14,D16) -> 0 | E18: =COUNTA(E8,E10,E12,E14,E16) -> 0 | F18: =COUNTA(F8,F10,F12,F14,F16) -> 0 | G18: =COUNTA(G8,G10,G12,G14,G16) -> 0 | H18: =COUNTA(H8,H10,H12,H14,H16) -> 0 | I18: =COUNTA(I8,I10,I12,I14,I16) -> 0 | J18: =COUNTA(J8,J10,J12,J14,J16) -> 0 | ... AG18: =COUNTA(AG8,AG10,AG12,AG14,AG16) -> 0

Sheet Setembro
B1: Setembro 2027
B3: Legenda | C3: F | D3: Férias | G3: V | H3: Vacância | M3: L | N3: Licença
AG5: =AnoCalendário -> 2027
C6: =TEXT(WEEKDAY(DATE(AnoCalendário,9,1),1),"ddd") -> qua | D6: =TEXT(WEEKDAY(DATE(AnoCalendário,9,2),1),"ddd") -> qui | E6: =TEXT(WEEKDAY(DATE(AnoCalendário,9,3),1),"ddd") -> sex | F6: =TEXT(WEEKDAY(DATE(AnoCalendário,9,4),1),"ddd") -> sáb | G6: =TEXT(WEEKDAY(DATE(AnoCalendário,9,5),1),"ddd") -> dom | H6: =TEXT(WEEKDAY(DATE(AnoCalendário,9,6),1),"ddd") -> seg | I6: =TEXT(WEEKDAY(DATE(AnoCalendário,9,7),1),"ddd") -> ter | J6: =TEXT(WEEKDAY(DATE(AnoCalendário,9,8),1),"ddd") -> qua | K6: =TEXT(WEEKDAY(DATE(AnoCalendário,9,9),1),"ddd") -> qui | L6: =TEXT(WEEKDAY(DATE(AnoCalendário,9,10),1),"ddd") -> sex | M6: =TEXT(WEEKDAY(DATE(AnoCalendário,9,11),1),"ddd") -> sáb | N6: =TEXT(WEEKDAY(DATE(AnoCalendário,9,12),1),"ddd") -> dom | O6: =TEXT(WEEKDAY(DATE(AnoCalendário,9,13),1),"ddd") -> seg | P6: =TEXT(WEEKDAY(DATE(AnoCalendário,9,14),1),"ddd") -> ter | Q6: =TEXT(WEEKDAY(DATE(AnoCalendário,9,15),1),"ddd") -> qua | R6: =TEXT(WEEKDAY(DATE(AnoCalendário,9,16),1),"ddd") -> qui | S6: =TEXT(WEEKDAY(DATE(AnoCalendário,9,17),1),"ddd") -> sex | T6: =TEXT(WEEKDAY(DATE(AnoCalendário,9,18),1),"ddd") -> sáb | U6: =TEXT(WEEKDAY(DATE(AnoCalendário,9,19),1),"ddd") -> dom | V6: =TEXT(WEEKDAY(DATE(AnoCalendário,9,20),1),"ddd") -> seg | W6: =TEXT(WEEKDAY(DATE(AnoCalendário,9,21),1),"ddd") -> ter | X6: =TEXT(WEEKDAY(DATE(AnoCalendário,9,22),1),"ddd") -> qua | Y6: =TEXT(WEEKDAY(DATE(AnoCalendário,9,23),1),"ddd") -> qui | Z6: =TEXT(WEEKDAY(DATE(AnoCalendário,9,24),1),"ddd") -> sex | AA6: =TEXT(WEEKDAY(DATE(AnoCalendário,9,25),1),"ddd") -> sáb | AB6: =TEXT(WEEKDAY(DATE(AnoCalendário,9,26),1),"ddd") -> dom | AC6: =TEXT(WEEKDAY(DATE(AnoCalendário,9,27),1),"ddd") -> seg | AD6: =TEXT(WEEKDAY(DATE(AnoCalendário,9,28),1),"ddd") -> ter | AE6: =TEXT(WEEKDAY(DATE(AnoCalendário,9,29),1),"ddd") -> qua | AF6: =TEXT(WEEKDAY(DATE(AnoCalendário,9,30),1),"ddd") -> qui
B7: Diretor | C7: 1 | D7: 2 | E7: 3 | F7: 4 | G7: 5 | H7: 6 | I7: 7 | J7: 8 | K7: 9 | L7: 10 | M7: 11 | N7: 12 | O7: 13 | P7: 14 | Q7: 15 | R7: 16 | S7: 17 | T7: 18 | U7: 19 | V7: 20 | W7: 21 | X7: 22 | Y7: 23 | Z7: 24 | AA7: 25 | AB7: 26 | AC7: 27 | AD7: 28 | AE7: 29 | AF7: 30 | AG7: Total de dias
B8: Thiago Guilherme Ferreira Prado | AG8: =COUNTA(Setembro[[#This Row],[1]:[30]]) -> 0
B10: Reinaldo da Cruz Garcia
B12: Carlos Eduardo Cabral Carvalho | AG12: =COUNTA(Setembro[[#This Row],[1]:[30]]) -> 0
B14: Thiago Guilherme Ferreira Prado (Interino) | AG14: =COUNTA(Setembro[[#This Row],[1]:[30]]) -> 0
B16: Thiago Ivanoski Teixeira | AG16: =COUNTA(Setembro[[#This Row],[1]:[30]]) -> 0
B18: Total de afastamentos | C18: =COUNTA(C8,C10,C12,C14,C16) -> 0 | D18: =COUNTA(D8,D10,D12,D14,D16) -> 0 | E18: =COUNTA(E8,E10,E12,E14,E16) -> 0 | F18: =COUNTA(F8,F10,F12,F14,F16) -> 0 | G18: =COUNTA(G8,G10,G12,G14,G16) -> 0 | H18: =COUNTA(H8,H10,H12,H14,H16) -> 0 | I18: =COUNTA(I8,I10,I12,I14,I16) -> 0 | J18: =COUNTA(J8,J10,J12,J14,J16) -> 0 | ... AF18: =COUNTA(AF8,AF10,AF12,AF14,AF16) -> 0

Sheet Outubro
B1: Outubro 2027
B3: Legenda | C3: F | D3: Férias | G3: V | H3: Vacância | M3: L | N3: Licença
AH5: =AnoCalendário -> 2027
C6: =TEXT(WEEKDAY(DATE(AnoCalendário,10,1),1),"ddd") -> sex | D6: =TEXT(WEEKDAY(DATE(AnoCalendário,10,2),1),"ddd") -> sáb | E6: =TEXT(WEEKDAY(DATE(AnoCalendário,10,3),1),"ddd") -> dom | F6: =TEXT(WEEKDAY(DATE(AnoCalendário,10,4),1),"ddd") -> seg | G6: =TEXT(WEEKDAY(DATE(AnoCalendário,10,5),1),"ddd") -> ter | H6: =TEXT(WEEKDAY(DATE(AnoCalendário,10,6),1),"ddd") -> qua | I6: =TEXT(WEEKDAY(DATE(AnoCalendário,10,7),1),"ddd") -> qui | J6: =TEXT(WEEKDAY(DATE(AnoCalendário,10,8),1),"ddd") -> sex | K6: =TEXT(WEEKDAY(DATE(AnoCalendário,10,9),1),"ddd") -> sáb | L6: =TEXT(WEEKDAY(DATE(AnoCalendário,10,10),1),"ddd") -> dom | M6: =TEXT(WEEKDAY(DATE(AnoCalendário,10,11),1),"ddd") -> seg | N6: =TEXT(WEEKDAY(DATE(AnoCalendário,10,12),1),"ddd") -> ter | O6: =TEXT(WEEKDAY(DATE(AnoCalendário,10,13),1),"ddd") -> qua | P6: =TEXT(WEEKDAY(DATE(AnoCalendário,10,14),1),"ddd") -> qui | Q6: =TEXT(WEEKDAY(DATE(AnoCalendário,10,15),1),"ddd") -> sex | R6: =TEXT(WEEKDAY(DATE(AnoCalendário,10,16),1),"ddd") -> sáb | S6: =TEXT(WEEKDAY(DATE(AnoCalendário,10,17),1),"ddd") -> dom | T6: =TEXT(WEEKDAY(DATE(AnoCalendário,10,18),1),"ddd") -> seg | U6: =TEXT(WEEKDAY(DATE(AnoCalendário,10,19),1),"ddd") -> ter | V6: =TEXT(WEEKDAY(DATE(AnoCalendário,10,20),1),"ddd") -> qua | W6: =TEXT(WEEKDAY(DATE(AnoCalendário,10,21),1),"ddd") -> qui | X6: =TEXT(WEEKDAY(DATE(AnoCalendário,10,22),1),"ddd") -> sex | Y6: =TEXT(WEEKDAY(DATE(AnoCalendário,10,23),1),"ddd") -> sáb | Z6: =TEXT(WEEKDAY(DATE(AnoCalendário,10,24),1),"ddd") -> dom | AA6: =TEXT(WEEKDAY(DATE(AnoCalendário,10,25),1),"ddd") -> seg | AB6: =TEXT(WEEKDAY(DATE(AnoCalendário,10,26),1),"ddd") -> ter | AC6: =TEXT(WEEKDAY(DATE(AnoCalendário,10,27),1),"ddd") -> qua | AD6: =TEXT(WEEKDAY(DATE(AnoCalendário,10,28),1),"ddd") -> qui | AE6: =TEXT(WEEKDAY(DATE(AnoCalendário,10,29),1),"ddd") -> sex | AF6: =TEXT(WEEKDAY(DATE(AnoCalendário,10,30),1),"ddd") -> sáb | AG6: =TEXT(WEEKDAY(DATE(AnoCalendário,10,31),1),"ddd") -> dom
B7: Diretor | C7: 1 | D7: 2 | E7: 3 | F7: 4 | G7: 5 | H7: 6 | I7: 7 | J7: 8 | K7: 9 | L7: 10 | M7: 11 | N7: 12 | O7: 13 | P7: 14 | Q7: 15 | R7: 16 | S7: 17 | T7: 18 | U7: 19 | V7: 20 | W7: 21 | X7: 22 | Y7: 23 | Z7: 24 | AA7: 25 | AB7: 26 | AC7: 27 | AD7: 28 | AE7: 29 | AF7: 30 | AG7: 31 | AH7: Total de dias
B8: Thiago Guilherme Ferreira Prado | AH8: =COUNTA(Outubro[[#This Row],[1]:[31]]) -> 0
B10: Reinaldo da Cruz Garcia | AH10: =COUNTA(Outubro[[#This Row],[1]:[31]]) -> 0
B12: Carlos Eduardo Cabral Carvalho | AH12: =COUNTA(Outubro[[#This Row],[1]:[31]]) -> 0
B14: Thiago Guilherme Ferreira Prado (Interino) | AH14: =COUNTA(Outubro[[#This Row],[1]:[31]]) -> 0
B16: Thiago Ivanoski Teixeira | AH16: =COUNTA(Outubro[[#This Row],[1]:[31]]) -> 0
B18: Total de afastamentos | C18: =COUNTA(C8,C10,C12,C14,C16) -> 0 | D18: =COUNTA(D8,D10,D12,D14,D16) -> 0 | E18: =COUNTA(E8,E10,E12,E14,E16) -> 0 | F18: =COUNTA(F8,F10,F12,F14,F16) -> 0 | G18: =COUNTA(G8,G10,G12,G14,G16) -> 0 | H18: =COUNTA(H8,H10,H12,H14,H16) -> 0 | I18: =COUNTA(I8,I10,I12,I14,I16) -> 0 | J18: =COUNTA(J8,J10,J12,J14,J16) -> 0 | ... AG18: =COUNTA(AG8,AG10,AG12,AG14,AG16) -> 0

Sheet Novembro
B1: Novembro 2027
B3: Legenda | C3: F | D3: Férias | G3: V | H3: Vacância | M3: L | N3: Licença
AG5: =AnoCalendário -> 2027
C6: =TEXT(WEEKDAY(DATE(AnoCalendário,11,1),1),"ddd") -> seg | D6: =TEXT(WEEKDAY(DATE(AnoCalendário,11,2),1),"ddd") -> ter | E6: =TEXT(WEEKDAY(DATE(AnoCalendário,11,3),1),"ddd") -> qua | F6: =TEXT(WEEKDAY(DATE(AnoCalendário,11,4),1),"ddd") -> qui | G6: =TEXT(WEEKDAY(DATE(AnoCalendário,11,5),1),"ddd") -> sex | H6: =TEXT(WEEKDAY(DATE(AnoCalendário,11,6),1),"ddd") -> sáb | I6: =TEXT(WEEKDAY(DATE(AnoCalendário,11,7),1),"ddd") -> dom | J6: =TEXT(WEEKDAY(DATE(AnoCalendário,11,8),1),"ddd") -> seg | K6: =TEXT(WEEKDAY(DATE(AnoCalendário,11,9),1),"ddd") -> ter | L6: =TEXT(WEEKDAY(DATE(AnoCalendário,11,10),1),"ddd") -> qua | M6: =TEXT(WEEKDAY(DATE(AnoCalendário,11,11),1),"ddd") -> qui | N6: =TEXT(WEEKDAY(DATE(AnoCalendário,11,12),1),"ddd") -> sex | O6: =TEXT(WEEKDAY(DATE(AnoCalendário,11,13),1),"ddd") -> sáb | P6: =TEXT(WEEKDAY(DATE(AnoCalendário,11,14),1),"ddd") -> dom | Q6: =TEXT(WEEKDAY(DATE(AnoCalendário,11,15),1),"ddd") -> seg | R6: =TEXT(WEEKDAY(DATE(AnoCalendário,11,16),1),"ddd") -> ter | S6: =TEXT(WEEKDAY(DATE(AnoCalendário,11,17),1),"ddd") -> qua | T6: =TEXT(WEEKDAY(DATE(AnoCalendário,11,18),1),"ddd") -> qui | U6: =TEXT(WEEKDAY(DATE(AnoCalendário,11,19),1),"ddd") -> sex | V6: =TEXT(WEEKDAY(DATE(AnoCalendário,11,20),1),"ddd") -> sáb | W6: =TEXT(WEEKDAY(DATE(AnoCalendário,11,21),1),"ddd") -> dom | X6: =TEXT(WEEKDAY(DATE(AnoCalendário,11,22),1),"ddd") -> seg | Y6: =TEXT(WEEKDAY(DATE(AnoCalendário,11,23),1),"ddd") -> ter | Z6: =TEXT(WEEKDAY(DATE(AnoCalendário,11,24),1),"ddd") -> qua | AA6: =TEXT(WEEKDAY(DATE(AnoCalendário,11,25),1),"ddd") -> qui | AB6: =TEXT(WEEKDAY(DATE(AnoCalendário,11,26),1),"ddd") -> sex | AC6: =TEXT(WEEKDAY(DATE(AnoCalendário,11,27),1),"ddd") -> sáb | AD6: =TEXT(WEEKDAY(DATE(AnoCalendário,11,28),1),"ddd") -> dom | AE6: =TEXT(WEEKDAY(DATE(AnoCalendário,11,29),1),"ddd") -> seg | AF6: =TEXT(WEEKDAY(DATE(AnoCalendário,11,30),1),"ddd") -> ter
B7: Diretor | C7: 1 | D7: 2 | E7: 3 | F7: 4 | G7: 5 | H7: 6 | I7: 7 | J7: 8 | K7: 9 | L7: 10 | M7: 11 | N7: 12 | O7: 13 | P7: 14 | Q7: 15 | R7: 16 | S7: 17 | T7: 18 | U7: 19 | V7: 20 | W7: 21 | X7: 22 | Y7: 23 | Z7: 24 | AA7: 25 | AB7: 26 | AC7: 27 | AD7: 28 | AE7: 29 | AF7: 30 | AG7: Total de dias
B8: Thiago Guilherme Ferreira Prado | R8: F | S8: F | T8: F | U8: F | AG8: =COUNTA(Novembro[[#This Row],[1]:[30]]) -> 4
S9: DCA nº 01/329ª - Subst: Cabral de 16 a 19/11
B10: Reinaldo da Cruz Garcia | AG10: =COUNTA(Novembro[[#This Row],[1]:[30]]) -> 0
B12: Carlos Eduardo Cabral Carvalho | AG12: =COUNTA(Novembro[[#This Row],[1]:[30]]) -> 0
B14: Thiago Guilherme Ferreira Prado (Interino) | AG14: =COUNTA(Novembro[[#This Row],[1]:[30]]) -> 0
B16: Thiago Ivanoski Teixeira | AG16: =COUNTA(Novembro[[#This Row],[1]:[30]]) -> 0
B18: Total de afastamentos | C18: =COUNTA(C8,C10,C12,C14,C16) -> 0 | D18: =COUNTA(D8,D10,D12,D14,D16) -> 0 | E18: =COUNTA(E8,E10,E12,E14,E16) -> 0 | F18: =COUNTA(F8,F10,F12,F14,F16) -> 0 | G18: =COUNTA(G8,G10,G12,G14,G16) -> 0 | H18: =COUNTA(H8,H10,H12,H14,H16) -> 0 | I18: =COUNTA(I8,I10,I12,I14,I16) -> 0 | J18: =COUNTA(J8,J10,J12,J14,J16) -> 0 | ... AF18: =COUNTA(AF8,AF10,AF12,AF14,AF16) -> 0

Sheet Dezembro
B1: Dezembro 2027
B3: Legenda | C3: F | D3: Férias | G3: V | H3: Vacância | M3: L | N3: Licença
AH5: =AnoCalendário -> 2027
C6: =TEXT(WEEKDAY(DATE(AnoCalendário,12,1),1),"ddd") -> qua | D6: =TEXT(WEEKDAY(DATE(AnoCalendário,12,2),1),"ddd") -> qui | E6: =TEXT(WEEKDAY(DATE(AnoCalendário,12,3),1),"ddd") -> sex | F6: =TEXT(WEEKDAY(DATE(AnoCalendário,12,4),1),"ddd") -> sáb | G6: =TEXT(WEEKDAY(DATE(AnoCalendário,12,5),1),"ddd") -> dom | H6: =TEXT(WEEKDAY(DATE(AnoCalendário,12,6),1),"ddd") -> seg | I6: =TEXT(WEEKDAY(DATE(AnoCalendário,12,7),1),"ddd") -> ter | J6: =TEXT(WEEKDAY(DATE(AnoCalendário,12,8),1),"ddd") -> qua | K6: =TEXT(WEEKDAY(DATE(AnoCalendário,12,9),1),"ddd") -> qui | L6: =TEXT(WEEKDAY(DATE(AnoCalendário,12,10),1),"ddd") -> sex | M6: =TEXT(WEEKDAY(DATE(AnoCalendário,12,11),1),"ddd") -> sáb | N6: =TEXT(WEEKDAY(DATE(AnoCalendário,12,12),1),"ddd") -> dom | O6: =TEXT(WEEKDAY(DATE(AnoCalendário,12,13),1),"ddd") -> seg | P6: =TEXT(WEEKDAY(DATE(AnoCalendário,12,14),1),"ddd") -> ter | Q6: =TEXT(WEEKDAY(DATE(AnoCalendário,12,15),1),"ddd") -> qua | R6: =TEXT(WEEKDAY(DATE(AnoCalendário,12,16),1),"ddd") -> qui | S6: =TEXT(WEEKDAY(DATE(AnoCalendário,12,17),1),"ddd") -> sex | T6: =TEXT(WEEKDAY(DATE(AnoCalendário,12,18),1),"ddd") -> sáb | U6: =TEXT(WEEKDAY(DATE(AnoCalendário,12,19),1),"ddd") -> dom | V6: =TEXT(WEEKDAY(DATE(AnoCalendário,12,20),1),"ddd") -> seg | W6: =TEXT(WEEKDAY(DATE(AnoCalendário,12,21),1),"ddd") -> ter | X6: =TEXT(WEEKDAY(DATE(AnoCalendário,12,22),1),"ddd") -> qua | Y6: =TEXT(WEEKDAY(DATE(AnoCalendário,12,23),1),"ddd") -> qui | Z6: =TEXT(WEEKDAY(DATE(AnoCalendário,12,24),1),"ddd") -> sex | AA6: =TEXT(WEEKDAY(DATE(AnoCalendário,12,25),1),"ddd") -> sáb | AB6: =TEXT(WEEKDAY(DATE(AnoCalendário,12,26),1),"ddd") -> dom | AC6: =TEXT(WEEKDAY(DATE(AnoCalendário,12,27),1),"ddd") -> seg | AD6: =TEXT(WEEKDAY(DATE(AnoCalendário,12,28),1),"ddd") -> ter | AE6: =TEXT(WEEKDAY(DATE(AnoCalendário,12,29),1),"ddd") -> qua | AF6: =TEXT(WEEKDAY(DATE(AnoCalendário,12,30),1),"ddd") -> qui | AG6: =TEXT(WEEKDAY(DATE(AnoCalendário,12,31),1),"ddd") -> sex
B7: Diretor | C7: 1 | D7: 2 | E7: 3 | F7: 4 | G7: 5 | H7: 6 | I7: 7 | J7: 8 | K7: 9 | L7: 10 | M7: 11 | N7: 12 | O7: 13 | P7: 14 | Q7: 15 | R7: 16 | S7: 17 | T7: 18 | U7: 19 | V7: 20 | W7: 21 | X7: 22 | Y7: 23 | Z7: 24 | AA7: 25 | AB7: 26 | AC7: 27 | AD7: 28 | AE7: 29 | AF7: 30 | AG7: 31 | AH7: Total de dias
B8: Thiago Guilherme Ferreira Prado | AH8: =COUNTA(Dezembro[[#This Row],[1]:[31]]) -> 0
B10: Reinaldo da Cruz Garcia | AH10: =COUNTA(Dezembro[[#This Row],[1]:[31]]) -> 0
B12: Carlos Eduardo Cabral Carvalho | AH12: =COUNTA(Dezembro[[#This Row],[1]:[31]]) -> 0
B14: Thiago Guilherme Ferreira Prado (Interino) | AH14: =COUNTA(Dezembro[[#This Row],[1]:[31]]) -> 0
B16: Thiago Ivanoski Teixeira | AH16: =COUNTA(Dezembro[[#This Row],[1]:[31]]) -> 0
B18: Total de afastamentos | C18: =COUNTA(C8,C10,C12,C14,C16) -> 0 | D18: =COUNTA(D8,D10,D12,D14,D16) -> 0 | E18: =COUNTA(E8,E10,E12,E14,E16) -> 0 | F18: =COUNTA(F8,F10,F12,F14,F16) -> 0 | G18: =COUNTA(G8,G10,G12,G14,G16) -> 0 | H18: =COUNTA(H8,H10,H12,H14,H16) -> 0 | I18: =COUNTA(I8,I10,I12,I14,I16) -> 0 | J18: =COUNTA(J8,J10,J12,J14,J16) -> 0 | ... AG18: =COUNTA(AG8,AG10,AG12,AG14,AG16) -> 0

Sheet Diretores
B2: Diretor
B3: Thiago Guilherme Ferreira Prado
B4: Carlos Eduardo Cabral Carvalho
B5: Reinaldo da Cruz Garcia
B6: Thiago Guilherme Ferreira Prado (Interino)
B7: Thiago Ivanoski Teixeira

Sheet Estatísticas
B2: Total dias afastamento ao exterior | R2: Dias úteis 2024 | S2: 253
B3: Mês/Diretor | C3: Janeiro | D3: Fevereiro | E3: Março | F3: Abril | G3: Maio | H3: Junho | I3: Julho | J3: Agosto | K3: Setembro | L3: Outubro | M3: Novembro | N3: Dezembro | O3: Total | P3: % afastamentos ao exterior 2024
B4: Thiago Guilherme Ferreira Prado | C4: 0 | D4: =COUNTIF(Fevereiro!C8:AE8,"A") -> 0 | E4: =COUNTIF(Março!C8:AG8,"A") -> 0 | F4: =COUNTIF(Abril!C8:AF8,"A") -> 0 | G4: =COUNTIF(Maio!C8:AG8,"A") -> 0 | H4: =COUNTIF(Junho!C8:AF8,"A") -> 0 | I4: =COUNTIF(Julho!C8:AG8,"A") -> 0 | J4: =COUNTIF(Agosto!C8:AG8,"A") -> 0 | K4: =COUNTIF(Setembro!C8:AF8,"A") -> 0 | L4: =COUNTIF(Outubro!C8:AG8,"A") -> 0 | M4: =COUNTIF(Novembro!C8:AF8,"A") -> 0 | N4: =COUNTIF(Dezembro!C8:AG8,"A") -> 0 | O4: =SUM(C4:N4) -> 0 | P4: =O4/S2 -> 0
B5: Reinaldo da Cruz Garcia | C5: =COUNTIF(Janeiro!C10:AG10,"A") -> 0 | D5: =COUNTIF(Fevereiro!C10:AE10,"A") -> 0 | E5: =COUNTIF(Março!C10:AG10,"A") -> 0 | F5: =COUNTIF(Abril!C10:AF10,"A") -> 0 | G5: =COUNTIF(Maio!C10:AG10,"A") -> 0 | H5: =COUNTIF(Junho!C10:AF10,"A") -> 0 | I5: =COUNTIF(Julho!C10:AG10,"A") -> 0 | J5: =COUNTIF(Agosto!C10:AG10,"A") -> 0 | K5: =COUNTIF(Setembro!C10:AF10,"A") -> 0 | L5: =COUNTIF(Outubro!C10:AG10,"A") -> 0 | M5: =COUNTIF(Novembro!C10:AF10,"A") -> 0 | N5: =COUNTIF(Dezembro!C10:AG10,"A") -> 0 | O5: =SUM(C5:N5) -> 0 | P5: =O5/S2 -> 0
B6: Carlos Eduardo Cabral Carvalho | C6: =COUNTIF(Janeiro!C12:AG12,"A") -> 0 | D6: =COUNTIF(Fevereiro!C12:AE12,"A") -> 0 | E6: =COUNTIF(Março!C12:AG12,"A") -> 0 | F6: =COUNTIF(Abril!C12:AF12,"A") -> 0 | G6: =COUNTIF(Maio!C12:AG12,"A") -> 0 | H6: =COUNTIF(Junho!C12:AF12,"A") -> 0 | I6: =COUNTIF(Julho!C12:AG12,"A") -> 0 | J6: =COUNTIF(Agosto!C12:AG12,"A") -> 0 | K6: =COUNTIF(Setembro!C12:AF12,"A") -> 0 | L6: =COUNTIF(Outubro!C12:AG12,"A") -> 0 | M6: =COUNTIF(Novembro!C12:AF12,"A") -> 0 | N6: =COUNTIF(Dezembro!C12:AG12,"A") -> 0 | O6: =SUM(C6:N6) -> 0 | P6: =O6/S2 -> 0
B7: Heloisa Borges Bastos Esteves | C7: =COUNTIF(Janeiro!C14:AG14,"A") -> 0 | D7: =COUNTIF(Fevereiro!C14:AE14,"A") -> 0 | E7: =COUNTIF(Março!C14:AG14,"A") -> 0 | F7: =COUNTIF(Abril!C14:AF14,"A") -> 0 | G7: =COUNTIF(Maio!C14:AG14,"A") -> 0 | H7: =COUNTIF(Junho!C14:AF14,"A") -> 0 | I7: =COUNTIF(Julho!C14:AG14,"A") -> 0 | J7: =COUNTIF(Agosto!C14:AG14,"A") -> 0 | K7: =COUNTIF(Setembro!C14:AF14,"A") -> 0 | L7: =COUNTIF(Outubro!C14:AG14,"A") -> 0 | M7: =COUNTIF(Novembro!C14:AF14,"A") -> 0 | N7: =COUNTIF(Dezembro!C14:AG14,"A") -> 0 | O7: =SUM(C7:N7) -> 0 | P7: =O7/S2 -> 0
B8: Thiago Ivanoski Teixeira | C8: =COUNTIF(Janeiro!C16:AG16,"A") -> 0 | D8: =COUNTIF(Fevereiro!C16:AE16,"A") -> 0 | E8: =COUNTIF(Março!C16:AG16,"A") -> 0 | F8: =COUNTIF(Abril!C16:AF16,"A") -> 0 | G8: =COUNTIF(Maio!C16:AG16,"A") -> 0 | H8: =COUNTIF(Junho!C16:AF16,"A") -> 0 | I8: =COUNTIF(Julho!C16:AG16,"A") -> 0 | J8: =COUNTIF(Agosto!C16:AG16,"A") -> 0 | K8: =COUNTIF(Setembro!C16:AF16,"A") -> 0 | L8: =COUNTIF(Outubro!C16:AG16,"A") -> 0 | M8: =COUNTIF(Novembro!C16:AF16,"A") -> 0 | N8: =COUNTIF(Dezembro!C16:AG16,"A") -> 0 | O8: =SUM(C8:N8) -> 0 | P8: =O8/S2 -> 0

Sheet Regras
A1: Cedidos: seguem as regras do órgão de origem.
A3: Demais:
A4: 1. Os membros da Diretoria Executiva farão jus a 30 dias de férias anuais, dentro do período de gestão.
A5: 2. A programação de férias do Presidente da EPE deverá ser aprovada pelo Conselho de Administração, que designará o seu substituto dentre os membros da Diretoria Executiva.
A6: 3. A programação de férias dos Diretores deverá ser apreciada pela Diretoria Executiva, com base na avaliação de oportunidade e conveniência do afastamento para a EPE.
A7: 4. As férias dos membros da Diretoria Executiva serão concedidas pelo Presidente da EPE, conforme dispõe o inciso VIII do Art. 69 do Estatuto Social.
A8: 5. As férias poderão ser usufruídas em um ou mais períodos, totalizando 30 (trinta) dias anuais.
A9: 6. O Dirigente fará jus ao pagamento do adicional de férias de 1/3 dos honorários. O adicional de férias será pago integralmente no primeiro dia do primeiro período de férias, observada a programação orçamentária anual prevista na Planilha de Remuneração dos Administradores aprovada pela SEST e pela Assembleia Geral.
A10: 7. É vedado o pagamento em dobro, bem como o acúmulo de dias de férias anuais não gozados.
A11: 8. Não serão indenizadas as férias não usufruídas.
A12: 9. É vedada a venda de dias de férias.
A14: Período: de abril de um ano (1º ano do período de gestão) a março do outro.
A15: OBS: Pelo novo Estatuto Social (2021), pode acumular até 30 dias para o próximo ano (2º ano do período de gestão).
